{"text_format":"1","workbook":"xlsx","n_sheets":1,"sheets":["Hoja1"],"not_rendered":{"charts":0,"images":0,"macros":0,"external_links":1,"defined_names":1,"comments":1,"pivot_tables":0},"unopened":[],"bounds":{"document_bytes":16777216,"sheet_cells":100000,"rows_first":2000,"rows_last":500,"rows_between":2000,"halvings":0,"cell_chars":16384,"cell_head_chars":4096},"cells_cut":0,"cells_raw":0,"read":"whole","date_system":"1900"}

{"sheet":"Hoja1","index":0,"n_rows":4727,"n_cols":5,"rows_kept":4727,"cut":false,"hidden":false,"merged":[[6,3,6,4],[8,0,8,4],[10,0,10,4],[12,0,12,3],[0,0,0,1],[1,0,1,2],[2,0,2,4],[3,0,3,4],[4,0,4,4],[5,3,5,4]]}
["DIPEL",null,null,null,{"$f":"TODAY()","v":"2025-12-12"}]
["MAYORISTA FERRETERO"]
["DIRECCIÓN: Florida 1398. (1657) Loma Hermosa. Ptdo.  Tres de Febrero. Provincia de Buenos Aires"]
["TELEFAX: 4769-3162,   4769-7393,   4841-3496,    2085-2305,   FAX LAS 24 HORAS: 4841-3496"]
["CELULAR: 011-15-6954-1816,   011-15-5121-1817,   011-15-6954-1813"]
["WHATSAPP: ","011-15-6954-1816"," 011-15-5121-1817","011-15-6954-1813"]
["MAIL: ","dipel@dipel.com.ar","info@dipel.com.ar","ventas@dipel.com.ar"]
["PÁGINA WEB:","www.dipel.com.ar"]
["Consulte por descuentos extras."]
[]
["NOTA: Los precios de la presente lista están sujeto a variación sin previo aviso."]
[]
["MARGEN PARA PRECIO SUGERIDO, Modificable",null,null,null,0.55000000000000004]
[]
["CODIGO","DESCRIPCION","MARCA","RUBRO","PRECIO SUGERIDO"]
[{"$f":"'[1]87-0-14'!B2","v":"A9C"},{"$f":"'[1]87-0-14'!D2","v":"ABRAZAD N  9 (53a77)"},{"$f":"'[1]87-0-14'!E2","v":"CARBIZ"},{"$f":"'[1]87-0-14'!F2","v":"ABRAZADERA AMERIC"},{"$f":"'[1]87-0-14'!G2*(1+$E$13)","v":277.791}]
[{"$f":"'[1]87-0-14'!B3","v":"A10C"},{"$f":"'[1]87-0-14'!D3","v":"ABRAZAD N 10 (59a81)"},{"$f":"'[1]87-0-14'!E3","v":"CARBIZ"},{"$f":"'[1]87-0-14'!F3","v":"ABRAZADERA AMERIC"},{"$f":"'[1]87-0-14'!G3*(1+$E$13)","v":290.33050000000003}]
[{"$f":"'[1]87-0-14'!B4","v":"A11C"},{"$f":"'[1]87-0-14'!D4","v":"ABRAZAD N 11 (65a88)"},{"$f":"'[1]87-0-14'!E4","v":"CARBIZ"},{"$f":"'[1]87-0-14'!F4","v":"ABRAZADERA AMERIC"},{"$f":"'[1]87-0-14'!G4*(1+$E$13)","v":307.79900000000004}]
[{"$f":"'[1]87-0-14'!B5","v":"A12CA"},{"$f":"'[1]87-0-14'!D5","v":"ABRAZAD N 12 (72a94)"},{"$f":"'[1]87-0-14'!E5","v":"CARBIZ"},{"$f":"'[1]87-0-14'!F5","v":"ABRAZADERA AMERIC"},{"$f":"'[1]87-0-14'!G5*(1+$E$13)","v":321.99700000000001}]
[{"$f":"'[1]87-0-14'!B6","v":"A812D"},{"$f":"'[1]87-0-14'!D6","v":"ABRAZADE A/INOXID   8-12"},{"$f":"'[1]87-0-14'!E6","v":"DAURO"},{"$f":"'[1]87-0-14'!F6","v":"ABRAZADERA"},{"$f":"'[1]87-0-14'!G6*(1+$E$13)","v":629.33100000000002}]
[{"$f":"'[1]87-0-14'!B7","v":"A1016D"},{"$f":"'[1]87-0-14'!D7","v":"ABRAZADE A/INOXID  10-16"},{"$f":"'[1]87-0-14'!E7","v":"DAURO"},{"$f":"'[1]87-0-14'!F7","v":"ABRAZADERA"},{"$f":"'[1]87-0-14'!G7*(1+$E$13)","v":629.33100000000002}]
[{"$f":"'[1]87-0-14'!B8","v":"A1319D"},{"$f":"'[1]87-0-14'!D8","v":"ABRAZADE A/INOXID  13-19"},{"$f":"'[1]87-0-14'!E8","v":"DAURO"},{"$f":"'[1]87-0-14'!F8","v":"ABRAZADERA"},{"$f":"'[1]87-0-14'!G8*(1+$E$13)","v":629.33100000000002}]
[{"$f":"'[1]87-0-14'!B9","v":"A1625D"},{"$f":"'[1]87-0-14'!D9","v":"ABRAZADE A/INOXID  16-25"},{"$f":"'[1]87-0-14'!E9","v":"DAURO"},{"$f":"'[1]87-0-14'!F9","v":"ABRAZADERA"},{"$f":"'[1]87-0-14'!G9*(1+$E$13)","v":645.68349999999998}]
[{"$f":"'[1]87-0-14'!B10","v":"A1832D"},{"$f":"'[1]87-0-14'!D10","v":"ABRAZADE A/INOXID  18-32"},{"$f":"'[1]87-0-14'!E10","v":"DAURO"},{"$f":"'[1]87-0-14'!F10","v":"ABRAZADERA"},{"$f":"'[1]87-0-14'!G10*(1+$E$13)","v":702.89400000000001}]
[{"$f":"'[1]87-0-14'!B11","v":"A2540D"},{"$f":"'[1]87-0-14'!D11","v":"ABRAZADE A/INOXID  25-40"},{"$f":"'[1]87-0-14'!E11","v":"DAURO"},{"$f":"'[1]87-0-14'!F11","v":"ABRAZADERA"},{"$f":"'[1]87-0-14'!G11*(1+$E$13)","v":751.93600000000004}]
[{"$f":"'[1]87-0-14'!B12","v":"A3244D"},{"$f":"'[1]87-0-14'!D12","v":"ABRAZADE A/INOXID  32-44"},{"$f":"'[1]87-0-14'!E12","v":"DAURO"},{"$f":"'[1]87-0-14'!F12","v":"ABRAZADERA"},{"$f":"'[1]87-0-14'!G12*(1+$E$13)","v":800.97800000000007}]
[{"$f":"'[1]87-0-14'!B13","v":"A4064D"},{"$f":"'[1]87-0-14'!D13","v":"ABRAZADE A/INOXID  40-64"},{"$f":"'[1]87-0-14'!E13","v":"DAURO"},{"$f":"'[1]87-0-14'!F13","v":"ABRAZADERA"},{"$f":"'[1]87-0-14'!G13*(1+$E$13)","v":882.70950000000005}]
[{"$f":"'[1]87-0-14'!B14","v":"A5070D"},{"$f":"'[1]87-0-14'!D14","v":"ABRAZADE A/INOXID  50-70"},{"$f":"'[1]87-0-14'!E14","v":"DAURO"},{"$f":"'[1]87-0-14'!F14","v":"ABRAZADERA"},{"$f":"'[1]87-0-14'!G14*(1+$E$13)","v":997.13049999999998}]
[{"$f":"'[1]87-0-14'!B15","v":"A6080D"},{"$f":"'[1]87-0-14'!D15","v":"ABRAZADE A/INOXID  60-80"},{"$f":"'[1]87-0-14'!E15","v":"DAURO"},{"$f":"'[1]87-0-14'!F15","v":"ABRAZADERA"},{"$f":"'[1]87-0-14'!G15*(1+$E$13)","v":1054.3410000000001}]
[{"$f":"'[1]87-0-14'!B16","v":"A7090D"},{"$f":"'[1]87-0-14'!D16","v":"ABRAZADE A/INOXID  70-90"},{"$f":"'[1]87-0-14'!E16","v":"DAURO"},{"$f":"'[1]87-0-14'!F16","v":"ABRAZADERA"},{"$f":"'[1]87-0-14'!G16*(1+$E$13)","v":1119.72}]
[{"$f":"'[1]87-0-14'!B17","v":"A80100D"},{"$f":"'[1]87-0-14'!D17","v":"ABRAZADE A/INOXID  80-100"},{"$f":"'[1]87-0-14'!E17","v":"DAURO"},{"$f":"'[1]87-0-14'!F17","v":"ABRAZADERA"},{"$f":"'[1]87-0-14'!G17*(1+$E$13)","v":1176.9304999999999}]
[{"$f":"'[1]87-0-14'!B18","v":"A812C"},{"$f":"'[1]87-0-14'!D18","v":"ABRAZADERA A/IN  8 - 12"},{"$f":"'[1]87-0-14'!E18","v":"CRECCHIO"},{"$f":"'[1]87-0-14'!F18","v":"ABRAZADERA"},{"$f":"'[1]87-0-14'!G18*(1+$E$13)","v":794.7315000000001}]
[{"$f":"'[1]87-0-14'!B19","v":"A1016C"},{"$f":"'[1]87-0-14'!D19","v":"ABRAZADERA A/IN 10 - 16"},{"$f":"'[1]87-0-14'!E19","v":"CRECCHIO"},{"$f":"'[1]87-0-14'!F19","v":"ABRAZADERA"},{"$f":"'[1]87-0-14'!G19*(1+$E$13)","v":849.26049999999998}]
[{"$f":"'[1]87-0-14'!B20","v":"A1220C"},{"$f":"'[1]87-0-14'!D20","v":"ABRAZADERA A/IN 12 - 20"},{"$f":"'[1]87-0-14'!E20","v":"CRECCHIO"},{"$f":"'[1]87-0-14'!F20","v":"ABRAZADERA"},{"$f":"'[1]87-0-14'!G20*(1+$E$13)","v":849.26049999999998}]
[{"$f":"'[1]87-0-14'!B21","v":"A1625C"},{"$f":"'[1]87-0-14'!D21","v":"ABRAZADERA A/IN 16 - 25"},{"$f":"'[1]87-0-14'!E21","v":"CRECCHIO"},{"$f":"'[1]87-0-14'!F21","v":"ABRAZADERA"},{"$f":"'[1]87-0-14'!G21*(1+$E$13)","v":863.16399999999999}]
[{"$f":"'[1]87-0-14'!B22","v":"A2032C"},{"$f":"'[1]87-0-14'!D22","v":"ABRAZADERA A/IN 20 - 32"},{"$f":"'[1]87-0-14'!E22","v":"CRECCHIO"},{"$f":"'[1]87-0-14'!F22","v":"ABRAZADERA"},{"$f":"'[1]87-0-14'!G22*(1+$E$13)","v":882.97299999999996}]
[{"$f":"'[1]87-0-14'!B23","v":"A2540C"},{"$f":"'[1]87-0-14'!D23","v":"ABRAZADERA A/IN 25 - 40"},{"$f":"'[1]87-0-14'!E23","v":"CRECCHIO"},{"$f":"'[1]87-0-14'!F23","v":"ABRAZADERA"},{"$f":"'[1]87-0-14'!G23*(1+$E$13)","v":943.33}]
[{"$f":"'[1]87-0-14'!B24","v":"A3250C"},{"$f":"'[1]87-0-14'!D24","v":"ABRAZADERA A/IN 32 - 50"},{"$f":"'[1]87-0-14'!E24","v":"CRECCHIO"},{"$f":"'[1]87-0-14'!F24","v":"ABRAZADERA"},{"$f":"'[1]87-0-14'!G24*(1+$E$13)","v":1015.4050000000001}]
[{"$f":"'[1]87-0-14'!B25","v":"A4060C"},{"$f":"'[1]87-0-14'!D25","v":"ABRAZADERA A/IN 40 - 60"},{"$f":"'[1]87-0-14'!E25","v":"CRECCHIO"},{"$f":"'[1]87-0-14'!F25","v":"ABRAZADERA"},{"$f":"'[1]87-0-14'!G25*(1+$E$13)","v":1087.3405}]
[{"$f":"'[1]87-0-14'!B26","v":"A5070C"},{"$f":"'[1]87-0-14'!D26","v":"ABRAZADERA A/IN 50 - 70"},{"$f":"'[1]87-0-14'!E26","v":"CRECCHIO"},{"$f":"'[1]87-0-14'!F26","v":"ABRAZADERA"},{"$f":"'[1]87-0-14'!G26*(1+$E$13)","v":1182.6190000000001}]
[{"$f":"'[1]87-0-14'!B27","v":"A6080C"},{"$f":"'[1]87-0-14'!D27","v":"ABRAZADERA A/IN 60 - 80"},{"$f":"'[1]87-0-14'!E27","v":"CRECCHIO"},{"$f":"'[1]87-0-14'!F27","v":"ABRAZADERA"},{"$f":"'[1]87-0-14'!G27*(1+$E$13)","v":1236.2645}]
[{"$f":"'[1]87-0-14'!B28","v":"A7090C"},{"$f":"'[1]87-0-14'!D28","v":"ABRAZADERA A/IN 70 - 90"},{"$f":"'[1]87-0-14'!E28","v":"CRECCHIO"},{"$f":"'[1]87-0-14'!F28","v":"ABRAZADERA"},{"$f":"'[1]87-0-14'!G28*(1+$E$13)","v":1310.4940000000001}]
[{"$f":"'[1]87-0-14'!B29","v":"A80100C"},{"$f":"'[1]87-0-14'!D29","v":"ABRAZADERA A/IN 80 - 100"},{"$f":"'[1]87-0-14'!E29","v":"CRECCHIO"},{"$f":"'[1]87-0-14'!F29","v":"ABRAZADERA"},{"$f":"'[1]87-0-14'!G29*(1+$E$13)","v":1371.0525}]
[{"$f":"'[1]87-0-14'!B30","v":"ANP"},{"$f":"'[1]87-0-14'!D30","v":"ACCESORI NUECES UNIVERSAL"},{"$f":"'[1]87-0-14'!E30","v":"PRIVE"},{"$f":"'[1]87-0-14'!F30","v":"ACCESORIOS"},{"$f":"'[1]87-0-14'!G30*(1+$E$13)","v":2369.9965000000002}]
[{"$f":"'[1]87-0-14'!B31","v":"ANPP"},{"$f":"'[1]87-0-14'!D31","v":"ACCESORIO NUEZ Y PESTILLO"},{"$f":"'[1]87-0-14'!E31","v":"PRIVE"},{"$f":"'[1]87-0-14'!F31","v":"ACCESORIOS"},{"$f":"'[1]87-0-14'!G31*(1+$E$13)","v":420.79400000000004}]
[{"$f":"'[1]87-0-14'!B32","v":"APP"},{"$f":"'[1]87-0-14'!D32","v":"ACCESORIO PESTILLO UNIVER"},{"$f":"'[1]87-0-14'!E32","v":"PRIVE"},{"$f":"'[1]87-0-14'!F32","v":"ACCESORIOS"},{"$f":"'[1]87-0-14'!G32*(1+$E$13)","v":3270.1435000000001}]
[{"$f":"'[1]87-0-14'!B33","v":"AS5T"},{"$f":"'[1]87-0-14'!D33","v":"ACEITE SOLUBLE #5 Lts#"},{"$f":"'[1]87-0-14'!E33","v":"TF3"},{"$f":"'[1]87-0-14'!F33","v":"ACEITE SOLUBLE"},{"$f":"'[1]87-0-14'!G33*(1+$E$13)","v":60005.103500000005}]
[{"$f":"'[1]87-0-14'!B34","v":"AS1T"},{"$f":"'[1]87-0-14'!D34","v":"ACEITE SOLUBLE 1 litro"},{"$f":"'[1]87-0-14'!E34","v":"TF3"},{"$f":"'[1]87-0-14'!F34","v":"ACEITE SOLUBLE"},{"$f":"'[1]87-0-14'!G34*(1+$E$13)","v":13010.204000000002}]
[{"$f":"'[1]87-0-14'!B35","v":"AMT"},{"$f":"'[1]87-0-14'!D35","v":"ACEITER MULTIUSO 100"},{"$f":"'[1]87-0-14'!E35","v":"TF3"},{"$f":"'[1]87-0-14'!F35","v":"ACEITE MULTIUSO"},{"$f":"'[1]87-0-14'!G35*(1+$E$13)","v":1264.8775000000001}]
[{"$f":"'[1]87-0-14'!B36","v":"ACR3412D"},{"$f":"'[1]87-0-14'!D36","v":"ACO COM REDUC T/M 3/4a1/2"},{"$f":"'[1]87-0-14'!E36","v":"DUKE"},{"$f":"'[1]87-0-14'!F36","v":"ACOPLE COMPRESION"},{"$f":"'[1]87-0-14'!G36*(1+$E$13)","v":4134.78}]
[{"$f":"'[1]87-0-14'!B37","v":"ACV12D"},{"$f":"'[1]87-0-14'!D37","v":"ACO COMP C/VALV T/MEC 1/2"},{"$f":"'[1]87-0-14'!E37","v":"DUKE"},{"$f":"'[1]87-0-14'!F37","v":"ACOPLE COMPRESION"},{"$f":"'[1]87-0-14'!G37*(1+$E$13)","v":6579.1765000000005}]
[{"$f":"'[1]87-0-14'!B38","v":"ACV34D"},{"$f":"'[1]87-0-14'!D38","v":"ACO COMP C/VALV T/MEC 3/4"},{"$f":"'[1]87-0-14'!E38","v":"DUKE"},{"$f":"'[1]87-0-14'!F38","v":"ACOPLE COMPRESION"},{"$f":"'[1]87-0-14'!G38*(1+$E$13)","v":7764.5545000000011}]
[{"$f":"'[1]87-0-14'!B39","v":"ACR134D"},{"$f":"'[1]87-0-14'!D39","v":"ACO COMPR REDUCCION 1a3/4"},{"$f":"'[1]87-0-14'!E39","v":"DUKE"},{"$f":"'[1]87-0-14'!F39","v":"ACOPLE COMPRESION"},{"$f":"'[1]87-0-14'!G39*(1+$E$13)","v":4906.4165000000003}]
[{"$f":"'[1]87-0-14'!B40","v":"ACTR3412"},{"$f":"'[1]87-0-14'!D40","v":"ACOP COMP #T# RED 3/4a1/2"},{"$f":"'[1]87-0-14'!E40","v":"DUKE"},{"$f":"'[1]87-0-14'!F40","v":"ACOPLE COMPRESION"},{"$f":"'[1]87-0-14'!G40*(1+$E$13)","v":5555.4170000000004}]
[{"$f":"'[1]87-0-14'!B41","v":"ACC12D"},{"$f":"'[1]87-0-14'!D41","v":"ACOP COMP CODO TR/MEC 1/2"},{"$f":"'[1]87-0-14'!E41","v":"DUKE"},{"$f":"'[1]87-0-14'!F41","v":"ACOPLE COMPRESION"},{"$f":"'[1]87-0-14'!G41*(1+$E$13)","v":3475.7044999999998}]
[{"$f":"'[1]87-0-14'!B42","v":"ACC34D"},{"$f":"'[1]87-0-14'!D42","v":"ACOP COMP CODO TR/MEC 3/4"},{"$f":"'[1]87-0-14'!E42","v":"DUKE"},{"$f":"'[1]87-0-14'!F42","v":"ACOPLE COMPRESION"},{"$f":"'[1]87-0-14'!G42*(1+$E$13)","v":4297.0340000000006}]
[{"$f":"'[1]87-0-14'!B43","v":"ACT12D"},{"$f":"'[1]87-0-14'!D43","v":"ACOP COMPR TR/MEC #T# 1/2"},{"$f":"'[1]87-0-14'!E43","v":"DUKE"},{"$f":"'[1]87-0-14'!F43","v":"ACOPLE COMPRESION"},{"$f":"'[1]87-0-14'!G43*(1+$E$13)","v":4937.866}]
[{"$f":"'[1]87-0-14'!B44","v":"ACT34D"},{"$f":"'[1]87-0-14'!D44","v":"ACOP COMPR TR/MEC #T# 3/4"},{"$f":"'[1]87-0-14'!E44","v":"DUKE"},{"$f":"'[1]87-0-14'!F44","v":"ACOPLE COMPRESION"},{"$f":"'[1]87-0-14'!G44*(1+$E$13)","v":5555.4170000000004}]
[{"$f":"'[1]87-0-14'!B45","v":"AC114D"},{"$f":"'[1]87-0-14'!D45","v":"ACOPL COMPRESI 1\"1/4"},{"$f":"'[1]87-0-14'!E45","v":"DUKE"},{"$f":"'[1]87-0-14'!F45","v":"ACOPLE COMPRESION"},{"$f":"'[1]87-0-14'!G45*(1+$E$13)","v":12377.664500000001}]
[{"$f":"'[1]87-0-14'!B46","v":"AC12D"},{"$f":"'[1]87-0-14'!D46","v":"ACOPLE COMPRESIO 1/2"},{"$f":"'[1]87-0-14'!E46","v":"DUKE"},{"$f":"'[1]87-0-14'!F46","v":"ACOPLE COMPRESION"},{"$f":"'[1]87-0-14'!G46*(1+$E$13)","v":2896.3145}]
[{"$f":"'[1]87-0-14'!B47","v":"AC34D"},{"$f":"'[1]87-0-14'!D47","v":"ACOPLE COMPRESIO 3/4"},{"$f":"'[1]87-0-14'!E47","v":"DUKE"},{"$f":"'[1]87-0-14'!F47","v":"ACOPLE COMPRESION"},{"$f":"'[1]87-0-14'!G47*(1+$E$13)","v":3580.3450000000003}]
[{"$f":"'[1]87-0-14'!B48","v":"AC1D"},{"$f":"'[1]87-0-14'!D48","v":"ACOPLE COMPRESION 1\""},{"$f":"'[1]87-0-14'!E48","v":"DUKE"},{"$f":"'[1]87-0-14'!F48","v":"ACOPLE COMPRESION"},{"$f":"'[1]87-0-14'!G48*(1+$E$13)","v":4947.6775000000007}]
[{"$f":"'[1]87-0-14'!B49","v":"AC2D"},{"$f":"'[1]87-0-14'!D49","v":"ACOPLE COMPRESION 2\""},{"$f":"'[1]87-0-14'!E49","v":"DUKE"},{"$f":"'[1]87-0-14'!F49","v":"ACOPLE COMPRESION"},{"$f":"'[1]87-0-14'!G49*(1+$E$13)","v":18989.019}]
[{"$f":"'[1]87-0-14'!B50","v":"AS"},{"$f":"'[1]87-0-14'!D50","v":"ADAPTADOR CARRETEL ALAMBR"},{"$f":"'[1]87-0-14'!E50","v":"SIDERAL"},{"$f":"'[1]87-0-14'!F50","v":"ADAPTADOR"},{"$f":"'[1]87-0-14'!G50*(1+$E$13)","v":25274.455000000002}]
[{"$f":"'[1]87-0-14'!B51","v":"ASA"},{"$f":"'[1]87-0-14'!D51","v":"ADAPTADOR SOPLETE"},{"$f":"'[1]87-0-14'!E51","v":"ALIGAS"},{"$f":"'[1]87-0-14'!F51","v":"ADAPTADOR SOPLETE"},{"$f":"'[1]87-0-14'!G51*(1+$E$13)","v":4348.8040000000001}]
[{"$f":"'[1]87-0-14'!B52","v":"PEG220F"},{"$f":"'[1]87-0-14'!D52","v":"ADHESIVO DE MONTAJE  220"},{"$f":"'[1]87-0-14'!E52","v":"FORTEX"},{"$f":"'[1]87-0-14'!F52","v":"ADHESIVO MONTAJE"},{"$f":"'[1]87-0-14'!G52*(1+$E$13)","v":4911.4385000000002}]
[{"$f":"'[1]87-0-14'!B53","v":"PEG320F"},{"$f":"'[1]87-0-14'!D53","v":"ADHESIVO DE MONTAJE  320"},{"$f":"'[1]87-0-14'!E53","v":"FORTEX"},{"$f":"'[1]87-0-14'!F53","v":"ADHESIVO MONTAJE"},{"$f":"'[1]87-0-14'!G53*(1+$E$13)","v":7490.4369999999999}]
[{"$f":"'[1]87-0-14'!B54","v":"AP50D"},{"$f":"'[1]87-0-14'!D54","v":"ADHESIVO P/PVC  50cc"},{"$f":"'[1]87-0-14'!E54","v":"DUKE"},{"$f":"'[1]87-0-14'!F54","v":"ADHESIVO P/PVC"},{"$f":"'[1]87-0-14'!G54*(1+$E$13)","v":3946.7804999999998}]
[{"$f":"'[1]87-0-14'!B55","v":"AP100D"},{"$f":"'[1]87-0-14'!D55","v":"ADHESIVO P/PVC 100cc"},{"$f":"'[1]87-0-14'!E55","v":"DUKE"},{"$f":"'[1]87-0-14'!F55","v":"ADHESIVO P/PVC"},{"$f":"'[1]87-0-14'!G55*(1+$E$13)","v":5922.5344999999998}]
[{"$f":"'[1]87-0-14'!B56","v":"AP250D"},{"$f":"'[1]87-0-14'!D56","v":"ADHESIVO P/PVC 250cc"},{"$f":"'[1]87-0-14'!E56","v":"DUKE"},{"$f":"'[1]87-0-14'!F56","v":"ADHESIVO P/PVC"},{"$f":"'[1]87-0-14'!G56*(1+$E$13)","v":12462.790500000001}]
[{"$f":"'[1]87-0-14'!B57","v":"AP500D"},{"$f":"'[1]87-0-14'!D57","v":"ADHESIVO P/PVC 500cc"},{"$f":"'[1]87-0-14'!E57","v":"DUKE"},{"$f":"'[1]87-0-14'!F57","v":"ADHESIVO P/PVC"},{"$f":"'[1]87-0-14'!G57*(1+$E$13)","v":21358.969000000001}]
[{"$f":"'[1]87-0-14'!B58","v":"AP60T"},{"$f":"'[1]87-0-14'!D58","v":"ADHESIVO PVC  60 CC"},{"$f":"'[1]87-0-14'!E58","v":"TF3"},{"$f":"'[1]87-0-14'!F58","v":"ADHESIVO PVC"},{"$f":"'[1]87-0-14'!G58*(1+$E$13)","v":2302.9279999999999}]
[{"$f":"'[1]87-0-14'!B59","v":"AP110T"},{"$f":"'[1]87-0-14'!D59","v":"ADHESIVO PVC 110 CC"},{"$f":"'[1]87-0-14'!E59","v":"TF3"},{"$f":"'[1]87-0-14'!F59","v":"ADHESIVO PVC"},{"$f":"'[1]87-0-14'!G59*(1+$E$13)","v":3914.0135}]
[{"$f":"'[1]87-0-14'!B60","v":"AP250T"},{"$f":"'[1]87-0-14'!D60","v":"ADHESIVO PVC 250 CC"},{"$f":"'[1]87-0-14'!E60","v":"TF3"},{"$f":"'[1]87-0-14'!F60","v":"ADHESIVO PVC"},{"$f":"'[1]87-0-14'!G60*(1+$E$13)","v":8403.9295000000002}]
[{"$f":"'[1]87-0-14'!B61","v":"AGM"},{"$f":"'[1]87-0-14'!D61","v":"ADHESIVO T/LA GOTITA 3grs"},{"$f":"'[1]87-0-14'!E61","v":"MACAO"},{"$f":"'[1]87-0-14'!F61","v":"CANDADO"},{"$f":"'[1]87-0-14'!G61*(1+$E$13)","v":1179.8600000000001}]
[{"$f":"'[1]87-0-14'!B62","v":"ANA14E"},{"$f":"'[1]87-0-14'!D62","v":"ALAMB NEGRO ATADO 14"},{"$f":"'[1]87-0-14'!E62","v":"ACINDAR"},{"$f":"'[1]87-0-14'!F62","v":"ALAMBRE NEGRO ATA"},{"$f":"'[1]87-0-14'!G62*(1+$E$13)","v":9579.1550000000007}]
[{"$f":"'[1]87-0-14'!B63","v":"ANA17E"},{"$f":"'[1]87-0-14'!D63","v":"ALAMB NEGRO ATADO 17"},{"$f":"'[1]87-0-14'!E63","v":"ACINDAR"},{"$f":"'[1]87-0-14'!F63","v":"ALAMBRE NEGRO ATA"},{"$f":"'[1]87-0-14'!G63*(1+$E$13)","v":9394.8444999999992}]
[{"$f":"'[1]87-0-14'!B64","v":"AGA10A"},{"$f":"'[1]87-0-14'!D64","v":"ALAMBR GALV ATADO 10"},{"$f":"'[1]87-0-14'!E64","v":"ACINDAR"},{"$f":"'[1]87-0-14'!F64","v":"ALAMBR GALV ATADO"},{"$f":"'[1]87-0-14'!G64*(1+$E$13)","v":9320.8474999999999}]
[{"$f":"'[1]87-0-14'!B65","v":"AGA12A"},{"$f":"'[1]87-0-14'!D65","v":"ALAMBR GALV ATADO 12"},{"$f":"'[1]87-0-14'!E65","v":"ACINDAR"},{"$f":"'[1]87-0-14'!F65","v":"ALAMBR GALV ATADO"},{"$f":"'[1]87-0-14'!G65*(1+$E$13)","v":8329.3125}]
[{"$f":"'[1]87-0-14'!B66","v":"AGA14A"},{"$f":"'[1]87-0-14'!D66","v":"ALAMBR GALV ATADO 14"},{"$f":"'[1]87-0-14'!E66","v":"ACINDAR"},{"$f":"'[1]87-0-14'!F66","v":"ALAMBR GALV ATADO"},{"$f":"'[1]87-0-14'!G66*(1+$E$13)","v":8872.6494999999995}]
[{"$f":"'[1]87-0-14'!B67","v":"AGA16A"},{"$f":"'[1]87-0-14'!D67","v":"ALAMBR GALV ATADO 16"},{"$f":"'[1]87-0-14'!E67","v":"ACINDAR"},{"$f":"'[1]87-0-14'!F67","v":"ALAMBR GALV ATADO"},{"$f":"'[1]87-0-14'!G67*(1+$E$13)","v":9363.1314999999995}]
[{"$f":"'[1]87-0-14'!B68","v":"ARRT"},{"$f":"'[1]87-0-14'!D68","v":"ALAMBR REVESTID ROPA PLAS"},{"$f":"'[1]87-0-14'!E68","v":"TENSIL"},{"$f":"'[1]87-0-14'!F68","v":"ALAMBRE REVESTIDO"},{"$f":"'[1]87-0-14'!G68*(1+$E$13)","v":385.50050000000005}]
[{"$f":"'[1]87-0-14'!B69","v":"AEA"},{"$f":"'[1]87-0-14'!D69","v":"ALAMBRE ENFARDAR  15 1/2"},{"$f":"'[1]87-0-14'!E69","v":"ACINDAR"},{"$f":"'[1]87-0-14'!F69","v":"ALMBRE ENFARDAR"},{"$f":"'[1]87-0-14'!G69*(1+$E$13)","v":11993.915500000001}]
[{"$f":"'[1]87-0-14'!B70","v":"AEPA"},{"$f":"'[1]87-0-14'!D70","v":"ALAMBRE ESPIRAL PLASTIFIC"},{"$f":"'[1]87-0-14'!E70","v":"ALEX"},{"$f":"'[1]87-0-14'!F70","v":"ALAMBRE ESPIRAL"},{"$f":"'[1]87-0-14'!G70*(1+$E$13)","v":1848.2355000000002}]
[{"$f":"'[1]87-0-14'!B71","v":"AG10"},{"$f":"'[1]87-0-14'!D71","v":"ALAMBRE GALV N  10 GRANEL"},{"$f":"'[1]87-0-14'!E71","v":"ACINDAR"},{"$f":"'[1]87-0-14'!F71","v":"ALAMBRE GALV."},{"$f":"'[1]87-0-14'!G71*(1+$E$13)","v":8091.3720000000003}]
[{"$f":"'[1]87-0-14'!B72","v":"AG12"},{"$f":"'[1]87-0-14'!D72","v":"ALAMBRE GALV N  12 GRANEL"},{"$f":"'[1]87-0-14'!E72","v":"ACINDAR"},{"$f":"'[1]87-0-14'!F72","v":"ALAMBRE GALV."},{"$f":"'[1]87-0-14'!G72*(1+$E$13)","v":8059.3645000000006}]
[{"$f":"'[1]87-0-14'!B73","v":"AG14"},{"$f":"'[1]87-0-14'!D73","v":"ALAMBRE GALV N  14 GRANEL"},{"$f":"'[1]87-0-14'!E73","v":"ACINDAR"},{"$f":"'[1]87-0-14'!F73","v":"ALAMBRE GALV."},{"$f":"'[1]87-0-14'!G73*(1+$E$13)","v":8576.8474999999999}]
[{"$f":"'[1]87-0-14'!B74","v":"AG16"},{"$f":"'[1]87-0-14'!D74","v":"ALAMBRE GALV N  16 GRANEL"},{"$f":"'[1]87-0-14'!E74","v":"ACINDAR"},{"$f":"'[1]87-0-14'!F74","v":"ALAMBRE GALV."},{"$f":"'[1]87-0-14'!G74*(1+$E$13)","v":9046.807499999999}]
[{"$f":"'[1]87-0-14'!B75","v":"ANA16E"},{"$f":"'[1]87-0-14'!D75","v":"ALAMBRE NEGRO ATADO #16#"},{"$f":"'[1]87-0-14'!E75","v":"ACINDAR"},{"$f":"'[1]87-0-14'!F75","v":"ALAMBRE NEGRO ATA"},{"$f":"'[1]87-0-14'!G75*(1+$E$13)","v":8883.639000000001}]
[{"$f":"'[1]87-0-14'!B76","v":"AN9E"},{"$f":"'[1]87-0-14'!D76","v":"ALAMBRE NEGRO N  9"},{"$f":"'[1]87-0-14'!E76","v":"ACINDAR"},{"$f":"'[1]87-0-14'!F76","v":"ALAMBRE NEGRO"},{"$f":"'[1]87-0-14'!G76*(1+$E$13)","v":8672.9629999999997}]
[{"$f":"'[1]87-0-14'!B77","v":"AN12E"},{"$f":"'[1]87-0-14'!D77","v":"ALAMBRE NEGRO N 12 GRANEL"},{"$f":"'[1]87-0-14'!E77","v":"ACINDAR"},{"$f":"'[1]87-0-14'!F77","v":"ALAMBRE NEGRO"},{"$f":"'[1]87-0-14'!G77*(1+$E$13)","v":8997.1764999999996}]
[{"$f":"'[1]87-0-14'!B78","v":"AN14"},{"$f":"'[1]87-0-14'!D78","v":"ALAMBRE NEGRO N 14 GRANEL"},{"$f":"'[1]87-0-14'!E78","v":"ACINDAR"},{"$f":"'[1]87-0-14'!F78","v":"ALAMBRE NEGRO"},{"$f":"'[1]87-0-14'!G78*(1+$E$13)","v":8999.8270000000011}]
[{"$f":"'[1]87-0-14'!B79","v":"AN16"},{"$f":"'[1]87-0-14'!D79","v":"ALAMBRE NEGRO N 16 GRANEL"},{"$f":"'[1]87-0-14'!E79","v":"ACINDAR"},{"$f":"'[1]87-0-14'!F79","v":"ALAMBRE NEGRO"},{"$f":"'[1]87-0-14'!G79*(1+$E$13)","v":8660.9814999999999}]
[{"$f":"'[1]87-0-14'!B80","v":"AN17E"},{"$f":"'[1]87-0-14'!D80","v":"ALAMBRE NEGRO N 17 GRANEL"},{"$f":"'[1]87-0-14'!E80","v":"ACINDAR"},{"$f":"'[1]87-0-14'!F80","v":"ALAMBRE NEGRO"},{"$f":"'[1]87-0-14'!G80*(1+$E$13)","v":9261.0640000000003}]
[{"$f":"'[1]87-0-14'!B81","v":"AS090S"},{"$f":"'[1]87-0-14'!D81","v":"ALAMBRE P/SOLDAD MIG 0,90"},{"$f":"'[1]87-0-14'!E81","v":"SIDERAL"},{"$f":"'[1]87-0-14'!F81","v":"ALAMBRE P/SOLDADU"},{"$f":"'[1]87-0-14'!G81*(1+$E$13)","v":9380.9875000000011}]
[{"$f":"'[1]87-0-14'!B82","v":"AS120S"},{"$f":"'[1]87-0-14'!D82","v":"ALAMBRE P/SOLDAD MIG 1,20"},{"$f":"'[1]87-0-14'!E82","v":"SIDERAL"},{"$f":"'[1]87-0-14'!F82","v":"ALAMBRE P/SOLDADU"},{"$f":"'[1]87-0-14'!G82*(1+$E$13)","v":8298.7775000000001}]
[{"$f":"'[1]87-0-14'!B83","v":"AS080S"},{"$f":"'[1]87-0-14'!D83","v":"ALAMBRE P/SOLDAR MIG 0,80"},{"$f":"'[1]87-0-14'!E83","v":"SIDERAL"},{"$f":"'[1]87-0-14'!F83","v":"ALAMBRE P/SOLDADU"},{"$f":"'[1]87-0-14'!G83*(1+$E$13)","v":8527.0460000000003}]
[{"$f":"'[1]87-0-14'!B84","v":"AIAK"},{"$f":"'[1]87-0-14'!D84","v":"ALCOHO ISOPROP AERO \"440\""},{"$f":"'[1]87-0-14'!E84","v":"KUWAIT"},{"$f":"'[1]87-0-14'!F84","v":"ALCOHOL ISOPROPIL"},{"$f":"'[1]87-0-14'!G84*(1+$E$13)","v":6925.9579999999996}]
[{"$f":"'[1]87-0-14'!B85","v":"AA75K"},{"$f":"'[1]87-0-14'!D85","v":"ALCOHOL AEROS 75 #NOGALY#"},{"$f":"'[1]87-0-14'!E85","v":"KUWAIT"},{"$f":"'[1]87-0-14'!F85","v":"ESMALTE AEROSOL"},{"$f":"'[1]87-0-14'!G85*(1+$E$13)","v":5163.8094999999994}]
[{"$f":"'[1]87-0-14'!B86","v":"AG230K"},{"$f":"'[1]87-0-14'!D86","v":"ALCOHOL GEL 230 #NOGALY#"},{"$f":"'[1]87-0-14'!E86","v":"KUWAIT"},{"$f":"'[1]87-0-14'!F86","v":"ALCOHOL ISOPROPIL"},{"$f":"'[1]87-0-14'!G86*(1+$E$13)","v":5163.8094999999994}]
[{"$f":"'[1]87-0-14'!B87","v":"ACO5C"},{"$f":"'[1]87-0-14'!D87","v":"ALICATE CORTE OBLICUO  5\""},{"$f":"'[1]87-0-14'!E87","v":"METZ"},{"$f":"'[1]87-0-14'!F87","v":"ALICATE C/OBL"},{"$f":"'[1]87-0-14'!G87*(1+$E$13)","v":10131.032499999999}]
[{"$f":"'[1]87-0-14'!B88","v":"ACO6C"},{"$f":"'[1]87-0-14'!D88","v":"ALICATE CORTE OBLICUO  6\""},{"$f":"'[1]87-0-14'!E88","v":"METZ"},{"$f":"'[1]87-0-14'!F88","v":"ALICATE C/OBL"},{"$f":"'[1]87-0-14'!G88*(1+$E$13)","v":13523.439999999999}]
[{"$f":"'[1]87-0-14'!B89","v":"ACO8C"},{"$f":"'[1]87-0-14'!D89","v":"ALICATE CORTE OBLICUO  8\""},{"$f":"'[1]87-0-14'!E89","v":"METZ"},{"$f":"'[1]87-0-14'!F89","v":"ALICATE C/OBL"},{"$f":"'[1]87-0-14'!G89*(1+$E$13)","v":17835.012999999999}]
[{"$f":"'[1]87-0-14'!B90","v":"AMC6C"},{"$f":"'[1]87-0-14'!D90","v":"ALICATE MEDIA CANA C/A 6\""},{"$f":"'[1]87-0-14'!E90","v":"METZ"},{"$f":"'[1]87-0-14'!F90","v":"ALICATE"},{"$f":"'[1]87-0-14'!G90*(1+$E$13)","v":12219.797}]
[{"$f":"'[1]87-0-14'!B91","v":"AMC8C"},{"$f":"'[1]87-0-14'!D91","v":"ALICATE MEDIA CANA C/A 8\""},{"$f":"'[1]87-0-14'!E91","v":"METZ"},{"$f":"'[1]87-0-14'!F91","v":"ALICATE"},{"$f":"'[1]87-0-14'!G91*(1+$E$13)","v":18408.0635}]
[{"$f":"'[1]87-0-14'!B92","v":"APC6C"},{"$f":"'[1]87-0-14'!D92","v":"ALICATE PUNTA CHATA  6\""},{"$f":"'[1]87-0-14'!E92","v":"METZ"},{"$f":"'[1]87-0-14'!F92","v":"ALICATE"},{"$f":"'[1]87-0-14'!G92*(1+$E$13)","v":12206.188}]
[{"$f":"'[1]87-0-14'!B93","v":"APC8C"},{"$f":"'[1]87-0-14'!D93","v":"ALICATE PUNTA CHATA  8\""},{"$f":"'[1]87-0-14'!E93","v":"METZ"},{"$f":"'[1]87-0-14'!F93","v":"ALICATE"},{"$f":"'[1]87-0-14'!G93*(1+$E$13)","v":19572.532000000003}]
[{"$f":"'[1]87-0-14'!B94","v":"AU6C"},{"$f":"'[1]87-0-14'!D94","v":"ALICATE UNIVERSAL 6\""},{"$f":"'[1]87-0-14'!E94","v":"METZ"},{"$f":"'[1]87-0-14'!F94","v":"ALICATE UNIV"},{"$f":"'[1]87-0-14'!G94*(1+$E$13)","v":14667.944500000001}]
[{"$f":"'[1]87-0-14'!B95","v":"AU7C"},{"$f":"'[1]87-0-14'!D95","v":"ALICATE UNIVERSAL 7\""},{"$f":"'[1]87-0-14'!E95","v":"METZ"},{"$f":"'[1]87-0-14'!F95","v":"ALICATE"},{"$f":"'[1]87-0-14'!G95*(1+$E$13)","v":17435.298999999999}]
[{"$f":"'[1]87-0-14'!B96","v":"AU8C"},{"$f":"'[1]87-0-14'!D96","v":"ALICATE UNIVERSAL 8\""},{"$f":"'[1]87-0-14'!E96","v":"METZ"},{"$f":"'[1]87-0-14'!F96","v":"ALICATE UNIV"},{"$f":"'[1]87-0-14'!G96*(1+$E$13)","v":20943.692999999999}]
[{"$f":"'[1]87-0-14'!B97","v":"ATAAK"},{"$f":"'[1]87-0-14'!D97","v":"ALTA TEMP AERO Alumi"},{"$f":"'[1]87-0-14'!E97","v":"KUWAIT"},{"$f":"'[1]87-0-14'!F97","v":"ALTA TEMPERATURA"},{"$f":"'[1]87-0-14'!G97*(1+$E$13)","v":9175.7674999999999}]
[{"$f":"'[1]87-0-14'!B98","v":"ATANK"},{"$f":"'[1]87-0-14'!D98","v":"ALTA TEMP AERO NEGRO"},{"$f":"'[1]87-0-14'!E98","v":"KUWAIT"},{"$f":"'[1]87-0-14'!F98","v":"ALTA TEMPERATURA"},{"$f":"'[1]87-0-14'!G98*(1+$E$13)","v":10055.361500000001}]
[{"$f":"'[1]87-0-14'!B99","v":"A440ATNK"},{"$f":"'[1]87-0-14'!D99","v":"ALTA TEMPE 440 NEGRO"},{"$f":"'[1]87-0-14'!E99","v":"KUWAIT"},{"$f":"'[1]87-0-14'!F99","v":"ALTA TEMPERATURA"},{"$f":"'[1]87-0-14'!G99*(1+$E$13)","v":15826.119999999999}]
[{"$f":"'[1]87-0-14'!B100","v":"A440AAK"},{"$f":"'[1]87-0-14'!D100","v":"ALTA TEMPERA 440 ALUMINIO"},{"$f":"'[1]87-0-14'!E100","v":"KUWAIT"},{"$f":"'[1]87-0-14'!F100","v":"ALTA TEMPERATURA"},{"$f":"'[1]87-0-14'!G100*(1+$E$13)","v":12875.4935}]
[{"$f":"'[1]87-0-14'!B101","v":"A1EV"},{"$f":"'[1]87-0-14'!D101","v":"ANAFE C/R 1 HO ENVAS"},{"$f":"'[1]87-0-14'!E101","v":"VITAL GAS"},{"$f":"'[1]87-0-14'!F101","v":"ANAFE"},{"$f":"'[1]87-0-14'!G101*(1+$E$13)","v":45627.071000000004}]
[{"$f":"'[1]87-0-14'!B102","v":"A1NV"},{"$f":"'[1]87-0-14'!D102","v":"ANAFE C/R 1 HO NATUR"},{"$f":"'[1]87-0-14'!E102","v":"VITAL GAS"},{"$f":"'[1]87-0-14'!F102","v":"ANAFE"},{"$f":"'[1]87-0-14'!G102*(1+$E$13)","v":45627.071000000004}]
[{"$f":"'[1]87-0-14'!B103","v":"A2EV"},{"$f":"'[1]87-0-14'!D103","v":"ANAFE C/R 2 HO ENVAS"},{"$f":"'[1]87-0-14'!E103","v":"VITAL GAS"},{"$f":"'[1]87-0-14'!F103","v":"ANAFE"},{"$f":"'[1]87-0-14'!G103*(1+$E$13)","v":67188.578500000003}]
[{"$f":"'[1]87-0-14'!B104","v":"A2NV"},{"$f":"'[1]87-0-14'!D104","v":"ANAFE C/R 2 HO NATUR"},{"$f":"'[1]87-0-14'!E104","v":"VITAL GAS"},{"$f":"'[1]87-0-14'!F104","v":"ANAFE"},{"$f":"'[1]87-0-14'!G104*(1+$E$13)","v":67188.578500000003}]
[{"$f":"'[1]87-0-14'!B105","v":"A250D"},{"$f":"'[1]87-0-14'!D105","v":"ANDAMIO TUBULAR 2,50mts"},{"$f":"'[1]87-0-14'!E105","v":"DUROLL"},{"$f":"'[1]87-0-14'!F105","v":"ANDAMIO"},{"$f":"'[1]87-0-14'!G105*(1+$E$13)","v":402822.30799999996}]
[{"$f":"'[1]87-0-14'!B106","v":"A300D"},{"$f":"'[1]87-0-14'!D106","v":"ANDAMIO TUBULAR 3,00 mts"},{"$f":"'[1]87-0-14'!E106","v":"DUROLL"},{"$f":"'[1]87-0-14'!F106","v":"ANDAMIO"},{"$f":"'[1]87-0-14'!G106*(1+$E$13)","v":444384.82950000005}]
[{"$f":"'[1]87-0-14'!B107","v":"AA440K"},{"$f":"'[1]87-0-14'!D107","v":"ANTIOXIDO AERO \"440\""},{"$f":"'[1]87-0-14'!E107","v":"KUWAIT"},{"$f":"'[1]87-0-14'!F107","v":"ANTIOXIDO AEROSOL"},{"$f":"'[1]87-0-14'!G107*(1+$E$13)","v":7939.7510000000002}]
[{"$f":"'[1]87-0-14'!B108","v":"AAK"},{"$f":"'[1]87-0-14'!D108","v":"ANTIOXIDO AEROSOL"},{"$f":"'[1]87-0-14'!E108","v":"KUWAIT"},{"$f":"'[1]87-0-14'!F108","v":"ANTIOXIDO AEROSOL"},{"$f":"'[1]87-0-14'!G108*(1+$E$13)","v":5449.1490000000003}]
[{"$f":"'[1]87-0-14'!B109","v":"A12P"},{"$f":"'[1]87-0-14'!D109","v":"ANTIOXIDO AL CROMATO 1/2l"},{"$f":"'[1]87-0-14'!E109","v":"PREMIER"},{"$f":"'[1]87-0-14'!F109","v":"ANTIOXIDO"},{"$f":"'[1]87-0-14'!G109*(1+$E$13)","v":9563.2209999999995}]
[{"$f":"'[1]87-0-14'!B110","v":"A14P"},{"$f":"'[1]87-0-14'!D110","v":"ANTIOXIDO AL CROMATO 1/4l"},{"$f":"'[1]87-0-14'!E110","v":"PREMIER"},{"$f":"'[1]87-0-14'!F110","v":"ANTIOXIDO"},{"$f":"'[1]87-0-14'!G110*(1+$E$13)","v":9563.2209999999995}]
[{"$f":"'[1]87-0-14'!B111","v":"A1P"},{"$f":"'[1]87-0-14'!D111","v":"ANTIOXIDO AL CROMATO 1lt"},{"$f":"'[1]87-0-14'!E111","v":"PREMIER"},{"$f":"'[1]87-0-14'!F111","v":"ANTIOXIDO"},{"$f":"'[1]87-0-14'!G111*(1+$E$13)","v":16145.915999999999}]
[{"$f":"'[1]87-0-14'!B112","v":"A200P"},{"$f":"'[1]87-0-14'!D112","v":"ANTIOXIDO AL CROMATO 200l"},{"$f":"'[1]87-0-14'!E112","v":"PREMIER"},{"$f":"'[1]87-0-14'!F112","v":"ANTIOXIDO"},{"$f":"'[1]87-0-14'!G112*(1+$E$13)","v":2847437.3425000003}]
[{"$f":"'[1]87-0-14'!B113","v":"A20P"},{"$f":"'[1]87-0-14'!D113","v":"ANTIOXIDO AL CROMATO 20l"},{"$f":"'[1]87-0-14'!E113","v":"PREMIER"},{"$f":"'[1]87-0-14'!F113","v":"ANTIOXIDO"},{"$f":"'[1]87-0-14'!G113*(1+$E$13)","v":284743.72649999999}]
[{"$f":"'[1]87-0-14'!B114","v":"A4P"},{"$f":"'[1]87-0-14'!D114","v":"ANTIOXIDO AL CROMATO 4lt"},{"$f":"'[1]87-0-14'!E114","v":"PREMIER"},{"$f":"'[1]87-0-14'!F114","v":"ANTIOXIDO"},{"$f":"'[1]87-0-14'!G114*(1+$E$13)","v":60567.226499999997}]
[{"$f":"'[1]87-0-14'!B115","v":"A78RG"},{"$f":"'[1]87-0-14'!D115","v":"ARAND ZINC (x2) 7/8\""},{"$f":"'[1]87-0-14'!E115","v":"BIANCO"},{"$f":"'[1]87-0-14'!F115","v":"ARANDELA"},{"$f":"'[1]87-0-14'!G115*(1+$E$13)","v":249.39500000000001}]
[{"$f":"'[1]87-0-14'!B116","v":"A916RG"},{"$f":"'[1]87-0-14'!D116","v":"ARAND ZINC (x2) 9/16"},{"$f":"'[1]87-0-14'!E116","v":"BIANCO"},{"$f":"'[1]87-0-14'!F116","v":"ARANDELA"},{"$f":"'[1]87-0-14'!G116*(1+$E$13)","v":249.39500000000001}]
[{"$f":"'[1]87-0-14'!B117","v":"AG1H"},{"$f":"'[1]87-0-14'!D117","v":"ARANDELA GROWER   1\""},{"$f":"'[1]87-0-14'!E117","v":"PROLL"},{"$f":"'[1]87-0-14'!F117","v":"ARANDELA GROWER"},{"$f":"'[1]87-0-14'!G117*(1+$E$13)","v":21988.92}]
[{"$f":"'[1]87-0-14'!B118","v":"AG34H"},{"$f":"'[1]87-0-14'!D118","v":"ARANDELA GROWER 3/4\""},{"$f":"'[1]87-0-14'!E118","v":"PROLL"},{"$f":"'[1]87-0-14'!F118","v":"ARANDELA GROWER"},{"$f":"'[1]87-0-14'!G118*(1+$E$13)","v":28847.6855}]
[{"$f":"'[1]87-0-14'!B119","v":"AG58H"},{"$f":"'[1]87-0-14'!D119","v":"ARANDELA GROWER 5/8\""},{"$f":"'[1]87-0-14'!E119","v":"PROLL"},{"$f":"'[1]87-0-14'!F119","v":"ARANDELA GROWER"},{"$f":"'[1]87-0-14'!G119*(1+$E$13)","v":17586.532500000001}]
[{"$f":"'[1]87-0-14'!B120","v":"ASCPT"},{"$f":"'[1]87-0-14'!D120","v":"ARCO SIER EMP/CERRADA C/H"},{"$f":"'[1]87-0-14'!E120","v":"TOTH"},{"$f":"'[1]87-0-14'!F120","v":"ARCO EMP/CERRADA"},{"$f":"'[1]87-0-14'!G120*(1+$E$13)","v":16828.412}]
[{"$f":"'[1]87-0-14'!B121","v":"ASF"},{"$f":"'[1]87-0-14'!D121","v":"ARCO SIERRA FIJO REFORZAD"},{"$f":"'[1]87-0-14'!E121","v":"TOTH"},{"$f":"'[1]87-0-14'!F121","v":"ARCO FIJO"},{"$f":"'[1]87-0-14'!G121*(1+$E$13)","v":11370.614000000001}]
[{"$f":"'[1]87-0-14'!B122","v":"AIBIM"},{"$f":"'[1]87-0-14'!D122","v":"ASIENT INOD \"INYECT\" BLAN"},{"$f":"'[1]87-0-14'!E122","v":"MTZ"},{"$f":"'[1]87-0-14'!F122","v":"ASIENTO INODORO"},{"$f":"'[1]87-0-14'!G122*(1+$E$13)","v":10884.162}]
[{"$f":"'[1]87-0-14'!B123","v":"AACC0G"},{"$f":"'[1]87-0-14'!D123","v":"AZA ALGOD C/CABO N 0"},{"$f":"'[1]87-0-14'!E123","v":"GHERARDI"},{"$f":"'[1]87-0-14'!F123","v":"AZADA"},{"$f":"'[1]87-0-14'!G123*(1+$E$13)","v":52762.682000000008}]
[{"$f":"'[1]87-0-14'!B124","v":"AACC1G"},{"$f":"'[1]87-0-14'!D124","v":"AZA ALGOD C/CABO N 1"},{"$f":"'[1]87-0-14'!E124","v":"GHERARDI"},{"$f":"'[1]87-0-14'!F124","v":"AZADA"},{"$f":"'[1]87-0-14'!G124*(1+$E$13)","v":53440.9}]
[{"$f":"'[1]87-0-14'!B125","v":"AACC2G"},{"$f":"'[1]87-0-14'!D125","v":"AZA ALGOD C/CABO N 2"},{"$f":"'[1]87-0-14'!E125","v":"GHERARDI"},{"$f":"'[1]87-0-14'!F125","v":"AZADA"},{"$f":"'[1]87-0-14'!G125*(1+$E$13)","v":54043.5245}]
[{"$f":"'[1]87-0-14'!B126","v":"ACCC0G"},{"$f":"'[1]87-0-14'!D126","v":"AZA CARPI C/CABO N 0"},{"$f":"'[1]87-0-14'!E126","v":"GHERARDI"},{"$f":"'[1]87-0-14'!F126","v":"AZADA"},{"$f":"'[1]87-0-14'!G126*(1+$E$13)","v":50821.059000000001}]
[{"$f":"'[1]87-0-14'!B127","v":"ACCC1G"},{"$f":"'[1]87-0-14'!D127","v":"AZA CARPI C/CABO N 1"},{"$f":"'[1]87-0-14'!E127","v":"GHERARDI"},{"$f":"'[1]87-0-14'!F127","v":"AZADA"},{"$f":"'[1]87-0-14'!G127*(1+$E$13)","v":51462.061500000003}]
[{"$f":"'[1]87-0-14'!B128","v":"ACCC2G"},{"$f":"'[1]87-0-14'!D128","v":"AZA CARPI C/CABO N 2"},{"$f":"'[1]87-0-14'!E128","v":"GHERARDI"},{"$f":"'[1]87-0-14'!F128","v":"AZADA"},{"$f":"'[1]87-0-14'!G128*(1+$E$13)","v":52033.608500000002}]
[{"$f":"'[1]87-0-14'!B129","v":"AMCC2G"},{"$f":"'[1]87-0-14'!D129","v":"AZA MEND C/CAB 2\""},{"$f":"'[1]87-0-14'!E129","v":"GHERARDI"},{"$f":"'[1]87-0-14'!F129","v":"AZADA"},{"$f":"'[1]87-0-14'!G129*(1+$E$13)","v":88285.489000000001}]
[{"$f":"'[1]87-0-14'!B130","v":"AMCC212G"},{"$f":"'[1]87-0-14'!D130","v":"AZA MEND C/CAB 2\"1/2"},{"$f":"'[1]87-0-14'!E130","v":"GHERARDI"},{"$f":"'[1]87-0-14'!F130","v":"AZADA"},{"$f":"'[1]87-0-14'!G130*(1+$E$13)","v":90051.171499999997}]
[{"$f":"'[1]87-0-14'!B131","v":"AMCC3G"},{"$f":"'[1]87-0-14'!D131","v":"AZA MEND C/CAB 3\""},{"$f":"'[1]87-0-14'!E131","v":"GHERARDI"},{"$f":"'[1]87-0-14'!F131","v":"AZADA"},{"$f":"'[1]87-0-14'!G131*(1+$E$13)","v":92699.625499999995}]
[{"$f":"'[1]87-0-14'!B132","v":"AMCC312G"},{"$f":"'[1]87-0-14'!D132","v":"AZA MEND C/CAB 3\"1/2"},{"$f":"'[1]87-0-14'!E132","v":"GHERARDI"},{"$f":"'[1]87-0-14'!F132","v":"AZADA"},{"$f":"'[1]87-0-14'!G132*(1+$E$13)","v":96231.067999999999}]
[{"$f":"'[1]87-0-14'!B133","v":"AA0G"},{"$f":"'[1]87-0-14'!D133","v":"AZADA ALGODONER N  0"},{"$f":"'[1]87-0-14'!E133","v":"GHERARDI"},{"$f":"'[1]87-0-14'!F133","v":"AZADA"},{"$f":"'[1]87-0-14'!G133*(1+$E$13)","v":30202.556}]
[{"$f":"'[1]87-0-14'!B134","v":"AA1G"},{"$f":"'[1]87-0-14'!D134","v":"AZADA ALGODONER N  1"},{"$f":"'[1]87-0-14'!E134","v":"GHERARDI"},{"$f":"'[1]87-0-14'!F134","v":"AZADA"},{"$f":"'[1]87-0-14'!G134*(1+$E$13)","v":30821.951500000003}]
[{"$f":"'[1]87-0-14'!B135","v":"AA2G"},{"$f":"'[1]87-0-14'!D135","v":"AZADA ALGODONER N  2"},{"$f":"'[1]87-0-14'!E135","v":"GHERARDI"},{"$f":"'[1]87-0-14'!F135","v":"AZADA"},{"$f":"'[1]87-0-14'!G135*(1+$E$13)","v":31430.466000000004}]
[{"$f":"'[1]87-0-14'!B136","v":"AC0G"},{"$f":"'[1]87-0-14'!D136","v":"AZADA CARPIR N  0"},{"$f":"'[1]87-0-14'!E136","v":"GHERARDI"},{"$f":"'[1]87-0-14'!F136","v":"AZADA"},{"$f":"'[1]87-0-14'!G136*(1+$E$13)","v":29084.649500000003}]
[{"$f":"'[1]87-0-14'!B137","v":"AC1G"},{"$f":"'[1]87-0-14'!D137","v":"AZADA CARPIR N  1"},{"$f":"'[1]87-0-14'!E137","v":"GHERARDI"},{"$f":"'[1]87-0-14'!F137","v":"AZADA"},{"$f":"'[1]87-0-14'!G137*(1+$E$13)","v":29660.536500000002}]
[{"$f":"'[1]87-0-14'!B138","v":"AC1F"},{"$f":"'[1]87-0-14'!D138","v":"AZADA CARPIR N  1"},{"$f":"'[1]87-0-14'!E138","v":"FERCAS"},{"$f":"'[1]87-0-14'!F138","v":"AZADA CARPIR"},{"$f":"'[1]87-0-14'!G138*(1+$E$13)","v":11582.468000000001}]
[{"$f":"'[1]87-0-14'!B139","v":"AC2F"},{"$f":"'[1]87-0-14'!D139","v":"AZADA CARPIR N  2"},{"$f":"'[1]87-0-14'!E139","v":"FERCAS"},{"$f":"'[1]87-0-14'!F139","v":"AZADA CARPIR"},{"$f":"'[1]87-0-14'!G139*(1+$E$13)","v":12163.129000000001}]
[{"$f":"'[1]87-0-14'!B140","v":"AC2G"},{"$f":"'[1]87-0-14'!D140","v":"AZADA CARPIR N  2"},{"$f":"'[1]87-0-14'!E140","v":"GHERARDI"},{"$f":"'[1]87-0-14'!F140","v":"AZADA"},{"$f":"'[1]87-0-14'!G140*(1+$E$13)","v":30269.655500000004}]
[{"$f":"'[1]87-0-14'!B141","v":"AC3F"},{"$f":"'[1]87-0-14'!D141","v":"AZADA CARPIR N  3"},{"$f":"'[1]87-0-14'!E141","v":"FERCAS"},{"$f":"'[1]87-0-14'!F141","v":"AZADA CARPIR"},{"$f":"'[1]87-0-14'!G141*(1+$E$13)","v":12835.441500000001}]
[{"$f":"'[1]87-0-14'!B142","v":"AM2G"},{"$f":"'[1]87-0-14'!D142","v":"AZADA MENDOCIN 2\""},{"$f":"'[1]87-0-14'!E142","v":"GHERARDI"},{"$f":"'[1]87-0-14'!F142","v":"AZADA"},{"$f":"'[1]87-0-14'!G142*(1+$E$13)","v":68862.873000000007}]
[{"$f":"'[1]87-0-14'!B143","v":"AM212G"},{"$f":"'[1]87-0-14'!D143","v":"AZADA MENDOCIN 2\"1/2"},{"$f":"'[1]87-0-14'!E143","v":"GHERARDI"},{"$f":"'[1]87-0-14'!F143","v":"AZADA"},{"$f":"'[1]87-0-14'!G143*(1+$E$13)","v":70628.415999999997}]
[{"$f":"'[1]87-0-14'!B144","v":"AM3G"},{"$f":"'[1]87-0-14'!D144","v":"AZADA MENDOCIN 3\""},{"$f":"'[1]87-0-14'!E144","v":"GHERARDI"},{"$f":"'[1]87-0-14'!F144","v":"AZADA"},{"$f":"'[1]87-0-14'!G144*(1+$E$13)","v":73276.932000000001}]
[{"$f":"'[1]87-0-14'!B145","v":"AM312G"},{"$f":"'[1]87-0-14'!D145","v":"AZADA MENDOCIN 3\"1/2"},{"$f":"'[1]87-0-14'!E145","v":"GHERARDI"},{"$f":"'[1]87-0-14'!F145","v":"AZADA"},{"$f":"'[1]87-0-14'!G145*(1+$E$13)","v":76808.498500000002}]
[{"$f":"'[1]87-0-14'!B146","v":"BEE"},{"$f":"'[1]87-0-14'!D146","v":"BALDE ALBAN PLAST PREMIUM"},{"$f":"'[1]87-0-14'!E146","v":"HERNANPLAS"},{"$f":"'[1]87-0-14'!F146","v":"BALDE"},{"$f":"'[1]87-0-14'!G146*(1+$E$13)","v":3138.0990000000002}]
[{"$f":"'[1]87-0-14'!B147","v":"6600100D"},{"$f":"'[1]87-0-14'!D147","v":"BAND PAPEL 120X6600 100"},{"$f":"'[1]87-0-14'!E147","v":"DOBLE A"},{"$f":"'[1]87-0-14'!F147","v":"BANDA"},{"$f":"'[1]87-0-14'!G147*(1+$E$13)","v":64872.429000000004}]
[{"$f":"'[1]87-0-14'!B148","v":"660040D"},{"$f":"'[1]87-0-14'!D148","v":"BAND PAPEL 120X6600 40"},{"$f":"'[1]87-0-14'!E148","v":"DOBLE A"},{"$f":"'[1]87-0-14'!F148","v":"BANDA"},{"$f":"'[1]87-0-14'!G148*(1+$E$13)","v":91158.011000000013}]
[{"$f":"'[1]87-0-14'!B149","v":"B7545740"},{"$f":"'[1]87-0-14'!D149","v":"BANDA P/MADERA 75x457  40"},{"$f":"'[1]87-0-14'!E149","v":"DOBLE A"},{"$f":"'[1]87-0-14'!F149","v":"BANDA"},{"$f":"'[1]87-0-14'!G149*(1+$E$13)","v":7372.7300000000005}]
[{"$f":"'[1]87-0-14'!B150","v":"B7545760"},{"$f":"'[1]87-0-14'!D150","v":"BANDA P/MADERA 75x457  60"},{"$f":"'[1]87-0-14'!E150","v":"DOBLE A"},{"$f":"'[1]87-0-14'!F150","v":"BANDA"},{"$f":"'[1]87-0-14'!G150*(1+$E$13)","v":6543.3249999999998}]
[{"$f":"'[1]87-0-14'!B151","v":"B7545780"},{"$f":"'[1]87-0-14'!D151","v":"BANDA P/MADERA 75x457  80"},{"$f":"'[1]87-0-14'!E151","v":"DOBLE A"},{"$f":"'[1]87-0-14'!F151","v":"BANDA"},{"$f":"'[1]87-0-14'!G151*(1+$E$13)","v":6054.61}]
[{"$f":"'[1]87-0-14'!B152","v":"B7553340"},{"$f":"'[1]87-0-14'!D152","v":"BANDA P/MADERA 75x533  40"},{"$f":"'[1]87-0-14'!E152","v":"DOBLE A"},{"$f":"'[1]87-0-14'!F152","v":"BANDA"},{"$f":"'[1]87-0-14'!G152*(1+$E$13)","v":8344.3630000000012}]
[{"$f":"'[1]87-0-14'!B153","v":"B7553360"},{"$f":"'[1]87-0-14'!D153","v":"BANDA P/MADERA 75x533  60"},{"$f":"'[1]87-0-14'!E153","v":"DOBLE A"},{"$f":"'[1]87-0-14'!F153","v":"BANDA"},{"$f":"'[1]87-0-14'!G153*(1+$E$13)","v":7327.9660000000003}]
[{"$f":"'[1]87-0-14'!B154","v":"B7553380"},{"$f":"'[1]87-0-14'!D154","v":"BANDA P/MADERA 75x533  80"},{"$f":"'[1]87-0-14'!E154","v":"DOBLE A"},{"$f":"'[1]87-0-14'!F154","v":"BANDA"},{"$f":"'[1]87-0-14'!G154*(1+$E$13)","v":6727.2635}]
[{"$f":"'[1]87-0-14'!B155","v":"B7561040"},{"$f":"'[1]87-0-14'!D155","v":"BANDA P/MADERA 75x610  40"},{"$f":"'[1]87-0-14'!E155","v":"DOBLE A"},{"$f":"'[1]87-0-14'!F155","v":"BANDA"},{"$f":"'[1]87-0-14'!G155*(1+$E$13)","v":9263.3734999999997}]
[{"$f":"'[1]87-0-14'!B156","v":"B7561060"},{"$f":"'[1]87-0-14'!D156","v":"BANDA P/MADERA 75x610  60"},{"$f":"'[1]87-0-14'!E156","v":"DOBLE A"},{"$f":"'[1]87-0-14'!F156","v":"BANDA"},{"$f":"'[1]87-0-14'!G156*(1+$E$13)","v":8081.9635000000007}]
[{"$f":"'[1]87-0-14'!B157","v":"B7561080"},{"$f":"'[1]87-0-14'!D157","v":"BANDA P/MADERA 75x610  80"},{"$f":"'[1]87-0-14'!E157","v":"DOBLE A"},{"$f":"'[1]87-0-14'!F157","v":"BANDA"},{"$f":"'[1]87-0-14'!G157*(1+$E$13)","v":7372.7300000000005}]
[{"$f":"'[1]87-0-14'!B158","v":"BPGC"},{"$f":"'[1]87-0-14'!D158","v":"BANDEJ PINTOR GRANDE"},{"$f":"'[1]87-0-14'!E158","v":"CRECCHIO"},{"$f":"'[1]87-0-14'!F158","v":"BANDEJA PINTOR"},{"$f":"'[1]87-0-14'!G158*(1+$E$13)","v":2075.0315000000001}]
[{"$f":"'[1]87-0-14'!B159","v":"BCM"},{"$f":"'[1]87-0-14'!D159","v":"BARBIJO COMUN"},{"$f":"'[1]87-0-14'!E159","v":"MASKE"},{"$f":"'[1]87-0-14'!F159","v":"BARBIJO"},{"$f":"'[1]87-0-14'!G159*(1+$E$13)","v":59.519999999999996}]
[{"$f":"'[1]87-0-14'!B160","v":"BQM"},{"$f":"'[1]87-0-14'!D160","v":"BARBIJO QUIRURGICO"},{"$f":"'[1]87-0-14'!E160","v":"MASKE"},{"$f":"'[1]87-0-14'!F160","v":"BARBIJO"},{"$f":"'[1]87-0-14'!G160*(1+$E$13)","v":71.005500000000012}]
[{"$f":"'[1]87-0-14'!B161","v":"BATK"},{"$f":"'[1]87-0-14'!D161","v":"BARNI AEROS Transpar"},{"$f":"'[1]87-0-14'!E161","v":"KUWAIT"},{"$f":"'[1]87-0-14'!F161","v":"BARNIZ AEROSOL"},{"$f":"'[1]87-0-14'!G161*(1+$E$13)","v":5448.4979999999996}]
[{"$f":"'[1]87-0-14'!B162","v":"BT440K"},{"$f":"'[1]87-0-14'!D162","v":"BARNI TRANSPAR \"440\""},{"$f":"'[1]87-0-14'!E162","v":"KUWAIT"},{"$f":"'[1]87-0-14'!F162","v":"BARNIZ AEROSOL"},{"$f":"'[1]87-0-14'!G162*(1+$E$13)","v":7939.9834999999994}]
[{"$f":"'[1]87-0-14'!B163","v":"BAMK"},{"$f":"'[1]87-0-14'!D163","v":"BARNIZ AEROSOL Mate"},{"$f":"'[1]87-0-14'!E163","v":"KUWAIT"},{"$f":"'[1]87-0-14'!F163","v":"BARNIZ AEROSOL"},{"$f":"'[1]87-0-14'!G163*(1+$E$13)","v":5448.4979999999996}]
[{"$f":"'[1]87-0-14'!B164","v":"BM20P"},{"$f":"'[1]87-0-14'!D164","v":"BARNIZ MARINO  20 lts"},{"$f":"'[1]87-0-14'!E164","v":"PREMIER"},{"$f":"'[1]87-0-14'!F164","v":"BARNIZ"},{"$f":"'[1]87-0-14'!G164*(1+$E$13)","v":292365.43299999996}]
[{"$f":"'[1]87-0-14'!B165","v":"BM200P"},{"$f":"'[1]87-0-14'!D165","v":"BARNIZ MARINO  200 lts"},{"$f":"'[1]87-0-14'!E165","v":"PREMIER"},{"$f":"'[1]87-0-14'!F165","v":"BARNIZ"},{"$f":"'[1]87-0-14'!G165*(1+$E$13)","v":2923654.2990000001}]
[{"$f":"'[1]87-0-14'!B166","v":"BM1P"},{"$f":"'[1]87-0-14'!D166","v":"BARNIZ MARINO 1 lt"},{"$f":"'[1]87-0-14'!E166","v":"PREMIER"},{"$f":"'[1]87-0-14'!F166","v":"BARNIZ"},{"$f":"'[1]87-0-14'!G166*(1+$E$13)","v":16473.5085}]
[{"$f":"'[1]87-0-14'!B167","v":"BM12P"},{"$f":"'[1]87-0-14'!D167","v":"BARNIZ MARINO 1/2 lt"},{"$f":"'[1]87-0-14'!E167","v":"PREMIER"},{"$f":"'[1]87-0-14'!F167","v":"BARNIZ"},{"$f":"'[1]87-0-14'!G167*(1+$E$13)","v":9572.6760000000013}]
[{"$f":"'[1]87-0-14'!B168","v":"BM4P"},{"$f":"'[1]87-0-14'!D168","v":"BARNIZ MARINO 4 lt"},{"$f":"'[1]87-0-14'!E168","v":"PREMIER"},{"$f":"'[1]87-0-14'!F168","v":"BARNIZ"},{"$f":"'[1]87-0-14'!G168*(1+$E$13)","v":62011.144500000002}]
[{"$f":"'[1]87-0-14'!B169","v":"BS20P"},{"$f":"'[1]87-0-14'!D169","v":"BARNIZ SINTETICO  20 ltS"},{"$f":"'[1]87-0-14'!E169","v":"PREMIER"},{"$f":"'[1]87-0-14'!F169","v":"BARNIZ"},{"$f":"'[1]87-0-14'!G169*(1+$E$13)","v":268271.13250000001}]
[{"$f":"'[1]87-0-14'!B170","v":"BS200P"},{"$f":"'[1]87-0-14'!D170","v":"BARNIZ SINTETICO  200 ltS"},{"$f":"'[1]87-0-14'!E170","v":"PREMIER"},{"$f":"'[1]87-0-14'!F170","v":"BARNIZ"},{"$f":"'[1]87-0-14'!G170*(1+$E$13)","v":2682711.2940000002}]
[{"$f":"'[1]87-0-14'!B171","v":"BS1P"},{"$f":"'[1]87-0-14'!D171","v":"BARNIZ SINTETICO 1 lt"},{"$f":"'[1]87-0-14'!E171","v":"PREMIER"},{"$f":"'[1]87-0-14'!F171","v":"BARNIZ"},{"$f":"'[1]87-0-14'!G171*(1+$E$13)","v":15287.913500000001}]
[{"$f":"'[1]87-0-14'!B172","v":"BS12P"},{"$f":"'[1]87-0-14'!D172","v":"BARNIZ SINTETICO 1/2 lt"},{"$f":"'[1]87-0-14'!E172","v":"PREMIER"},{"$f":"'[1]87-0-14'!F172","v":"BARNIZ"},{"$f":"'[1]87-0-14'!G172*(1+$E$13)","v":8966.3935000000001}]
[{"$f":"'[1]87-0-14'!B173","v":"BS14P"},{"$f":"'[1]87-0-14'!D173","v":"BARNIZ SINTETICO 1/4 lt"},{"$f":"'[1]87-0-14'!E173","v":"PREMIER"},{"$f":"'[1]87-0-14'!F173","v":"BARNIZ"},{"$f":"'[1]87-0-14'!G173*(1+$E$13)","v":5807.4160000000002}]
[{"$f":"'[1]87-0-14'!B174","v":"BS4P"},{"$f":"'[1]87-0-14'!D174","v":"BARNIZ SINTETICO 4 lt"},{"$f":"'[1]87-0-14'!E174","v":"PREMIER"},{"$f":"'[1]87-0-14'!F174","v":"BARNIZ"},{"$f":"'[1]87-0-14'!G174*(1+$E$13)","v":57192.287499999999}]
[{"$f":"'[1]87-0-14'!B175","v":"BELBA"},{"$f":"'[1]87-0-14'!D175","v":"BARRA EXTEN *LUJO* BLANCO"},{"$f":"'[1]87-0-14'!E175","v":"ALEX"},{"$f":"'[1]87-0-14'!F175","v":"BARRAL EXTE. LUJO"},{"$f":"'[1]87-0-14'!G175*(1+$E$13)","v":19268.220500000003}]
[{"$f":"'[1]87-0-14'!B176","v":"BCCLA"},{"$f":"'[1]87-0-14'!D176","v":"BARRAL CORTO 15cm C/LLAVE"},{"$f":"'[1]87-0-14'!E176","v":"VITAL GAS"},{"$f":"'[1]87-0-14'!F176","v":"BARRAL"},{"$f":"'[1]87-0-14'!G176*(1+$E$13)","v":34013.897499999999}]
[{"$f":"'[1]87-0-14'!B177","v":"BCSLA"},{"$f":"'[1]87-0-14'!D177","v":"BARRAL CORTO 15cm S/LLAVE"},{"$f":"'[1]87-0-14'!E177","v":"VITAL GAS"},{"$f":"'[1]87-0-14'!F177","v":"BARRAL"},{"$f":"'[1]87-0-14'!G177*(1+$E$13)","v":13408.3835}]
[{"$f":"'[1]87-0-14'!B178","v":"BCCA"},{"$f":"'[1]87-0-14'!D178","v":"BARRAL CURVO CORT"},{"$f":"'[1]87-0-14'!E178","v":"ALEX"},{"$f":"'[1]87-0-14'!F178","v":"BARRAL"},{"$f":"'[1]87-0-14'!G178*(1+$E$13)","v":13025.239}]
[{"$f":"'[1]87-0-14'!B179","v":"BCLA"},{"$f":"'[1]87-0-14'!D179","v":"BARRAL CURVO LARG"},{"$f":"'[1]87-0-14'!E179","v":"ALEX"},{"$f":"'[1]87-0-14'!F179","v":"BARRAL"},{"$f":"'[1]87-0-14'!G179*(1+$E$13)","v":15650.381000000001}]
[{"$f":"'[1]87-0-14'!B180","v":"BD3A"},{"$f":"'[1]87-0-14'!D180","v":"BARRAL DOBLE  3 Kg."},{"$f":"'[1]87-0-14'!E180","v":"VITAL GAS"},{"$f":"'[1]87-0-14'!F180","v":"BARRAL"},{"$f":"'[1]87-0-14'!G180*(1+$E$13)","v":60533.266000000003}]
[{"$f":"'[1]87-0-14'!B181","v":"BD10A"},{"$f":"'[1]87-0-14'!D181","v":"BARRAL DOBLE 10 Kg."},{"$f":"'[1]87-0-14'!E181","v":"VITAL GAS"},{"$f":"'[1]87-0-14'!F181","v":"BARRAL"},{"$f":"'[1]87-0-14'!G181*(1+$E$13)","v":67631.274000000005}]
[{"$f":"'[1]87-0-14'!B182","v":"BEBA"},{"$f":"'[1]87-0-14'!D182","v":"BARRAL EXTENS BLANCO"},{"$f":"'[1]87-0-14'!E182","v":"ALEX"},{"$f":"'[1]87-0-14'!F182","v":"BARRAL EXT. COLOR"},{"$f":"'[1]87-0-14'!G182*(1+$E$13)","v":14642.974}]
[{"$f":"'[1]87-0-14'!B183","v":"BEBEA"},{"$f":"'[1]87-0-14'!D183","v":"BARRAL EXTENSI BEIGE"},{"$f":"'[1]87-0-14'!E183","v":"ALEX"},{"$f":"'[1]87-0-14'!F183","v":"BARRAL EXT. COLOR"},{"$f":"'[1]87-0-14'!G183*(1+$E$13)","v":14642.974}]
[{"$f":"'[1]87-0-14'!B184","v":"BEA"},{"$f":"'[1]87-0-14'!D184","v":"BARRAL EXTENSIBLE"},{"$f":"'[1]87-0-14'!E184","v":"ALEX"},{"$f":"'[1]87-0-14'!F184","v":"BARRAL"},{"$f":"'[1]87-0-14'!G184*(1+$E$13)","v":10159.878000000001}]
[{"$f":"'[1]87-0-14'!B185","v":"BFCLA"},{"$f":"'[1]87-0-14'!D185","v":"BARRAL FAROL 1 mt C/LLAVE"},{"$f":"'[1]87-0-14'!E185","v":"VITAL GAS"},{"$f":"'[1]87-0-14'!F185","v":"BARRAL"},{"$f":"'[1]87-0-14'!G185*(1+$E$13)","v":43203.1345}]
[{"$f":"'[1]87-0-14'!B186","v":"BFSLA"},{"$f":"'[1]87-0-14'!D186","v":"BARRAL FAROL 1 mt S/LLAVE"},{"$f":"'[1]87-0-14'!E186","v":"VITAL GAS"},{"$f":"'[1]87-0-14'!F186","v":"BARRAL"},{"$f":"'[1]87-0-14'!G186*(1+$E$13)","v":17943.931499999999}]
[{"$f":"'[1]87-0-14'!B187","v":"B160A"},{"$f":"'[1]87-0-14'!D187","v":"BARRAL RECTO 1,60"},{"$f":"'[1]87-0-14'!E187","v":"ALEX"},{"$f":"'[1]87-0-14'!F187","v":"BARRAL"},{"$f":"'[1]87-0-14'!G187*(1+$E$13)","v":8539.6939999999995}]
[{"$f":"'[1]87-0-14'!B188","v":"B180A"},{"$f":"'[1]87-0-14'!D188","v":"BARRAL RECTO 1,80"},{"$f":"'[1]87-0-14'!E188","v":"ALEX"},{"$f":"'[1]87-0-14'!F188","v":"BARRAL"},{"$f":"'[1]87-0-14'!G188*(1+$E$13)","v":9980.9459999999999}]
[{"$f":"'[1]87-0-14'!B189","v":"B200A"},{"$f":"'[1]87-0-14'!D189","v":"BARRAL RECTO 2,00"},{"$f":"'[1]87-0-14'!E189","v":"ALEX"},{"$f":"'[1]87-0-14'!F189","v":"BARRAL"},{"$f":"'[1]87-0-14'!G189*(1+$E$13)","v":11130.5345}]
[{"$f":"'[1]87-0-14'!B190","v":"B220A"},{"$f":"'[1]87-0-14'!D190","v":"BARRAL RECTO 2,20"},{"$f":"'[1]87-0-14'!E190","v":"ALEX"},{"$f":"'[1]87-0-14'!F190","v":"BARRAL"},{"$f":"'[1]87-0-14'!G190*(1+$E$13)","v":12194.299500000001}]
[{"$f":"'[1]87-0-14'!B191","v":"B240A"},{"$f":"'[1]87-0-14'!D191","v":"BARRAL RECTO 2,40 MT"},{"$f":"'[1]87-0-14'!E191","v":"ALEX"},{"$f":"'[1]87-0-14'!F191","v":"BARRAL"},{"$f":"'[1]87-0-14'!G191*(1+$E$13)","v":13236.023500000001}]
[{"$f":"'[1]87-0-14'!B192","v":"BUA"},{"$f":"'[1]87-0-14'!D192","v":"BARRAL TIPO \"U\""},{"$f":"'[1]87-0-14'!E192","v":"ALEX"},{"$f":"'[1]87-0-14'!F192","v":"BARRAL"},{"$f":"'[1]87-0-14'!G192*(1+$E$13)","v":17417.629000000001}]
[{"$f":"'[1]87-0-14'!B193","v":"BMN"},{"$f":"'[1]87-0-14'!D193","v":"BARRE METAL REGULA SIN/CA"},{"$f":"'[1]87-0-14'!E193","v":"NEIKE"},{"$f":"'[1]87-0-14'!F193","v":"BARREHOJAS"},{"$f":"'[1]87-0-14'!G193*(1+$E$13)","v":16632.709000000003}]
[{"$f":"'[1]87-0-14'!B194","v":"BMCCN"},{"$f":"'[1]87-0-14'!D194","v":"BARREH METAL CON CABO REG"},{"$f":"'[1]87-0-14'!E194","v":"NEIKE"},{"$f":"'[1]87-0-14'!F194","v":"BARREHOJAS"},{"$f":"'[1]87-0-14'!G194*(1+$E$13)","v":26553.639000000003}]
[{"$f":"'[1]87-0-14'!B195","v":"BHT"},{"$f":"'[1]87-0-14'!D195","v":"BARREHOJA REGULABLE EPOXI"},{"$f":"'[1]87-0-14'!E195","v":"TOTH"},{"$f":"'[1]87-0-14'!F195","v":"BARREHOJA"},{"$f":"'[1]87-0-14'!G195*(1+$E$13)","v":10110.216}]
[{"$f":"'[1]87-0-14'!B196","v":"BHGC"},{"$f":"'[1]87-0-14'!D196","v":"BARREHOJAS PLASTIC GRANDE"},{"$f":"'[1]87-0-14'!E196","v":"CRECCHIO"},{"$f":"'[1]87-0-14'!F196","v":"BARREHOJAS"},{"$f":"'[1]87-0-14'!G196*(1+$E$13)","v":4266.4215000000004}]
[{"$f":"'[1]87-0-14'!B197","v":"BHCC"},{"$f":"'[1]87-0-14'!D197","v":"BARREHOJAS PLASTICO CHICO"},{"$f":"'[1]87-0-14'!E197","v":"CRECCHIO"},{"$f":"'[1]87-0-14'!F197","v":"BARREHOJAS"},{"$f":"'[1]87-0-14'!G197*(1+$E$13)","v":1792.8385000000001}]
[{"$f":"'[1]87-0-14'!B198","v":"B120"},{"$f":"'[1]87-0-14'!D198","v":"BARRETA 19 X 120"},{"$f":"'[1]87-0-14'!E198","v":"EL ROBLE"},{"$f":"'[1]87-0-14'!F198","v":"BARRETA"},{"$f":"'[1]87-0-14'!G198*(1+$E$13)","v":58235.670000000006}]
[{"$f":"'[1]87-0-14'!B199","v":"B40M"},{"$f":"'[1]87-0-14'!D199","v":"BARRETA 3/4  40cm"},{"$f":"'[1]87-0-14'!E199","v":"MAZZUCA"},{"$f":"'[1]87-0-14'!F199","v":"BARRETA"},{"$f":"'[1]87-0-14'!G199*(1+$E$13)","v":22036.892500000002}]
[{"$f":"'[1]87-0-14'!B200","v":"B50M"},{"$f":"'[1]87-0-14'!D200","v":"BARRETA 3/4  50cm"},{"$f":"'[1]87-0-14'!E200","v":"MAZZUCA"},{"$f":"'[1]87-0-14'!F200","v":"BARRETA"},{"$f":"'[1]87-0-14'!G200*(1+$E$13)","v":26120.4915}]
[{"$f":"'[1]87-0-14'!B201","v":"B60M"},{"$f":"'[1]87-0-14'!D201","v":"BARRETA 3/4  60cm"},{"$f":"'[1]87-0-14'!E201","v":"MAZZUCA"},{"$f":"'[1]87-0-14'!F201","v":"BARRETA"},{"$f":"'[1]87-0-14'!G201*(1+$E$13)","v":29768.106500000002}]
[{"$f":"'[1]87-0-14'!B202","v":"B70M"},{"$f":"'[1]87-0-14'!D202","v":"BARRETA 3/4  70cm"},{"$f":"'[1]87-0-14'!E202","v":"MAZZUCA"},{"$f":"'[1]87-0-14'!F202","v":"BARRETA"},{"$f":"'[1]87-0-14'!G202*(1+$E$13)","v":35783.842499999999}]
[{"$f":"'[1]87-0-14'!B203","v":"B80M"},{"$f":"'[1]87-0-14'!D203","v":"BARRETA 3/4  80cm"},{"$f":"'[1]87-0-14'!E203","v":"MAZZUCA"},{"$f":"'[1]87-0-14'!F203","v":"BARRETA"},{"$f":"'[1]87-0-14'!G203*(1+$E$13)","v":43980.258000000002}]
[{"$f":"'[1]87-0-14'!B204","v":"B100M"},{"$f":"'[1]87-0-14'!D204","v":"BARRETA 3/4 100cm"},{"$f":"'[1]87-0-14'!E204","v":"MAZZUCA"},{"$f":"'[1]87-0-14'!F204","v":"BARRETA"},{"$f":"'[1]87-0-14'!G204*(1+$E$13)","v":56290.141000000003}]
[{"$f":"'[1]87-0-14'!B205","v":"B120M"},{"$f":"'[1]87-0-14'!D205","v":"BARRETA 3/4 120cm"},{"$f":"'[1]87-0-14'!E205","v":"MAZZUCA"},{"$f":"'[1]87-0-14'!F205","v":"BARRETA"},{"$f":"'[1]87-0-14'!G205*(1+$E$13)","v":67695.738499999992}]
[{"$f":"'[1]87-0-14'!B206","v":"BI252000"},{"$f":"'[1]87-0-14'!D206","v":"BARRETA IND 25x2000"},{"$f":"'[1]87-0-14'!E206","v":"EL ROBLE"},{"$f":"'[1]87-0-14'!F206","v":"BARRETA"},{"$f":"'[1]87-0-14'!G206*(1+$E$13)","v":122311.4455}]
[{"$f":"'[1]87-0-14'!B207","v":"BI321600"},{"$f":"'[1]87-0-14'!D207","v":"BARRETA INDUSTR 32 X 1600"},{"$f":"'[1]87-0-14'!E207","v":"EL ROBLE"},{"$f":"'[1]87-0-14'!F207","v":"BARRETA"},{"$f":"'[1]87-0-14'!G207*(1+$E$13)","v":153776.12}]
[{"$f":"'[1]87-0-14'!B208","v":"B40"},{"$f":"'[1]87-0-14'!D208","v":"BARRETA N  40"},{"$f":"'[1]87-0-14'!E208","v":"EL ROBLE"},{"$f":"'[1]87-0-14'!F208","v":"BARRETA"},{"$f":"'[1]87-0-14'!G208*(1+$E$13)","v":18216.5455}]
[{"$f":"'[1]87-0-14'!B209","v":"B50"},{"$f":"'[1]87-0-14'!D209","v":"BARRETA N  50"},{"$f":"'[1]87-0-14'!E209","v":"EL ROBLE"},{"$f":"'[1]87-0-14'!F209","v":"BARRETA"},{"$f":"'[1]87-0-14'!G209*(1+$E$13)","v":21565.708000000002}]
[{"$f":"'[1]87-0-14'!B210","v":"B60"},{"$f":"'[1]87-0-14'!D210","v":"BARRETA N  60"},{"$f":"'[1]87-0-14'!E210","v":"EL ROBLE"},{"$f":"'[1]87-0-14'!F210","v":"BARRETA"},{"$f":"'[1]87-0-14'!G210*(1+$E$13)","v":24702.009000000002}]
[{"$f":"'[1]87-0-14'!B211","v":"B70"},{"$f":"'[1]87-0-14'!D211","v":"BARRETA N  70"},{"$f":"'[1]87-0-14'!E211","v":"EL ROBLE"},{"$f":"'[1]87-0-14'!F211","v":"BARRETA"},{"$f":"'[1]87-0-14'!G211*(1+$E$13)","v":29488.502}]
[{"$f":"'[1]87-0-14'!B212","v":"B80"},{"$f":"'[1]87-0-14'!D212","v":"BARRETA N  80"},{"$f":"'[1]87-0-14'!E212","v":"EL ROBLE"},{"$f":"'[1]87-0-14'!F212","v":"BARRETA"},{"$f":"'[1]87-0-14'!G212*(1+$E$13)","v":36315.291000000005}]
[{"$f":"'[1]87-0-14'!B213","v":"BMC33103"},{"$f":"'[1]87-0-14'!D213","v":"BASE MECHA COP C/T 33/103"},{"$f":"'[1]87-0-14'!E213","v":"RHEIN"},{"$f":"'[1]87-0-14'!F213","v":"MECHA COPA"},{"$f":"'[1]87-0-14'!G213*(1+$E$13)","v":16659.663500000002}]
[{"$f":"'[1]87-0-14'!B214","v":"BMC73113"},{"$f":"'[1]87-0-14'!D214","v":"BASE MECHA COP C/T 73/113"},{"$f":"'[1]87-0-14'!E214","v":"RHEIN"},{"$f":"'[1]87-0-14'!F214","v":"MECHA COPA"},{"$f":"'[1]87-0-14'!G214*(1+$E$13)","v":21267.302}]
[{"$f":"'[1]87-0-14'!B215","v":"BSD60F"},{"$f":"'[1]87-0-14'!D215","v":"BI 1 A/CORTA SOLD 60 Dere"},{"$f":"'[1]87-0-14'!E215","v":"FABI"},{"$f":"'[1]87-0-14'!F215","v":"BIS HERRERO"},{"$f":"'[1]87-0-14'!G215*(1+$E$13)","v":34622.055500000002}]
[{"$f":"'[1]87-0-14'!B216","v":"BSI60F"},{"$f":"'[1]87-0-14'!D216","v":"BI 1 A/CORTA SOLD 60 Izqu"},{"$f":"'[1]87-0-14'!E216","v":"FABI"},{"$f":"'[1]87-0-14'!F216","v":"BIS HERRERO"},{"$f":"'[1]87-0-14'!G216*(1+$E$13)","v":34622.055500000002}]
[{"$f":"'[1]87-0-14'!B217","v":"BSR60F"},{"$f":"'[1]87-0-14'!D217","v":"BI 1 A/CORTA SOLD 60 Reve"},{"$f":"'[1]87-0-14'!E217","v":"FABI"},{"$f":"'[1]87-0-14'!F217","v":"BIS HERRERO"},{"$f":"'[1]87-0-14'!G217*(1+$E$13)","v":31264.275000000001}]
[{"$f":"'[1]87-0-14'!B218","v":"BSD80F"},{"$f":"'[1]87-0-14'!D218","v":"BI 1 A/CORTA SOLD 80 Dere"},{"$f":"'[1]87-0-14'!E218","v":"FABI"},{"$f":"'[1]87-0-14'!F218","v":"BIS HERRERO"},{"$f":"'[1]87-0-14'!G218*(1+$E$13)","v":37497.460500000001}]
[{"$f":"'[1]87-0-14'!B219","v":"BSI80F"},{"$f":"'[1]87-0-14'!D219","v":"BI 1 A/CORTA SOLD 80 Izqu"},{"$f":"'[1]87-0-14'!E219","v":"FABI"},{"$f":"'[1]87-0-14'!F219","v":"BIS HERRERO"},{"$f":"'[1]87-0-14'!G219*(1+$E$13)","v":37497.460500000001}]
[{"$f":"'[1]87-0-14'!B220","v":"BSR80F"},{"$f":"'[1]87-0-14'!D220","v":"BI 1 A/CORTA SOLD 80 Reve"},{"$f":"'[1]87-0-14'!E220","v":"FABI"},{"$f":"'[1]87-0-14'!F220","v":"BIS HERRERO"},{"$f":"'[1]87-0-14'!G220*(1+$E$13)","v":33720.002}]
[{"$f":"'[1]87-0-14'!B221","v":"BSD6078F"},{"$f":"'[1]87-0-14'!D221","v":"BI 2 A/CORTA 60x7x8 Der"},{"$f":"'[1]87-0-14'!E221","v":"FABI"},{"$f":"'[1]87-0-14'!F221","v":"BIS HERRERO"},{"$f":"'[1]87-0-14'!G221*(1+$E$13)","v":29047.356500000002}]
[{"$f":"'[1]87-0-14'!B222","v":"BSI6078F"},{"$f":"'[1]87-0-14'!D222","v":"BI 2 A/CORTA 60x7x8 Izq"},{"$f":"'[1]87-0-14'!E222","v":"FABI"},{"$f":"'[1]87-0-14'!F222","v":"BIS HERRERO"},{"$f":"'[1]87-0-14'!G222*(1+$E$13)","v":29047.356500000002}]
[{"$f":"'[1]87-0-14'!B223","v":"BSR6078F"},{"$f":"'[1]87-0-14'!D223","v":"BI 2 A/CORTA 60x7x8 Rever"},{"$f":"'[1]87-0-14'!E223","v":"FABI"},{"$f":"'[1]87-0-14'!F223","v":"BIS HERRERO"},{"$f":"'[1]87-0-14'!G223*(1+$E$13)","v":24593.942999999999}]
[{"$f":"'[1]87-0-14'!B224","v":"BSD8078F"},{"$f":"'[1]87-0-14'!D224","v":"BI 2 A/CORTA 80x7x8 Dere"},{"$f":"'[1]87-0-14'!E224","v":"FABI"},{"$f":"'[1]87-0-14'!F224","v":"BIS HERRERO"},{"$f":"'[1]87-0-14'!G224*(1+$E$13)","v":34533.875999999997}]
[{"$f":"'[1]87-0-14'!B225","v":"BSI8078F"},{"$f":"'[1]87-0-14'!D225","v":"BI 2 A/CORTA 80x7x8 Izqui"},{"$f":"'[1]87-0-14'!E225","v":"FABI"},{"$f":"'[1]87-0-14'!F225","v":"BIS HERRERO"},{"$f":"'[1]87-0-14'!G225*(1+$E$13)","v":34533.875999999997}]
[{"$f":"'[1]87-0-14'!B226","v":"BSR8078F"},{"$f":"'[1]87-0-14'!D226","v":"BI 2 A/CORTA 80x7x8 Rever"},{"$f":"'[1]87-0-14'!E226","v":"FABI"},{"$f":"'[1]87-0-14'!F226","v":"BIS HERRERO"},{"$f":"'[1]87-0-14'!G226*(1+$E$13)","v":25881.822500000002}]
[{"$f":"'[1]87-0-14'!B227","v":"BD100333"},{"$f":"'[1]87-0-14'!D227","v":"BIS HE 100x33x3 Dere"},{"$f":"'[1]87-0-14'!E227","v":"FABI"},{"$f":"'[1]87-0-14'!F227","v":"BIS HERRERO"},{"$f":"'[1]87-0-14'!G227*(1+$E$13)","v":49543.2235}]
[{"$f":"'[1]87-0-14'!B228","v":"BI100333"},{"$f":"'[1]87-0-14'!D228","v":"BIS HE 100x33x3 Izqu"},{"$f":"'[1]87-0-14'!E228","v":"FABI"},{"$f":"'[1]87-0-14'!F228","v":"BIS HERRERO"},{"$f":"'[1]87-0-14'!G228*(1+$E$13)","v":49543.2235}]
[{"$f":"'[1]87-0-14'!B229","v":"BC100100"},{"$f":"'[1]87-0-14'!D229","v":"BIS MUN CARP 100x100"},{"$f":"'[1]87-0-14'!E229","v":"FABI"},{"$f":"'[1]87-0-14'!F229","v":"BIS MUNICION"},{"$f":"'[1]87-0-14'!G229*(1+$E$13)","v":45102.427000000003}]
[{"$f":"'[1]87-0-14'!B230","v":"BC10075F"},{"$f":"'[1]87-0-14'!D230","v":"BIS MUN CARPI 100x75"},{"$f":"'[1]87-0-14'!E230","v":"FABI"},{"$f":"'[1]87-0-14'!F230","v":"BIS MUNICION"},{"$f":"'[1]87-0-14'!G230*(1+$E$13)","v":38163.5265}]
[{"$f":"'[1]87-0-14'!B231","v":"BC10088F"},{"$f":"'[1]87-0-14'!D231","v":"BIS MUN CARPI 100x88"},{"$f":"'[1]87-0-14'!E231","v":"FABI"},{"$f":"'[1]87-0-14'!F231","v":"BIS MUNICION"},{"$f":"'[1]87-0-14'!G231*(1+$E$13)","v":69388.292000000001}]
[{"$f":"'[1]87-0-14'!B232","v":"BH100100"},{"$f":"'[1]87-0-14'!D232","v":"BIS MUN HERR 100x100"},{"$f":"'[1]87-0-14'!E232","v":"FABI"},{"$f":"'[1]87-0-14'!F232","v":"BIS MUNICION"},{"$f":"'[1]87-0-14'!G232*(1+$E$13)","v":69765.313999999998}]
[{"$f":"'[1]87-0-14'!B233","v":"BH7536F"},{"$f":"'[1]87-0-14'!D233","v":"BIS MUN HERRE  75x36"},{"$f":"'[1]87-0-14'!E233","v":"FABI"},{"$f":"'[1]87-0-14'!F233","v":"BIS MUNICION"},{"$f":"'[1]87-0-14'!G233*(1+$E$13)","v":37290.070500000002}]
[{"$f":"'[1]87-0-14'!B234","v":"BH7575F"},{"$f":"'[1]87-0-14'!D234","v":"BIS MUN HERRE  75x75"},{"$f":"'[1]87-0-14'!E234","v":"FABI"},{"$f":"'[1]87-0-14'!F234","v":"BIS MUNICION"},{"$f":"'[1]87-0-14'!G234*(1+$E$13)","v":28018.9935}]
[{"$f":"'[1]87-0-14'!B235","v":"BH10036F"},{"$f":"'[1]87-0-14'!D235","v":"BIS MUN HERRE 100x36"},{"$f":"'[1]87-0-14'!E235","v":"FABI"},{"$f":"'[1]87-0-14'!F235","v":"BIS MUNICION"},{"$f":"'[1]87-0-14'!G235*(1+$E$13)","v":49091.987500000003}]
[{"$f":"'[1]87-0-14'!B236","v":"BH10075F"},{"$f":"'[1]87-0-14'!D236","v":"BIS MUN HERRE 100x75"},{"$f":"'[1]87-0-14'!E236","v":"FABI"},{"$f":"'[1]87-0-14'!F236","v":"BIS MUNICION"},{"$f":"'[1]87-0-14'!G236*(1+$E$13)","v":34770.127}]
[{"$f":"'[1]87-0-14'!B237","v":"BH10088F"},{"$f":"'[1]87-0-14'!D237","v":"BIS MUN HERRE 100x88"},{"$f":"'[1]87-0-14'!E237","v":"FABI"},{"$f":"'[1]87-0-14'!F237","v":"BIS MUNICION"},{"$f":"'[1]87-0-14'!G237*(1+$E$13)","v":38314.512000000002}]
[{"$f":"'[1]87-0-14'!B238","v":"BCD11055"},{"$f":"'[1]87-0-14'!D238","v":"BIS PO/CA 110x55 Der"},{"$f":"'[1]87-0-14'!E238","v":"FABI"},{"$f":"'[1]87-0-14'!F238","v":"BIS POMELA"},{"$f":"'[1]87-0-14'!G238*(1+$E$13)","v":54733.150500000003}]
[{"$f":"'[1]87-0-14'!B239","v":"BCI11055"},{"$f":"'[1]87-0-14'!D239","v":"BIS PO/CA 110x55 Izq"},{"$f":"'[1]87-0-14'!E239","v":"FABI"},{"$f":"'[1]87-0-14'!F239","v":"BIS POMELA"},{"$f":"'[1]87-0-14'!G239*(1+$E$13)","v":54733.150500000003}]
[{"$f":"'[1]87-0-14'!B240","v":"BCD14070"},{"$f":"'[1]87-0-14'!D240","v":"BIS PO/CA 140x70 Der"},{"$f":"'[1]87-0-14'!E240","v":"FABI"},{"$f":"'[1]87-0-14'!F240","v":"BIS POMELA"},{"$f":"'[1]87-0-14'!G240*(1+$E$13)","v":32943.839500000002}]
[{"$f":"'[1]87-0-14'!B241","v":"BCI14070"},{"$f":"'[1]87-0-14'!D241","v":"BIS PO/CA 140x70 Izq"},{"$f":"'[1]87-0-14'!E241","v":"FABI"},{"$f":"'[1]87-0-14'!F241","v":"BIS POMELA"},{"$f":"'[1]87-0-14'!G241*(1+$E$13)","v":32943.839500000002}]
[{"$f":"'[1]87-0-14'!B242","v":"BCD16080"},{"$f":"'[1]87-0-14'!D242","v":"BIS PO/CA 160x80 Der"},{"$f":"'[1]87-0-14'!E242","v":"FABI"},{"$f":"'[1]87-0-14'!F242","v":"BIS POMELA"},{"$f":"'[1]87-0-14'!G242*(1+$E$13)","v":36315.043000000005}]
[{"$f":"'[1]87-0-14'!B243","v":"BCI16080"},{"$f":"'[1]87-0-14'!D243","v":"BIS PO/CA 160x80 Izq"},{"$f":"'[1]87-0-14'!E243","v":"FABI"},{"$f":"'[1]87-0-14'!F243","v":"BIS POMELA"},{"$f":"'[1]87-0-14'!G243*(1+$E$13)","v":36315.043000000005}]
[{"$f":"'[1]87-0-14'!B244","v":"BMD11055"},{"$f":"'[1]87-0-14'!D244","v":"BIS PO/MI 110x55 Der"},{"$f":"'[1]87-0-14'!E244","v":"FABI"},{"$f":"'[1]87-0-14'!F244","v":"BIS POMELA"},{"$f":"'[1]87-0-14'!G244*(1+$E$13)","v":53699.269500000002}]
[{"$f":"'[1]87-0-14'!B245","v":"BMI11055"},{"$f":"'[1]87-0-14'!D245","v":"BIS PO/MI 110x55 Izq"},{"$f":"'[1]87-0-14'!E245","v":"FABI"},{"$f":"'[1]87-0-14'!F245","v":"BIS POMELA"},{"$f":"'[1]87-0-14'!G245*(1+$E$13)","v":53699.269500000002}]
[{"$f":"'[1]87-0-14'!B246","v":"BMD14070"},{"$f":"'[1]87-0-14'!D246","v":"BIS PO/MI 140x70 Der"},{"$f":"'[1]87-0-14'!E246","v":"FABI"},{"$f":"'[1]87-0-14'!F246","v":"BIS POMELA"},{"$f":"'[1]87-0-14'!G246*(1+$E$13)","v":36664.785000000003}]
[{"$f":"'[1]87-0-14'!B247","v":"BMI14070"},{"$f":"'[1]87-0-14'!D247","v":"BIS PO/MI 140x70 Izq"},{"$f":"'[1]87-0-14'!E247","v":"FABI"},{"$f":"'[1]87-0-14'!F247","v":"BIS POMELA"},{"$f":"'[1]87-0-14'!G247*(1+$E$13)","v":36664.785000000003}]
[{"$f":"'[1]87-0-14'!B248","v":"BMD16080"},{"$f":"'[1]87-0-14'!D248","v":"BIS PO/MI 160x80 Der"},{"$f":"'[1]87-0-14'!E248","v":"FABI"},{"$f":"'[1]87-0-14'!F248","v":"BIS POMELA"},{"$f":"'[1]87-0-14'!G248*(1+$E$13)","v":40415.552499999998}]
[{"$f":"'[1]87-0-14'!B249","v":"BMI16080"},{"$f":"'[1]87-0-14'!D249","v":"BIS PO/MI 160x80 Izq"},{"$f":"'[1]87-0-14'!E249","v":"FABI"},{"$f":"'[1]87-0-14'!F249","v":"BIS POMELA"},{"$f":"'[1]87-0-14'!G249*(1+$E$13)","v":40415.552499999998}]
[{"$f":"'[1]87-0-14'!B250","v":"BTCF"},{"$f":"'[1]87-0-14'!D250","v":"BIS TORNILLO CARPINT"},{"$f":"'[1]87-0-14'!E250","v":"FABI"},{"$f":"'[1]87-0-14'!F250","v":"BIS TORNILLO"},{"$f":"'[1]87-0-14'!G250*(1+$E$13)","v":895.8225000000001}]
[{"$f":"'[1]87-0-14'!B251","v":"BTMF"},{"$f":"'[1]87-0-14'!D251","v":"BIS TORNILLO MIXTA"},{"$f":"'[1]87-0-14'!E251","v":"FABI"},{"$f":"'[1]87-0-14'!F251","v":"BIS TORNILLO"},{"$f":"'[1]87-0-14'!G251*(1+$E$13)","v":864.10950000000003}]
[{"$f":"'[1]87-0-14'!B252","v":"BD802015"},{"$f":"'[1]87-0-14'!D252","v":"BISA 80x20x1,5 Derec"},{"$f":"'[1]87-0-14'!E252","v":"FABI"},{"$f":"'[1]87-0-14'!F252","v":"BIS CARPINTERO"},{"$f":"'[1]87-0-14'!G252*(1+$E$13)","v":31502.231}]
[{"$f":"'[1]87-0-14'!B253","v":"BI802015"},{"$f":"'[1]87-0-14'!D253","v":"BISA 80x20x1,5 Izqui"},{"$f":"'[1]87-0-14'!E253","v":"FABI"},{"$f":"'[1]87-0-14'!F253","v":"BIS CARPINTERO"},{"$f":"'[1]87-0-14'!G253*(1+$E$13)","v":31502.231}]
[{"$f":"'[1]87-0-14'!B254","v":"BR802015"},{"$f":"'[1]87-0-14'!D254","v":"BISA 80x20x1,5 Rever"},{"$f":"'[1]87-0-14'!E254","v":"FABI"},{"$f":"'[1]87-0-14'!F254","v":"BIS CARPINTERO"},{"$f":"'[1]87-0-14'!G254*(1+$E$13)","v":24251.222500000003}]
[{"$f":"'[1]87-0-14'!B255","v":"BR100333"},{"$f":"'[1]87-0-14'!D255","v":"BISA HE 100x33x3 Reversib"},{"$f":"'[1]87-0-14'!E255","v":"FABI"},{"$f":"'[1]87-0-14'!F255","v":"BIS HERRERO"},{"$f":"'[1]87-0-14'!G255*(1+$E$13)","v":45632.542499999996}]
[{"$f":"'[1]87-0-14'!B256","v":"BI6022F"},{"$f":"'[1]87-0-14'!D256","v":"BISA HE 60x22 Izquie"},{"$f":"'[1]87-0-14'!E256","v":"FABI"},{"$f":"'[1]87-0-14'!F256","v":"BIS HERRERO"},{"$f":"'[1]87-0-14'!G256*(1+$E$13)","v":28098.120999999999}]
[{"$f":"'[1]87-0-14'!B257","v":"BD60333F"},{"$f":"'[1]87-0-14'!D257","v":"BISA HE 60x33x3 Dere"},{"$f":"'[1]87-0-14'!E257","v":"FABI"},{"$f":"'[1]87-0-14'!F257","v":"BIS HERRERO"},{"$f":"'[1]87-0-14'!G257*(1+$E$13)","v":36137.428500000002}]
[{"$f":"'[1]87-0-14'!B258","v":"BI60333F"},{"$f":"'[1]87-0-14'!D258","v":"BISA HE 60x33x3 Izqu"},{"$f":"'[1]87-0-14'!E258","v":"FABI"},{"$f":"'[1]87-0-14'!F258","v":"BIS HERRERO"},{"$f":"'[1]87-0-14'!G258*(1+$E$13)","v":36137.428500000002}]
[{"$f":"'[1]87-0-14'!B259","v":"BR60333F"},{"$f":"'[1]87-0-14'!D259","v":"BISA HE 60x33x3 Reversibl"},{"$f":"'[1]87-0-14'!E259","v":"FABI"},{"$f":"'[1]87-0-14'!F259","v":"BIS HERRERO"},{"$f":"'[1]87-0-14'!G259*(1+$E$13)","v":32394.705500000004}]
[{"$f":"'[1]87-0-14'!B260","v":"BI8022F"},{"$f":"'[1]87-0-14'!D260","v":"BISA HE 80x22 Izquie"},{"$f":"'[1]87-0-14'!E260","v":"FABI"},{"$f":"'[1]87-0-14'!F260","v":"BIS HERRERO"},{"$f":"'[1]87-0-14'!G260*(1+$E$13)","v":29212.508999999998}]
[{"$f":"'[1]87-0-14'!B261","v":"BD80333F"},{"$f":"'[1]87-0-14'!D261","v":"BISA HE 80x33x3 Dere"},{"$f":"'[1]87-0-14'!E261","v":"FABI"},{"$f":"'[1]87-0-14'!F261","v":"BIS HERRERO"},{"$f":"'[1]87-0-14'!G261*(1+$E$13)","v":41841.180500000002}]
[{"$f":"'[1]87-0-14'!B262","v":"BI80333F"},{"$f":"'[1]87-0-14'!D262","v":"BISA HE 80x33x3 Izqu"},{"$f":"'[1]87-0-14'!E262","v":"FABI"},{"$f":"'[1]87-0-14'!F262","v":"BIS HERRERO"},{"$f":"'[1]87-0-14'!G262*(1+$E$13)","v":41841.180500000002}]
[{"$f":"'[1]87-0-14'!B263","v":"BR80333F"},{"$f":"'[1]87-0-14'!D263","v":"BISA HE 80x33x3 Reversibl"},{"$f":"'[1]87-0-14'!E263","v":"FABI"},{"$f":"'[1]87-0-14'!F263","v":"BIS HERRERO"},{"$f":"'[1]87-0-14'!G263*(1+$E$13)","v":35007.773000000001}]
[{"$f":"'[1]87-0-14'!B264","v":"BI9022F"},{"$f":"'[1]87-0-14'!D264","v":"BISA HE 90x22 Izquie"},{"$f":"'[1]87-0-14'!E264","v":"FABI"},{"$f":"'[1]87-0-14'!F264","v":"BIS HERRERO"},{"$f":"'[1]87-0-14'!G264*(1+$E$13)","v":32952.488499999999}]
[{"$f":"'[1]87-0-14'!B265","v":"BD6022F"},{"$f":"'[1]87-0-14'!D265","v":"BISA HER 60x22 Derec"},{"$f":"'[1]87-0-14'!E265","v":"FABI"},{"$f":"'[1]87-0-14'!F265","v":"BIS HERRERO"},{"$f":"'[1]87-0-14'!G265*(1+$E$13)","v":28098.120999999999}]
[{"$f":"'[1]87-0-14'!B266","v":"BR6022F"},{"$f":"'[1]87-0-14'!D266","v":"BISA HER 60x22 Reversible"},{"$f":"'[1]87-0-14'!E266","v":"FABI"},{"$f":"'[1]87-0-14'!F266","v":"BIS HERRERO"},{"$f":"'[1]87-0-14'!G266*(1+$E$13)","v":24616.216500000002}]
[{"$f":"'[1]87-0-14'!B267","v":"BD8022F"},{"$f":"'[1]87-0-14'!D267","v":"BISA HER 80x22 Derec"},{"$f":"'[1]87-0-14'!E267","v":"FABI"},{"$f":"'[1]87-0-14'!F267","v":"BIS HERRERO"},{"$f":"'[1]87-0-14'!G267*(1+$E$13)","v":29212.508999999998}]
[{"$f":"'[1]87-0-14'!B268","v":"BR8022F"},{"$f":"'[1]87-0-14'!D268","v":"BISA HER 80x22 Reversible"},{"$f":"'[1]87-0-14'!E268","v":"FABI"},{"$f":"'[1]87-0-14'!F268","v":"BIS HERRERO"},{"$f":"'[1]87-0-14'!G268*(1+$E$13)","v":24979.753499999999}]
[{"$f":"'[1]87-0-14'!B269","v":"BD9022F"},{"$f":"'[1]87-0-14'!D269","v":"BISA HER 90x22 Derec"},{"$f":"'[1]87-0-14'!E269","v":"FABI"},{"$f":"'[1]87-0-14'!F269","v":"BIS HERRERO"},{"$f":"'[1]87-0-14'!G269*(1+$E$13)","v":32952.488499999999}]
[{"$f":"'[1]87-0-14'!B270","v":"BR9022F"},{"$f":"'[1]87-0-14'!D270","v":"BISA HER 90x22 Reversible"},{"$f":"'[1]87-0-14'!E270","v":"FABI"},{"$f":"'[1]87-0-14'!F270","v":"BIS HERRERO"},{"$f":"'[1]87-0-14'!G270*(1+$E$13)","v":30718.272000000004}]
[{"$f":"'[1]87-0-14'!B271","v":"BC7575F"},{"$f":"'[1]87-0-14'!D271","v":"BISA MUN CARP  75x75"},{"$f":"'[1]87-0-14'!E271","v":"FABI"},{"$f":"'[1]87-0-14'!F271","v":"BIS MUNICION"},{"$f":"'[1]87-0-14'!G271*(1+$E$13)","v":31224.781000000003}]
[{"$f":"'[1]87-0-14'!B272","v":"BR2315F"},{"$f":"'[1]87-0-14'!D272","v":"BISAG 2x3x1,5 Revers"},{"$f":"'[1]87-0-14'!E272","v":"FABI"},{"$f":"'[1]87-0-14'!F272","v":"BIS CARPINTERO"},{"$f":"'[1]87-0-14'!G272*(1+$E$13)","v":26992.072000000004}]
[{"$f":"'[1]87-0-14'!B273","v":"BR2515F"},{"$f":"'[1]87-0-14'!D273","v":"BISAG 2x5x1,5 Revers"},{"$f":"'[1]87-0-14'!E273","v":"FABI"},{"$f":"'[1]87-0-14'!F273","v":"BIS CARPINTERO"},{"$f":"'[1]87-0-14'!G273*(1+$E$13)","v":30235.276500000004}]
[{"$f":"'[1]87-0-14'!B274","v":"BD2315F"},{"$f":"'[1]87-0-14'!D274","v":"BISAGR 2x3x1,5 Derec"},{"$f":"'[1]87-0-14'!E274","v":"FABI"},{"$f":"'[1]87-0-14'!F274","v":"BIS CARPINTERO"},{"$f":"'[1]87-0-14'!G274*(1+$E$13)","v":34895.336000000003}]
[{"$f":"'[1]87-0-14'!B275","v":"BI2315F"},{"$f":"'[1]87-0-14'!D275","v":"BISAGR 2x3x1,5 Izqui"},{"$f":"'[1]87-0-14'!E275","v":"FABI"},{"$f":"'[1]87-0-14'!F275","v":"BIS CARPINTERO"},{"$f":"'[1]87-0-14'!G275*(1+$E$13)","v":34895.336000000003}]
[{"$f":"'[1]87-0-14'!B276","v":"BD2515F"},{"$f":"'[1]87-0-14'!D276","v":"BISAGR 2x5x1,5 Derec"},{"$f":"'[1]87-0-14'!E276","v":"FABI"},{"$f":"'[1]87-0-14'!F276","v":"BIS CARPINTERO"},{"$f":"'[1]87-0-14'!G276*(1+$E$13)","v":38302.36}]
[{"$f":"'[1]87-0-14'!B277","v":"BI2515F"},{"$f":"'[1]87-0-14'!D277","v":"BISAGR 2x5x1,5 Izqui"},{"$f":"'[1]87-0-14'!E277","v":"FABI"},{"$f":"'[1]87-0-14'!F277","v":"BIS CARPINTERO"},{"$f":"'[1]87-0-14'!G277*(1+$E$13)","v":38302.36}]
[{"$f":"'[1]87-0-14'!B278","v":"BV"},{"$f":"'[1]87-0-14'!D278","v":"BORDEADORA C/2 RULEM 350w"},{"$f":"'[1]87-0-14'!E278","v":"VITAL GAS"},{"$f":"'[1]87-0-14'!F278","v":"BORDEADORA"},{"$f":"'[1]87-0-14'!G278*(1+$E$13)","v":106055.7895}]
[{"$f":"'[1]87-0-14'!B279","v":"BMSC"},{"$f":"'[1]87-0-14'!D279","v":"BROCHE MEDIA SOMBRA/BOLSA"},{"$f":"'[1]87-0-14'!E279","v":"BAIHAM"},{"$f":"'[1]87-0-14'!F279","v":"BROCHE"},{"$f":"'[1]87-0-14'!G279*(1+$E$13)","v":14190.25}]
[{"$f":"'[1]87-0-14'!B280","v":"B14312P"},{"$f":"'[1]87-0-14'!D280","v":"BULON C/HEG 1/4x3 1/2"},{"$f":"'[1]87-0-14'!E280","v":"PROLL"},{"$f":"'[1]87-0-14'!F280","v":"BULON"},{"$f":"'[1]87-0-14'!G280*(1+$E$13)","v":7947.3925000000008}]
[{"$f":"'[1]87-0-14'!B281","v":"B143P"},{"$f":"'[1]87-0-14'!D281","v":"BULON C/HEG 1/4x3\""},{"$f":"'[1]87-0-14'!E281","v":"PROLL"},{"$f":"'[1]87-0-14'!F281","v":"BULON"},{"$f":"'[1]87-0-14'!G281*(1+$E$13)","v":7058.049}]
[{"$f":"'[1]87-0-14'!B282","v":"B144P"},{"$f":"'[1]87-0-14'!D282","v":"BULON C/HEG 1/4x4\""},{"$f":"'[1]87-0-14'!E282","v":"PROLL"},{"$f":"'[1]87-0-14'!F282","v":"BULON"},{"$f":"'[1]87-0-14'!G282*(1+$E$13)","v":9449.4974999999995}]
[{"$f":"'[1]87-0-14'!B283","v":"B381P"},{"$f":"'[1]87-0-14'!D283","v":"BULON C/HEG 3/8x1\""},{"$f":"'[1]87-0-14'!E283","v":"PROLL"},{"$f":"'[1]87-0-14'!F283","v":"BULON"},{"$f":"'[1]87-0-14'!G283*(1+$E$13)","v":13217.935000000001}]
[{"$f":"'[1]87-0-14'!B284","v":"B38112P"},{"$f":"'[1]87-0-14'!D284","v":"BULON C/HEG 3/8x1\" 1/2"},{"$f":"'[1]87-0-14'!E284","v":"PROLL"},{"$f":"'[1]87-0-14'!F284","v":"BULON"},{"$f":"'[1]87-0-14'!G284*(1+$E$13)","v":16353.879499999999}]
[{"$f":"'[1]87-0-14'!B285","v":"B3812P"},{"$f":"'[1]87-0-14'!D285","v":"BULON C/HEG 3/8x1/2"},{"$f":"'[1]87-0-14'!E285","v":"PROLL"},{"$f":"'[1]87-0-14'!F285","v":"BULON"},{"$f":"'[1]87-0-14'!G285*(1+$E$13)","v":10889.478500000001}]
[{"$f":"'[1]87-0-14'!B286","v":"B382P"},{"$f":"'[1]87-0-14'!D286","v":"BULON C/HEG 3/8x2\""},{"$f":"'[1]87-0-14'!E286","v":"PROLL"},{"$f":"'[1]87-0-14'!F286","v":"BULON"},{"$f":"'[1]87-0-14'!G286*(1+$E$13)","v":10756.209500000001}]
[{"$f":"'[1]87-0-14'!B287","v":"B38212P"},{"$f":"'[1]87-0-14'!D287","v":"BULON C/HEG 3/8x2\" 1/2"},{"$f":"'[1]87-0-14'!E287","v":"PROLL"},{"$f":"'[1]87-0-14'!F287","v":"BULON"},{"$f":"'[1]87-0-14'!G287*(1+$E$13)","v":13468.399500000001}]
[{"$f":"'[1]87-0-14'!B288","v":"B383P"},{"$f":"'[1]87-0-14'!D288","v":"BULON C/HEG 3/8x3\""},{"$f":"'[1]87-0-14'!E288","v":"PROLL"},{"$f":"'[1]87-0-14'!F288","v":"BULON"},{"$f":"'[1]87-0-14'!G288*(1+$E$13)","v":15523.699500000002}]
[{"$f":"'[1]87-0-14'!B289","v":"B3834P"},{"$f":"'[1]87-0-14'!D289","v":"BULON C/HEG 3/8x3/4"},{"$f":"'[1]87-0-14'!E289","v":"PROLL"},{"$f":"'[1]87-0-14'!F289","v":"BULON"},{"$f":"'[1]87-0-14'!G289*(1+$E$13)","v":12200.050000000001}]
[{"$f":"'[1]87-0-14'!B290","v":"B384P"},{"$f":"'[1]87-0-14'!D290","v":"BULON C/HEG 3/8x4\""},{"$f":"'[1]87-0-14'!E290","v":"PROLL"},{"$f":"'[1]87-0-14'!F290","v":"BULON"},{"$f":"'[1]87-0-14'!G290*(1+$E$13)","v":19637.709500000001}]
[{"$f":"'[1]87-0-14'!B291","v":"B516112P"},{"$f":"'[1]87-0-14'!D291","v":"BULON C/HEG 5/16x1 1/2"},{"$f":"'[1]87-0-14'!E291","v":"PROLL"},{"$f":"'[1]87-0-14'!F291","v":"BULON"},{"$f":"'[1]87-0-14'!G291*(1+$E$13)","v":12200.050000000001}]
[{"$f":"'[1]87-0-14'!B292","v":"B5161P"},{"$f":"'[1]87-0-14'!D292","v":"BULON C/HEG 5/16x1\""},{"$f":"'[1]87-0-14'!E292","v":"PROLL"},{"$f":"'[1]87-0-14'!F292","v":"BULON"},{"$f":"'[1]87-0-14'!G292*(1+$E$13)","v":9237.8760000000002}]
[{"$f":"'[1]87-0-14'!B293","v":"B51612P"},{"$f":"'[1]87-0-14'!D293","v":"BULON C/HEG 5/16x1/2"},{"$f":"'[1]87-0-14'!E293","v":"PROLL"},{"$f":"'[1]87-0-14'!F293","v":"BULON"},{"$f":"'[1]87-0-14'!G293*(1+$E$13)","v":6889.393500000001}]
[{"$f":"'[1]87-0-14'!B294","v":"B516212P"},{"$f":"'[1]87-0-14'!D294","v":"BULON C/HEG 5/16x2 1/2"},{"$f":"'[1]87-0-14'!E294","v":"PROLL"},{"$f":"'[1]87-0-14'!F294","v":"BULON"},{"$f":"'[1]87-0-14'!G294*(1+$E$13)","v":19238.352000000003}]
[{"$f":"'[1]87-0-14'!B295","v":"B5162P"},{"$f":"'[1]87-0-14'!D295","v":"BULON C/HEG 5/16x2\""},{"$f":"'[1]87-0-14'!E295","v":"PROLL"},{"$f":"'[1]87-0-14'!F295","v":"BULON"},{"$f":"'[1]87-0-14'!G295*(1+$E$13)","v":14986.624500000002}]
[{"$f":"'[1]87-0-14'!B296","v":"B516312P"},{"$f":"'[1]87-0-14'!D296","v":"BULON C/HEG 5/16x3 1/2"},{"$f":"'[1]87-0-14'!E296","v":"PROLL"},{"$f":"'[1]87-0-14'!F296","v":"BULON"},{"$f":"'[1]87-0-14'!G296*(1+$E$13)","v":12419.251}]
[{"$f":"'[1]87-0-14'!B297","v":"B5163P"},{"$f":"'[1]87-0-14'!D297","v":"BULON C/HEG 5/16x3\""},{"$f":"'[1]87-0-14'!E297","v":"PROLL"},{"$f":"'[1]87-0-14'!F297","v":"BULON"},{"$f":"'[1]87-0-14'!G297*(1+$E$13)","v":11070.9835}]
[{"$f":"'[1]87-0-14'!B298","v":"B51634P"},{"$f":"'[1]87-0-14'!D298","v":"BULON C/HEG 5/16x3/4"},{"$f":"'[1]87-0-14'!E298","v":"PROLL"},{"$f":"'[1]87-0-14'!F298","v":"BULON"},{"$f":"'[1]87-0-14'!G298*(1+$E$13)","v":8049.9094999999998}]
[{"$f":"'[1]87-0-14'!B299","v":"B5164P"},{"$f":"'[1]87-0-14'!D299","v":"BULON C/HEG 5/16x4\""},{"$f":"'[1]87-0-14'!E299","v":"PROLL"},{"$f":"'[1]87-0-14'!F299","v":"BULON"},{"$f":"'[1]87-0-14'!G299*(1+$E$13)","v":13732.473}]
[{"$f":"'[1]87-0-14'!B300","v":"B12112P"},{"$f":"'[1]87-0-14'!D300","v":"BULON C/HEX 1/2x1 1/2"},{"$f":"'[1]87-0-14'!E300","v":"PROLL"},{"$f":"'[1]87-0-14'!F300","v":"BULON"},{"$f":"'[1]87-0-14'!G300*(1+$E$13)","v":17027.230500000001}]
[{"$f":"'[1]87-0-14'!B301","v":"B121P"},{"$f":"'[1]87-0-14'!D301","v":"BULON C/HEX 1/2x1\""},{"$f":"'[1]87-0-14'!E301","v":"PROLL"},{"$f":"'[1]87-0-14'!F301","v":"BULON"},{"$f":"'[1]87-0-14'!G301*(1+$E$13)","v":13573.768500000002}]
[{"$f":"'[1]87-0-14'!B302","v":"B12212P"},{"$f":"'[1]87-0-14'!D302","v":"BULON C/HEX 1/2x2 1/2"},{"$f":"'[1]87-0-14'!E302","v":"PROLL"},{"$f":"'[1]87-0-14'!F302","v":"BULON"},{"$f":"'[1]87-0-14'!G302*(1+$E$13)","v":24145.187000000002}]
[{"$f":"'[1]87-0-14'!B303","v":"B122P"},{"$f":"'[1]87-0-14'!D303","v":"BULON C/HEX 1/2x2\""},{"$f":"'[1]87-0-14'!E303","v":"PROLL"},{"$f":"'[1]87-0-14'!F303","v":"BULON"},{"$f":"'[1]87-0-14'!G303*(1+$E$13)","v":22396.771500000003}]
[{"$f":"'[1]87-0-14'!B304","v":"B12312P"},{"$f":"'[1]87-0-14'!D304","v":"BULON C/HEX 1/2x3 1/2"},{"$f":"'[1]87-0-14'!E304","v":"PROLL"},{"$f":"'[1]87-0-14'!F304","v":"BULON"},{"$f":"'[1]87-0-14'!G304*(1+$E$13)","v":31794.359500000002}]
[{"$f":"'[1]87-0-14'!B305","v":"B123P"},{"$f":"'[1]87-0-14'!D305","v":"BULON C/HEX 1/2x3\""},{"$f":"'[1]87-0-14'!E305","v":"PROLL"},{"$f":"'[1]87-0-14'!F305","v":"BULON"},{"$f":"'[1]87-0-14'!G305*(1+$E$13)","v":27977.5465}]
[{"$f":"'[1]87-0-14'!B306","v":"B124P"},{"$f":"'[1]87-0-14'!D306","v":"BULON C/HEX 1/2x4\""},{"$f":"'[1]87-0-14'!E306","v":"PROLL"},{"$f":"'[1]87-0-14'!F306","v":"BULON"},{"$f":"'[1]87-0-14'!G306*(1+$E$13)","v":35595.114500000003}]
[{"$f":"'[1]87-0-14'!B307","v":"B14112P"},{"$f":"'[1]87-0-14'!D307","v":"BULON C/HEX 1/4x1 1/2"},{"$f":"'[1]87-0-14'!E307","v":"PROLL"},{"$f":"'[1]87-0-14'!F307","v":"BULON"},{"$f":"'[1]87-0-14'!G307*(1+$E$13)","v":7052.2984999999999}]
[{"$f":"'[1]87-0-14'!B308","v":"B141P"},{"$f":"'[1]87-0-14'!D308","v":"BULON C/HEX 1/4x1\""},{"$f":"'[1]87-0-14'!E308","v":"PROLL"},{"$f":"'[1]87-0-14'!F308","v":"BULON"},{"$f":"'[1]87-0-14'!G308*(1+$E$13)","v":5304.5340000000006}]
[{"$f":"'[1]87-0-14'!B309","v":"B1412P"},{"$f":"'[1]87-0-14'!D309","v":"BULON C/HEX 1/4x1/2"},{"$f":"'[1]87-0-14'!E309","v":"PROLL"},{"$f":"'[1]87-0-14'!F309","v":"BULON"},{"$f":"'[1]87-0-14'!G309*(1+$E$13)","v":3720.7284999999997}]
[{"$f":"'[1]87-0-14'!B310","v":"B14212P"},{"$f":"'[1]87-0-14'!D310","v":"BULON C/HEX 1/4x2 1/2"},{"$f":"'[1]87-0-14'!E310","v":"PROLL"},{"$f":"'[1]87-0-14'!F310","v":"BULON"},{"$f":"'[1]87-0-14'!G310*(1+$E$13)","v":11852.0905}]
[{"$f":"'[1]87-0-14'!B311","v":"B142P"},{"$f":"'[1]87-0-14'!D311","v":"BULON C/HEX 1/4x2\""},{"$f":"'[1]87-0-14'!E311","v":"PROLL"},{"$f":"'[1]87-0-14'!F311","v":"BULON"},{"$f":"'[1]87-0-14'!G311*(1+$E$13)","v":8683.6579999999994}]
[{"$f":"'[1]87-0-14'!B312","v":"B1434P"},{"$f":"'[1]87-0-14'!D312","v":"BULON C/HEX 1/4x3/4"},{"$f":"'[1]87-0-14'!E312","v":"PROLL"},{"$f":"'[1]87-0-14'!F312","v":"BULON"},{"$f":"'[1]87-0-14'!G312*(1+$E$13)","v":4493.1090000000004}]
[{"$f":"'[1]87-0-14'!B313","v":"B38312P"},{"$f":"'[1]87-0-14'!D313","v":"BULON C/HEX 3/8x3\" 1/2"},{"$f":"'[1]87-0-14'!E313","v":"PROLL"},{"$f":"'[1]87-0-14'!F313","v":"BULON"},{"$f":"'[1]87-0-14'!G313*(1+$E$13)","v":17574.4735}]
[{"$f":"'[1]87-0-14'!B314","v":"B516412P"},{"$f":"'[1]87-0-14'!D314","v":"BULON C/HEX 5/16x4 1/2"},{"$f":"'[1]87-0-14'!E314","v":"PROLL"},{"$f":"'[1]87-0-14'!F314","v":"BULON"},{"$f":"'[1]87-0-14'!G314*(1+$E$13)","v":15413.0915}]
[{"$f":"'[1]87-0-14'!B315","v":"B716112P"},{"$f":"'[1]87-0-14'!D315","v":"BULON C/HEX 7/16x1 1/2"},{"$f":"'[1]87-0-14'!E315","v":"PROLL"},{"$f":"'[1]87-0-14'!F315","v":"BULON"},{"$f":"'[1]87-0-14'!G315*(1+$E$13)","v":12570.236500000001}]
[{"$f":"'[1]87-0-14'!B316","v":"B7161P"},{"$f":"'[1]87-0-14'!D316","v":"BULON C/HEX 7/16x1\""},{"$f":"'[1]87-0-14'!E316","v":"PROLL"},{"$f":"'[1]87-0-14'!F316","v":"BULON"},{"$f":"'[1]87-0-14'!G316*(1+$E$13)","v":10257.342000000001}]
[{"$f":"'[1]87-0-14'!B317","v":"B716212P"},{"$f":"'[1]87-0-14'!D317","v":"BULON C/HEX 7/16x2 1/2"},{"$f":"'[1]87-0-14'!E317","v":"PROLL"},{"$f":"'[1]87-0-14'!F317","v":"BULON"},{"$f":"'[1]87-0-14'!G317*(1+$E$13)","v":19458.095500000003}]
[{"$f":"'[1]87-0-14'!B318","v":"B7162P"},{"$f":"'[1]87-0-14'!D318","v":"BULON C/HEX 7/16x2\""},{"$f":"'[1]87-0-14'!E318","v":"PROLL"},{"$f":"'[1]87-0-14'!F318","v":"BULON"},{"$f":"'[1]87-0-14'!G318*(1+$E$13)","v":14665.247500000001}]
[{"$f":"'[1]87-0-14'!B319","v":"B716312P"},{"$f":"'[1]87-0-14'!D319","v":"BULON C/HEX 7/16x3 1/2"},{"$f":"'[1]87-0-14'!E319","v":"PROLL"},{"$f":"'[1]87-0-14'!F319","v":"BULON"},{"$f":"'[1]87-0-14'!G319*(1+$E$13)","v":25531.181499999999}]
[{"$f":"'[1]87-0-14'!B320","v":"B7163P"},{"$f":"'[1]87-0-14'!D320","v":"BULON C/HEX 7/16x3\""},{"$f":"'[1]87-0-14'!E320","v":"PROLL"},{"$f":"'[1]87-0-14'!F320","v":"BULON"},{"$f":"'[1]87-0-14'!G320*(1+$E$13)","v":20939.2755}]
[{"$f":"'[1]87-0-14'!B321","v":"B7164P"},{"$f":"'[1]87-0-14'!D321","v":"BULON C/HEX 7/16x4\""},{"$f":"'[1]87-0-14'!E321","v":"PROLL"},{"$f":"'[1]87-0-14'!F321","v":"BULON"},{"$f":"'[1]87-0-14'!G321*(1+$E$13)","v":23181.102500000001}]
[{"$f":"'[1]87-0-14'!B322","v":"BR516112"},{"$f":"'[1]87-0-14'!D322","v":"BULON RED 5/16x1 1/2"},{"$f":"'[1]87-0-14'!E322","v":"PROLL"},{"$f":"'[1]87-0-14'!F322","v":"BULON"},{"$f":"'[1]87-0-14'!G322*(1+$E$13)","v":12145.738000000001}]
[{"$f":"'[1]87-0-14'!B323","v":"BR516114"},{"$f":"'[1]87-0-14'!D323","v":"BULON RED 5/16x1 1/4"},{"$f":"'[1]87-0-14'!E323","v":"PROLL"},{"$f":"'[1]87-0-14'!F323","v":"BULON"},{"$f":"'[1]87-0-14'!G323*(1+$E$13)","v":11170.633}]
[{"$f":"'[1]87-0-14'!B324","v":"BR516134"},{"$f":"'[1]87-0-14'!D324","v":"BULON RED 5/16x1 3/4"},{"$f":"'[1]87-0-14'!E324","v":"PROLL"},{"$f":"'[1]87-0-14'!F324","v":"BULON"},{"$f":"'[1]87-0-14'!G324*(1+$E$13)","v":14184.778499999999}]
[{"$f":"'[1]87-0-14'!B325","v":"BR516212"},{"$f":"'[1]87-0-14'!D325","v":"BULON RED 5/16x2 1/2"},{"$f":"'[1]87-0-14'!E325","v":"PROLL"},{"$f":"'[1]87-0-14'!F325","v":"BULON"},{"$f":"'[1]87-0-14'!G325*(1+$E$13)","v":18822.518}]
[{"$f":"'[1]87-0-14'!B326","v":"BR516234"},{"$f":"'[1]87-0-14'!D326","v":"BULON RED 5/16x2 3/4"},{"$f":"'[1]87-0-14'!E326","v":"PROLL"},{"$f":"'[1]87-0-14'!F326","v":"BULON"},{"$f":"'[1]87-0-14'!G326*(1+$E$13)","v":20099.594000000001}]
[{"$f":"'[1]87-0-14'!B327","v":"BR516312"},{"$f":"'[1]87-0-14'!D327","v":"BULON RED 5/16x3 1/2"},{"$f":"'[1]87-0-14'!E327","v":"PROLL"},{"$f":"'[1]87-0-14'!F327","v":"BULON"},{"$f":"'[1]87-0-14'!G327*(1+$E$13)","v":23370.2955}]
[{"$f":"'[1]87-0-14'!B328","v":"BR516314"},{"$f":"'[1]87-0-14'!D328","v":"BULON RED 5/16x3 1/4"},{"$f":"'[1]87-0-14'!E328","v":"PROLL"},{"$f":"'[1]87-0-14'!F328","v":"BULON"},{"$f":"'[1]87-0-14'!G328*(1+$E$13)","v":22220.846500000003}]
[{"$f":"'[1]87-0-14'!B329","v":"BR516412"},{"$f":"'[1]87-0-14'!D329","v":"BULON RED 5/16x4 1/2"},{"$f":"'[1]87-0-14'!E329","v":"PROLL"},{"$f":"'[1]87-0-14'!F329","v":"BULON"},{"$f":"'[1]87-0-14'!G329*(1+$E$13)","v":28166.181499999999}]
[{"$f":"'[1]87-0-14'!B330","v":"BR14114P"},{"$f":"'[1]87-0-14'!D330","v":"BULON REDO 1/4x1 1/4"},{"$f":"'[1]87-0-14'!E330","v":"PROLL"},{"$f":"'[1]87-0-14'!F330","v":"BULON"},{"$f":"'[1]87-0-14'!G330*(1+$E$13)","v":6893.5939999999991}]
[{"$f":"'[1]87-0-14'!B331","v":"BR14212P"},{"$f":"'[1]87-0-14'!D331","v":"BULON REDO 1/4x2 1/2"},{"$f":"'[1]87-0-14'!E331","v":"PROLL"},{"$f":"'[1]87-0-14'!F331","v":"BULON"},{"$f":"'[1]87-0-14'!G331*(1+$E$13)","v":11768.824500000001}]
[{"$f":"'[1]87-0-14'!B332","v":"BR14234P"},{"$f":"'[1]87-0-14'!D332","v":"BULON REDO 1/4x2 3/4"},{"$f":"'[1]87-0-14'!E332","v":"PROLL"},{"$f":"'[1]87-0-14'!F332","v":"BULON"},{"$f":"'[1]87-0-14'!G332*(1+$E$13)","v":13132.452499999999}]
[{"$f":"'[1]87-0-14'!B333","v":"BR14312P"},{"$f":"'[1]87-0-14'!D333","v":"BULON REDO 1/4x3 1/2"},{"$f":"'[1]87-0-14'!E333","v":"PROLL"},{"$f":"'[1]87-0-14'!F333","v":"BULON"},{"$f":"'[1]87-0-14'!G333*(1+$E$13)","v":15236.174500000001}]
[{"$f":"'[1]87-0-14'!B334","v":"BR14314P"},{"$f":"'[1]87-0-14'!D334","v":"BULON REDO 1/4x3 1/4"},{"$f":"'[1]87-0-14'!E334","v":"PROLL"},{"$f":"'[1]87-0-14'!F334","v":"BULON"},{"$f":"'[1]87-0-14'!G334*(1+$E$13)","v":14481.588}]
[{"$f":"'[1]87-0-14'!B335","v":"BR38112P"},{"$f":"'[1]87-0-14'!D335","v":"BULON REDO 3/8x1 1/2"},{"$f":"'[1]87-0-14'!E335","v":"PROLL"},{"$f":"'[1]87-0-14'!F335","v":"BULON"},{"$f":"'[1]87-0-14'!G335*(1+$E$13)","v":17799.394}]
[{"$f":"'[1]87-0-14'!B336","v":"BR38212P"},{"$f":"'[1]87-0-14'!D336","v":"BULON REDO 3/8x2 1/2"},{"$f":"'[1]87-0-14'!E336","v":"PROLL"},{"$f":"'[1]87-0-14'!F336","v":"BULON"},{"$f":"'[1]87-0-14'!G336*(1+$E$13)","v":25424.123}]
[{"$f":"'[1]87-0-14'!B337","v":"BR38312P"},{"$f":"'[1]87-0-14'!D337","v":"BULON REDO 3/8x3 1/2"},{"$f":"'[1]87-0-14'!E337","v":"PROLL"},{"$f":"'[1]87-0-14'!F337","v":"BULON"},{"$f":"'[1]87-0-14'!G337*(1+$E$13)","v":16442.942500000001}]
[{"$f":"'[1]87-0-14'!B338","v":"BR38412P"},{"$f":"'[1]87-0-14'!D338","v":"BULON REDO 3/8x4 1/2"},{"$f":"'[1]87-0-14'!E338","v":"PROLL"},{"$f":"'[1]87-0-14'!F338","v":"BULON"},{"$f":"'[1]87-0-14'!G338*(1+$E$13)","v":19743.636500000001}]
[{"$f":"'[1]87-0-14'!B339","v":"BR141P"},{"$f":"'[1]87-0-14'!D339","v":"BULON REDONDA  1/4X1"},{"$f":"'[1]87-0-14'!E339","v":"PROLL"},{"$f":"'[1]87-0-14'!F339","v":"BULON"},{"$f":"'[1]87-0-14'!G339*(1+$E$13)","v":5868.393}]
[{"$f":"'[1]87-0-14'!B340","v":"BR142P"},{"$f":"'[1]87-0-14'!D340","v":"BULON REDONDA  1/4x2"},{"$f":"'[1]87-0-14'!E340","v":"PROLL"},{"$f":"'[1]87-0-14'!F340","v":"BULON"},{"$f":"'[1]87-0-14'!G340*(1+$E$13)","v":9429.4094999999998}]
[{"$f":"'[1]87-0-14'!B341","v":"BR143P"},{"$f":"'[1]87-0-14'!D341","v":"BULON REDONDA  1/4x3"},{"$f":"'[1]87-0-14'!E341","v":"PROLL"},{"$f":"'[1]87-0-14'!F341","v":"BULON"},{"$f":"'[1]87-0-14'!G341*(1+$E$13)","v":13756.327499999999}]
[{"$f":"'[1]87-0-14'!B342","v":"BR144P"},{"$f":"'[1]87-0-14'!D342","v":"BULON REDONDA  1/4x4"},{"$f":"'[1]87-0-14'!E342","v":"PROLL"},{"$f":"'[1]87-0-14'!F342","v":"BULON"},{"$f":"'[1]87-0-14'!G342*(1+$E$13)","v":16913.4915}]
[{"$f":"'[1]87-0-14'!B343","v":"BR381P"},{"$f":"'[1]87-0-14'!D343","v":"BULON REDONDA  3/8x1"},{"$f":"'[1]87-0-14'!E343","v":"PROLL"},{"$f":"'[1]87-0-14'!F343","v":"BULON"},{"$f":"'[1]87-0-14'!G343*(1+$E$13)","v":14797.726000000001}]
[{"$f":"'[1]87-0-14'!B344","v":"BR382P"},{"$f":"'[1]87-0-14'!D344","v":"BULON REDONDA  3/8x2"},{"$f":"'[1]87-0-14'!E344","v":"PROLL"},{"$f":"'[1]87-0-14'!F344","v":"BULON"},{"$f":"'[1]87-0-14'!G344*(1+$E$13)","v":22450.8665}]
[{"$f":"'[1]87-0-14'!B345","v":"BR383P"},{"$f":"'[1]87-0-14'!D345","v":"BULON REDONDA  3/8x3"},{"$f":"'[1]87-0-14'!E345","v":"PROLL"},{"$f":"'[1]87-0-14'!F345","v":"BULON"},{"$f":"'[1]87-0-14'!G345*(1+$E$13)","v":14605.278}]
[{"$f":"'[1]87-0-14'!B346","v":"BR385P"},{"$f":"'[1]87-0-14'!D346","v":"BULON REDONDA  3/8x5"},{"$f":"'[1]87-0-14'!E346","v":"PROLL"},{"$f":"'[1]87-0-14'!F346","v":"BULON"},{"$f":"'[1]87-0-14'!G346*(1+$E$13)","v":10679.825500000001}]
[{"$f":"'[1]87-0-14'!B347","v":"BR386P"},{"$f":"'[1]87-0-14'!D347","v":"BULON REDONDA  3/8x6"},{"$f":"'[1]87-0-14'!E347","v":"PROLL"},{"$f":"'[1]87-0-14'!F347","v":"BULON"},{"$f":"'[1]87-0-14'!G347*(1+$E$13)","v":12402.8055}]
[{"$f":"'[1]87-0-14'!B348","v":"BR387P"},{"$f":"'[1]87-0-14'!D348","v":"BULON REDONDA  3/8x7"},{"$f":"'[1]87-0-14'!E348","v":"PROLL"},{"$f":"'[1]87-0-14'!F348","v":"BULON"},{"$f":"'[1]87-0-14'!G348*(1+$E$13)","v":14865.151}]
[{"$f":"'[1]87-0-14'!B349","v":"BR388P"},{"$f":"'[1]87-0-14'!D349","v":"BULON REDONDA  3/8x8"},{"$f":"'[1]87-0-14'!E349","v":"PROLL"},{"$f":"'[1]87-0-14'!F349","v":"BULON"},{"$f":"'[1]87-0-14'!G349*(1+$E$13)","v":18524.669999999998}]
[{"$f":"'[1]87-0-14'!B350","v":"BR5162P"},{"$f":"'[1]87-0-14'!D350","v":"BULON REDONDA 5/16x2"},{"$f":"'[1]87-0-14'!E350","v":"PROLL"},{"$f":"'[1]87-0-14'!F350","v":"BULON"},{"$f":"'[1]87-0-14'!G350*(1+$E$13)","v":15490.793}]
[{"$f":"'[1]87-0-14'!B351","v":"BR5163P"},{"$f":"'[1]87-0-14'!D351","v":"BULON REDONDA 5/16x3"},{"$f":"'[1]87-0-14'!E351","v":"PROLL"},{"$f":"'[1]87-0-14'!F351","v":"BULON"},{"$f":"'[1]87-0-14'!G351*(1+$E$13)","v":21201.969500000003}]
[{"$f":"'[1]87-0-14'!B352","v":"BR5164P"},{"$f":"'[1]87-0-14'!D352","v":"BULON REDONDA 5/16x4"},{"$f":"'[1]87-0-14'!E352","v":"PROLL"},{"$f":"'[1]87-0-14'!F352","v":"BULON"},{"$f":"'[1]87-0-14'!G352*(1+$E$13)","v":25866.911500000002}]
[{"$f":"'[1]87-0-14'!B353","v":"BR5165P"},{"$f":"'[1]87-0-14'!D353","v":"BULON REDONDA 5/16x5"},{"$f":"'[1]87-0-14'!E353","v":"PROLL"},{"$f":"'[1]87-0-14'!F353","v":"BULON"},{"$f":"'[1]87-0-14'!G353*(1+$E$13)","v":15032.039500000001}]
[{"$f":"'[1]87-0-14'!B354","v":"BR5166P"},{"$f":"'[1]87-0-14'!D354","v":"BULON REDONDA 5/16x6"},{"$f":"'[1]87-0-14'!E354","v":"PROLL"},{"$f":"'[1]87-0-14'!F354","v":"BULON"},{"$f":"'[1]87-0-14'!G354*(1+$E$13)","v":17788.5285}]
[{"$f":"'[1]87-0-14'!B355","v":"BR5167P"},{"$f":"'[1]87-0-14'!D355","v":"BULON REDONDA 5/16x7"},{"$f":"'[1]87-0-14'!E355","v":"PROLL"},{"$f":"'[1]87-0-14'!F355","v":"BULON"},{"$f":"'[1]87-0-14'!G355*(1+$E$13)","v":21029.3305}]
[{"$f":"'[1]87-0-14'!B356","v":"CAECA24S"},{"$f":"'[1]87-0-14'!D356","v":"CA AL EXT CON AG 2x4"},{"$f":"'[1]87-0-14'!E356","v":"SC"},{"$f":"'[1]87-0-14'!F356","v":"CAJA FIJACION"},{"$f":"'[1]87-0-14'!G356*(1+$E$13)","v":32875.484500000006}]
[{"$f":"'[1]87-0-14'!B357","v":"CAECA25S"},{"$f":"'[1]87-0-14'!D357","v":"CA AL EXT CON AG 2x5"},{"$f":"'[1]87-0-14'!E357","v":"SC"},{"$f":"'[1]87-0-14'!F357","v":"CAJA FIJACION"},{"$f":"'[1]87-0-14'!G357*(1+$E$13)","v":38062.947}]
[{"$f":"'[1]87-0-14'!B358","v":"CAECA26S"},{"$f":"'[1]87-0-14'!D358","v":"CA AL EXT CON AG 2x6"},{"$f":"'[1]87-0-14'!E358","v":"SC"},{"$f":"'[1]87-0-14'!F358","v":"CAJA FIJACION"},{"$f":"'[1]87-0-14'!G358*(1+$E$13)","v":44465.361500000006}]
[{"$f":"'[1]87-0-14'!B359","v":"CAESA24S"},{"$f":"'[1]87-0-14'!D359","v":"CA AL EXT SIN AG 2x4"},{"$f":"'[1]87-0-14'!E359","v":"SC"},{"$f":"'[1]87-0-14'!F359","v":"CAJA FIJACION"},{"$f":"'[1]87-0-14'!G359*(1+$E$13)","v":32875.484500000006}]
[{"$f":"'[1]87-0-14'!B360","v":"CAESA25S"},{"$f":"'[1]87-0-14'!D360","v":"CA AL EXT SIN AG 2x5"},{"$f":"'[1]87-0-14'!E360","v":"SC"},{"$f":"'[1]87-0-14'!F360","v":"CAJA FIJACION"},{"$f":"'[1]87-0-14'!G360*(1+$E$13)","v":38062.947}]
[{"$f":"'[1]87-0-14'!B361","v":"CAESA26S"},{"$f":"'[1]87-0-14'!D361","v":"CA AL EXT SIN AG 2x6"},{"$f":"'[1]87-0-14'!E361","v":"SC"},{"$f":"'[1]87-0-14'!F361","v":"CAJA FIJACION"},{"$f":"'[1]87-0-14'!G361*(1+$E$13)","v":44465.361500000006}]
[{"$f":"'[1]87-0-14'!B362","v":"CAICA24S"},{"$f":"'[1]87-0-14'!D362","v":"CA AL INT CON AG 2x4"},{"$f":"'[1]87-0-14'!E362","v":"SC"},{"$f":"'[1]87-0-14'!F362","v":"CAJA FIJACION"},{"$f":"'[1]87-0-14'!G362*(1+$E$13)","v":32875.484500000006}]
[{"$f":"'[1]87-0-14'!B363","v":"CAICA25S"},{"$f":"'[1]87-0-14'!D363","v":"CA AL INT CON AG 2x5"},{"$f":"'[1]87-0-14'!E363","v":"SC"},{"$f":"'[1]87-0-14'!F363","v":"CAJA FIJACION"},{"$f":"'[1]87-0-14'!G363*(1+$E$13)","v":38062.947}]
[{"$f":"'[1]87-0-14'!B364","v":"CAICA26S"},{"$f":"'[1]87-0-14'!D364","v":"CA AL INT CON AG 2x6"},{"$f":"'[1]87-0-14'!E364","v":"SC"},{"$f":"'[1]87-0-14'!F364","v":"CAJA FIJACION"},{"$f":"'[1]87-0-14'!G364*(1+$E$13)","v":43241.636500000001}]
[{"$f":"'[1]87-0-14'!B365","v":"CAISA24S"},{"$f":"'[1]87-0-14'!D365","v":"CA AL INT SIN AG 2x4"},{"$f":"'[1]87-0-14'!E365","v":"SC"},{"$f":"'[1]87-0-14'!F365","v":"CAJA FIJACION"},{"$f":"'[1]87-0-14'!G365*(1+$E$13)","v":32875.484500000006}]
[{"$f":"'[1]87-0-14'!B366","v":"CAISA25S"},{"$f":"'[1]87-0-14'!D366","v":"CA AL INT SIN AG 2x5"},{"$f":"'[1]87-0-14'!E366","v":"SC"},{"$f":"'[1]87-0-14'!F366","v":"CAJA FIJACION"},{"$f":"'[1]87-0-14'!G366*(1+$E$13)","v":38062.947}]
[{"$f":"'[1]87-0-14'!B367","v":"CAISA26S"},{"$f":"'[1]87-0-14'!D367","v":"CA AL INT SIN AG 2x6"},{"$f":"'[1]87-0-14'!E367","v":"SC"},{"$f":"'[1]87-0-14'!F367","v":"CAJA FIJACION"},{"$f":"'[1]87-0-14'!G367*(1+$E$13)","v":43241.636500000001}]
[{"$f":"'[1]87-0-14'!B368","v":"CFAI24SC"},{"$f":"'[1]87-0-14'!D368","v":"CA FI A/INV 30 INFERI 2x4"},{"$f":"'[1]87-0-14'!E368","v":"SC"},{"$f":"'[1]87-0-14'!F368","v":"CAJA FIJACION"},{"$f":"'[1]87-0-14'!G368*(1+$E$13)","v":33836.654999999999}]
[{"$f":"'[1]87-0-14'!B369","v":"CFAI25SC"},{"$f":"'[1]87-0-14'!D369","v":"CA FI A/INV 30 INFERI 2x5"},{"$f":"'[1]87-0-14'!E369","v":"SC"},{"$f":"'[1]87-0-14'!F369","v":"CAJA FIJACION"},{"$f":"'[1]87-0-14'!G369*(1+$E$13)","v":39412.129000000001}]
[{"$f":"'[1]87-0-14'!B370","v":"CFAI26SC"},{"$f":"'[1]87-0-14'!D370","v":"CA FI A/INV 30 INFERI 2x6"},{"$f":"'[1]87-0-14'!E370","v":"SC"},{"$f":"'[1]87-0-14'!F370","v":"CAJA FIJACION"},{"$f":"'[1]87-0-14'!G370*(1+$E$13)","v":45765.222500000003}]
[{"$f":"'[1]87-0-14'!B371","v":"CRA"},{"$f":"'[1]87-0-14'!D371","v":"CABEZA REGULA GAS *ECONO*"},{"$f":"'[1]87-0-14'!E371","v":"VITAL GAS"},{"$f":"'[1]87-0-14'!F371","v":"REGULADOR"},{"$f":"'[1]87-0-14'!G371*(1+$E$13)","v":11706.870999999999}]
[{"$f":"'[1]87-0-14'!B372","v":"CCP"},{"$f":"'[1]87-0-14'!D372","v":"CABEZA REGULADOR COM"},{"$f":"'[1]87-0-14'!E372","v":"PAZ"},{"$f":"'[1]87-0-14'!F372","v":"REGULADOR COMUN"},{"$f":"'[1]87-0-14'!G372*(1+$E$13)","v":13006.778499999999}]
[{"$f":"'[1]87-0-14'!B373","v":"CAFT"},{"$f":"'[1]87-0-14'!D373","v":"CABLE ACERO FORRADO 4 mm"},{"$f":"'[1]87-0-14'!E373","v":"TENSIL"},{"$f":"'[1]87-0-14'!F373","v":"CABLE ACERO"},{"$f":"'[1]87-0-14'!G373*(1+$E$13)","v":538.68700000000001}]
[{"$f":"'[1]87-0-14'!B374","v":"CA120M"},{"$f":"'[1]87-0-14'!D374","v":"CABO AZADA 120cm"},{"$f":"'[1]87-0-14'!E374","v":"MOISES"},{"$f":"'[1]87-0-14'!F374","v":"CABO AZADA"},{"$f":"'[1]87-0-14'!G374*(1+$E$13)","v":5373.4935000000005}]
[{"$f":"'[1]87-0-14'!B375","v":"CA135M"},{"$f":"'[1]87-0-14'!D375","v":"CABO AZADA 135cm"},{"$f":"'[1]87-0-14'!E375","v":"MOISES"},{"$f":"'[1]87-0-14'!F375","v":"CABO AZADA"},{"$f":"'[1]87-0-14'!G375*(1+$E$13)","v":6666.2865000000002}]
[{"$f":"'[1]87-0-14'!B376","v":"CA150M"},{"$f":"'[1]87-0-14'!D376","v":"CABO AZADA 150cm"},{"$f":"'[1]87-0-14'!E376","v":"MOISES"},{"$f":"'[1]87-0-14'!F376","v":"CABO AZADA"},{"$f":"'[1]87-0-14'!G376*(1+$E$13)","v":6992.2824999999993}]
[{"$f":"'[1]87-0-14'!B377","v":"CGM"},{"$f":"'[1]87-0-14'!D377","v":"CABO GUADANA"},{"$f":"'[1]87-0-14'!E377","v":"MOISES"},{"$f":"'[1]87-0-14'!F377","v":"CABO GUADAÑA"},{"$f":"'[1]87-0-14'!G377*(1+$E$13)","v":8672.2189999999991}]
[{"$f":"'[1]87-0-14'!B378","v":"CH90M"},{"$f":"'[1]87-0-14'!D378","v":"CABO HACHA 90cm"},{"$f":"'[1]87-0-14'!E378","v":"MOISES"},{"$f":"'[1]87-0-14'!F378","v":"CABO HACHA"},{"$f":"'[1]87-0-14'!G378*(1+$E$13)","v":4661.5164999999997}]
[{"$f":"'[1]87-0-14'!B379","v":"CHVG"},{"$f":"'[1]87-0-14'!D379","v":"CABO HACHITA VIZCAIN"},{"$f":"'[1]87-0-14'!E379","v":"MOISES"},{"$f":"'[1]87-0-14'!F379","v":"CABO CORTO"},{"$f":"'[1]87-0-14'!G379*(1+$E$13)","v":2308.942}]
[{"$f":"'[1]87-0-14'!B380","v":"CHM"},{"$f":"'[1]87-0-14'!D380","v":"CABO HORQUILLA 150cm"},{"$f":"'[1]87-0-14'!E380","v":"MOISES"},{"$f":"'[1]87-0-14'!F380","v":"CABO HORQUILLA"},{"$f":"'[1]87-0-14'!G380*(1+$E$13)","v":10945.325000000001}]
[{"$f":"'[1]87-0-14'!B381","v":"CMA25"},{"$f":"'[1]87-0-14'!D381","v":"CABO MACETA 25 cm."},{"$f":"'[1]87-0-14'!E381","v":"MOISES"},{"$f":"'[1]87-0-14'!F381","v":"CABO CORTO"},{"$f":"'[1]87-0-14'!G381*(1+$E$13)","v":644.52099999999996}]
[{"$f":"'[1]87-0-14'!B382","v":"CMA30"},{"$f":"'[1]87-0-14'!D382","v":"CABO MACETA 30 cm."},{"$f":"'[1]87-0-14'!E382","v":"MOISES"},{"$f":"'[1]87-0-14'!F382","v":"CABO CORTO"},{"$f":"'[1]87-0-14'!G382*(1+$E$13)","v":735.45950000000005}]
[{"$f":"'[1]87-0-14'!B383","v":"CMA35"},{"$f":"'[1]87-0-14'!D383","v":"CABO MACETA 35 cm."},{"$f":"'[1]87-0-14'!E383","v":"MOISES"},{"$f":"'[1]87-0-14'!F383","v":"CABO CORTO"},{"$f":"'[1]87-0-14'!G383*(1+$E$13)","v":894.83049999999992}]
[{"$f":"'[1]87-0-14'!B384","v":"CMA40"},{"$f":"'[1]87-0-14'!D384","v":"CABO MACETA 40 cm."},{"$f":"'[1]87-0-14'!E384","v":"MOISES"},{"$f":"'[1]87-0-14'!F384","v":"CABO CORTO"},{"$f":"'[1]87-0-14'!G384*(1+$E$13)","v":956.79949999999997}]
[{"$f":"'[1]87-0-14'!B385","v":"CMC25"},{"$f":"'[1]87-0-14'!D385","v":"CABO MART. CARPIN 25"},{"$f":"'[1]87-0-14'!E385","v":"MOISES"},{"$f":"'[1]87-0-14'!F385","v":"CABO CORTO"},{"$f":"'[1]87-0-14'!G385*(1+$E$13)","v":574.56950000000006}]
[{"$f":"'[1]87-0-14'!B386","v":"CMC30"},{"$f":"'[1]87-0-14'!D386","v":"CABO MART. CARPIN 30"},{"$f":"'[1]87-0-14'!E386","v":"MOISES"},{"$f":"'[1]87-0-14'!F386","v":"CABO CORTO"},{"$f":"'[1]87-0-14'!G386*(1+$E$13)","v":649.52750000000003}]
[{"$f":"'[1]87-0-14'!B387","v":"CMC35"},{"$f":"'[1]87-0-14'!D387","v":"CABO MART. CARPIN 35"},{"$f":"'[1]87-0-14'!E387","v":"MOISES"},{"$f":"'[1]87-0-14'!F387","v":"CABO CORTO"},{"$f":"'[1]87-0-14'!G387*(1+$E$13)","v":704.47500000000002}]
[{"$f":"'[1]87-0-14'!B388","v":"CMG35"},{"$f":"'[1]87-0-14'!D388","v":"CABO MART. GALPON 35"},{"$f":"'[1]87-0-14'!E388","v":"MOISES"},{"$f":"'[1]87-0-14'!F388","v":"CABO CORTO"},{"$f":"'[1]87-0-14'!G388*(1+$E$13)","v":1550.0929999999998}]
[{"$f":"'[1]87-0-14'!B389","v":"CM90G"},{"$f":"'[1]87-0-14'!D389","v":"CABO MAZA 90cm"},{"$f":"'[1]87-0-14'!E389","v":"MOISES"},{"$f":"'[1]87-0-14'!F389","v":"CABO MAZA"},{"$f":"'[1]87-0-14'!G389*(1+$E$13)","v":3472.9145000000003}]
[{"$f":"'[1]87-0-14'!B390","v":"CP60M"},{"$f":"'[1]87-0-14'!D390","v":"CABO PALA 60cm METAL"},{"$f":"'[1]87-0-14'!E390","v":"MOISES"},{"$f":"'[1]87-0-14'!F390","v":"CABO PALA"},{"$f":"'[1]87-0-14'!G390*(1+$E$13)","v":3940.875}]
[{"$f":"'[1]87-0-14'!B391","v":"CP70M"},{"$f":"'[1]87-0-14'!D391","v":"CABO PALA 70cm METAL"},{"$f":"'[1]87-0-14'!E391","v":"MOISES"},{"$f":"'[1]87-0-14'!F391","v":"CABO PALA"},{"$f":"'[1]87-0-14'!G391*(1+$E$13)","v":4145.1185000000005}]
[{"$f":"'[1]87-0-14'!B392","v":"CPP60M"},{"$f":"'[1]87-0-14'!D392","v":"CABO PALA E/PLAST 60"},{"$f":"'[1]87-0-14'!E392","v":"MOISES"},{"$f":"'[1]87-0-14'!F392","v":"CABO PALA"},{"$f":"'[1]87-0-14'!G392*(1+$E$13)","v":3451.4625000000001}]
[{"$f":"'[1]87-0-14'!B393","v":"CPP70M"},{"$f":"'[1]87-0-14'!D393","v":"CABO PALA E/PLAST 70"},{"$f":"'[1]87-0-14'!E393","v":"MOISES"},{"$f":"'[1]87-0-14'!F393","v":"CABO PALA"},{"$f":"'[1]87-0-14'!G393*(1+$E$13)","v":3568.9835000000003}]
[{"$f":"'[1]87-0-14'!B394","v":"CP90M"},{"$f":"'[1]87-0-14'!D394","v":"CABO PICO 90cm"},{"$f":"'[1]87-0-14'!E394","v":"MOISES"},{"$f":"'[1]87-0-14'!F394","v":"CABO PICO"},{"$f":"'[1]87-0-14'!G394*(1+$E$13)","v":5455.9380000000001}]
[{"$f":"'[1]87-0-14'!B395","v":"CRM"},{"$f":"'[1]87-0-14'!D395","v":"CABO RASTRILLO 135cm"},{"$f":"'[1]87-0-14'!E395","v":"MOISES"},{"$f":"'[1]87-0-14'!F395","v":"CABO RASTRILLO"},{"$f":"'[1]87-0-14'!G395*(1+$E$13)","v":5154.1530000000002}]
[{"$f":"'[1]87-0-14'!B396","v":"CSPGSJ"},{"$f":"'[1]87-0-14'!D396","v":"CABO SERRUCH PLAST GRANDE"},{"$f":"'[1]87-0-14'!E396","v":"STA. JUANA"},{"$f":"'[1]87-0-14'!F396","v":"CABO SERRUCHO"},{"$f":"'[1]87-0-14'!G396*(1+$E$13)","v":4863.6674999999996}]
[{"$f":"'[1]87-0-14'!B397","v":"CSPCSJ"},{"$f":"'[1]87-0-14'!D397","v":"CABO SERRUCHO PLAST CHICO"},{"$f":"'[1]87-0-14'!E397","v":"STA. JUANA"},{"$f":"'[1]87-0-14'!F397","v":"CABO SERRUCHO"},{"$f":"'[1]87-0-14'!G397*(1+$E$13)","v":4860.1490000000003}]
[{"$f":"'[1]87-0-14'!B398","v":"CBPLC"},{"$f":"'[1]87-0-14'!D398","v":"CADENA BOLITA BCE. PLATIL"},{"$f":"'[1]87-0-14'!E398","v":"CHINAC"},{"$f":"'[1]87-0-14'!F398","v":"CADENA BOLITA"},{"$f":"'[1]87-0-14'!G398*(1+$E$13)","v":2410.2190000000001}]
[{"$f":"'[1]87-0-14'!B399","v":"CP25O"},{"$f":"'[1]87-0-14'!D399","v":"CADENA PATENTE N  25"},{"$f":"'[1]87-0-14'!E399","v":"ANCLA"},{"$f":"'[1]87-0-14'!F399","v":"CADENA PATENTE"},{"$f":"'[1]87-0-14'!G399*(1+$E$13)","v":17275.540499999999}]
[{"$f":"'[1]87-0-14'!B400","v":"CP30O"},{"$f":"'[1]87-0-14'!D400","v":"CADENA PATENTE N  30"},{"$f":"'[1]87-0-14'!E400","v":"ANCLA"},{"$f":"'[1]87-0-14'!F400","v":"CADENA PATENTE"},{"$f":"'[1]87-0-14'!G400*(1+$E$13)","v":14817.271500000001}]
[{"$f":"'[1]87-0-14'!B401","v":"CP35O"},{"$f":"'[1]87-0-14'!D401","v":"CADENA PATENTE N  35"},{"$f":"'[1]87-0-14'!E401","v":"ANCLA"},{"$f":"'[1]87-0-14'!F401","v":"CADENA PATENTE"},{"$f":"'[1]87-0-14'!G401*(1+$E$13)","v":14468.412999999999}]
[{"$f":"'[1]87-0-14'!B402","v":"CP40O"},{"$f":"'[1]87-0-14'!D402","v":"CADENA PATENTE N  40"},{"$f":"'[1]87-0-14'!E402","v":"ANCLA"},{"$f":"'[1]87-0-14'!F402","v":"CADENA PATENTE"},{"$f":"'[1]87-0-14'!G402*(1+$E$13)","v":14238.532499999999}]
[{"$f":"'[1]87-0-14'!B403","v":"CP45O"},{"$f":"'[1]87-0-14'!D403","v":"CADENA PATENTE N  45"},{"$f":"'[1]87-0-14'!E403","v":"ANCLA"},{"$f":"'[1]87-0-14'!F403","v":"CADENA PATENTE"},{"$f":"'[1]87-0-14'!G403*(1+$E$13)","v":13370.424000000001}]
[{"$f":"'[1]87-0-14'!B404","v":"CP50O"},{"$f":"'[1]87-0-14'!D404","v":"CADENA PATENTE N  50"},{"$f":"'[1]87-0-14'!E404","v":"ANCLA"},{"$f":"'[1]87-0-14'!F404","v":"CADENA PATENTE"},{"$f":"'[1]87-0-14'!G404*(1+$E$13)","v":11198.812}]
[{"$f":"'[1]87-0-14'!B405","v":"CP55O"},{"$f":"'[1]87-0-14'!D405","v":"CADENA PATENTE N  55"},{"$f":"'[1]87-0-14'!E405","v":"ANCLA"},{"$f":"'[1]87-0-14'!F405","v":"CADENA PATENTE"},{"$f":"'[1]87-0-14'!G405*(1+$E$13)","v":11198.812}]
[{"$f":"'[1]87-0-14'!B406","v":"CP60O"},{"$f":"'[1]87-0-14'!D406","v":"CADENA PATENTE N  60"},{"$f":"'[1]87-0-14'!E406","v":"ANCLA"},{"$f":"'[1]87-0-14'!F406","v":"CADENA PATENTE"},{"$f":"'[1]87-0-14'!G406*(1+$E$13)","v":11198.812}]
[{"$f":"'[1]87-0-14'!B407","v":"CP65O"},{"$f":"'[1]87-0-14'!D407","v":"CADENA PATENTE N  65"},{"$f":"'[1]87-0-14'!E407","v":"ANCLA"},{"$f":"'[1]87-0-14'!F407","v":"CADENA PATENTE"},{"$f":"'[1]87-0-14'!G407*(1+$E$13)","v":11198.812}]
[{"$f":"'[1]87-0-14'!B408","v":"CP70O"},{"$f":"'[1]87-0-14'!D408","v":"CADENA PATENTE N  70"},{"$f":"'[1]87-0-14'!E408","v":"ANCLA"},{"$f":"'[1]87-0-14'!F408","v":"CADENA PATENTE"},{"$f":"'[1]87-0-14'!G408*(1+$E$13)","v":11198.812}]
[{"$f":"'[1]87-0-14'!B409","v":"CP80O"},{"$f":"'[1]87-0-14'!D409","v":"CADENA PATENTE N  80"},{"$f":"'[1]87-0-14'!E409","v":"ANCLA"},{"$f":"'[1]87-0-14'!F409","v":"CADENA PATENTE"},{"$f":"'[1]87-0-14'!G409*(1+$E$13)","v":11198.812}]
[{"$f":"'[1]87-0-14'!B410","v":"CP90O"},{"$f":"'[1]87-0-14'!D410","v":"CADENA PATENTE N  90"},{"$f":"'[1]87-0-14'!E410","v":"ANCLA"},{"$f":"'[1]87-0-14'!F410","v":"CADENA PATENTE"},{"$f":"'[1]87-0-14'!G410*(1+$E$13)","v":11198.812}]
[{"$f":"'[1]87-0-14'!B411","v":"CP100O"},{"$f":"'[1]87-0-14'!D411","v":"CADENA PATENTE N 100"},{"$f":"'[1]87-0-14'!E411","v":"ANCLA"},{"$f":"'[1]87-0-14'!F411","v":"CADENA PATENTE"},{"$f":"'[1]87-0-14'!G411*(1+$E$13)","v":11198.812}]
[{"$f":"'[1]87-0-14'!B412","v":"CP110O"},{"$f":"'[1]87-0-14'!D412","v":"CADENA PATENTE N 110"},{"$f":"'[1]87-0-14'!E412","v":"ANCLA"},{"$f":"'[1]87-0-14'!F412","v":"CADENA PATENTE"},{"$f":"'[1]87-0-14'!G412*(1+$E$13)","v":11198.812}]
[{"$f":"'[1]87-0-14'!B413","v":"CP120O"},{"$f":"'[1]87-0-14'!D413","v":"CADENA PATENTE N 120"},{"$f":"'[1]87-0-14'!E413","v":"ANCLA"},{"$f":"'[1]87-0-14'!F413","v":"CADENA PATENTE"},{"$f":"'[1]87-0-14'!G413*(1+$E$13)","v":16199.205000000002}]
[{"$f":"'[1]87-0-14'!B414","v":"CP130O"},{"$f":"'[1]87-0-14'!D414","v":"CADENA PATENTE N 130"},{"$f":"'[1]87-0-14'!E414","v":"ANCLA"},{"$f":"'[1]87-0-14'!F414","v":"CADENA PATENTE"},{"$f":"'[1]87-0-14'!G414*(1+$E$13)","v":16199.205000000002}]
[{"$f":"'[1]87-0-14'!B415","v":"CP140O"},{"$f":"'[1]87-0-14'!D415","v":"CADENA PATENTE N 140"},{"$f":"'[1]87-0-14'!E415","v":"ANCLA"},{"$f":"'[1]87-0-14'!F415","v":"CADENA PATENTE"},{"$f":"'[1]87-0-14'!G415*(1+$E$13)","v":16199.205000000002}]
[{"$f":"'[1]87-0-14'!B416","v":"CP160O"},{"$f":"'[1]87-0-14'!D416","v":"CADENA PATENTE N 160"},{"$f":"'[1]87-0-14'!E416","v":"ANCLA"},{"$f":"'[1]87-0-14'!F416","v":"CADENA PATENTE"},{"$f":"'[1]87-0-14'!G416*(1+$E$13)","v":16523.743999999999}]
[{"$f":"'[1]87-0-14'!B417","v":"CZ25O"},{"$f":"'[1]87-0-14'!D417","v":"CADENA ZINCADA N  25"},{"$f":"'[1]87-0-14'!E417","v":"ANCLA"},{"$f":"'[1]87-0-14'!F417","v":"CADENA ZINCADA"},{"$f":"'[1]87-0-14'!G417*(1+$E$13)","v":19476.897000000001}]
[{"$f":"'[1]87-0-14'!B418","v":"CZ30O"},{"$f":"'[1]87-0-14'!D418","v":"CADENA ZINCADA N  30"},{"$f":"'[1]87-0-14'!E418","v":"ANCLA"},{"$f":"'[1]87-0-14'!F418","v":"CADENA ZINCADA"},{"$f":"'[1]87-0-14'!G418*(1+$E$13)","v":17132.212000000003}]
[{"$f":"'[1]87-0-14'!B419","v":"CZ35O"},{"$f":"'[1]87-0-14'!D419","v":"CADENA ZINCADA N  35"},{"$f":"'[1]87-0-14'!E419","v":"ANCLA"},{"$f":"'[1]87-0-14'!F419","v":"CADENA ZINCADA"},{"$f":"'[1]87-0-14'!G419*(1+$E$13)","v":16783.353500000001}]
[{"$f":"'[1]87-0-14'!B420","v":"CZ40O"},{"$f":"'[1]87-0-14'!D420","v":"CADENA ZINCADA N  40"},{"$f":"'[1]87-0-14'!E420","v":"ANCLA"},{"$f":"'[1]87-0-14'!F420","v":"CADENA ZINCADA"},{"$f":"'[1]87-0-14'!G420*(1+$E$13)","v":16031.526}]
[{"$f":"'[1]87-0-14'!B421","v":"CZ45O"},{"$f":"'[1]87-0-14'!D421","v":"CADENA ZINCADA N  45"},{"$f":"'[1]87-0-14'!E421","v":"ANCLA"},{"$f":"'[1]87-0-14'!F421","v":"CADENA ZINCADA"},{"$f":"'[1]87-0-14'!G421*(1+$E$13)","v":15336.521500000001}]
[{"$f":"'[1]87-0-14'!B422","v":"CZ50O"},{"$f":"'[1]87-0-14'!D422","v":"CADENA ZINCADA N  50"},{"$f":"'[1]87-0-14'!E422","v":"ANCLA"},{"$f":"'[1]87-0-14'!F422","v":"CADENA ZINCADA"},{"$f":"'[1]87-0-14'!G422*(1+$E$13)","v":12935.029}]
[{"$f":"'[1]87-0-14'!B423","v":"CZ55O"},{"$f":"'[1]87-0-14'!D423","v":"CADENA ZINCADA N  55"},{"$f":"'[1]87-0-14'!E423","v":"ANCLA"},{"$f":"'[1]87-0-14'!F423","v":"CADENA ZINCADA"},{"$f":"'[1]87-0-14'!G423*(1+$E$13)","v":12935.029}]
[{"$f":"'[1]87-0-14'!B424","v":"CZ60O"},{"$f":"'[1]87-0-14'!D424","v":"CADENA ZINCADA N  60"},{"$f":"'[1]87-0-14'!E424","v":"ANCLA"},{"$f":"'[1]87-0-14'!F424","v":"CADENA ZINCADA"},{"$f":"'[1]87-0-14'!G424*(1+$E$13)","v":12935.029}]
[{"$f":"'[1]87-0-14'!B425","v":"CZ65O"},{"$f":"'[1]87-0-14'!D425","v":"CADENA ZINCADA N  65"},{"$f":"'[1]87-0-14'!E425","v":"ANCLA"},{"$f":"'[1]87-0-14'!F425","v":"CADENA ZINCADA"},{"$f":"'[1]87-0-14'!G425*(1+$E$13)","v":12935.029}]
[{"$f":"'[1]87-0-14'!B426","v":"CZ70O"},{"$f":"'[1]87-0-14'!D426","v":"CADENA ZINCADA N  70"},{"$f":"'[1]87-0-14'!E426","v":"ANCLA"},{"$f":"'[1]87-0-14'!F426","v":"CADENA ZINCADA"},{"$f":"'[1]87-0-14'!G426*(1+$E$13)","v":12935.029}]
[{"$f":"'[1]87-0-14'!B427","v":"CZ80O"},{"$f":"'[1]87-0-14'!D427","v":"CADENA ZINCADA N  80"},{"$f":"'[1]87-0-14'!E427","v":"ANCLA"},{"$f":"'[1]87-0-14'!F427","v":"CADENA ZINCADA"},{"$f":"'[1]87-0-14'!G427*(1+$E$13)","v":12878.237000000001}]
[{"$f":"'[1]87-0-14'!B428","v":"CZ90O"},{"$f":"'[1]87-0-14'!D428","v":"CADENA ZINCADA N  90"},{"$f":"'[1]87-0-14'!E428","v":"ANCLA"},{"$f":"'[1]87-0-14'!F428","v":"CADENA ZINCADA"},{"$f":"'[1]87-0-14'!G428*(1+$E$13)","v":12878.237000000001}]
[{"$f":"'[1]87-0-14'!B429","v":"CZ100O"},{"$f":"'[1]87-0-14'!D429","v":"CADENA ZINCADA N 100"},{"$f":"'[1]87-0-14'!E429","v":"ANCLA"},{"$f":"'[1]87-0-14'!F429","v":"CADENA ZINCADA"},{"$f":"'[1]87-0-14'!G429*(1+$E$13)","v":12878.237000000001}]
[{"$f":"'[1]87-0-14'!B430","v":"CZ110O"},{"$f":"'[1]87-0-14'!D430","v":"CADENA ZINCADA N 110"},{"$f":"'[1]87-0-14'!E430","v":"ANCLA"},{"$f":"'[1]87-0-14'!F430","v":"CADENA ZINCADA"},{"$f":"'[1]87-0-14'!G430*(1+$E$13)","v":12878.237000000001}]
[{"$f":"'[1]87-0-14'!B431","v":"CZ120O"},{"$f":"'[1]87-0-14'!D431","v":"CADENA ZINCADA N 120"},{"$f":"'[1]87-0-14'!E431","v":"ANCLA"},{"$f":"'[1]87-0-14'!F431","v":"CADENA ZINCADA"},{"$f":"'[1]87-0-14'!G431*(1+$E$13)","v":17984.107499999998}]
[{"$f":"'[1]87-0-14'!B432","v":"CZ130O"},{"$f":"'[1]87-0-14'!D432","v":"CADENA ZINCADA N 130"},{"$f":"'[1]87-0-14'!E432","v":"ANCLA"},{"$f":"'[1]87-0-14'!F432","v":"CADENA ZINCADA"},{"$f":"'[1]87-0-14'!G432*(1+$E$13)","v":17984.107499999998}]
[{"$f":"'[1]87-0-14'!B433","v":"CZ140O"},{"$f":"'[1]87-0-14'!D433","v":"CADENA ZINCADA N 140"},{"$f":"'[1]87-0-14'!E433","v":"ANCLA"},{"$f":"'[1]87-0-14'!F433","v":"CADENA ZINCADA"},{"$f":"'[1]87-0-14'!G433*(1+$E$13)","v":17984.107499999998}]
[{"$f":"'[1]87-0-14'!B434","v":"CZ160O"},{"$f":"'[1]87-0-14'!D434","v":"CADENA ZINCADA N 160"},{"$f":"'[1]87-0-14'!E434","v":"ANCLA"},{"$f":"'[1]87-0-14'!F434","v":"CADENA ZINCADA"},{"$f":"'[1]87-0-14'!G434*(1+$E$13)","v":18389.7425}]
[{"$f":"'[1]87-0-14'!B435","v":"CFA24SC"},{"$f":"'[1]87-0-14'!D435","v":"CAJ FIJ ANG 30 #SUPE# 2x4"},{"$f":"'[1]87-0-14'!E435","v":"SC"},{"$f":"'[1]87-0-14'!F435","v":"CAJA FIJACION"},{"$f":"'[1]87-0-14'!G435*(1+$E$13)","v":33836.654999999999}]
[{"$f":"'[1]87-0-14'!B436","v":"CFA25SC"},{"$f":"'[1]87-0-14'!D436","v":"CAJ FIJ ANG 30 #SUPE# 2x5"},{"$f":"'[1]87-0-14'!E436","v":"SC"},{"$f":"'[1]87-0-14'!F436","v":"CAJA FIJACION"},{"$f":"'[1]87-0-14'!G436*(1+$E$13)","v":39416.283000000003}]
[{"$f":"'[1]87-0-14'!B437","v":"CFA26SC"},{"$f":"'[1]87-0-14'!D437","v":"CAJ FIJ ANG 30 #SUPE# 2x6"},{"$f":"'[1]87-0-14'!E437","v":"SC"},{"$f":"'[1]87-0-14'!F437","v":"CAJA FIJACION"},{"$f":"'[1]87-0-14'!G437*(1+$E$13)","v":45765.222500000003}]
[{"$f":"'[1]87-0-14'!B438","v":"CICA"},{"$f":"'[1]87-0-14'!D438","v":"CAJA INGLETAR CHICA"},{"$f":"'[1]87-0-14'!E438","v":"ANEMI"},{"$f":"'[1]87-0-14'!F438","v":"CAJA INGLETAR"},{"$f":"'[1]87-0-14'!G438*(1+$E$13)","v":12849.592999999999}]
[{"$f":"'[1]87-0-14'!B439","v":"CIGA"},{"$f":"'[1]87-0-14'!D439","v":"CAJA INGLETAR GRANDE"},{"$f":"'[1]87-0-14'!E439","v":"ANEMI"},{"$f":"'[1]87-0-14'!F439","v":"CAJA INGLETAR"},{"$f":"'[1]87-0-14'!G439*(1+$E$13)","v":15377.9375}]
[{"$f":"'[1]87-0-14'!B440","v":"CE4S"},{"$f":"'[1]87-0-14'!D440","v":"CAJA P/ENROLLADOR 4m"},{"$f":"'[1]87-0-14'!E440","v":"SIRA"},{"$f":"'[1]87-0-14'!F440","v":"CAJA ENROLLADOR"},{"$f":"'[1]87-0-14'!G440*(1+$E$13)","v":2353.9385000000002}]
[{"$f":"'[1]87-0-14'!B441","v":"CE6S"},{"$f":"'[1]87-0-14'!D441","v":"CAJA P/ENROLLADOR 6m"},{"$f":"'[1]87-0-14'!E441","v":"SIRA"},{"$f":"'[1]87-0-14'!F441","v":"CAJA ENROLLADOR"},{"$f":"'[1]87-0-14'!G441*(1+$E$13)","v":3238.136}]
[{"$f":"'[1]87-0-14'!B442","v":"CSA507P"},{"$f":"'[1]87-0-14'!D442","v":"CAJA SEG ARRIM BUZON #507"},{"$f":"'[1]87-0-14'!E442","v":"PRIVE"},{"$f":"'[1]87-0-14'!F442","v":"CAJAS SEGURIDAD"},{"$f":"'[1]87-0-14'!G442*(1+$E$13)","v":189433.23450000002}]
[{"$f":"'[1]87-0-14'!B443","v":"CSE501P"},{"$f":"'[1]87-0-14'!D443","v":"CAJA SEGURI EMPOTRAR #501"},{"$f":"'[1]87-0-14'!E443","v":"PRIVE"},{"$f":"'[1]87-0-14'!F443","v":"CAJAS SEGURIDAD"},{"$f":"'[1]87-0-14'!G443*(1+$E$13)","v":140658.11350000001}]
[{"$f":"'[1]87-0-14'!B444","v":"CSE502P"},{"$f":"'[1]87-0-14'!D444","v":"CAJA SEGURI EMPOTRAR #502"},{"$f":"'[1]87-0-14'!E444","v":"PRIVE"},{"$f":"'[1]87-0-14'!F444","v":"CAJAS SEGURIDAD"},{"$f":"'[1]87-0-14'!G444*(1+$E$13)","v":143896.32699999999}]
[{"$f":"'[1]87-0-14'!B445","v":"CSE503P"},{"$f":"'[1]87-0-14'!D445","v":"CAJA SEGURI EMPOTRAR #503"},{"$f":"'[1]87-0-14'!E445","v":"PRIVE"},{"$f":"'[1]87-0-14'!F445","v":"CAJAS SEGURIDAD"},{"$f":"'[1]87-0-14'!G445*(1+$E$13)","v":147742.51250000001}]
[{"$f":"'[1]87-0-14'!B446","v":"CSE504P"},{"$f":"'[1]87-0-14'!D446","v":"CAJA SEGURI EMPOTRAR #504"},{"$f":"'[1]87-0-14'!E446","v":"PRIVE"},{"$f":"'[1]87-0-14'!F446","v":"CAJAS SEGURIDAD"},{"$f":"'[1]87-0-14'!G446*(1+$E$13)","v":193379.92200000002}]
[{"$f":"'[1]87-0-14'!B447","v":"CSA505P"},{"$f":"'[1]87-0-14'!D447","v":"CAJA SEGURID ARRIMAR #505"},{"$f":"'[1]87-0-14'!E447","v":"PRIVE"},{"$f":"'[1]87-0-14'!F447","v":"CAJAS SEGURIDAD"},{"$f":"'[1]87-0-14'!G447*(1+$E$13)","v":132259.361}]
[{"$f":"'[1]87-0-14'!B448","v":"CSA506P"},{"$f":"'[1]87-0-14'!D448","v":"CAJA SEGURID ARRIMAR #506"},{"$f":"'[1]87-0-14'!E448","v":"PRIVE"},{"$f":"'[1]87-0-14'!F448","v":"CAJAS SEGURIDAD"},{"$f":"'[1]87-0-14'!G448*(1+$E$13)","v":163933.20800000001}]
[{"$f":"'[1]87-0-14'!B449","v":"CABA"},{"$f":"'[1]87-0-14'!D449","v":"CAL A/INOX RE/BCE GRI/BCE"},{"$f":"'[1]87-0-14'!E449","v":"VITAL GAS"},{"$f":"'[1]87-0-14'!F449","v":"CALEFON A/INOXIDA"},{"$f":"'[1]87-0-14'!G449*(1+$E$13)","v":75482.582000000009}]
[{"$f":"'[1]87-0-14'!B450","v":"CAAV"},{"$f":"'[1]87-0-14'!D450","v":"CAL A/INOX RESIS/ALUMINIO"},{"$f":"'[1]87-0-14'!E450","v":"VITAL GAS"},{"$f":"'[1]87-0-14'!F450","v":"CALEFON A/INOXIDA"},{"$f":"'[1]87-0-14'!G450*(1+$E$13)","v":50244.102500000001}]
[{"$f":"'[1]87-0-14'!B451","v":"CER"},{"$f":"'[1]87-0-14'!D451","v":"CAL CHAPA EPOXI R/ALUMIN"},{"$f":"'[1]87-0-14'!E451","v":"VITAL GAS"},{"$f":"'[1]87-0-14'!F451","v":"CALEFON"},{"$f":"'[1]87-0-14'!G451*(1+$E$13)","v":42096.4035}]
[{"$f":"'[1]87-0-14'!B452","v":"CEBA"},{"$f":"'[1]87-0-14'!D452","v":"CAL EPOXI RES/BCE GRI/BCE"},{"$f":"'[1]87-0-14'!E452","v":"VITAL GAS"},{"$f":"'[1]87-0-14'!F452","v":"CALEFON EPOXI"},{"$f":"'[1]87-0-14'!G452*(1+$E$13)","v":57163.566000000006}]
[{"$f":"'[1]87-0-14'!B453","v":"CP25RBV"},{"$f":"'[1]87-0-14'!D453","v":"CALE #25l# PLAST R/BRONCE"},{"$f":"'[1]87-0-14'!E453","v":"VITAL GAS"},{"$f":"'[1]87-0-14'!F453","v":"CALEFON PLASTICO"},{"$f":"'[1]87-0-14'!G453*(1+$E$13)","v":22331.4545}]
[{"$f":"'[1]87-0-14'!B454","v":"CP25RAV"},{"$f":"'[1]87-0-14'!D454","v":"CALEFON #25lt# PLAS R/ALU"},{"$f":"'[1]87-0-14'!E454","v":"VITAL GAS"},{"$f":"'[1]87-0-14'!F454","v":"CALEFON PLASTICO"},{"$f":"'[1]87-0-14'!G454*(1+$E$13)","v":14896.693500000001}]
[{"$f":"'[1]87-0-14'!B455","v":"CG22V"},{"$f":"'[1]87-0-14'!D455","v":"CALENT GAS ENLOZADO #22cm"},{"$f":"'[1]87-0-14'!E455","v":"VITAL GAS"},{"$f":"'[1]87-0-14'!F455","v":"CALENTADOR"},{"$f":"'[1]87-0-14'!G455*(1+$E$13)","v":14330.416500000001}]
[{"$f":"'[1]87-0-14'!B456","v":"CIBA"},{"$f":"'[1]87-0-14'!D456","v":"CALENT INMER BLINDAD"},{"$f":"'[1]87-0-14'!E456","v":"ALIGAS"},{"$f":"'[1]87-0-14'!F456","v":"CALENTADOR INMERS"},{"$f":"'[1]87-0-14'!G456*(1+$E$13)","v":7320.402}]
[{"$f":"'[1]87-0-14'!B457","v":"CIPA"},{"$f":"'[1]87-0-14'!D457","v":"CALENT INMER PLASTIC"},{"$f":"'[1]87-0-14'!E457","v":"ALIGAS"},{"$f":"'[1]87-0-14'!F457","v":"CALENTADOR INMER"},{"$f":"'[1]87-0-14'!G457*(1+$E$13)","v":3340.7615000000001}]
[{"$f":"'[1]87-0-14'!B458","v":"CE12A"},{"$f":"'[1]87-0-14'!D458","v":"CALENTADOR ELECTRICO 12"},{"$f":"'[1]87-0-14'!E458","v":"VITAL GAS"},{"$f":"'[1]87-0-14'!F458","v":"CALENTADOR ELECTR"},{"$f":"'[1]87-0-14'!G458*(1+$E$13)","v":14937.4275}]
[{"$f":"'[1]87-0-14'!B459","v":"CE14A"},{"$f":"'[1]87-0-14'!D459","v":"CALENTADOR ELECTRICO 14"},{"$f":"'[1]87-0-14'!E459","v":"VITAL GAS"},{"$f":"'[1]87-0-14'!F459","v":"CALENTADOR ELECTR"},{"$f":"'[1]87-0-14'!G459*(1+$E$13)","v":14937.4275}]
[{"$f":"'[1]87-0-14'!B460","v":"CE17A"},{"$f":"'[1]87-0-14'!D460","v":"CALENTADOR ELECTRICO 17"},{"$f":"'[1]87-0-14'!E460","v":"VITAL GAS"},{"$f":"'[1]87-0-14'!F460","v":"CALENTADOR ELECTR"},{"$f":"'[1]87-0-14'!G460*(1+$E$13)","v":16295.3825}]
[{"$f":"'[1]87-0-14'!B461","v":"CE22A"},{"$f":"'[1]87-0-14'!D461","v":"CALENTADOR ELECTRICO 22"},{"$f":"'[1]87-0-14'!E461","v":"VITAL GAS"},{"$f":"'[1]87-0-14'!F461","v":"CALENTADOR ELECTR"},{"$f":"'[1]87-0-14'!G461*(1+$E$13)","v":21727.1715}]
[{"$f":"'[1]87-0-14'!B462","v":"CMLDD"},{"$f":"'[1]87-0-14'!D462","v":"CAN META LAVARR DOBL"},{"$f":"'[1]87-0-14'!E462","v":"DUKE."},{"$f":"'[1]87-0-14'!F462","v":"CANILLA METAL"},{"$f":"'[1]87-0-14'!G462*(1+$E$13)","v":20704.559000000001}]
[{"$f":"'[1]87-0-14'!B463","v":"CML1D"},{"$f":"'[1]87-0-14'!D463","v":"CAN METAL M/LARGA 1\""},{"$f":"'[1]87-0-14'!E463","v":"DUKE."},{"$f":"'[1]87-0-14'!F463","v":"CANILLA METAL"},{"$f":"'[1]87-0-14'!G463*(1+$E$13)","v":90473.980500000005}]
[{"$f":"'[1]87-0-14'!B464","v":"CPI1D"},{"$f":"'[1]87-0-14'!D464","v":"CAN PLAS INDUSTRI 1\""},{"$f":"'[1]87-0-14'!E464","v":"DUKE"},{"$f":"'[1]87-0-14'!F464","v":"CANILLA PLASTICA"},{"$f":"'[1]87-0-14'!G464*(1+$E$13)","v":11091.1335}]
[{"$f":"'[1]87-0-14'!B465","v":"CPL12D"},{"$f":"'[1]87-0-14'!D465","v":"CAN PLAS M/LARGA 1/2"},{"$f":"'[1]87-0-14'!E465","v":"DUKE"},{"$f":"'[1]87-0-14'!F465","v":"CANILLA PLASTICA"},{"$f":"'[1]87-0-14'!G465*(1+$E$13)","v":3206.9344999999998}]
[{"$f":"'[1]87-0-14'!B466","v":"CPL34D"},{"$f":"'[1]87-0-14'!D466","v":"CAN PLAS M/LARGA 3/4"},{"$f":"'[1]87-0-14'!E466","v":"DUKE"},{"$f":"'[1]87-0-14'!F466","v":"CANILLA PLASTICA"},{"$f":"'[1]87-0-14'!G466*(1+$E$13)","v":4191.9594999999999}]
[{"$f":"'[1]87-0-14'!B467","v":"CPM12D"},{"$f":"'[1]87-0-14'!D467","v":"CAN PLAS M/MARIP 1/2"},{"$f":"'[1]87-0-14'!E467","v":"DUKE"},{"$f":"'[1]87-0-14'!F467","v":"CANILLA PLASTICA"},{"$f":"'[1]87-0-14'!G467*(1+$E$13)","v":3206.9344999999998}]
[{"$f":"'[1]87-0-14'!B468","v":"CPM34D"},{"$f":"'[1]87-0-14'!D468","v":"CAN PLAS M/MARIP 3/4"},{"$f":"'[1]87-0-14'!E468","v":"DUKE"},{"$f":"'[1]87-0-14'!F468","v":"CANILLA PLASTICA"},{"$f":"'[1]87-0-14'!G468*(1+$E$13)","v":4191.9594999999999}]
[{"$f":"'[1]87-0-14'!B469","v":"CVR34D"},{"$f":"'[1]87-0-14'!D469","v":"CANAS METAL VAL RETEN 3/4"},{"$f":"'[1]87-0-14'!E469","v":"DUKE."},{"$f":"'[1]87-0-14'!F469","v":"CANASTO VALV RETE"},{"$f":"'[1]87-0-14'!G469*(1+$E$13)","v":2683.0965000000001}]
[{"$f":"'[1]87-0-14'!B470","v":"CVR1D"},{"$f":"'[1]87-0-14'!D470","v":"CANAS METAL VALV RETEN 1\""},{"$f":"'[1]87-0-14'!E470","v":"DUKE."},{"$f":"'[1]87-0-14'!F470","v":"CANASTO VALV RETE"},{"$f":"'[1]87-0-14'!G470*(1+$E$13)","v":733.70800000000008}]
[{"$f":"'[1]87-0-14'!B471","v":"CPVR34D"},{"$f":"'[1]87-0-14'!D471","v":"CANAS PLASTIC V/RETEN 3/4"},{"$f":"'[1]87-0-14'!E471","v":"DUKE"},{"$f":"'[1]87-0-14'!F471","v":"CANASTO VALV RETE"},{"$f":"'[1]87-0-14'!G471*(1+$E$13)","v":989.11699999999996}]
[{"$f":"'[1]87-0-14'!B472","v":"CPVR1D"},{"$f":"'[1]87-0-14'!D472","v":"CANAST PLASTIC V/RETEN 1\""},{"$f":"'[1]87-0-14'!E472","v":"DUKE"},{"$f":"'[1]87-0-14'!F472","v":"CANASTO VALV RETE"},{"$f":"'[1]87-0-14'!G472*(1+$E$13)","v":1758.3820000000001}]
[{"$f":"'[1]87-0-14'!B473","v":"CE32M"},{"$f":"'[1]87-0-14'!D473","v":"CAND ESPEJADO GRUESO 32mm"},{"$f":"'[1]87-0-14'!E473","v":"MACAO"},{"$f":"'[1]87-0-14'!F473","v":"CANDADO"},{"$f":"'[1]87-0-14'!G473*(1+$E$13)","v":2925.904}]
[{"$f":"'[1]87-0-14'!B474","v":"CE38M"},{"$f":"'[1]87-0-14'!D474","v":"CAND ESPEJADO GRUESO 38mm"},{"$f":"'[1]87-0-14'!E474","v":"MACAO"},{"$f":"'[1]87-0-14'!F474","v":"CANDADO"},{"$f":"'[1]87-0-14'!G474*(1+$E$13)","v":3340.0330000000004}]
[{"$f":"'[1]87-0-14'!B475","v":"CE50M"},{"$f":"'[1]87-0-14'!D475","v":"CAND ESPEJADO GRUESO 50mm"},{"$f":"'[1]87-0-14'!E475","v":"MACAO"},{"$f":"'[1]87-0-14'!F475","v":"CANDADO"},{"$f":"'[1]87-0-14'!G475*(1+$E$13)","v":5444.2664999999997}]
[{"$f":"'[1]87-0-14'!B476","v":"CE63M"},{"$f":"'[1]87-0-14'!D476","v":"CAND ESPEJADO GRUESO 63mm"},{"$f":"'[1]87-0-14'!E476","v":"MACAO"},{"$f":"'[1]87-0-14'!F476","v":"CANDADO"},{"$f":"'[1]87-0-14'!G476*(1+$E$13)","v":9198.4904999999999}]
[{"$f":"'[1]87-0-14'!B477","v":"CS40T"},{"$f":"'[1]87-0-14'!D477","v":"CAND SEG LL/DOBL PALET 40"},{"$f":"'[1]87-0-14'!E477","v":"TRABEX"},{"$f":"'[1]87-0-14'!F477","v":"CANDADO"},{"$f":"'[1]87-0-14'!G477*(1+$E$13)","v":23503.672999999999}]
[{"$f":"'[1]87-0-14'!B478","v":"CS50T"},{"$f":"'[1]87-0-14'!D478","v":"CAND SEG LL/DOBL PALET 50"},{"$f":"'[1]87-0-14'!E478","v":"TRABEX"},{"$f":"'[1]87-0-14'!F478","v":"CANDADO"},{"$f":"'[1]87-0-14'!G478*(1+$E$13)","v":28073.801500000001}]
[{"$f":"'[1]87-0-14'!B479","v":"CL30P"},{"$f":"'[1]87-0-14'!D479","v":"CANDA LAMINADO N 705 30mm"},{"$f":"'[1]87-0-14'!E479","v":"PRIVE"},{"$f":"'[1]87-0-14'!F479","v":"CANDADO"},{"$f":"'[1]87-0-14'!G479*(1+$E$13)","v":10814.815000000001}]
[{"$f":"'[1]87-0-14'!B480","v":"CL40P"},{"$f":"'[1]87-0-14'!D480","v":"CANDA LAMINADO N 706 40mm"},{"$f":"'[1]87-0-14'!E480","v":"PRIVE"},{"$f":"'[1]87-0-14'!F480","v":"CANDADO"},{"$f":"'[1]87-0-14'!G480*(1+$E$13)","v":15884.477499999999}]
[{"$f":"'[1]87-0-14'!B481","v":"CL50P"},{"$f":"'[1]87-0-14'!D481","v":"CANDA LAMINADO N 707 50mm"},{"$f":"'[1]87-0-14'!E481","v":"PRIVE"},{"$f":"'[1]87-0-14'!F481","v":"CANDADO"},{"$f":"'[1]87-0-14'!G481*(1+$E$13)","v":22557.862999999998}]
[{"$f":"'[1]87-0-14'!B482","v":"CD32M"},{"$f":"'[1]87-0-14'!D482","v":"CANDAD DORADO GRUESO 32mm"},{"$f":"'[1]87-0-14'!E482","v":"MACAO"},{"$f":"'[1]87-0-14'!F482","v":"CANDADO"},{"$f":"'[1]87-0-14'!G482*(1+$E$13)","v":2391.1849999999999}]
[{"$f":"'[1]87-0-14'!B483","v":"CD38M"},{"$f":"'[1]87-0-14'!D483","v":"CANDAD DORADO GRUESO 38mm"},{"$f":"'[1]87-0-14'!E483","v":"MACAO"},{"$f":"'[1]87-0-14'!F483","v":"CANDADO"},{"$f":"'[1]87-0-14'!G483*(1+$E$13)","v":2728.5425}]
[{"$f":"'[1]87-0-14'!B484","v":"CD50M"},{"$f":"'[1]87-0-14'!D484","v":"CANDAD DORADO GRUESO 50mm"},{"$f":"'[1]87-0-14'!E484","v":"MACAO"},{"$f":"'[1]87-0-14'!F484","v":"CANDADO"},{"$f":"'[1]87-0-14'!G484*(1+$E$13)","v":4445.0280000000002}]
[{"$f":"'[1]87-0-14'!B485","v":"CD63M"},{"$f":"'[1]87-0-14'!D485","v":"CANDAD DORADO GRUESO 63mm"},{"$f":"'[1]87-0-14'!E485","v":"MACAO"},{"$f":"'[1]87-0-14'!F485","v":"CANDADO"},{"$f":"'[1]87-0-14'!G485*(1+$E$13)","v":7510.3389999999999}]
[{"$f":"'[1]87-0-14'!B486","v":"CN30P"},{"$f":"'[1]87-0-14'!D486","v":"CANDADADO NUMERIC 30"},{"$f":"'[1]87-0-14'!E486","v":"PRIVE"},{"$f":"'[1]87-0-14'!F486","v":"CANDADO COMB NUME"},{"$f":"'[1]87-0-14'!G486*(1+$E$13)","v":24992.0605}]
[{"$f":"'[1]87-0-14'!B487","v":"CB30P"},{"$f":"'[1]87-0-14'!D487","v":"CANDADO BRONCE 700 30mm"},{"$f":"'[1]87-0-14'!E487","v":"PROLL"},{"$f":"'[1]87-0-14'!F487","v":"CANDADO"},{"$f":"'[1]87-0-14'!G487*(1+$E$13)","v":11701.880000000001}]
[{"$f":"'[1]87-0-14'!B488","v":"CB40P"},{"$f":"'[1]87-0-14'!D488","v":"CANDADO BRONCE 700 40mm"},{"$f":"'[1]87-0-14'!E488","v":"PROLL"},{"$f":"'[1]87-0-14'!F488","v":"CANDADO"},{"$f":"'[1]87-0-14'!G488*(1+$E$13)","v":19115.158000000003}]
[{"$f":"'[1]87-0-14'!B489","v":"CB50P"},{"$f":"'[1]87-0-14'!D489","v":"CANDADO BRONCE 700 50mm"},{"$f":"'[1]87-0-14'!E489","v":"PROLL"},{"$f":"'[1]87-0-14'!F489","v":"CANDADO"},{"$f":"'[1]87-0-14'!G489*(1+$E$13)","v":32551.736000000001}]
[{"$f":"'[1]87-0-14'!B490","v":"CB60P"},{"$f":"'[1]87-0-14'!D490","v":"CANDADO BRONCE 700 60mm"},{"$f":"'[1]87-0-14'!E490","v":"PROLL"},{"$f":"'[1]87-0-14'!F490","v":"CANDADO"},{"$f":"'[1]87-0-14'!G490*(1+$E$13)","v":45471.559500000003}]
[{"$f":"'[1]87-0-14'!B491","v":"C30T"},{"$f":"'[1]87-0-14'!D491","v":"CANDADO DOB/TRABA 30"},{"$f":"'[1]87-0-14'!E491","v":"TRABEX"},{"$f":"'[1]87-0-14'!F491","v":"CANDADO"},{"$f":"'[1]87-0-14'!G491*(1+$E$13)","v":38054.608}]
[{"$f":"'[1]87-0-14'!B492","v":"C40T"},{"$f":"'[1]87-0-14'!D492","v":"CANDADO DOB/TRABA 40"},{"$f":"'[1]87-0-14'!E492","v":"TRABEX"},{"$f":"'[1]87-0-14'!F492","v":"CANDADO"},{"$f":"'[1]87-0-14'!G492*(1+$E$13)","v":47545.599000000002}]
[{"$f":"'[1]87-0-14'!B493","v":"C50T"},{"$f":"'[1]87-0-14'!D493","v":"CANDADO DOB/TRABA 50"},{"$f":"'[1]87-0-14'!E493","v":"TRABEX"},{"$f":"'[1]87-0-14'!F493","v":"CANDADO"},{"$f":"'[1]87-0-14'!G493*(1+$E$13)","v":64145.370500000005}]
[{"$f":"'[1]87-0-14'!B494","v":"CDPP"},{"$f":"'[1]87-0-14'!D494","v":"CANDADO DOBLE PALETA"},{"$f":"'[1]87-0-14'!E494","v":"PRIVE"},{"$f":"'[1]87-0-14'!F494","v":"CANDADO DOBLE PAL"},{"$f":"'[1]87-0-14'!G494*(1+$E$13)","v":29732.580500000004}]
[{"$f":"'[1]87-0-14'!B495","v":"CGT"},{"$f":"'[1]87-0-14'!D495","v":"CANDADO GRANDE"},{"$f":"'[1]87-0-14'!E495","v":"TRABEX"},{"$f":"'[1]87-0-14'!F495","v":"CANDADO BLINDADO"},{"$f":"'[1]87-0-14'!G495*(1+$E$13)","v":89164.896999999997}]
[{"$f":"'[1]87-0-14'!B496","v":"CK40P"},{"$f":"'[1]87-0-14'!D496","v":"CANDADO L/CODIF KRONOS 40"},{"$f":"'[1]87-0-14'!E496","v":"PROLL"},{"$f":"'[1]87-0-14'!F496","v":"CANDADO"},{"$f":"'[1]87-0-14'!G496*(1+$E$13)","v":18762.3315}]
[{"$f":"'[1]87-0-14'!B497","v":"CK50P"},{"$f":"'[1]87-0-14'!D497","v":"CANDADO L/CODIF KRONOS 50"},{"$f":"'[1]87-0-14'!E497","v":"PROLL"},{"$f":"'[1]87-0-14'!F497","v":"CANDADO"},{"$f":"'[1]87-0-14'!G497*(1+$E$13)","v":24510.971500000003}]
[{"$f":"'[1]87-0-14'!B498","v":"CMT"},{"$f":"'[1]87-0-14'!D498","v":"CANDADO MEDIANO"},{"$f":"'[1]87-0-14'!E498","v":"TRABEX"},{"$f":"'[1]87-0-14'!F498","v":"CANDADO BLINDADO"},{"$f":"'[1]87-0-14'!G498*(1+$E$13)","v":88347.411500000002}]
[{"$f":"'[1]87-0-14'!B499","v":"CT30P"},{"$f":"'[1]87-0-14'!D499","v":"CANDADO TITANIO D/TR N 30"},{"$f":"'[1]87-0-14'!E499","v":"PROLL"},{"$f":"'[1]87-0-14'!F499","v":"CANDADO TITANIO"},{"$f":"'[1]87-0-14'!G499*(1+$E$13)","v":5857.4034999999994}]
[{"$f":"'[1]87-0-14'!B500","v":"CT40P"},{"$f":"'[1]87-0-14'!D500","v":"CANDADO TITANIO D/TR N 40"},{"$f":"'[1]87-0-14'!E500","v":"PROLL"},{"$f":"'[1]87-0-14'!F500","v":"CANDADO TITANIO"},{"$f":"'[1]87-0-14'!G500*(1+$E$13)","v":7112.3454999999994}]
[{"$f":"'[1]87-0-14'!B501","v":"CT50P"},{"$f":"'[1]87-0-14'!D501","v":"CANDADO TITANIO D/TR N 50"},{"$f":"'[1]87-0-14'!E501","v":"PROLL"},{"$f":"'[1]87-0-14'!F501","v":"CANDADO TITANIO"},{"$f":"'[1]87-0-14'!G501*(1+$E$13)","v":10880.550500000001}]
[{"$f":"'[1]87-0-14'!B502","v":"CT60P"},{"$f":"'[1]87-0-14'!D502","v":"CANDADO TITANIO D/TR N 60"},{"$f":"'[1]87-0-14'!E502","v":"PROLL"},{"$f":"'[1]87-0-14'!F502","v":"CANDADO TITANIO"},{"$f":"'[1]87-0-14'!G502*(1+$E$13)","v":14344.878000000001}]
[{"$f":"'[1]87-0-14'!B503","v":"CPLDD"},{"$f":"'[1]87-0-14'!D503","v":"CANI PLAS DOBLE LAVARROPA"},{"$f":"'[1]87-0-14'!E503","v":"DUKE"},{"$f":"'[1]87-0-14'!F503","v":"CANILLA PLASTICA"},{"$f":"'[1]87-0-14'!G503*(1+$E$13)","v":7084.8020000000006}]
[{"$f":"'[1]87-0-14'!B504","v":"CB12L"},{"$f":"'[1]87-0-14'!D504","v":"CANILLA BRONCE M/LARG 1/2"},{"$f":"'[1]87-0-14'!E504","v":"LATYN"},{"$f":"'[1]87-0-14'!F504","v":"CANILLA BRONCE"},{"$f":"'[1]87-0-14'!G504*(1+$E$13)","v":6985.1369999999997}]
[{"$f":"'[1]87-0-14'!B505","v":"CB34L"},{"$f":"'[1]87-0-14'!D505","v":"CANILLA BRONCE M/LARG 3/4"},{"$f":"'[1]87-0-14'!E505","v":"LATYN"},{"$f":"'[1]87-0-14'!F505","v":"CANILLA BRONCE"},{"$f":"'[1]87-0-14'!G505*(1+$E$13)","v":10465.166000000001}]
[{"$f":"'[1]87-0-14'!B506","v":"CM12L"},{"$f":"'[1]87-0-14'!D506","v":"CANILLA METAL M/LARGA 1/2"},{"$f":"'[1]87-0-14'!E506","v":"LATYN"},{"$f":"'[1]87-0-14'!F506","v":"CANILLA METAL"},{"$f":"'[1]87-0-14'!G506*(1+$E$13)","v":5593.1905000000006}]
[{"$f":"'[1]87-0-14'!B507","v":"CM34L"},{"$f":"'[1]87-0-14'!D507","v":"CANILLA METAL M/LARGA 3/4"},{"$f":"'[1]87-0-14'!E507","v":"LATYN"},{"$f":"'[1]87-0-14'!F507","v":"CANILLA METAL"},{"$f":"'[1]87-0-14'!G507*(1+$E$13)","v":8681.5035000000007}]
[{"$f":"'[1]87-0-14'!B508","v":"CAR12A"},{"$f":"'[1]87-0-14'!D508","v":"CANO ALUM ROLLO  1/2"},{"$f":"'[1]87-0-14'!E508","v":"ALEX"},{"$f":"'[1]87-0-14'!F508","v":"CAÑO ALUMINIO ROL"},{"$f":"'[1]87-0-14'!G508*(1+$E$13)","v":35862.288}]
[{"$f":"'[1]87-0-14'!B509","v":"CAR14A"},{"$f":"'[1]87-0-14'!D509","v":"CANO ALUM ROLLO  1/4"},{"$f":"'[1]87-0-14'!E509","v":"ALEX"},{"$f":"'[1]87-0-14'!F509","v":"CAÑO ALUMINIO ROL"},{"$f":"'[1]87-0-14'!G509*(1+$E$13)","v":35862.288}]
[{"$f":"'[1]87-0-14'!B510","v":"CAR38A"},{"$f":"'[1]87-0-14'!D510","v":"CANO ALUM ROLLO  3/8"},{"$f":"'[1]87-0-14'!E510","v":"ALEX"},{"$f":"'[1]87-0-14'!F510","v":"CAÑO ALUMINIO ROL"},{"$f":"'[1]87-0-14'!G510*(1+$E$13)","v":35862.288}]
[{"$f":"'[1]87-0-14'!B511","v":"CAR516A"},{"$f":"'[1]87-0-14'!D511","v":"CANO ALUM ROLLO 5/16"},{"$f":"'[1]87-0-14'!E511","v":"ALEX"},{"$f":"'[1]87-0-14'!F511","v":"CAÑO ALUMINIO ROL"},{"$f":"'[1]87-0-14'!G511*(1+$E$13)","v":35862.288}]
[{"$f":"'[1]87-0-14'!B512","v":"CHE12A"},{"$f":"'[1]87-0-14'!D512","v":"CANO HIERRO ECON 1/2"},{"$f":"'[1]87-0-14'!E512","v":"ALEX"},{"$f":"'[1]87-0-14'!F512","v":"CAÑO HIERRO ECON."},{"$f":"'[1]87-0-14'!G512*(1+$E$13)","v":2049.1309999999999}]
[{"$f":"'[1]87-0-14'!B513","v":"CHE34A"},{"$f":"'[1]87-0-14'!D513","v":"CANO HIERRO ECON 3/4"},{"$f":"'[1]87-0-14'!E513","v":"ALEX"},{"$f":"'[1]87-0-14'!F513","v":"CAÑO HIERRO ECON."},{"$f":"'[1]87-0-14'!G513*(1+$E$13)","v":3333.5229999999997}]
[{"$f":"'[1]87-0-14'!B514","v":"CHE58A"},{"$f":"'[1]87-0-14'!D514","v":"CANO HIERRO ECON 5/8"},{"$f":"'[1]87-0-14'!E514","v":"ALEX"},{"$f":"'[1]87-0-14'!F514","v":"CAÑO HIERRO ECON."},{"$f":"'[1]87-0-14'!G514*(1+$E$13)","v":2664.3724999999999}]
[{"$f":"'[1]87-0-14'!B515","v":"CM312A"},{"$f":"'[1]87-0-14'!D515","v":"CANO MATE (3mts) 1/2"},{"$f":"'[1]87-0-14'!E515","v":"ALEX"},{"$f":"'[1]87-0-14'!F515","v":"CAÑO MATE"},{"$f":"'[1]87-0-14'!G515*(1+$E$13)","v":2492.7874999999999}]
[{"$f":"'[1]87-0-14'!B516","v":"CM334A"},{"$f":"'[1]87-0-14'!D516","v":"CANO MATE (3mts) 3/4"},{"$f":"'[1]87-0-14'!E516","v":"ALEX"},{"$f":"'[1]87-0-14'!F516","v":"CAÑO MATE"},{"$f":"'[1]87-0-14'!G516*(1+$E$13)","v":5157.16}]
[{"$f":"'[1]87-0-14'!B517","v":"CM358A"},{"$f":"'[1]87-0-14'!D517","v":"CANO MATE (3mts) 5/8"},{"$f":"'[1]87-0-14'!E517","v":"ALEX"},{"$f":"'[1]87-0-14'!F517","v":"CAÑO MATE"},{"$f":"'[1]87-0-14'!G517*(1+$E$13)","v":3559.0169999999998}]
[{"$f":"'[1]87-0-14'!B518","v":"CM412A"},{"$f":"'[1]87-0-14'!D518","v":"CANO MATE (4mts) 1/2"},{"$f":"'[1]87-0-14'!E518","v":"ALEX"},{"$f":"'[1]87-0-14'!F518","v":"CAÑO MATE"},{"$f":"'[1]87-0-14'!G518*(1+$E$13)","v":2492.7874999999999}]
[{"$f":"'[1]87-0-14'!B519","v":"CM434A"},{"$f":"'[1]87-0-14'!D519","v":"CANO MATE (4mts) 3/4"},{"$f":"'[1]87-0-14'!E519","v":"ALEX"},{"$f":"'[1]87-0-14'!F519","v":"CAÑO MATE"},{"$f":"'[1]87-0-14'!G519*(1+$E$13)","v":5157.16}]
[{"$f":"'[1]87-0-14'!B520","v":"CM458A"},{"$f":"'[1]87-0-14'!D520","v":"CANO MATE (4mts) 5/8"},{"$f":"'[1]87-0-14'!E520","v":"ALEX"},{"$f":"'[1]87-0-14'!F520","v":"CAÑO MATE"},{"$f":"'[1]87-0-14'!G520*(1+$E$13)","v":3559.0169999999998}]
[{"$f":"'[1]87-0-14'!B521","v":"COS"},{"$f":"'[1]87-0-14'!D521","v":"CANO OVALADO PLACARD"},{"$f":"'[1]87-0-14'!E521","v":"SABELCORT"},{"$f":"'[1]87-0-14'!F521","v":"CAÑO OVALADO"},{"$f":"'[1]87-0-14'!G521*(1+$E$13)","v":12585.705500000002}]
[{"$f":"'[1]87-0-14'!B522","v":"CFCV"},{"$f":"'[1]87-0-14'!D522","v":"CAPSULA P/FICHA CALEFON"},{"$f":"'[1]87-0-14'!E522","v":"VITAL GAS"},{"$f":"'[1]87-0-14'!F522","v":"REPUESTO CALEFON"},{"$f":"'[1]87-0-14'!G522*(1+$E$13)","v":471.21550000000002}]
[{"$f":"'[1]87-0-14'!B523","v":"C07V"},{"$f":"'[1]87-0-14'!D523","v":"CARBON #07# 18x12x6,3 M/M"},{"$f":"'[1]87-0-14'!E523","v":"VITAL GAS"},{"$f":"'[1]87-0-14'!F523","v":"CARBON"},{"$f":"'[1]87-0-14'!G523*(1+$E$13)","v":2976.3720000000003}]
[{"$f":"'[1]87-0-14'!B524","v":"C102V"},{"$f":"'[1]87-0-14'!D524","v":"CARBON #102# 13x7x6 TA/DE"},{"$f":"'[1]87-0-14'!E524","v":"VITAL GAS"},{"$f":"'[1]87-0-14'!F524","v":"CARBON"},{"$f":"'[1]87-0-14'!G524*(1+$E$13)","v":3494.2580000000003}]
[{"$f":"'[1]87-0-14'!B525","v":"C103V"},{"$f":"'[1]87-0-14'!D525","v":"CARBON #103# 14x7x6 AM/DE"},{"$f":"'[1]87-0-14'!E525","v":"VITAL GAS"},{"$f":"'[1]87-0-14'!F525","v":"CARBON"},{"$f":"'[1]87-0-14'!G525*(1+$E$13)","v":2976.3720000000003}]
[{"$f":"'[1]87-0-14'!B526","v":"C104V"},{"$f":"'[1]87-0-14'!D526","v":"CARBON #104# 24x12x6 DEWA"},{"$f":"'[1]87-0-14'!E526","v":"VITAL GAS"},{"$f":"'[1]87-0-14'!F526","v":"CARBON"},{"$f":"'[1]87-0-14'!G526*(1+$E$13)","v":3516.4695000000002}]
[{"$f":"'[1]87-0-14'!B527","v":"C111V"},{"$f":"'[1]87-0-14'!D527","v":"CARBON #111# 18x7,9x6 DEW"},{"$f":"'[1]87-0-14'!E527","v":"VITAL GAS"},{"$f":"'[1]87-0-14'!F527","v":"CARBON"},{"$f":"'[1]87-0-14'!G527*(1+$E$13)","v":3516.4695000000002}]
[{"$f":"'[1]87-0-14'!B528","v":"C114V"},{"$f":"'[1]87-0-14'!D528","v":"CARBON #114# 24x9,8x6,1 D"},{"$f":"'[1]87-0-14'!E528","v":"VITAL GAS"},{"$f":"'[1]87-0-14'!F528","v":"CARBON"},{"$f":"'[1]87-0-14'!G528*(1+$E$13)","v":3516.4695000000002}]
[{"$f":"'[1]87-0-14'!B529","v":"C116V"},{"$f":"'[1]87-0-14'!D529","v":"CARBON #116# 12x5x8 B&D"},{"$f":"'[1]87-0-14'!E529","v":"VITAL GAS"},{"$f":"'[1]87-0-14'!F529","v":"CARBON"},{"$f":"'[1]87-0-14'!G529*(1+$E$13)","v":3516.4695000000002}]
[{"$f":"'[1]87-0-14'!B530","v":"C13V"},{"$f":"'[1]87-0-14'!D530","v":"CARBON #13# 16x6x6  BL&DE"},{"$f":"'[1]87-0-14'!E530","v":"VITAL GAS"},{"$f":"'[1]87-0-14'!F530","v":"CARBON"},{"$f":"'[1]87-0-14'!G530*(1+$E$13)","v":2281.9720000000002}]
[{"$f":"'[1]87-0-14'!B531","v":"C205V"},{"$f":"'[1]87-0-14'!D531","v":"CARBON #205# 7x16x18 MA/A"},{"$f":"'[1]87-0-14'!E531","v":"VITAL GAS"},{"$f":"'[1]87-0-14'!F531","v":"CARBON"},{"$f":"'[1]87-0-14'!G531*(1+$E$13)","v":3968.2945}]
[{"$f":"'[1]87-0-14'!B532","v":"C27V"},{"$f":"'[1]87-0-14'!D532","v":"CARBON #27# 18x18x7 AM/MA"},{"$f":"'[1]87-0-14'!E532","v":"VITAL GAS"},{"$f":"'[1]87-0-14'!F532","v":"CARBON"},{"$f":"'[1]87-0-14'!G532*(1+$E$13)","v":3306.6150000000002}]
[{"$f":"'[1]87-0-14'!B533","v":"C3BV"},{"$f":"'[1]87-0-14'!D533","v":"CARBON #3 BIS# 18x7x5 AMO"},{"$f":"'[1]87-0-14'!E533","v":"VITAL GAS"},{"$f":"'[1]87-0-14'!F533","v":"CARBON"},{"$f":"'[1]87-0-14'!G533*(1+$E$13)","v":2976.3720000000003}]
[{"$f":"'[1]87-0-14'!B534","v":"C3V"},{"$f":"'[1]87-0-14'!D534","v":"CARBON #3# 18x8x5 HIT/BOS"},{"$f":"'[1]87-0-14'!E534","v":"VITAL GAS"},{"$f":"'[1]87-0-14'!F534","v":"CARBON"},{"$f":"'[1]87-0-14'!G534*(1+$E$13)","v":2976.3720000000003}]
[{"$f":"'[1]87-0-14'!B535","v":"C317V"},{"$f":"'[1]87-0-14'!D535","v":"CARBON #317# 6x8x13 AMOLA"},{"$f":"'[1]87-0-14'!E535","v":"VITAL GAS"},{"$f":"'[1]87-0-14'!F535","v":"CARBON"},{"$f":"'[1]87-0-14'!G535*(1+$E$13)","v":3310.3039999999996}]
[{"$f":"'[1]87-0-14'!B536","v":"CPNPMD"},{"$f":"'[1]87-0-14'!D536","v":"CARR PVC NGR C/P R/MACIZA"},{"$f":"'[1]87-0-14'!E536","v":"DUROLL"},{"$f":"'[1]87-0-14'!F536","v":"CARRETILLA"},{"$f":"'[1]87-0-14'!G536*(1+$E$13)","v":196558.755}]
[{"$f":"'[1]87-0-14'!B537","v":"CPNPND"},{"$f":"'[1]87-0-14'!D537","v":"CARR PVC NGR C/P R/NEUMAT"},{"$f":"'[1]87-0-14'!E537","v":"DUROLL"},{"$f":"'[1]87-0-14'!F537","v":"CARRETILLA"},{"$f":"'[1]87-0-14'!G537*(1+$E$13)","v":240051.5845}]
[{"$f":"'[1]87-0-14'!B538","v":"CCM80D"},{"$f":"'[1]87-0-14'!D538","v":"CARRET CHAPA R/MACIZA  80"},{"$f":"'[1]87-0-14'!E538","v":"DUROLL"},{"$f":"'[1]87-0-14'!F538","v":"CARRETILLA"},{"$f":"'[1]87-0-14'!G538*(1+$E$13)","v":183513.552}]
[{"$f":"'[1]87-0-14'!B539","v":"CCM100D"},{"$f":"'[1]87-0-14'!D539","v":"CARRET CHAPA R/MACIZA 100"},{"$f":"'[1]87-0-14'!E539","v":"DUROLL"},{"$f":"'[1]87-0-14'!F539","v":"CARRETILLA"},{"$f":"'[1]87-0-14'!G539*(1+$E$13)","v":220665.595}]
[{"$f":"'[1]87-0-14'!B540","v":"CCN80D"},{"$f":"'[1]87-0-14'!D540","v":"CARRET CHAPA R/NEUMAT  80"},{"$f":"'[1]87-0-14'!E540","v":"DUROLL"},{"$f":"'[1]87-0-14'!F540","v":"CARRETILLA"},{"$f":"'[1]87-0-14'!G540*(1+$E$13)","v":251237.39200000002}]
[{"$f":"'[1]87-0-14'!B541","v":"CCN100D"},{"$f":"'[1]87-0-14'!D541","v":"CARRET CHAPA R/NEUMAT 100"},{"$f":"'[1]87-0-14'!E541","v":"DUROLL"},{"$f":"'[1]87-0-14'!F541","v":"CARRETILLA"},{"$f":"'[1]87-0-14'!G541*(1+$E$13)","v":298413.50199999998}]
[{"$f":"'[1]87-0-14'!B542","v":"CND"},{"$f":"'[1]87-0-14'!D542","v":"CARRETA PROFES R/NEUMATIC"},{"$f":"'[1]87-0-14'!E542","v":"DUROLL"},{"$f":"'[1]87-0-14'!F542","v":"CARRETA"},{"$f":"'[1]87-0-14'!G542*(1+$E$13)","v":216367.44500000001}]
[{"$f":"'[1]87-0-14'!B543","v":"CMD"},{"$f":"'[1]87-0-14'!D543","v":"CARRETA PROFES RUE/MACIZA"},{"$f":"'[1]87-0-14'!E543","v":"DUROLL"},{"$f":"'[1]87-0-14'!F543","v":"CARRETA"},{"$f":"'[1]87-0-14'!G543*(1+$E$13)","v":141306.63350000003}]
[{"$f":"'[1]87-0-14'!B544","v":"CA"},{"$f":"'[1]87-0-14'!D544","v":"CARRETEL BORDEA CON TRABA"},{"$f":"'[1]87-0-14'!E544","v":"ALIGAS"},{"$f":"'[1]87-0-14'!F544","v":"CARRETEL"},{"$f":"'[1]87-0-14'!G544*(1+$E$13)","v":806.83699999999999}]
[{"$f":"'[1]87-0-14'!B545","v":"CAV"},{"$f":"'[1]87-0-14'!D545","v":"CARRETEL UNIV #AUTOMATICO"},{"$f":"'[1]87-0-14'!E545","v":"VITAL GAS"},{"$f":"'[1]87-0-14'!F545","v":"CARRETEL"},{"$f":"'[1]87-0-14'!G545*(1+$E$13)","v":1738.1855000000003}]
[{"$f":"'[1]87-0-14'!B546","v":"CAA"},{"$f":"'[1]87-0-14'!D546","v":"CARTUCHO GAS BUTANO 227g"},{"$f":"'[1]87-0-14'!E546","v":"VITAL GAS"},{"$f":"'[1]87-0-14'!F546","v":"CARTUCHO"},{"$f":"'[1]87-0-14'!G546*(1+$E$13)","v":5228.1035000000002}]
[{"$f":"'[1]87-0-14'!B547","v":"CPF5F"},{"$f":"'[1]87-0-14'!D547","v":"CATALIZ PRENS FRIA 5"},{"$f":"'[1]87-0-14'!E547","v":"FORTEX"},{"$f":"'[1]87-0-14'!F547","v":"CATALI PRENS FRIA"},{"$f":"'[1]87-0-14'!G547*(1+$E$13)","v":61782.504000000001}]
[{"$f":"'[1]87-0-14'!B548","v":"C200F"},{"$f":"'[1]87-0-14'!D548","v":"CEMEN CONT 101 TAMBOR 200"},{"$f":"'[1]87-0-14'!E548","v":"FORTEX"},{"$f":"'[1]87-0-14'!F548","v":"CEMENTO CONT."},{"$f":"'[1]87-0-14'!G548*(1+$E$13)","v":2420943.7289999998}]
[{"$f":"'[1]87-0-14'!B549","v":"CSI18F"},{"$f":"'[1]87-0-14'!D549","v":"CEMEN SOPLE INCOL 18"},{"$f":"'[1]87-0-14'!E549","v":"FORTEX"},{"$f":"'[1]87-0-14'!F549","v":"CEMENTO SOPLETEAB"},{"$f":"'[1]87-0-14'!G549*(1+$E$13)","v":203073.2035}]
[{"$f":"'[1]87-0-14'!B550","v":"C511F"},{"$f":"'[1]87-0-14'!D550","v":"CEMENTO \"51\"  1 Lt"},{"$f":"'[1]87-0-14'!E550","v":"FORTEX"},{"$f":"'[1]87-0-14'!F550","v":"CEMENTO"},{"$f":"'[1]87-0-14'!G550*(1+$E$13)","v":9715.9735000000001}]
[{"$f":"'[1]87-0-14'!B551","v":"C514F"},{"$f":"'[1]87-0-14'!D551","v":"CEMENTO \"51\"  4 Lt"},{"$f":"'[1]87-0-14'!E551","v":"FORTEX"},{"$f":"'[1]87-0-14'!F551","v":"CEMENTO"},{"$f":"'[1]87-0-14'!G551*(1+$E$13)","v":33444.071000000004}]
[{"$f":"'[1]87-0-14'!B552","v":"C5118F"},{"$f":"'[1]87-0-14'!D552","v":"CEMENTO \"51\" 18 Lt"},{"$f":"'[1]87-0-14'!E552","v":"FORTEX"},{"$f":"'[1]87-0-14'!F552","v":"CEMENTO"},{"$f":"'[1]87-0-14'!G552*(1+$E$13)","v":134858.49400000001}]
[{"$f":"'[1]87-0-14'!B553","v":"C911F"},{"$f":"'[1]87-0-14'!D553","v":"CEMENTO \"91\"   1 Lts"},{"$f":"'[1]87-0-14'!E553","v":"FORTEX"},{"$f":"'[1]87-0-14'!F553","v":"CEMENTO"},{"$f":"'[1]87-0-14'!G553*(1+$E$13)","v":14055.7565}]
[{"$f":"'[1]87-0-14'!B554","v":"C914F"},{"$f":"'[1]87-0-14'!D554","v":"CEMENTO \"91\"  4Lts"},{"$f":"'[1]87-0-14'!E554","v":"FORTEX"},{"$f":"'[1]87-0-14'!F554","v":"CEMENTO"},{"$f":"'[1]87-0-14'!G554*(1+$E$13)","v":49603.162000000004}]
[{"$f":"'[1]87-0-14'!B555","v":"C9110F"},{"$f":"'[1]87-0-14'!D555","v":"CEMENTO \"91\" 10Lts"},{"$f":"'[1]87-0-14'!E555","v":"FORTEX"},{"$f":"'[1]87-0-14'!F555","v":"CEMENTO"},{"$f":"'[1]87-0-14'!G555*(1+$E$13)","v":117841.8965}]
[{"$f":"'[1]87-0-14'!B556","v":"C9118F"},{"$f":"'[1]87-0-14'!D556","v":"CEMENTO \"91\" 18lts"},{"$f":"'[1]87-0-14'!E556","v":"FORTEX"},{"$f":"'[1]87-0-14'!F556","v":"CEMENTO"},{"$f":"'[1]87-0-14'!G556*(1+$E$13)","v":208146.12100000001}]
[{"$f":"'[1]87-0-14'!B557","v":"C8118F"},{"$f":"'[1]87-0-14'!D557","v":"CEMENTO ##81## (VERDE) 18"},{"$f":"'[1]87-0-14'!E557","v":"FORTEX"},{"$f":"'[1]87-0-14'!F557","v":"CEMENTO"},{"$f":"'[1]87-0-14'!G557*(1+$E$13)","v":192875.0405}]
[{"$f":"'[1]87-0-14'!B558","v":"C10F"},{"$f":"'[1]87-0-14'!D558","v":"CEMENTO CONTAC 10Lts"},{"$f":"'[1]87-0-14'!E558","v":"FORTEX"},{"$f":"'[1]87-0-14'!F558","v":"CEMENTO CONT."},{"$f":"'[1]87-0-14'!G558*(1+$E$13)","v":135907.9835}]
[{"$f":"'[1]87-0-14'!B559","v":"C12F"},{"$f":"'[1]87-0-14'!D559","v":"CEMENTO CONTACTO 1/2"},{"$f":"'[1]87-0-14'!E559","v":"FORTEX"},{"$f":"'[1]87-0-14'!F559","v":"CEMENTO CONT."},{"$f":"'[1]87-0-14'!G559*(1+$E$13)","v":9369.0524999999998}]
[{"$f":"'[1]87-0-14'!B560","v":"C14F"},{"$f":"'[1]87-0-14'!D560","v":"CEMENTO CONTACTO 1/4"},{"$f":"'[1]87-0-14'!E560","v":"FORTEX"},{"$f":"'[1]87-0-14'!F560","v":"CEMENTO CONT."},{"$f":"'[1]87-0-14'!G560*(1+$E$13)","v":5782.027}]
[{"$f":"'[1]87-0-14'!B561","v":"C18F"},{"$f":"'[1]87-0-14'!D561","v":"CEMENTO CONTACTO 1/8"},{"$f":"'[1]87-0-14'!E561","v":"FORTEX"},{"$f":"'[1]87-0-14'!F561","v":"CEMENTO CONT."},{"$f":"'[1]87-0-14'!G561*(1+$E$13)","v":4128.1460000000006}]
[{"$f":"'[1]87-0-14'!B562","v":"C18FO"},{"$f":"'[1]87-0-14'!D562","v":"CEMENTO CONTACTO 18l"},{"$f":"'[1]87-0-14'!E562","v":"FORTEX"},{"$f":"'[1]87-0-14'!F562","v":"CEMENTO"},{"$f":"'[1]87-0-14'!G562*(1+$E$13)","v":232648.78449999998}]
[{"$f":"'[1]87-0-14'!B563","v":"C1F"},{"$f":"'[1]87-0-14'!D563","v":"CEMENTO CONTACTO 1Lt"},{"$f":"'[1]87-0-14'!E563","v":"FORTEX"},{"$f":"'[1]87-0-14'!F563","v":"CEMENTO CONT."},{"$f":"'[1]87-0-14'!G563*(1+$E$13)","v":16676.217500000002}]
[{"$f":"'[1]87-0-14'!B564","v":"C4F"},{"$f":"'[1]87-0-14'!D564","v":"CEMENTO CONTACTO 4Lt"},{"$f":"'[1]87-0-14'!E564","v":"FORTEX"},{"$f":"'[1]87-0-14'!F564","v":"CEMENTO CONT."},{"$f":"'[1]87-0-14'!G564*(1+$E$13)","v":59242.782500000001}]
[{"$f":"'[1]87-0-14'!B565","v":"C50F"},{"$f":"'[1]87-0-14'!D565","v":"CEMENTO CONTACTO 50c"},{"$f":"'[1]87-0-14'!E565","v":"FORTEX"},{"$f":"'[1]87-0-14'!F565","v":"CEMENTO CONT."},{"$f":"'[1]87-0-14'!G565*(1+$E$13)","v":2611.7190000000001}]
[{"$f":"'[1]87-0-14'!B566","v":"CST12F"},{"$f":"'[1]87-0-14'!D566","v":"CEMENTO S/TOLUEN 1/2"},{"$f":"'[1]87-0-14'!E566","v":"FORTEX"},{"$f":"'[1]87-0-14'!F566","v":"CEMENTO S/TOLUENO"},{"$f":"'[1]87-0-14'!G566*(1+$E$13)","v":11559.667500000001}]
[{"$f":"'[1]87-0-14'!B567","v":"CST14F"},{"$f":"'[1]87-0-14'!D567","v":"CEMENTO S/TOLUEN 1/4"},{"$f":"'[1]87-0-14'!E567","v":"FORTEX"},{"$f":"'[1]87-0-14'!F567","v":"CEMENTO S/TOLUENO"},{"$f":"'[1]87-0-14'!G567*(1+$E$13)","v":6615.4930000000004}]
[{"$f":"'[1]87-0-14'!B568","v":"CST18F"},{"$f":"'[1]87-0-14'!D568","v":"CEMENTO S/TOLUEN 1/8"},{"$f":"'[1]87-0-14'!E568","v":"FORTEX"},{"$f":"'[1]87-0-14'!F568","v":"CEMENTO S/TOLUENO"},{"$f":"'[1]87-0-14'!G568*(1+$E$13)","v":4499.0609999999997}]
[{"$f":"'[1]87-0-14'!B569","v":"CST18FO"},{"$f":"'[1]87-0-14'!D569","v":"CEMENTO S/TOLUEN 18L"},{"$f":"'[1]87-0-14'!E569","v":"FORTEX"},{"$f":"'[1]87-0-14'!F569","v":"CEMENTO S/TOLUENO"},{"$f":"'[1]87-0-14'!G569*(1+$E$13)","v":304256.35100000002}]
[{"$f":"'[1]87-0-14'!B570","v":"CST1F"},{"$f":"'[1]87-0-14'!D570","v":"CEMENTO S/TOLUEN 1Lt"},{"$f":"'[1]87-0-14'!E570","v":"FORTEX"},{"$f":"'[1]87-0-14'!F570","v":"CEMENTO S/TOLUENO"},{"$f":"'[1]87-0-14'!G570*(1+$E$13)","v":20762.901000000002}]
[{"$f":"'[1]87-0-14'!B571","v":"CST4F"},{"$f":"'[1]87-0-14'!D571","v":"CEMENTO S/TOLUEN 4Lt"},{"$f":"'[1]87-0-14'!E571","v":"FORTEX"},{"$f":"'[1]87-0-14'!F571","v":"CEMENTO S/TOLUENO"},{"$f":"'[1]87-0-14'!G571*(1+$E$13)","v":74459.318499999994}]
[{"$f":"'[1]87-0-14'!B572","v":"CST50F"},{"$f":"'[1]87-0-14'!D572","v":"CEMENTO S/TOLUENO 50"},{"$f":"'[1]87-0-14'!E572","v":"FORTEX"},{"$f":"'[1]87-0-14'!F572","v":"CEMENTO S/TOLUENO"},{"$f":"'[1]87-0-14'!G572*(1+$E$13)","v":2803.7329999999997}]
[{"$f":"'[1]87-0-14'!B573","v":"CST10F"},{"$f":"'[1]87-0-14'!D573","v":"CEMENTO SIN TOLUENO 10 lt"},{"$f":"'[1]87-0-14'!E573","v":"FORTEX"},{"$f":"'[1]87-0-14'!F573","v":"CEMENTO S/TOLUENO"},{"$f":"'[1]87-0-14'!G573*(1+$E$13)","v":176399.56349999999}]
[{"$f":"'[1]87-0-14'!B574","v":"CBCMR"},{"$f":"'[1]87-0-14'!D574","v":"CEP AC/BCEADO C/MANG"},{"$f":"'[1]87-0-14'!E574","v":"RHEIN"},{"$f":"'[1]87-0-14'!F574","v":"CEPILLO"},{"$f":"'[1]87-0-14'!G574*(1+$E$13)","v":3970.8520000000003}]
[{"$f":"'[1]87-0-14'!B575","v":"CC41"},{"$f":"'[1]87-0-14'!D575","v":"CEP CIRC ONDU BCEADO  4X1"},{"$f":"'[1]87-0-14'!E575","v":"RHEIN"},{"$f":"'[1]87-0-14'!F575","v":"CEPILLO CIRCULAR"},{"$f":"'[1]87-0-14'!G575*(1+$E$13)","v":9369.8119999999999}]
[{"$f":"'[1]87-0-14'!B576","v":"CC51"},{"$f":"'[1]87-0-14'!D576","v":"CEP CIRC ONDU BCEADO  5X1"},{"$f":"'[1]87-0-14'!E576","v":"RHEIN"},{"$f":"'[1]87-0-14'!F576","v":"CEPILLO CIRCULAR"},{"$f":"'[1]87-0-14'!G576*(1+$E$13)","v":10896.329500000002}]
[{"$f":"'[1]87-0-14'!B577","v":"CC61"},{"$f":"'[1]87-0-14'!D577","v":"CEP CIRC ONDU BCEADO  6X1"},{"$f":"'[1]87-0-14'!E577","v":"RHEIN"},{"$f":"'[1]87-0-14'!F577","v":"CEPILLO CIRCULAR"},{"$f":"'[1]87-0-14'!G577*(1+$E$13)","v":16525.929499999998}]
[{"$f":"'[1]87-0-14'!B578","v":"CC71"},{"$f":"'[1]87-0-14'!D578","v":"CEP CIRC ONDU BCEADO  7X1"},{"$f":"'[1]87-0-14'!E578","v":"RHEIN"},{"$f":"'[1]87-0-14'!F578","v":"CEPILLO CIRCULAR"},{"$f":"'[1]87-0-14'!G578*(1+$E$13)","v":19290.37}]
[{"$f":"'[1]87-0-14'!B579","v":"CC81"},{"$f":"'[1]87-0-14'!D579","v":"CEP CIRC ONDU BCEADO  8X1"},{"$f":"'[1]87-0-14'!E579","v":"RHEIN"},{"$f":"'[1]87-0-14'!F579","v":"CEPILLO CIRCULAR"},{"$f":"'[1]87-0-14'!G579*(1+$E$13)","v":22703.780000000002}]
[{"$f":"'[1]87-0-14'!B580","v":"CC101"},{"$f":"'[1]87-0-14'!D580","v":"CEP CIRC ONDU BCEADO 10X1"},{"$f":"'[1]87-0-14'!E580","v":"RHEIN"},{"$f":"'[1]87-0-14'!F580","v":"CEPILLO CIRCULAR"},{"$f":"'[1]87-0-14'!G580*(1+$E$13)","v":43874.517}]
[{"$f":"'[1]87-0-14'!B581","v":"CCNR75R"},{"$f":"'[1]87-0-14'!D581","v":"CEPI CONICO AC/RETORC  75"},{"$f":"'[1]87-0-14'!E581","v":"RHEIN"},{"$f":"'[1]87-0-14'!F581","v":"CEPILLO"},{"$f":"'[1]87-0-14'!G581*(1+$E$13)","v":8539.880000000001}]
[{"$f":"'[1]87-0-14'!B582","v":"CCNR100R"},{"$f":"'[1]87-0-14'!D582","v":"CEPI CONICO AC/RETORC 100"},{"$f":"'[1]87-0-14'!E582","v":"RHEIN"},{"$f":"'[1]87-0-14'!F582","v":"CEPILLO"},{"$f":"'[1]87-0-14'!G582*(1+$E$13)","v":11736.770500000001}]
[{"$f":"'[1]87-0-14'!B583","v":"CDV12R"},{"$f":"'[1]87-0-14'!D583","v":"CEPI RED DESCARB C/VAS 12"},{"$f":"'[1]87-0-14'!E583","v":"RHEIN"},{"$f":"'[1]87-0-14'!F583","v":"CEPILLO"},{"$f":"'[1]87-0-14'!G583*(1+$E$13)","v":2305.7334999999998}]
[{"$f":"'[1]87-0-14'!B584","v":"CDV17R"},{"$f":"'[1]87-0-14'!D584","v":"CEPI RED DESCARB C/VAS 17"},{"$f":"'[1]87-0-14'!E584","v":"RHEIN"},{"$f":"'[1]87-0-14'!F584","v":"CEPILLO"},{"$f":"'[1]87-0-14'!G584*(1+$E$13)","v":2624.0105000000003}]
[{"$f":"'[1]87-0-14'!B585","v":"CDV24R"},{"$f":"'[1]87-0-14'!D585","v":"CEPI RED DESCARB C/VAS 24"},{"$f":"'[1]87-0-14'!E585","v":"RHEIN"},{"$f":"'[1]87-0-14'!F585","v":"CEPILLO"},{"$f":"'[1]87-0-14'!G585*(1+$E$13)","v":3637.5710000000004}]
[{"$f":"'[1]87-0-14'!B586","v":"CDV30R"},{"$f":"'[1]87-0-14'!D586","v":"CEPI RED DESCARB C/VAS 30"},{"$f":"'[1]87-0-14'!E586","v":"RHEIN"},{"$f":"'[1]87-0-14'!F586","v":"CEPILLO"},{"$f":"'[1]87-0-14'!G586*(1+$E$13)","v":5264.8540000000003}]
[{"$f":"'[1]87-0-14'!B587","v":"CCR60R"},{"$f":"'[1]87-0-14'!D587","v":"CEPIL COPA ACE/RETORC  60"},{"$f":"'[1]87-0-14'!E587","v":"RHEIN"},{"$f":"'[1]87-0-14'!F587","v":"CEPILLO COPA"},{"$f":"'[1]87-0-14'!G587*(1+$E$13)","v":9481.9545000000016}]
[{"$f":"'[1]87-0-14'!B588","v":"CCR75R"},{"$f":"'[1]87-0-14'!D588","v":"CEPIL COPA ACE/RETORC  75"},{"$f":"'[1]87-0-14'!E588","v":"RHEIN"},{"$f":"'[1]87-0-14'!F588","v":"CEPILLO COPA"},{"$f":"'[1]87-0-14'!G588*(1+$E$13)","v":16399.914499999999}]
[{"$f":"'[1]87-0-14'!B589","v":"CCR100R"},{"$f":"'[1]87-0-14'!D589","v":"CEPIL COPA ACE/RETORC 100"},{"$f":"'[1]87-0-14'!E589","v":"RHEIN"},{"$f":"'[1]87-0-14'!F589","v":"CEPILLO COPA"},{"$f":"'[1]87-0-14'!G589*(1+$E$13)","v":24662.654500000001}]
[{"$f":"'[1]87-0-14'!B590","v":"CB42"},{"$f":"'[1]87-0-14'!D590","v":"CEPILLO BOTE N  42"},{"$f":"'[1]87-0-14'!E590","v":"ANEMI"},{"$f":"'[1]87-0-14'!F590","v":"CEPILLO BOTE"},{"$f":"'[1]87-0-14'!G590*(1+$E$13)","v":154140.91250000001}]
[{"$f":"'[1]87-0-14'!B591","v":"CB44"},{"$f":"'[1]87-0-14'!D591","v":"CEPILLO BOTE N  44"},{"$f":"'[1]87-0-14'!E591","v":"ANEMI"},{"$f":"'[1]87-0-14'!F591","v":"CEPILLO BOTE"},{"$f":"'[1]87-0-14'!G591*(1+$E$13)","v":147455.1735}]
[{"$f":"'[1]87-0-14'!B592","v":"CB46"},{"$f":"'[1]87-0-14'!D592","v":"CEPILLO BOTE N  46"},{"$f":"'[1]87-0-14'!E592","v":"ANEMI"},{"$f":"'[1]87-0-14'!F592","v":"CEPILLO BOTE"},{"$f":"'[1]87-0-14'!G592*(1+$E$13)","v":147455.1735}]
[{"$f":"'[1]87-0-14'!B593","v":"CB48"},{"$f":"'[1]87-0-14'!D593","v":"CEPILLO BOTE N  48"},{"$f":"'[1]87-0-14'!E593","v":"ANEMI"},{"$f":"'[1]87-0-14'!F593","v":"CEPILLO BOTE"},{"$f":"'[1]87-0-14'!G593*(1+$E$13)","v":147455.1735}]
[{"$f":"'[1]87-0-14'!B594","v":"CB50"},{"$f":"'[1]87-0-14'!D594","v":"CEPILLO BOTE N  50"},{"$f":"'[1]87-0-14'!E594","v":"ANEMI"},{"$f":"'[1]87-0-14'!F594","v":"CEPILLO BOTE"},{"$f":"'[1]87-0-14'!G594*(1+$E$13)","v":147455.1735}]
[{"$f":"'[1]87-0-14'!B595","v":"CCN75R"},{"$f":"'[1]87-0-14'!D595","v":"CEPILLO CONICO C/TCA  75m"},{"$f":"'[1]87-0-14'!E595","v":"RHEIN"},{"$f":"'[1]87-0-14'!F595","v":"CEPILLO CONICO"},{"$f":"'[1]87-0-14'!G595*(1+$E$13)","v":7935.6745000000001}]
[{"$f":"'[1]87-0-14'!B596","v":"CCN100R"},{"$f":"'[1]87-0-14'!D596","v":"CEPILLO CONICO C/TCA 100m"},{"$f":"'[1]87-0-14'!E596","v":"RHEIN"},{"$f":"'[1]87-0-14'!F596","v":"CEPILLO CONICO"},{"$f":"'[1]87-0-14'!G596*(1+$E$13)","v":9629.2975000000006}]
[{"$f":"'[1]87-0-14'!B597","v":"CCP60R"},{"$f":"'[1]87-0-14'!D597","v":"CEPILLO COPA  60mm"},{"$f":"'[1]87-0-14'!E597","v":"RHEIN"},{"$f":"'[1]87-0-14'!F597","v":"CEPILLO COPA"},{"$f":"'[1]87-0-14'!G597*(1+$E$13)","v":7205.0665000000008}]
[{"$f":"'[1]87-0-14'!B598","v":"CCP75R"},{"$f":"'[1]87-0-14'!D598","v":"CEPILLO COPA  75mm"},{"$f":"'[1]87-0-14'!E598","v":"RHEIN"},{"$f":"'[1]87-0-14'!F598","v":"CEPILLO COPA"},{"$f":"'[1]87-0-14'!G598*(1+$E$13)","v":7512.0439999999999}]
[{"$f":"'[1]87-0-14'!B599","v":"CCP100R"},{"$f":"'[1]87-0-14'!D599","v":"CEPILLO COPA 100mm"},{"$f":"'[1]87-0-14'!E599","v":"RHEIN"},{"$f":"'[1]87-0-14'!F599","v":"CEPILLO COPA"},{"$f":"'[1]87-0-14'!G599*(1+$E$13)","v":12546.258}]
[{"$f":"'[1]87-0-14'!B600","v":"CCV50R"},{"$f":"'[1]87-0-14'!D600","v":"CEPILLO COPA C/VASTAGO 50"},{"$f":"'[1]87-0-14'!E600","v":"RHEIN"},{"$f":"'[1]87-0-14'!F600","v":"CEPILLO COPA"},{"$f":"'[1]87-0-14'!G600*(1+$E$13)","v":4468.5569999999998}]
[{"$f":"'[1]87-0-14'!B601","v":"CCV75R"},{"$f":"'[1]87-0-14'!D601","v":"CEPILLO COPA C/VASTAGO 75"},{"$f":"'[1]87-0-14'!E601","v":"RHEIN"},{"$f":"'[1]87-0-14'!F601","v":"CEPILLO COPA"},{"$f":"'[1]87-0-14'!G601*(1+$E$13)","v":4975.1590000000006}]
[{"$f":"'[1]87-0-14'!B602","v":"CPV100R"},{"$f":"'[1]87-0-14'!D602","v":"CEPILLO PLANO C/VASTA 100"},{"$f":"'[1]87-0-14'!E602","v":"RHEIN"},{"$f":"'[1]87-0-14'!F602","v":"CEPILLO"},{"$f":"'[1]87-0-14'!G602*(1+$E$13)","v":5299.1244999999999}]
[{"$f":"'[1]87-0-14'!B603","v":"CPV50R"},{"$f":"'[1]87-0-14'!D603","v":"CEPILLO PLANO C/VASTAG 50"},{"$f":"'[1]87-0-14'!E603","v":"RHEIN"},{"$f":"'[1]87-0-14'!F603","v":"CEPILLO"},{"$f":"'[1]87-0-14'!G603*(1+$E$13)","v":3025.1195000000002}]
[{"$f":"'[1]87-0-14'!B604","v":"CPV75R"},{"$f":"'[1]87-0-14'!D604","v":"CEPILLO PLANO C/VASTAG 75"},{"$f":"'[1]87-0-14'!E604","v":"RHEIN"},{"$f":"'[1]87-0-14'!F604","v":"CEPILLO"},{"$f":"'[1]87-0-14'!G604*(1+$E$13)","v":4005.2775000000006}]
[{"$f":"'[1]87-0-14'!B605","v":"C201HPC"},{"$f":"'[1]87-0-14'!D605","v":"CERR PLA 20 1com HPL"},{"$f":"'[1]87-0-14'!E605","v":"CANOA"},{"$f":"'[1]87-0-14'!F605","v":"CERRADURA PLACARD"},{"$f":"'[1]87-0-14'!G605*(1+$E$13)","v":34120.646000000001}]
[{"$f":"'[1]87-0-14'!B606","v":"C206HPC"},{"$f":"'[1]87-0-14'!D606","v":"CERR PLA 20 6com HPL"},{"$f":"'[1]87-0-14'!E606","v":"CANOA"},{"$f":"'[1]87-0-14'!F606","v":"CERRADURA PLACARD"},{"$f":"'[1]87-0-14'!G606*(1+$E$13)","v":41577.51}]
[{"$f":"'[1]87-0-14'!B607","v":"CFR801C"},{"$f":"'[1]87-0-14'!D607","v":"CERR. FRENTE REDONDO  801"},{"$f":"'[1]87-0-14'!E607","v":"CANOA"},{"$f":"'[1]87-0-14'!F607","v":"CERRADURA"},{"$f":"'[1]87-0-14'!G607*(1+$E$13)","v":6767.424}]
[{"$f":"'[1]87-0-14'!B608","v":"CFR802C"},{"$f":"'[1]87-0-14'!D608","v":"CERR. FRENTE REDONDO  802"},{"$f":"'[1]87-0-14'!E608","v":"CANOA"},{"$f":"'[1]87-0-14'!F608","v":"CERRADURA"},{"$f":"'[1]87-0-14'!G608*(1+$E$13)","v":7086.8015000000005}]
[{"$f":"'[1]87-0-14'!B609","v":"CCR110P"},{"$f":"'[1]87-0-14'!D609","v":"CERRA CILINDRO REFOR 110"},{"$f":"'[1]87-0-14'!E609","v":"PRIVE"},{"$f":"'[1]87-0-14'!F609","v":"CERRADURA"},{"$f":"'[1]87-0-14'!G609*(1+$E$13)","v":63075.467499999999}]
[{"$f":"'[1]87-0-14'!B610","v":"CH200CP"},{"$f":"'[1]87-0-14'!D610","v":"CERRAD HERMANADA 200 Caja"},{"$f":"'[1]87-0-14'!E610","v":"PRIVE"},{"$f":"'[1]87-0-14'!F610","v":"CERRADURA"},{"$f":"'[1]87-0-14'!G610*(1+$E$13)","v":27992.519499999999}]
[{"$f":"'[1]87-0-14'!B611","v":"CPCA"},{"$f":"'[1]87-0-14'!D611","v":"CERRAD. PLACARD 20mm"},{"$f":"'[1]87-0-14'!E611","v":"CANOA"},{"$f":"'[1]87-0-14'!F611","v":"CERRADURA PLACARD"},{"$f":"'[1]87-0-14'!G611*(1+$E$13)","v":33980.231500000002}]
[{"$f":"'[1]87-0-14'!B612","v":"C105P"},{"$f":"'[1]87-0-14'!D612","v":"CERRADUR BANO N  105"},{"$f":"'[1]87-0-14'!E612","v":"PRIVE"},{"$f":"'[1]87-0-14'!F612","v":"CERRADURA"},{"$f":"'[1]87-0-14'!G612*(1+$E$13)","v":11620.737500000001}]
[{"$f":"'[1]87-0-14'!B613","v":"C207B"},{"$f":"'[1]87-0-14'!D613","v":"CERRADUR N 207 BOLSA"},{"$f":"'[1]87-0-14'!E613","v":"PRIVE"},{"$f":"'[1]87-0-14'!F613","v":"CERRADURA"},{"$f":"'[1]87-0-14'!G613*(1+$E$13)","v":22615.3835}]
[{"$f":"'[1]87-0-14'!B614","v":"C208B"},{"$f":"'[1]87-0-14'!D614","v":"CERRADUR N 208 BOLSA"},{"$f":"'[1]87-0-14'!E614","v":"PRIVE"},{"$f":"'[1]87-0-14'!F614","v":"CERRADURA"},{"$f":"'[1]87-0-14'!G614*(1+$E$13)","v":23258.401000000002}]
[{"$f":"'[1]87-0-14'!B615","v":"C214P"},{"$f":"'[1]87-0-14'!D615","v":"CERRADURA  N  214"},{"$f":"'[1]87-0-14'!E615","v":"PRIVE"},{"$f":"'[1]87-0-14'!F615","v":"CERRADURA"},{"$f":"'[1]87-0-14'!G615*(1+$E$13)","v":46070.96}]
[{"$f":"'[1]87-0-14'!B616","v":"C101A"},{"$f":"'[1]87-0-14'!D616","v":"CERRADURA 101 ANGOST"},{"$f":"'[1]87-0-14'!E616","v":"PRIVE"},{"$f":"'[1]87-0-14'!F616","v":"CERRADURA"},{"$f":"'[1]87-0-14'!G616*(1+$E$13)","v":14208.757000000001}]
[{"$f":"'[1]87-0-14'!B617","v":"C200B"},{"$f":"'[1]87-0-14'!D617","v":"CERRADURA 200 BOLSA"},{"$f":"'[1]87-0-14'!E617","v":"PRIVE"},{"$f":"'[1]87-0-14'!F617","v":"CERRADURA"},{"$f":"'[1]87-0-14'!G617*(1+$E$13)","v":24811.423500000001}]
[{"$f":"'[1]87-0-14'!B618","v":"C200N"},{"$f":"'[1]87-0-14'!D618","v":"CERRADURA 200 NIQUEL"},{"$f":"'[1]87-0-14'!E618","v":"PRIVE"},{"$f":"'[1]87-0-14'!F618","v":"CERRADURA"},{"$f":"'[1]87-0-14'!G618*(1+$E$13)","v":29715.0965}]
[{"$f":"'[1]87-0-14'!B619","v":"C205N"},{"$f":"'[1]87-0-14'!D619","v":"CERRADURA 205 NIQUEL"},{"$f":"'[1]87-0-14'!E619","v":"PRIVE"},{"$f":"'[1]87-0-14'!F619","v":"CERRADURA"},{"$f":"'[1]87-0-14'!G619*(1+$E$13)","v":32303.023000000001}]
[{"$f":"'[1]87-0-14'!B620","v":"C207NP"},{"$f":"'[1]87-0-14'!D620","v":"CERRADURA 207 NIQUEL"},{"$f":"'[1]87-0-14'!E620","v":"PRIVE"},{"$f":"'[1]87-0-14'!F620","v":"CERRADURA"},{"$f":"'[1]87-0-14'!G620*(1+$E$13)","v":27133.8815}]
[{"$f":"'[1]87-0-14'!B621","v":"C208NP"},{"$f":"'[1]87-0-14'!D621","v":"CERRADURA 208 NIQUEL"},{"$f":"'[1]87-0-14'!E621","v":"PRIVE"},{"$f":"'[1]87-0-14'!F621","v":"CERRADURA"},{"$f":"'[1]87-0-14'!G621*(1+$E$13)","v":27783.347000000002}]
[{"$f":"'[1]87-0-14'!B622","v":"C2103T"},{"$f":"'[1]87-0-14'!D622","v":"CERRADURA 2103"},{"$f":"'[1]87-0-14'!E622","v":"TRABEX"},{"$f":"'[1]87-0-14'!F622","v":"CERRADURA"},{"$f":"'[1]87-0-14'!G622*(1+$E$13)","v":70719.974499999997}]
[{"$f":"'[1]87-0-14'!B623","v":"C106P"},{"$f":"'[1]87-0-14'!D623","v":"CERRADURA BANO N  106"},{"$f":"'[1]87-0-14'!E623","v":"PRIVE"},{"$f":"'[1]87-0-14'!F623","v":"CERRADURA"},{"$f":"'[1]87-0-14'!G623*(1+$E$13)","v":12396.714}]
[{"$f":"'[1]87-0-14'!B624","v":"CR101P"},{"$f":"'[1]87-0-14'!D624","v":"CERRADURA F/REDONDO 101"},{"$f":"'[1]87-0-14'!E624","v":"PRIVE"},{"$f":"'[1]87-0-14'!F624","v":"CERRADURA"},{"$f":"'[1]87-0-14'!G624*(1+$E$13)","v":10827.307999999999}]
[{"$f":"'[1]87-0-14'!B625","v":"CR102P"},{"$f":"'[1]87-0-14'!D625","v":"CERRADURA F/REDONDO 102"},{"$f":"'[1]87-0-14'!E625","v":"PRIVE"},{"$f":"'[1]87-0-14'!F625","v":"CERRADURA"},{"$f":"'[1]87-0-14'!G625*(1+$E$13)","v":11110.539500000001}]
[{"$f":"'[1]87-0-14'!B626","v":"C118"},{"$f":"'[1]87-0-14'!D626","v":"CERRADURA N   118"},{"$f":"'[1]87-0-14'!E626","v":"PRIVE"},{"$f":"'[1]87-0-14'!F626","v":"CERRADURA"},{"$f":"'[1]87-0-14'!G626*(1+$E$13)","v":60331.300999999999}]
[{"$f":"'[1]87-0-14'!B627","v":"C600T"},{"$f":"'[1]87-0-14'!D627","v":"CERRADURA N   600"},{"$f":"'[1]87-0-14'!E627","v":"TRABEX"},{"$f":"'[1]87-0-14'!F627","v":"CERRADURA"},{"$f":"'[1]87-0-14'!G627*(1+$E$13)","v":553501.97750000004}]
[{"$f":"'[1]87-0-14'!B628","v":"C615T"},{"$f":"'[1]87-0-14'!D628","v":"CERRADURA N   615"},{"$f":"'[1]87-0-14'!E628","v":"TRABEX"},{"$f":"'[1]87-0-14'!F628","v":"CERRADURA"},{"$f":"'[1]87-0-14'!G628*(1+$E$13)","v":59451.334999999999}]
[{"$f":"'[1]87-0-14'!B629","v":"C700T"},{"$f":"'[1]87-0-14'!D629","v":"CERRADURA N   700"},{"$f":"'[1]87-0-14'!E629","v":"TRABEX"},{"$f":"'[1]87-0-14'!F629","v":"CERRADURA"},{"$f":"'[1]87-0-14'!G629*(1+$E$13)","v":49021.943000000007}]
[{"$f":"'[1]87-0-14'!B630","v":"C101"},{"$f":"'[1]87-0-14'!D630","v":"CERRADURA N  101"},{"$f":"'[1]87-0-14'!E630","v":"PRIVE"},{"$f":"'[1]87-0-14'!F630","v":"CERRADURA"},{"$f":"'[1]87-0-14'!G630*(1+$E$13)","v":10827.307999999999}]
[{"$f":"'[1]87-0-14'!B631","v":"C102"},{"$f":"'[1]87-0-14'!D631","v":"CERRADURA N  102"},{"$f":"'[1]87-0-14'!E631","v":"PRIVE"},{"$f":"'[1]87-0-14'!F631","v":"CERRADURA"},{"$f":"'[1]87-0-14'!G631*(1+$E$13)","v":11110.539500000001}]
[{"$f":"'[1]87-0-14'!B632","v":"C1020"},{"$f":"'[1]87-0-14'!D632","v":"CERRADURA N  1020"},{"$f":"'[1]87-0-14'!E632","v":"TRABEX"},{"$f":"'[1]87-0-14'!F632","v":"CERRADURA"},{"$f":"'[1]87-0-14'!G632*(1+$E$13)","v":39762.940499999997}]
[{"$f":"'[1]87-0-14'!B633","v":"C1025"},{"$f":"'[1]87-0-14'!D633","v":"CERRADURA N  1025"},{"$f":"'[1]87-0-14'!E633","v":"TRABEX"},{"$f":"'[1]87-0-14'!F633","v":"CERRADURA"},{"$f":"'[1]87-0-14'!G633*(1+$E$13)","v":39762.940499999997}]
[{"$f":"'[1]87-0-14'!B634","v":"C107"},{"$f":"'[1]87-0-14'!D634","v":"CERRADURA N  107"},{"$f":"'[1]87-0-14'!E634","v":"PRIVE"},{"$f":"'[1]87-0-14'!F634","v":"CERRADURA"},{"$f":"'[1]87-0-14'!G634*(1+$E$13)","v":22304.9185}]
[{"$f":"'[1]87-0-14'!B635","v":"C113"},{"$f":"'[1]87-0-14'!D635","v":"CERRADURA N  113"},{"$f":"'[1]87-0-14'!E635","v":"PRIVE"},{"$f":"'[1]87-0-14'!F635","v":"CERRADURA"},{"$f":"'[1]87-0-14'!G635*(1+$E$13)","v":77425.9565}]
[{"$f":"'[1]87-0-14'!B636","v":"C2001P"},{"$f":"'[1]87-0-14'!D636","v":"CERRADURA N  2001"},{"$f":"'[1]87-0-14'!E636","v":"PRIVE"},{"$f":"'[1]87-0-14'!F636","v":"CERRADURA"},{"$f":"'[1]87-0-14'!G636*(1+$E$13)","v":41052.897000000004}]
[{"$f":"'[1]87-0-14'!B637","v":"C2003P"},{"$f":"'[1]87-0-14'!D637","v":"CERRADURA N  2003"},{"$f":"'[1]87-0-14'!E637","v":"PRIVE"},{"$f":"'[1]87-0-14'!F637","v":"CERRADURA"},{"$f":"'[1]87-0-14'!G637*(1+$E$13)","v":29613.122000000003}]
[{"$f":"'[1]87-0-14'!B638","v":"C2005P"},{"$f":"'[1]87-0-14'!D638","v":"CERRADURA N  2005"},{"$f":"'[1]87-0-14'!E638","v":"PRIVE"},{"$f":"'[1]87-0-14'!F638","v":"CERRADURA"},{"$f":"'[1]87-0-14'!G638*(1+$E$13)","v":52314.716500000002}]
[{"$f":"'[1]87-0-14'!B639","v":"C2007P"},{"$f":"'[1]87-0-14'!D639","v":"CERRADURA N  2007"},{"$f":"'[1]87-0-14'!E639","v":"PRIVE"},{"$f":"'[1]87-0-14'!F639","v":"CERRADURA"},{"$f":"'[1]87-0-14'!G639*(1+$E$13)","v":51442.407500000001}]
[{"$f":"'[1]87-0-14'!B640","v":"C201"},{"$f":"'[1]87-0-14'!D640","v":"CERRADURA N  201"},{"$f":"'[1]87-0-14'!E640","v":"PRIVE"},{"$f":"'[1]87-0-14'!F640","v":"CERRADURA"},{"$f":"'[1]87-0-14'!G640*(1+$E$13)","v":39048.065000000002}]
[{"$f":"'[1]87-0-14'!B641","v":"C204P"},{"$f":"'[1]87-0-14'!D641","v":"CERRADURA N  204"},{"$f":"'[1]87-0-14'!E641","v":"PRIVE"},{"$f":"'[1]87-0-14'!F641","v":"CERRADURA"},{"$f":"'[1]87-0-14'!G641*(1+$E$13)","v":33143.587999999996}]
[{"$f":"'[1]87-0-14'!B642","v":"C205"},{"$f":"'[1]87-0-14'!D642","v":"CERRADURA N  205"},{"$f":"'[1]87-0-14'!E642","v":"PRIVE"},{"$f":"'[1]87-0-14'!F642","v":"CERRADURA"},{"$f":"'[1]87-0-14'!G642*(1+$E$13)","v":28162.539000000001}]
[{"$f":"'[1]87-0-14'!B643","v":"C206"},{"$f":"'[1]87-0-14'!D643","v":"CERRADURA N  206"},{"$f":"'[1]87-0-14'!E643","v":"PRIVE"},{"$f":"'[1]87-0-14'!F643","v":"CERRADURA"},{"$f":"'[1]87-0-14'!G643*(1+$E$13)","v":29841.375}]
[{"$f":"'[1]87-0-14'!B644","v":"C209"},{"$f":"'[1]87-0-14'!D644","v":"CERRADURA N  209 NIQ"},{"$f":"'[1]87-0-14'!E644","v":"PRIVE"},{"$f":"'[1]87-0-14'!F644","v":"CERRADURA"},{"$f":"'[1]87-0-14'!G644*(1+$E$13)","v":23039.711500000001}]
[{"$f":"'[1]87-0-14'!B645","v":"C2105"},{"$f":"'[1]87-0-14'!D645","v":"CERRADURA N  2105"},{"$f":"'[1]87-0-14'!E645","v":"TRABEX"},{"$f":"'[1]87-0-14'!F645","v":"CERRADURA"},{"$f":"'[1]87-0-14'!G645*(1+$E$13)","v":57519.755999999994}]
[{"$f":"'[1]87-0-14'!B646","v":"C2107"},{"$f":"'[1]87-0-14'!D646","v":"CERRADURA N  2107"},{"$f":"'[1]87-0-14'!E646","v":"TRABEX"},{"$f":"'[1]87-0-14'!F646","v":"CERRADURA"},{"$f":"'[1]87-0-14'!G646*(1+$E$13)","v":56162.451999999997}]
[{"$f":"'[1]87-0-14'!B647","v":"C3101T"},{"$f":"'[1]87-0-14'!D647","v":"CERRADURA N  3101"},{"$f":"'[1]87-0-14'!E647","v":"TRABEX"},{"$f":"'[1]87-0-14'!F647","v":"CERRADURA"},{"$f":"'[1]87-0-14'!G647*(1+$E$13)","v":57219.955000000002}]
[{"$f":"'[1]87-0-14'!B648","v":"C5105"},{"$f":"'[1]87-0-14'!D648","v":"CERRADURA N  5105"},{"$f":"'[1]87-0-14'!E648","v":"TRABEX"},{"$f":"'[1]87-0-14'!F648","v":"CERRADURA"},{"$f":"'[1]87-0-14'!G648*(1+$E$13)","v":41507.682500000003}]
[{"$f":"'[1]87-0-14'!B649","v":"C625T"},{"$f":"'[1]87-0-14'!D649","v":"CERRADURA N  625"},{"$f":"'[1]87-0-14'!E649","v":"TRABEX"},{"$f":"'[1]87-0-14'!F649","v":"CERRADURA"},{"$f":"'[1]87-0-14'!G649*(1+$E$13)","v":35935.525499999996}]
[{"$f":"'[1]87-0-14'!B650","v":"C6624"},{"$f":"'[1]87-0-14'!D650","v":"CERRADURA N  6624"},{"$f":"'[1]87-0-14'!E650","v":"TRABEX"},{"$f":"'[1]87-0-14'!F650","v":"CERRADURA"},{"$f":"'[1]87-0-14'!G650*(1+$E$13)","v":46484.314000000006}]
[{"$f":"'[1]87-0-14'!B651","v":"C6625"},{"$f":"'[1]87-0-14'!D651","v":"CERRADURA N  6625"},{"$f":"'[1]87-0-14'!E651","v":"TRABEX"},{"$f":"'[1]87-0-14'!F651","v":"CERRADURA"},{"$f":"'[1]87-0-14'!G651*(1+$E$13)","v":46484.004000000001}]
[{"$f":"'[1]87-0-14'!B652","v":"C1001T"},{"$f":"'[1]87-0-14'!D652","v":"CERRADURA N 1001"},{"$f":"'[1]87-0-14'!E652","v":"TRABEX"},{"$f":"'[1]87-0-14'!F652","v":"CERRADURA"},{"$f":"'[1]87-0-14'!G652*(1+$E$13)","v":22894.073500000002}]
[{"$f":"'[1]87-0-14'!B653","v":"C1002T"},{"$f":"'[1]87-0-14'!D653","v":"CERRADURA N 1002"},{"$f":"'[1]87-0-14'!E653","v":"TRABEX"},{"$f":"'[1]87-0-14'!F653","v":"CERRADURA"},{"$f":"'[1]87-0-14'!G653*(1+$E$13)","v":22894.073500000002}]
[{"$f":"'[1]87-0-14'!B654","v":"C120P"},{"$f":"'[1]87-0-14'!D654","v":"CERRADURA N 120"},{"$f":"'[1]87-0-14'!E654","v":"PRIVE"},{"$f":"'[1]87-0-14'!F654","v":"CERRADURA"},{"$f":"'[1]87-0-14'!G654*(1+$E$13)","v":15796.174000000001}]
[{"$f":"'[1]87-0-14'!B655","v":"C200"},{"$f":"'[1]87-0-14'!D655","v":"CERRADURA N 200 CAJA"},{"$f":"'[1]87-0-14'!E655","v":"PRIVE"},{"$f":"'[1]87-0-14'!F655","v":"CERRADURA"},{"$f":"'[1]87-0-14'!G655*(1+$E$13)","v":25447.745000000003}]
[{"$f":"'[1]87-0-14'!B656","v":"C207"},{"$f":"'[1]87-0-14'!D656","v":"CERRADURA N 207 CAJA"},{"$f":"'[1]87-0-14'!E656","v":"PRIVE"},{"$f":"'[1]87-0-14'!F656","v":"CERRADURA"},{"$f":"'[1]87-0-14'!G656*(1+$E$13)","v":23258.401000000002}]
[{"$f":"'[1]87-0-14'!B657","v":"C208"},{"$f":"'[1]87-0-14'!D657","v":"CERRADURA N 208 CAJA"},{"$f":"'[1]87-0-14'!E657","v":"PRIVE"},{"$f":"'[1]87-0-14'!F657","v":"CERRADURA"},{"$f":"'[1]87-0-14'!G657*(1+$E$13)","v":23914.826000000001}]
[{"$f":"'[1]87-0-14'!B658","v":"C3002T"},{"$f":"'[1]87-0-14'!D658","v":"CERRADURA N 3002"},{"$f":"'[1]87-0-14'!E658","v":"TRABEX"},{"$f":"'[1]87-0-14'!F658","v":"CERRADURA"},{"$f":"'[1]87-0-14'!G658*(1+$E$13)","v":51560.284999999996}]
[{"$f":"'[1]87-0-14'!B659","v":"C801C"},{"$f":"'[1]87-0-14'!D659","v":"CERRADURA N 801 HIERRO"},{"$f":"'[1]87-0-14'!E659","v":"CANOA"},{"$f":"'[1]87-0-14'!F659","v":"CERRADURA"},{"$f":"'[1]87-0-14'!G659*(1+$E$13)","v":6611.8505000000005}]
[{"$f":"'[1]87-0-14'!B660","v":"C802C"},{"$f":"'[1]87-0-14'!D660","v":"CERRADURA N 802 HIERRO"},{"$f":"'[1]87-0-14'!E660","v":"CANOA"},{"$f":"'[1]87-0-14'!F660","v":"CERRADURA"},{"$f":"'[1]87-0-14'!G660*(1+$E$13)","v":6920.0525000000007}]
[{"$f":"'[1]87-0-14'!B661","v":"C2104T"},{"$f":"'[1]87-0-14'!D661","v":"CERRADURA N~ 2104 F/CROMA"},{"$f":"'[1]87-0-14'!E661","v":"TRABEX"},{"$f":"'[1]87-0-14'!F661","v":"CERRADURA"},{"$f":"'[1]87-0-14'!G661*(1+$E$13)","v":66361.436500000011}]
[{"$f":"'[1]87-0-14'!B662","v":"C216P"},{"$f":"'[1]87-0-14'!D662","v":"CERROJO 216 SEGURIDAD"},{"$f":"'[1]87-0-14'!E662","v":"PRIVE"},{"$f":"'[1]87-0-14'!F662","v":"CERROJO"},{"$f":"'[1]87-0-14'!G662*(1+$E$13)","v":28627.043000000001}]
[{"$f":"'[1]87-0-14'!B663","v":"C202P"},{"$f":"'[1]87-0-14'!D663","v":"CERROJO N  202"},{"$f":"'[1]87-0-14'!E663","v":"PRIVE"},{"$f":"'[1]87-0-14'!F663","v":"CERROJO"},{"$f":"'[1]87-0-14'!G663*(1+$E$13)","v":24904.253000000001}]
[{"$f":"'[1]87-0-14'!B664","v":"C203"},{"$f":"'[1]87-0-14'!D664","v":"CERROJO N  203"},{"$f":"'[1]87-0-14'!E664","v":"PRIVE"},{"$f":"'[1]87-0-14'!F664","v":"CERRADURA"},{"$f":"'[1]87-0-14'!G664*(1+$E$13)","v":27423.096000000001}]
[{"$f":"'[1]87-0-14'!B665","v":"C210"},{"$f":"'[1]87-0-14'!D665","v":"CERROJO N  210"},{"$f":"'[1]87-0-14'!E665","v":"PRIVE"},{"$f":"'[1]87-0-14'!F665","v":"CERRADURA"},{"$f":"'[1]87-0-14'!G665*(1+$E$13)","v":23665.818500000001}]
[{"$f":"'[1]87-0-14'!B666","v":"C211P"},{"$f":"'[1]87-0-14'!D666","v":"CERROJO N  211"},{"$f":"'[1]87-0-14'!E666","v":"PRIVE"},{"$f":"'[1]87-0-14'!F666","v":"CERROJO"},{"$f":"'[1]87-0-14'!G666*(1+$E$13)","v":24904.253000000001}]
[{"$f":"'[1]87-0-14'!B667","v":"C212P"},{"$f":"'[1]87-0-14'!D667","v":"CERROJO N  212"},{"$f":"'[1]87-0-14'!E667","v":"PRIVE"},{"$f":"'[1]87-0-14'!F667","v":"CERRADURA"},{"$f":"'[1]87-0-14'!G667*(1+$E$13)","v":33611.068000000007}]
[{"$f":"'[1]87-0-14'!B668","v":"C213P"},{"$f":"'[1]87-0-14'!D668","v":"CERROJO N  213"},{"$f":"'[1]87-0-14'!E668","v":"PRIVE"},{"$f":"'[1]87-0-14'!F668","v":"CERROJO"},{"$f":"'[1]87-0-14'!G668*(1+$E$13)","v":26892.298500000001}]
[{"$f":"'[1]87-0-14'!B669","v":"C5101T"},{"$f":"'[1]87-0-14'!D669","v":"CERROJO N  5101"},{"$f":"'[1]87-0-14'!E669","v":"TRABEX"},{"$f":"'[1]87-0-14'!F669","v":"CERRADURA"},{"$f":"'[1]87-0-14'!G669*(1+$E$13)","v":39389.142500000002}]
[{"$f":"'[1]87-0-14'!B670","v":"CSAS"},{"$f":"'[1]87-0-14'!D670","v":"CHOCLA #SET# CO/TIZA AZUL"},{"$f":"'[1]87-0-14'!E670","v":"SOLA"},{"$f":"'[1]87-0-14'!F670","v":"CHOCLA"},{"$f":"'[1]87-0-14'!G670*(1+$E$13)","v":28929.479000000003}]
[{"$f":"'[1]87-0-14'!B671","v":"CSRS"},{"$f":"'[1]87-0-14'!D671","v":"CHOCLA #SET# CO/TIZA ROJA"},{"$f":"'[1]87-0-14'!E671","v":"SOLA"},{"$f":"'[1]87-0-14'!F671","v":"CHOCLA"},{"$f":"'[1]87-0-14'!G671*(1+$E$13)","v":28929.479000000003}]
[{"$f":"'[1]87-0-14'!B672","v":"CS"},{"$f":"'[1]87-0-14'!D672","v":"CHOCLA CHALK LIN CARRETEL"},{"$f":"'[1]87-0-14'!E672","v":"SOLA"},{"$f":"'[1]87-0-14'!F672","v":"CHOCLA"},{"$f":"'[1]87-0-14'!G672*(1+$E$13)","v":22250.916499999999}]
[{"$f":"'[1]87-0-14'!B673","v":"CPA8065T"},{"$f":"'[1]87-0-14'!D673","v":"CIERRA PUERTA AEREO  8065"},{"$f":"'[1]87-0-14'!E673","v":"TRABEX"},{"$f":"'[1]87-0-14'!F673","v":"CIERRAPUERTA"},{"$f":"'[1]87-0-14'!G673*(1+$E$13)","v":413578.71899999998}]
[{"$f":"'[1]87-0-14'!B674","v":"CPA8045T"},{"$f":"'[1]87-0-14'!D674","v":"CIERRA PUERTA AEREO 8045"},{"$f":"'[1]87-0-14'!E674","v":"TRABEX"},{"$f":"'[1]87-0-14'!F674","v":"CIERRAPUERTA"},{"$f":"'[1]87-0-14'!G674*(1+$E$13)","v":352491.42100000003}]
[{"$f":"'[1]87-0-14'!B675","v":"CPA8085T"},{"$f":"'[1]87-0-14'!D675","v":"CIERRAPUERTA AEREO 8085"},{"$f":"'[1]87-0-14'!E675","v":"TRABEX"},{"$f":"'[1]87-0-14'!F675","v":"CIERRAPUERTA"},{"$f":"'[1]87-0-14'!G675*(1+$E$13)","v":512754.05850000004}]
[{"$f":"'[1]87-0-14'!B676","v":"C800P"},{"$f":"'[1]87-0-14'!D676","v":"CILINDRO C/LLAVE     800"},{"$f":"'[1]87-0-14'!E676","v":"PRIVE"},{"$f":"'[1]87-0-14'!F676","v":"CILINDRO"},{"$f":"'[1]87-0-14'!G676*(1+$E$13)","v":30543.183999999997}]
[{"$f":"'[1]87-0-14'!B677","v":"C801P"},{"$f":"'[1]87-0-14'!D677","v":"CILINDRO C/LLAVE     801"},{"$f":"'[1]87-0-14'!E677","v":"PRIVE"},{"$f":"'[1]87-0-14'!F677","v":"CILINDRO"},{"$f":"'[1]87-0-14'!G677*(1+$E$13)","v":33055.718500000003}]
[{"$f":"'[1]87-0-14'!B678","v":"C802P"},{"$f":"'[1]87-0-14'!D678","v":"CILINDRO C/LLAVE     802"},{"$f":"'[1]87-0-14'!E678","v":"PRIVE"},{"$f":"'[1]87-0-14'!F678","v":"CILINDRO"},{"$f":"'[1]87-0-14'!G678*(1+$E$13)","v":35700.250999999997}]
[{"$f":"'[1]87-0-14'!B679","v":"CDNAD"},{"$f":"'[1]87-0-14'!D679","v":"CIN DEMARCACION NEGR/AMAR"},{"$f":"'[1]87-0-14'!E679","v":"DOBLE A"},{"$f":"'[1]87-0-14'!F679","v":"CINTA DUCT TAPE"},{"$f":"'[1]87-0-14'!G679*(1+$E$13)","v":24701.4355}]
[{"$f":"'[1]87-0-14'!B680","v":"CDCP5R"},{"$f":"'[1]87-0-14'!D680","v":"CIN DES/CAN PLAST  5"},{"$f":"'[1]87-0-14'!E680","v":"ROLL'S"},{"$f":"'[1]87-0-14'!F680","v":"CINTA DEST CAÑERI"},{"$f":"'[1]87-0-14'!G680*(1+$E$13)","v":7560.7915000000003}]
[{"$f":"'[1]87-0-14'!B681","v":"CDCP10R"},{"$f":"'[1]87-0-14'!D681","v":"CIN DES/CAN PLAST 10"},{"$f":"'[1]87-0-14'!E681","v":"ROLL'S"},{"$f":"'[1]87-0-14'!F681","v":"CINTA DEST CAÑERI"},{"$f":"'[1]87-0-14'!G681*(1+$E$13)","v":10327.308999999999}]
[{"$f":"'[1]87-0-14'!B682","v":"CDCP15R"},{"$f":"'[1]87-0-14'!D682","v":"CIN DES/CAN PLAST 15"},{"$f":"'[1]87-0-14'!E682","v":"ROLL'S"},{"$f":"'[1]87-0-14'!F682","v":"CINTA DEST CAÑERI"},{"$f":"'[1]87-0-14'!G682*(1+$E$13)","v":12876.408000000001}]
[{"$f":"'[1]87-0-14'!B683","v":"CDCP20R"},{"$f":"'[1]87-0-14'!D683","v":"CIN DES/CAN PLAST 20"},{"$f":"'[1]87-0-14'!E683","v":"ROLL'S"},{"$f":"'[1]87-0-14'!F683","v":"CINTA DEST CAÑERI"},{"$f":"'[1]87-0-14'!G683*(1+$E$13)","v":15758.199000000001}]
[{"$f":"'[1]87-0-14'!B684","v":"CMR525E"},{"$f":"'[1]87-0-14'!D684","v":"CIN METR RE #FLEJE 25# 5m"},{"$f":"'[1]87-0-14'!E684","v":"ESSAMET"},{"$f":"'[1]87-0-14'!F684","v":"CINTA MET."},{"$f":"'[1]87-0-14'!G684*(1+$E$13)","v":31558.991999999998}]
[{"$f":"'[1]87-0-14'!B685","v":"CPC205R"},{"$f":"'[1]87-0-14'!D685","v":"CINCEL CORTAF 14x250x20,5"},{"$f":"'[1]87-0-14'!E685","v":"RHEIN"},{"$f":"'[1]87-0-14'!F685","v":"CINCEL"},{"$f":"'[1]87-0-14'!G685*(1+$E$13)","v":12499.6495}]
[{"$f":"'[1]87-0-14'!B686","v":"CPC40R"},{"$f":"'[1]87-0-14'!D686","v":"CINCEL CORTAF 14x250x40mm"},{"$f":"'[1]87-0-14'!E686","v":"RHEIN"},{"$f":"'[1]87-0-14'!F686","v":"CINCEL"},{"$f":"'[1]87-0-14'!G686*(1+$E$13)","v":13200.048000000001}]
[{"$f":"'[1]87-0-14'!B687","v":"CPP250R"},{"$f":"'[1]87-0-14'!D687","v":"CINCEL PUNTA PLUS 14x250m"},{"$f":"'[1]87-0-14'!E687","v":"RHEIN"},{"$f":"'[1]87-0-14'!F687","v":"CINCEL"},{"$f":"'[1]87-0-14'!G687*(1+$E$13)","v":9753.4369999999999}]
[{"$f":"'[1]87-0-14'!B688","v":"CPP400R"},{"$f":"'[1]87-0-14'!D688","v":"CINCEL PUNTA PLUS 18x400m"},{"$f":"'[1]87-0-14'!E688","v":"RHEIN"},{"$f":"'[1]87-0-14'!F688","v":"CINCEL"},{"$f":"'[1]87-0-14'!G688*(1+$E$13)","v":22450.944}]
[{"$f":"'[1]87-0-14'!B689","v":"CDTND"},{"$f":"'[1]87-0-14'!D689","v":"CINT DUCT TAPE NEGRA 48x9"},{"$f":"'[1]87-0-14'!E689","v":"DOBLE A"},{"$f":"'[1]87-0-14'!F689","v":"CINTA DUCT TAPE"},{"$f":"'[1]87-0-14'!G689*(1+$E$13)","v":10272.826500000001}]
[{"$f":"'[1]87-0-14'!B690","v":"CEMC"},{"$f":"'[1]87-0-14'!D690","v":"CINT EMBA MARRON **C292**"},{"$f":"'[1]87-0-14'!E690","v":"DOBLE A"},{"$f":"'[1]87-0-14'!F690","v":"CINTA EMBALAR"},{"$f":"'[1]87-0-14'!G690*(1+$E$13)","v":2360.2314999999999}]
[{"$f":"'[1]87-0-14'!B691","v":"CETC"},{"$f":"'[1]87-0-14'!D691","v":"CINT EMBA TRANSP **C292**"},{"$f":"'[1]87-0-14'!E691","v":"DOBLE A"},{"$f":"'[1]87-0-14'!F691","v":"CINTA EMBALAR"},{"$f":"'[1]87-0-14'!G691*(1+$E$13)","v":2360.2314999999999}]
[{"$f":"'[1]87-0-14'!B692","v":"CPRVT"},{"$f":"'[1]87-0-14'!D692","v":"CINT PERS #REFOR# VER/BLA"},{"$f":"'[1]87-0-14'!E692","v":"TECNOTEX"},{"$f":"'[1]87-0-14'!F692","v":"CINTA PERSIANA"},{"$f":"'[1]87-0-14'!G692*(1+$E$13)","v":762.86350000000004}]
[{"$f":"'[1]87-0-14'!B693","v":"CV18D"},{"$f":"'[1]87-0-14'!D693","v":"CINT VERDE PREMIU 18"},{"$f":"'[1]87-0-14'!E693","v":"DOBLE A"},{"$f":"'[1]87-0-14'!F693","v":"CINTA ENMASCARAR"},{"$f":"'[1]87-0-14'!G693*(1+$E$13)","v":4530.4795000000004}]
[{"$f":"'[1]87-0-14'!B694","v":"CV48D"},{"$f":"'[1]87-0-14'!D694","v":"CINT VERDE PREMIU 48"},{"$f":"'[1]87-0-14'!E694","v":"DOBLE A"},{"$f":"'[1]87-0-14'!F694","v":"CINTA ENMASCARAR"},{"$f":"'[1]87-0-14'!G694*(1+$E$13)","v":12084.3735}]
[{"$f":"'[1]87-0-14'!B695","v":"CP50F"},{"$f":"'[1]87-0-14'!D695","v":"CINTA \"PELIGRO\"  50m"},{"$f":"'[1]87-0-14'!E695","v":"FERRISY."},{"$f":"'[1]87-0-14'!F695","v":"CINTA PELIGRO"},{"$f":"'[1]87-0-14'!G695*(1+$E$13)","v":4775.4570000000003}]
[{"$f":"'[1]87-0-14'!B696","v":"CP100F"},{"$f":"'[1]87-0-14'!D696","v":"CINTA \"PELIGRO\" 100m"},{"$f":"'[1]87-0-14'!E696","v":"FERRISY."},{"$f":"'[1]87-0-14'!F696","v":"CINTA PELIGRO"},{"$f":"'[1]87-0-14'!G696*(1+$E$13)","v":7451.7645000000002}]
[{"$f":"'[1]87-0-14'!B697","v":"CP200F"},{"$f":"'[1]87-0-14'!D697","v":"CINTA \"PELIGRO\" 200m"},{"$f":"'[1]87-0-14'!E697","v":"FERRISY."},{"$f":"'[1]87-0-14'!F697","v":"CINTA PELIGRO"},{"$f":"'[1]87-0-14'!G697*(1+$E$13)","v":13431.2305}]
[{"$f":"'[1]87-0-14'!B698","v":"CAN10D"},{"$f":"'[1]87-0-14'!D698","v":"CINTA AISLADOR #NEGRA# 10"},{"$f":"'[1]87-0-14'!E698","v":"DOBLE A"},{"$f":"'[1]87-0-14'!F698","v":"CINTA EMBALAR"},{"$f":"'[1]87-0-14'!G698*(1+$E$13)","v":2199.047}]
[{"$f":"'[1]87-0-14'!B699","v":"CAN20D"},{"$f":"'[1]87-0-14'!D699","v":"CINTA AISLADOR #NEGRA# 20"},{"$f":"'[1]87-0-14'!E699","v":"DOBLE A"},{"$f":"'[1]87-0-14'!F699","v":"CINTA EMBALAR"},{"$f":"'[1]87-0-14'!G699*(1+$E$13)","v":3694.3320000000003}]
[{"$f":"'[1]87-0-14'!B700","v":"CAB10D"},{"$f":"'[1]87-0-14'!D700","v":"CINTA AISLADORA BLANCA 10"},{"$f":"'[1]87-0-14'!E700","v":"DOBLE A"},{"$f":"'[1]87-0-14'!F700","v":"CINTA EMBALAR"},{"$f":"'[1]87-0-14'!G700*(1+$E$13)","v":2199.047}]
[{"$f":"'[1]87-0-14'!B701","v":"CAB20D"},{"$f":"'[1]87-0-14'!D701","v":"CINTA AISLADORA BLANCA 20"},{"$f":"'[1]87-0-14'!E701","v":"DOBLE A"},{"$f":"'[1]87-0-14'!F701","v":"CINTA EMBALAR"},{"$f":"'[1]87-0-14'!G701*(1+$E$13)","v":3694.3320000000003}]
[{"$f":"'[1]87-0-14'!B702","v":"CA18D"},{"$f":"'[1]87-0-14'!D702","v":"CINTA AZUL PINTOR 18"},{"$f":"'[1]87-0-14'!E702","v":"DOBLE A"},{"$f":"'[1]87-0-14'!F702","v":"CINTA ENMASCARAR"},{"$f":"'[1]87-0-14'!G702*(1+$E$13)","v":4541.3140000000003}]
[{"$f":"'[1]87-0-14'!B703","v":"CA24D"},{"$f":"'[1]87-0-14'!D703","v":"CINTA AZUL PINTOR 24"},{"$f":"'[1]87-0-14'!E703","v":"DOBLE A"},{"$f":"'[1]87-0-14'!F703","v":"CINTA ENMASCARAR"},{"$f":"'[1]87-0-14'!G703*(1+$E$13)","v":6024.9740000000002}]
[{"$f":"'[1]87-0-14'!B704","v":"CA36D"},{"$f":"'[1]87-0-14'!D704","v":"CINTA AZUL PINTOR 36"},{"$f":"'[1]87-0-14'!E704","v":"DOBLE A"},{"$f":"'[1]87-0-14'!F704","v":"CINTA ENMASCARAR"},{"$f":"'[1]87-0-14'!G704*(1+$E$13)","v":9025.2625000000007}]
[{"$f":"'[1]87-0-14'!B705","v":"CA48D"},{"$f":"'[1]87-0-14'!D705","v":"CINTA AZUL PINTOR 48"},{"$f":"'[1]87-0-14'!E705","v":"DOBLE A"},{"$f":"'[1]87-0-14'!F705","v":"CINTA ENMASCARAR"},{"$f":"'[1]87-0-14'!G705*(1+$E$13)","v":12063.681}]
[{"$f":"'[1]87-0-14'!B706","v":"CDC5T"},{"$f":"'[1]87-0-14'!D706","v":"CINTA D/CANERIA METAL  5m"},{"$f":"'[1]87-0-14'!E706","v":"TOTH"},{"$f":"'[1]87-0-14'!F706","v":"CINTA D/CAÑERIA"},{"$f":"'[1]87-0-14'!G706*(1+$E$13)","v":15071.084000000001}]
[{"$f":"'[1]87-0-14'!B707","v":"CDC10T"},{"$f":"'[1]87-0-14'!D707","v":"CINTA D/CANERIA METAL 10m"},{"$f":"'[1]87-0-14'!E707","v":"TOTH"},{"$f":"'[1]87-0-14'!F707","v":"CINTA D/CAÑERIA"},{"$f":"'[1]87-0-14'!G707*(1+$E$13)","v":28253.2605}]
[{"$f":"'[1]87-0-14'!B708","v":"CDC15T"},{"$f":"'[1]87-0-14'!D708","v":"CINTA D/CANERIA METAL 15m"},{"$f":"'[1]87-0-14'!E708","v":"TOTH"},{"$f":"'[1]87-0-14'!F708","v":"CINTA D/CAÑERIA"},{"$f":"'[1]87-0-14'!G708*(1+$E$13)","v":40005.779000000002}]
[{"$f":"'[1]87-0-14'!B709","v":"CDP5T"},{"$f":"'[1]87-0-14'!D709","v":"CINTA DESTAPA PILETA  5mt"},{"$f":"'[1]87-0-14'!E709","v":"TOTH"},{"$f":"'[1]87-0-14'!F709","v":"CINTA D/PILETA"},{"$f":"'[1]87-0-14'!G709*(1+$E$13)","v":17222.995500000001}]
[{"$f":"'[1]87-0-14'!B710","v":"CDP10T"},{"$f":"'[1]87-0-14'!D710","v":"CINTA DESTAPA PILETA 10mt"},{"$f":"'[1]87-0-14'!E710","v":"TOTH"},{"$f":"'[1]87-0-14'!F710","v":"CINTA D/PILETA"},{"$f":"'[1]87-0-14'!G710*(1+$E$13)","v":21628.018}]
[{"$f":"'[1]87-0-14'!B711","v":"CDTAD"},{"$f":"'[1]87-0-14'!D711","v":"CINTA DUCT TAPE AZUL 48x9"},{"$f":"'[1]87-0-14'!E711","v":"DOBLE A"},{"$f":"'[1]87-0-14'!F711","v":"CINTA DUCT TAPE"},{"$f":"'[1]87-0-14'!G711*(1+$E$13)","v":10272.826500000001}]
[{"$f":"'[1]87-0-14'!B712","v":"CDTGD"},{"$f":"'[1]87-0-14'!D712","v":"CINTA DUCT TAPE GRIS 48x9"},{"$f":"'[1]87-0-14'!E712","v":"DOBLE A"},{"$f":"'[1]87-0-14'!F712","v":"CINTA DUCT TAPE"},{"$f":"'[1]87-0-14'!G712*(1+$E$13)","v":10272.826500000001}]
[{"$f":"'[1]87-0-14'!B713","v":"CDTGM"},{"$f":"'[1]87-0-14'!D713","v":"CINTA DUCT TAPE Gris 9mts"},{"$f":"'[1]87-0-14'!E713","v":"MACAO"},{"$f":"'[1]87-0-14'!F713","v":"CANDADO"},{"$f":"'[1]87-0-14'!G713*(1+$E$13)","v":2943.884}]
[{"$f":"'[1]87-0-14'!B714","v":"COMI"},{"$f":"'[1]87-0-14'!D714","v":"CINTA EMBAL MARRON 48x40"},{"$f":"'[1]87-0-14'!E714","v":"INDAR"},{"$f":"'[1]87-0-14'!F714","v":"CINTAS"},{"$f":"'[1]87-0-14'!G714*(1+$E$13)","v":1782.4845}]
[{"$f":"'[1]87-0-14'!B715","v":"COTI"},{"$f":"'[1]87-0-14'!D715","v":"CINTA EMBAL TRANSPA 48X40"},{"$f":"'[1]87-0-14'!E715","v":"INDAR"},{"$f":"'[1]87-0-14'!F715","v":"CINTAS"},{"$f":"'[1]87-0-14'!G715*(1+$E$13)","v":1658.1279999999999}]
[{"$f":"'[1]87-0-14'!B716","v":"CEMD"},{"$f":"'[1]87-0-14'!D716","v":"CINTA EMBALAR Marron"},{"$f":"'[1]87-0-14'!E716","v":"DOBLE A"},{"$f":"'[1]87-0-14'!F716","v":"CINTA EMBALAR"},{"$f":"'[1]87-0-14'!G716*(1+$E$13)","v":3347.1785}]
[{"$f":"'[1]87-0-14'!B717","v":"CETD"},{"$f":"'[1]87-0-14'!D717","v":"CINTA EMBALAR Transp"},{"$f":"'[1]87-0-14'!E717","v":"DOBLE A"},{"$f":"'[1]87-0-14'!F717","v":"CINTA EMBALAR"},{"$f":"'[1]87-0-14'!G717*(1+$E$13)","v":3347.1785}]
[{"$f":"'[1]87-0-14'!B718","v":"C18C"},{"$f":"'[1]87-0-14'!D718","v":"CINTA ENMASCA 18 **C903**"},{"$f":"'[1]87-0-14'!E718","v":"DOBLE A"},{"$f":"'[1]87-0-14'!F718","v":"CINTA ENMASC C903"},{"$f":"'[1]87-0-14'!G718*(1+$E$13)","v":3193.8835000000004}]
[{"$f":"'[1]87-0-14'!B719","v":"C24C"},{"$f":"'[1]87-0-14'!D719","v":"CINTA ENMASCA 24 **C903**"},{"$f":"'[1]87-0-14'!E719","v":"DOBLE A"},{"$f":"'[1]87-0-14'!F719","v":"CINTA ENMASC C903"},{"$f":"'[1]87-0-14'!G719*(1+$E$13)","v":4263.7710000000006}]
[{"$f":"'[1]87-0-14'!B720","v":"C36C"},{"$f":"'[1]87-0-14'!D720","v":"CINTA ENMASCA 36 **C903**"},{"$f":"'[1]87-0-14'!E720","v":"DOBLE A"},{"$f":"'[1]87-0-14'!F720","v":"CINTA ENMASC C903"},{"$f":"'[1]87-0-14'!G720*(1+$E$13)","v":6442.0015000000003}]
[{"$f":"'[1]87-0-14'!B721","v":"C48C"},{"$f":"'[1]87-0-14'!D721","v":"CINTA ENMASCA 48 **C903**"},{"$f":"'[1]87-0-14'!E721","v":"DOBLE A"},{"$f":"'[1]87-0-14'!F721","v":"CINTA ENMASC C903"},{"$f":"'[1]87-0-14'!G721*(1+$E$13)","v":8558.9915000000001}]
[{"$f":"'[1]87-0-14'!B722","v":"C12D"},{"$f":"'[1]87-0-14'!D722","v":"CINTA ENMASCARAR 988 12mm"},{"$f":"'[1]87-0-14'!E722","v":"DOBLE A"},{"$f":"'[1]87-0-14'!F722","v":"CINTA ENMASCARAR"},{"$f":"'[1]87-0-14'!G722*(1+$E$13)","v":3078.8890000000001}]
[{"$f":"'[1]87-0-14'!B723","v":"C18D"},{"$f":"'[1]87-0-14'!D723","v":"CINTA ENMASCARAR 988 18mm"},{"$f":"'[1]87-0-14'!E723","v":"DOBLE A"},{"$f":"'[1]87-0-14'!F723","v":"CINTA ENMASCARAR"},{"$f":"'[1]87-0-14'!G723*(1+$E$13)","v":4632.4229999999998}]
[{"$f":"'[1]87-0-14'!B724","v":"C24D"},{"$f":"'[1]87-0-14'!D724","v":"CINTA ENMASCARAR 988 24mm"},{"$f":"'[1]87-0-14'!E724","v":"DOBLE A"},{"$f":"'[1]87-0-14'!F724","v":"CINTA ENMASCARAR"},{"$f":"'[1]87-0-14'!G724*(1+$E$13)","v":6199.1785}]
[{"$f":"'[1]87-0-14'!B725","v":"C36D"},{"$f":"'[1]87-0-14'!D725","v":"CINTA ENMASCARAR 988 36mm"},{"$f":"'[1]87-0-14'!E725","v":"DOBLE A"},{"$f":"'[1]87-0-14'!F725","v":"CINTA ENMASCARAR"},{"$f":"'[1]87-0-14'!G725*(1+$E$13)","v":9298.9925000000003}]
[{"$f":"'[1]87-0-14'!B726","v":"C48D"},{"$f":"'[1]87-0-14'!D726","v":"CINTA ENMASCARAR 988 48mm"},{"$f":"'[1]87-0-14'!E726","v":"DOBLE A"},{"$f":"'[1]87-0-14'!F726","v":"CINTA ENMASCARAR"},{"$f":"'[1]87-0-14'!G726*(1+$E$13)","v":12392.854500000001}]
[{"$f":"'[1]87-0-14'!B727","v":"C12C"},{"$f":"'[1]87-0-14'!D727","v":"CINTA ENMASMA 12 **C903**"},{"$f":"'[1]87-0-14'!E727","v":"DOBLE A"},{"$f":"'[1]87-0-14'!F727","v":"CINTA ENMASC C903"},{"$f":"'[1]87-0-14'!G727*(1+$E$13)","v":2555.4075000000003}]
[{"$f":"'[1]87-0-14'!B728","v":"CMR2C"},{"$f":"'[1]87-0-14'!D728","v":"CINTA METR 3/FRENOS  2mts"},{"$f":"'[1]87-0-14'!E728","v":"ESSAMET"},{"$f":"'[1]87-0-14'!F728","v":"CINTA MET."},{"$f":"'[1]87-0-14'!G728*(1+$E$13)","v":5939.3985000000002}]
[{"$f":"'[1]87-0-14'!B729","v":"CMR3C"},{"$f":"'[1]87-0-14'!D729","v":"CINTA METR 3/FRENOS  3mts"},{"$f":"'[1]87-0-14'!E729","v":"ESSAMET"},{"$f":"'[1]87-0-14'!F729","v":"CINTA MET."},{"$f":"'[1]87-0-14'!G729*(1+$E$13)","v":13943.195500000002}]
[{"$f":"'[1]87-0-14'!B730","v":"CMR5C"},{"$f":"'[1]87-0-14'!D730","v":"CINTA METR 3/FRENOS  5mts"},{"$f":"'[1]87-0-14'!E730","v":"ESSAMET"},{"$f":"'[1]87-0-14'!F730","v":"CINTA METRICA"},{"$f":"'[1]87-0-14'!G730*(1+$E$13)","v":12916.057000000001}]
[{"$f":"'[1]87-0-14'!B731","v":"CMCF8C"},{"$f":"'[1]87-0-14'!D731","v":"CINTA METR 3/FRENOS  8mts"},{"$f":"'[1]87-0-14'!E731","v":"ESSAMET"},{"$f":"'[1]87-0-14'!F731","v":"CINTA MET."},{"$f":"'[1]87-0-14'!G731*(1+$E$13)","v":42914.168000000005}]
[{"$f":"'[1]87-0-14'!B732","v":"CMCF10C"},{"$f":"'[1]87-0-14'!D732","v":"CINTA METR 3/FRENOS 10mts"},{"$f":"'[1]87-0-14'!E732","v":"ESSAMET"},{"$f":"'[1]87-0-14'!F732","v":"CINTA MET."},{"$f":"'[1]87-0-14'!G732*(1+$E$13)","v":32072.646499999999}]
[{"$f":"'[1]87-0-14'!B733","v":"CM15C"},{"$f":"'[1]87-0-14'!D733","v":"CINTA METRICA  15mts"},{"$f":"'[1]87-0-14'!E733","v":"ESSAMET"},{"$f":"'[1]87-0-14'!F733","v":"CINTA MET."},{"$f":"'[1]87-0-14'!G733*(1+$E$13)","v":74819.631500000003}]
[{"$f":"'[1]87-0-14'!B734","v":"CM20C"},{"$f":"'[1]87-0-14'!D734","v":"CINTA METRICA  20mts"},{"$f":"'[1]87-0-14'!E734","v":"ESSAMET"},{"$f":"'[1]87-0-14'!F734","v":"CINTA MET."},{"$f":"'[1]87-0-14'!G734*(1+$E$13)","v":95365.114000000001}]
[{"$f":"'[1]87-0-14'!B735","v":"CM30C"},{"$f":"'[1]87-0-14'!D735","v":"CINTA METRICA  30mts"},{"$f":"'[1]87-0-14'!E735","v":"ESSAMET"},{"$f":"'[1]87-0-14'!F735","v":"CINTA MET."},{"$f":"'[1]87-0-14'!G735*(1+$E$13)","v":126232.58900000001}]
[{"$f":"'[1]87-0-14'!B736","v":"CM50C"},{"$f":"'[1]87-0-14'!D736","v":"CINTA METRICA  50mts"},{"$f":"'[1]87-0-14'!E736","v":"ESSAMET"},{"$f":"'[1]87-0-14'!F736","v":"CINTA MET."},{"$f":"'[1]87-0-14'!G736*(1+$E$13)","v":196422.4325}]
[{"$f":"'[1]87-0-14'!B737","v":"CM10SC"},{"$f":"'[1]87-0-14'!D737","v":"CINTA MONTAJE 10 mts"},{"$f":"'[1]87-0-14'!E737","v":"SC"},{"$f":"'[1]87-0-14'!F737","v":"CINTA MONTAJE"},{"$f":"'[1]87-0-14'!G737*(1+$E$13)","v":15079.919}]
[{"$f":"'[1]87-0-14'!B738","v":"CD18D"},{"$f":"'[1]87-0-14'!D738","v":"CINTA PAPEL #DANCAN# 18mm"},{"$f":"'[1]87-0-14'!E738","v":"DOBLE A"},{"$f":"'[1]87-0-14'!F738","v":"CINTA ENMASCARAR"},{"$f":"'[1]87-0-14'!G738*(1+$E$13)","v":2555.0820000000003}]
[{"$f":"'[1]87-0-14'!B739","v":"CD24D"},{"$f":"'[1]87-0-14'!D739","v":"CINTA PAPEL #DANCAN# 24mm"},{"$f":"'[1]87-0-14'!E739","v":"DOBLE A"},{"$f":"'[1]87-0-14'!F739","v":"CINTA ENMASCARAR"},{"$f":"'[1]87-0-14'!G739*(1+$E$13)","v":3411.1315}]
[{"$f":"'[1]87-0-14'!B740","v":"CD36D"},{"$f":"'[1]87-0-14'!D740","v":"CINTA PAPEL #DANCAN# 36mm"},{"$f":"'[1]87-0-14'!E740","v":"DOBLE A"},{"$f":"'[1]87-0-14'!F740","v":"CINTA ENMASCARAR"},{"$f":"'[1]87-0-14'!G740*(1+$E$13)","v":5153.5640000000003}]
[{"$f":"'[1]87-0-14'!B741","v":"CD48D"},{"$f":"'[1]87-0-14'!D741","v":"CINTA PAPEL #DANCAN# 48mm"},{"$f":"'[1]87-0-14'!E741","v":"DOBLE A"},{"$f":"'[1]87-0-14'!F741","v":"CINTA ENMASCARAR"},{"$f":"'[1]87-0-14'!G741*(1+$E$13)","v":6847.1714999999995}]
[{"$f":"'[1]87-0-14'!B742","v":"CPBT"},{"$f":"'[1]87-0-14'!D742","v":"CINTA PERSIANA BLANCA N13"},{"$f":"'[1]87-0-14'!E742","v":"TECNOTEX"},{"$f":"'[1]87-0-14'!F742","v":"CINTA PERSIANA"},{"$f":"'[1]87-0-14'!G742*(1+$E$13)","v":562.10749999999996}]
[{"$f":"'[1]87-0-14'!B743","v":"CPVT"},{"$f":"'[1]87-0-14'!D743","v":"CINTA PERSIANA VERDE N 7"},{"$f":"'[1]87-0-14'!E743","v":"TECNOTEX"},{"$f":"'[1]87-0-14'!F743","v":"CINTA PERSIANA"},{"$f":"'[1]87-0-14'!G743*(1+$E$13)","v":707.1875}]
[{"$f":"'[1]87-0-14'!B744","v":"CPPF112"},{"$f":"'[1]87-0-14'!D744","v":"CL PARIS FRACCI 11/2"},{"$f":"'[1]87-0-14'!E744","v":"ACINDAR"},{"$f":"'[1]87-0-14'!F744","v":"CLAVO PUNTA PARIS"},{"$f":"'[1]87-0-14'!G744*(1+$E$13)","v":8917.2275000000009}]
[{"$f":"'[1]87-0-14'!B745","v":"CPPF212"},{"$f":"'[1]87-0-14'!D745","v":"CL PARIS FRACCI 21/2"},{"$f":"'[1]87-0-14'!E745","v":"ACINDAR"},{"$f":"'[1]87-0-14'!F745","v":"CLAVO PUNTA PARIS"},{"$f":"'[1]87-0-14'!G745*(1+$E$13)","v":8032.3944999999994}]
[{"$f":"'[1]87-0-14'!B746","v":"CPPF312"},{"$f":"'[1]87-0-14'!D746","v":"CL PARIS FRACCI 31/2"},{"$f":"'[1]87-0-14'!E746","v":"ACINDAR"},{"$f":"'[1]87-0-14'!F746","v":"CLAVO PUNTA PARIS"},{"$f":"'[1]87-0-14'!G746*(1+$E$13)","v":8198.5854999999992}]
[{"$f":"'[1]87-0-14'!B747","v":"CPPF1"},{"$f":"'[1]87-0-14'!D747","v":"CL PARIS FRACCION 1\""},{"$f":"'[1]87-0-14'!E747","v":"ACINDAR"},{"$f":"'[1]87-0-14'!F747","v":"CLAVO PUNTA PARIS"},{"$f":"'[1]87-0-14'!G747*(1+$E$13)","v":9562.2754999999997}]
[{"$f":"'[1]87-0-14'!B748","v":"CPPF2"},{"$f":"'[1]87-0-14'!D748","v":"CL PARIS FRACCION 2\""},{"$f":"'[1]87-0-14'!E748","v":"ACINDAR"},{"$f":"'[1]87-0-14'!F748","v":"CLAVO PUNTA PARIS"},{"$f":"'[1]87-0-14'!G748*(1+$E$13)","v":8435.6115000000009}]
[{"$f":"'[1]87-0-14'!B749","v":"CPPF3"},{"$f":"'[1]87-0-14'!D749","v":"CL PARIS FRACCION 3\""},{"$f":"'[1]87-0-14'!E749","v":"ACINDAR"},{"$f":"'[1]87-0-14'!F749","v":"CLAVO PUNTA PARIS"},{"$f":"'[1]87-0-14'!G749*(1+$E$13)","v":7956.3670000000011}]
[{"$f":"'[1]87-0-14'!B750","v":"CPPF4"},{"$f":"'[1]87-0-14'!D750","v":"CL PARIS FRACCION 4\""},{"$f":"'[1]87-0-14'!E750","v":"ACINDAR"},{"$f":"'[1]87-0-14'!F750","v":"CLAVO PUNTA PARIS"},{"$f":"'[1]87-0-14'!G750*(1+$E$13)","v":8037.835}]
[{"$f":"'[1]87-0-14'!B751","v":"CPPF5"},{"$f":"'[1]87-0-14'!D751","v":"CL PARIS FRACCION 5\""},{"$f":"'[1]87-0-14'!E751","v":"ACINDAR"},{"$f":"'[1]87-0-14'!F751","v":"CLAVO PUNTA PARIS"},{"$f":"'[1]87-0-14'!G751*(1+$E$13)","v":8802.2020000000011}]
[{"$f":"'[1]87-0-14'!B752","v":"CPPF6"},{"$f":"'[1]87-0-14'!D752","v":"CL PARIS FRACCION 6\""},{"$f":"'[1]87-0-14'!E752","v":"ACINDAR"},{"$f":"'[1]87-0-14'!F752","v":"CLAVO PUNTA PARIS"},{"$f":"'[1]87-0-14'!G752*(1+$E$13)","v":8802.2020000000011}]
[{"$f":"'[1]87-0-14'!B753","v":"CPPF7"},{"$f":"'[1]87-0-14'!D753","v":"CL PARIS FRACCION 7\""},{"$f":"'[1]87-0-14'!E753","v":"ACINDAR"},{"$f":"'[1]87-0-14'!F753","v":"CLAVO PUNTA PARIS"},{"$f":"'[1]87-0-14'!G753*(1+$E$13)","v":8487.0249999999996}]
[{"$f":"'[1]87-0-14'!B754","v":"CPPF8E"},{"$f":"'[1]87-0-14'!D754","v":"CL PARIS FRACCION 8\""},{"$f":"'[1]87-0-14'!E754","v":"ACINDAR"},{"$f":"'[1]87-0-14'!F754","v":"CLAVO PUNTA PARIS"},{"$f":"'[1]87-0-14'!G754*(1+$E$13)","v":8487.0249999999996}]
[{"$f":"'[1]87-0-14'!B755","v":"CPPG1"},{"$f":"'[1]87-0-14'!D755","v":"CL PARIS GRANEL  1\""},{"$f":"'[1]87-0-14'!E755","v":"ACINDAR"},{"$f":"'[1]87-0-14'!F755","v":"CLAVO PUNTA PARIS"},{"$f":"'[1]87-0-14'!G755*(1+$E$13)","v":9335.0145000000011}]
[{"$f":"'[1]87-0-14'!B756","v":"CPPG2"},{"$f":"'[1]87-0-14'!D756","v":"CL PARIS GRANEL  2\""},{"$f":"'[1]87-0-14'!E756","v":"ACINDAR"},{"$f":"'[1]87-0-14'!F756","v":"CLAVO PUNTA PARIS"},{"$f":"'[1]87-0-14'!G756*(1+$E$13)","v":8230.4380000000001}]
[{"$f":"'[1]87-0-14'!B757","v":"CPPG3"},{"$f":"'[1]87-0-14'!D757","v":"CL PARIS GRANEL  3\""},{"$f":"'[1]87-0-14'!E757","v":"ACINDAR"},{"$f":"'[1]87-0-14'!F757","v":"CLAVO PUNTA PARIS"},{"$f":"'[1]87-0-14'!G757*(1+$E$13)","v":7757.4089999999997}]
[{"$f":"'[1]87-0-14'!B758","v":"CPPG4"},{"$f":"'[1]87-0-14'!D758","v":"CL PARIS GRANEL  4\""},{"$f":"'[1]87-0-14'!E758","v":"ACINDAR"},{"$f":"'[1]87-0-14'!F758","v":"CLAVO PUNTA PARIS"},{"$f":"'[1]87-0-14'!G758*(1+$E$13)","v":7839.0785000000005}]
[{"$f":"'[1]87-0-14'!B759","v":"CPPG5"},{"$f":"'[1]87-0-14'!D759","v":"CL PARIS GRANEL  5\""},{"$f":"'[1]87-0-14'!E759","v":"ACINDAR"},{"$f":"'[1]87-0-14'!F759","v":"CLAVO PUNTA PARIS"},{"$f":"'[1]87-0-14'!G759*(1+$E$13)","v":8487.0249999999996}]
[{"$f":"'[1]87-0-14'!B760","v":"CPPG6"},{"$f":"'[1]87-0-14'!D760","v":"CL PARIS GRANEL  6\""},{"$f":"'[1]87-0-14'!E760","v":"ACINDAR"},{"$f":"'[1]87-0-14'!F760","v":"CLAVO PUNTA PARIS"},{"$f":"'[1]87-0-14'!G760*(1+$E$13)","v":8487.0249999999996}]
[{"$f":"'[1]87-0-14'!B761","v":"CPPG7"},{"$f":"'[1]87-0-14'!D761","v":"CL PARIS GRANEL  7\""},{"$f":"'[1]87-0-14'!E761","v":"ACINDAR"},{"$f":"'[1]87-0-14'!F761","v":"CLAVO PUNTA PARIS"},{"$f":"'[1]87-0-14'!G761*(1+$E$13)","v":8487.0249999999996}]
[{"$f":"'[1]87-0-14'!B762","v":"CPPG8"},{"$f":"'[1]87-0-14'!D762","v":"CL PARIS GRANEL  8\""},{"$f":"'[1]87-0-14'!E762","v":"ACINDAR"},{"$f":"'[1]87-0-14'!F762","v":"CLAVO PUNTA PARIS"},{"$f":"'[1]87-0-14'!G762*(1+$E$13)","v":8487.0249999999996}]
[{"$f":"'[1]87-0-14'!B763","v":"CPPG112"},{"$f":"'[1]87-0-14'!D763","v":"CL PARIS GRANEL 11/2"},{"$f":"'[1]87-0-14'!E763","v":"ACINDAR"},{"$f":"'[1]87-0-14'!F763","v":"CLAVO PUNTA PARIS"},{"$f":"'[1]87-0-14'!G763*(1+$E$13)","v":8704.3505000000005}]
[{"$f":"'[1]87-0-14'!B764","v":"CPPG212"},{"$f":"'[1]87-0-14'!D764","v":"CL PARIS GRANEL 21/2"},{"$f":"'[1]87-0-14'!E764","v":"ACINDAR"},{"$f":"'[1]87-0-14'!F764","v":"CLAVO PUNTA PARIS"},{"$f":"'[1]87-0-14'!G764*(1+$E$13)","v":7839.2489999999998}]
[{"$f":"'[1]87-0-14'!B765","v":"CPPG312"},{"$f":"'[1]87-0-14'!D765","v":"CL PARIS GRANEL 31/2"},{"$f":"'[1]87-0-14'!E765","v":"ACINDAR"},{"$f":"'[1]87-0-14'!F765","v":"CLAVO PUNTA PARIS"},{"$f":"'[1]87-0-14'!G765*(1+$E$13)","v":7995.8609999999999}]
[{"$f":"'[1]87-0-14'!B766","v":"CCP1620"},{"$f":"'[1]87-0-14'!D766","v":"CLA PIZARRA 16x20"},{"$f":"'[1]87-0-14'!E766","v":"ACINDAR"},{"$f":"'[1]87-0-14'!F766","v":"CLAVO C. PIZARRA"},{"$f":"'[1]87-0-14'!G766*(1+$E$13)","v":11543.625}]
[{"$f":"'[1]87-0-14'!B767","v":"CCP1625"},{"$f":"'[1]87-0-14'!D767","v":"CLA PIZARRA 16x25"},{"$f":"'[1]87-0-14'!E767","v":"ACINDAR"},{"$f":"'[1]87-0-14'!F767","v":"CLAVO C. PIZARRA"},{"$f":"'[1]87-0-14'!G767*(1+$E$13)","v":11543.625}]
[{"$f":"'[1]87-0-14'!B768","v":"CCP1630"},{"$f":"'[1]87-0-14'!D768","v":"CLA PIZARRA 16x30"},{"$f":"'[1]87-0-14'!E768","v":"ACINDAR"},{"$f":"'[1]87-0-14'!F768","v":"CLAVO C. PIZARRA"},{"$f":"'[1]87-0-14'!G768*(1+$E$13)","v":11543.625}]
[{"$f":"'[1]87-0-14'!B769","v":"CA17020E"},{"$f":"'[1]87-0-14'!D769","v":"CLAV ACERO 1,70 x 20 (400"},{"$f":"'[1]87-0-14'!E769","v":"ELESCUERZO"},{"$f":"'[1]87-0-14'!F769","v":"CLAVO"},{"$f":"'[1]87-0-14'!G769*(1+$E$13)","v":15057.444}]
[{"$f":"'[1]87-0-14'!B770","v":"CA17025E"},{"$f":"'[1]87-0-14'!D770","v":"CLAV ACERO 1,70 x 25 (400"},{"$f":"'[1]87-0-14'!E770","v":"ELESCUERZO"},{"$f":"'[1]87-0-14'!F770","v":"CLAVO"},{"$f":"'[1]87-0-14'!G770*(1+$E$13)","v":17871.9185}]
[{"$f":"'[1]87-0-14'!B771","v":"CA25025E"},{"$f":"'[1]87-0-14'!D771","v":"CLAV ACERO 2,50 x 25 (200"},{"$f":"'[1]87-0-14'!E771","v":"ELESCUERZO"},{"$f":"'[1]87-0-14'!F771","v":"CLAVO"},{"$f":"'[1]87-0-14'!G771*(1+$E$13)","v":17309.020500000002}]
[{"$f":"'[1]87-0-14'!B772","v":"CA25030E"},{"$f":"'[1]87-0-14'!D772","v":"CLAV ACERO 2,50 x 30 (200"},{"$f":"'[1]87-0-14'!E772","v":"ELESCUERZO"},{"$f":"'[1]87-0-14'!F772","v":"CLAVO"},{"$f":"'[1]87-0-14'!G772*(1+$E$13)","v":20686.393}]
[{"$f":"'[1]87-0-14'!B773","v":"CA25040E"},{"$f":"'[1]87-0-14'!D773","v":"CLAV ACERO 2,50 x 40 (200"},{"$f":"'[1]87-0-14'!E773","v":"ELESCUERZO"},{"$f":"'[1]87-0-14'!F773","v":"CLAVO"},{"$f":"'[1]87-0-14'!G773*(1+$E$13)","v":26878.255500000003}]
[{"$f":"'[1]87-0-14'!B774","v":"CEF1E"},{"$f":"'[1]87-0-14'!D774","v":"CLAV ESPIR Fracc  1\""},{"$f":"'[1]87-0-14'!E774","v":"ACINDAR"},{"$f":"'[1]87-0-14'!F774","v":"CLAVO ESPIRALADO"},{"$f":"'[1]87-0-14'!G774*(1+$E$13)","v":13769.053}]
[{"$f":"'[1]87-0-14'!B775","v":"CEF2E"},{"$f":"'[1]87-0-14'!D775","v":"CLAV ESPIR Fracc  2\""},{"$f":"'[1]87-0-14'!E775","v":"ACINDAR"},{"$f":"'[1]87-0-14'!F775","v":"CLAVO ESPIRALADO"},{"$f":"'[1]87-0-14'!G775*(1+$E$13)","v":12144.591}]
[{"$f":"'[1]87-0-14'!B776","v":"CEF3E"},{"$f":"'[1]87-0-14'!D776","v":"CLAV ESPIR Fracc  3\""},{"$f":"'[1]87-0-14'!E776","v":"ACINDAR"},{"$f":"'[1]87-0-14'!F776","v":"CLAVO ESPIRALADO"},{"$f":"'[1]87-0-14'!G776*(1+$E$13)","v":10707.120999999999}]
[{"$f":"'[1]87-0-14'!B777","v":"CEF4E"},{"$f":"'[1]87-0-14'!D777","v":"CLAV ESPIR Fracc  4\""},{"$f":"'[1]87-0-14'!E777","v":"ACINDAR"},{"$f":"'[1]87-0-14'!F777","v":"CLAVO ESPIRALADO"},{"$f":"'[1]87-0-14'!G777*(1+$E$13)","v":10707.120999999999}]
[{"$f":"'[1]87-0-14'!B778","v":"CEF5E"},{"$f":"'[1]87-0-14'!D778","v":"CLAV ESPIR Fracc  5\""},{"$f":"'[1]87-0-14'!E778","v":"ACINDAR"},{"$f":"'[1]87-0-14'!F778","v":"CLAVO ESPIRALADO"},{"$f":"'[1]87-0-14'!G778*(1+$E$13)","v":10707.120999999999}]
[{"$f":"'[1]87-0-14'!B779","v":"CEF6E"},{"$f":"'[1]87-0-14'!D779","v":"CLAV ESPIR Fracc  6\""},{"$f":"'[1]87-0-14'!E779","v":"ACINDAR"},{"$f":"'[1]87-0-14'!F779","v":"CLAVO ESPIRALADO"},{"$f":"'[1]87-0-14'!G779*(1+$E$13)","v":11588.9625}]
[{"$f":"'[1]87-0-14'!B780","v":"CEF112E"},{"$f":"'[1]87-0-14'!D780","v":"CLAV ESPIR Fracc 1 1/2"},{"$f":"'[1]87-0-14'!E780","v":"ACINDAR"},{"$f":"'[1]87-0-14'!F780","v":"CLAVO ESPIRALADO"},{"$f":"'[1]87-0-14'!G780*(1+$E$13)","v":12777.301000000001}]
[{"$f":"'[1]87-0-14'!B781","v":"CEF212E"},{"$f":"'[1]87-0-14'!D781","v":"CLAV ESPIR Fracc 2 1/2"},{"$f":"'[1]87-0-14'!E781","v":"ACINDAR"},{"$f":"'[1]87-0-14'!F781","v":"CLAVO ESPIRALADO"},{"$f":"'[1]87-0-14'!G781*(1+$E$13)","v":10975.426000000001}]
[{"$f":"'[1]87-0-14'!B782","v":"CEG1E"},{"$f":"'[1]87-0-14'!D782","v":"CLAV ESPIR Grane  1\""},{"$f":"'[1]87-0-14'!E782","v":"ACINDAR"},{"$f":"'[1]87-0-14'!F782","v":"CLAVO ESPIRALADO"},{"$f":"'[1]87-0-14'!G782*(1+$E$13)","v":13498.624500000002}]
[{"$f":"'[1]87-0-14'!B783","v":"CEG2E"},{"$f":"'[1]87-0-14'!D783","v":"CLAV ESPIR Grane  2\""},{"$f":"'[1]87-0-14'!E783","v":"ACINDAR"},{"$f":"'[1]87-0-14'!F783","v":"CLAVO ESPIRALADO"},{"$f":"'[1]87-0-14'!G783*(1+$E$13)","v":11900.388500000001}]
[{"$f":"'[1]87-0-14'!B784","v":"CEG3E"},{"$f":"'[1]87-0-14'!D784","v":"CLAV ESPIR Grane  3\""},{"$f":"'[1]87-0-14'!E784","v":"ACINDAR"},{"$f":"'[1]87-0-14'!F784","v":"CLAVO ESPIRALADO"},{"$f":"'[1]87-0-14'!G784*(1+$E$13)","v":10489.020500000001}]
[{"$f":"'[1]87-0-14'!B785","v":"CEG4E"},{"$f":"'[1]87-0-14'!D785","v":"CLAV ESPIR Grane  4\""},{"$f":"'[1]87-0-14'!E785","v":"ACINDAR"},{"$f":"'[1]87-0-14'!F785","v":"CLAVO ESPIRALADO"},{"$f":"'[1]87-0-14'!G785*(1+$E$13)","v":10489.020500000001}]
[{"$f":"'[1]87-0-14'!B786","v":"CEG5E"},{"$f":"'[1]87-0-14'!D786","v":"CLAV ESPIR Grane  5\""},{"$f":"'[1]87-0-14'!E786","v":"ACINDAR"},{"$f":"'[1]87-0-14'!F786","v":"CLAVO ESPIRALADO"},{"$f":"'[1]87-0-14'!G786*(1+$E$13)","v":10489.020500000001}]
[{"$f":"'[1]87-0-14'!B787","v":"CEG6E"},{"$f":"'[1]87-0-14'!D787","v":"CLAV ESPIR Grane  6\""},{"$f":"'[1]87-0-14'!E787","v":"ACINDAR"},{"$f":"'[1]87-0-14'!F787","v":"CLAVO ESPIRALADO"},{"$f":"'[1]87-0-14'!G787*(1+$E$13)","v":11588.9625}]
[{"$f":"'[1]87-0-14'!B788","v":"CEG112E"},{"$f":"'[1]87-0-14'!D788","v":"CLAV ESPIR Grane 1 1/2"},{"$f":"'[1]87-0-14'!E788","v":"ACINDAR"},{"$f":"'[1]87-0-14'!F788","v":"CLAVO ESPIRALADO"},{"$f":"'[1]87-0-14'!G788*(1+$E$13)","v":12525.736000000001}]
[{"$f":"'[1]87-0-14'!B789","v":"CEG212E"},{"$f":"'[1]87-0-14'!D789","v":"CLAV ESPIR Grane 2 1/2"},{"$f":"'[1]87-0-14'!E789","v":"ACINDAR"},{"$f":"'[1]87-0-14'!F789","v":"CLAVO ESPIRALADO"},{"$f":"'[1]87-0-14'!G789*(1+$E$13)","v":10757.387500000001}]
[{"$f":"'[1]87-0-14'!B790","v":"CMPBS"},{"$f":"'[1]87-0-14'!D790","v":"CLAVIJ MANIJA BRONCE"},{"$f":"'[1]87-0-14'!E790","v":"SABELCORT"},{"$f":"'[1]87-0-14'!F790","v":"CLAVIJA"},{"$f":"'[1]87-0-14'!G790*(1+$E$13)","v":5763.52}]
[{"$f":"'[1]87-0-14'!B791","v":"CMPNS"},{"$f":"'[1]87-0-14'!D791","v":"CLAVIJ MANIJA NIQUEL"},{"$f":"'[1]87-0-14'!E791","v":"SABELCORT"},{"$f":"'[1]87-0-14'!F791","v":"CLAVIJA"},{"$f":"'[1]87-0-14'!G791*(1+$E$13)","v":5528.8035}]
[{"$f":"'[1]87-0-14'!B792","v":"CA225EE"},{"$f":"'[1]87-0-14'!D792","v":"CLAVO ACERO   2 x 25 (200"},{"$f":"'[1]87-0-14'!E792","v":"ELESCUERZO"},{"$f":"'[1]87-0-14'!F792","v":"CLAVO"},{"$f":"'[1]87-0-14'!G792*(1+$E$13)","v":11680.0715}]
[{"$f":"'[1]87-0-14'!B793","v":"CA230EE"},{"$f":"'[1]87-0-14'!D793","v":"CLAVO ACERO   2 x 30 (200"},{"$f":"'[1]87-0-14'!E793","v":"ELESCUERZO"},{"$f":"'[1]87-0-14'!F793","v":"CLAVO"},{"$f":"'[1]87-0-14'!G793*(1+$E$13)","v":13509.49}]
[{"$f":"'[1]87-0-14'!B794","v":"CA240EE"},{"$f":"'[1]87-0-14'!D794","v":"CLAVO ACERO   2 x 40 (200"},{"$f":"'[1]87-0-14'!E794","v":"ELESCUERZO"},{"$f":"'[1]87-0-14'!F794","v":"CLAVO"},{"$f":"'[1]87-0-14'!G794*(1+$E$13)","v":18012.643}]
[{"$f":"'[1]87-0-14'!B795","v":"CA330EE"},{"$f":"'[1]87-0-14'!D795","v":"CLAVO ACERO   3 x 30 (100"},{"$f":"'[1]87-0-14'!E795","v":"ELESCUERZO"},{"$f":"'[1]87-0-14'!F795","v":"CLAVO"},{"$f":"'[1]87-0-14'!G795*(1+$E$13)","v":15338.893}]
[{"$f":"'[1]87-0-14'!B796","v":"CA340EE"},{"$f":"'[1]87-0-14'!D796","v":"CLAVO ACERO   3 x 40 (100"},{"$f":"'[1]87-0-14'!E796","v":"ELESCUERZO"},{"$f":"'[1]87-0-14'!F796","v":"CLAVO"},{"$f":"'[1]87-0-14'!G796*(1+$E$13)","v":19138.438999999998}]
[{"$f":"'[1]87-0-14'!B797","v":"CA350EE"},{"$f":"'[1]87-0-14'!D797","v":"CLAVO ACERO   3 x 50 (100"},{"$f":"'[1]87-0-14'!E797","v":"ELESCUERZO"},{"$f":"'[1]87-0-14'!F797","v":"CLAVO"},{"$f":"'[1]87-0-14'!G797*(1+$E$13)","v":25752.459500000004}]
[{"$f":"'[1]87-0-14'!B798","v":"CA360EE"},{"$f":"'[1]87-0-14'!D798","v":"CLAVO ACERO   3 x 60 (100"},{"$f":"'[1]87-0-14'!E798","v":"ELESCUERZO"},{"$f":"'[1]87-0-14'!F798","v":"CLAVO"},{"$f":"'[1]87-0-14'!G798*(1+$E$13)","v":32647.929}]
[{"$f":"'[1]87-0-14'!B799","v":"CCP2128"},{"$f":"'[1]87-0-14'!D799","v":"CLAVO C/PLOMO 21/2x8"},{"$f":"'[1]87-0-14'!E799","v":"4 BARRAS"},{"$f":"'[1]87-0-14'!F799","v":"CLAVO CAB. PL"},{"$f":"'[1]87-0-14'!G799*(1+$E$13)","v":8931.3325000000004}]
[{"$f":"'[1]87-0-14'!B800","v":"CCP38"},{"$f":"'[1]87-0-14'!D800","v":"CLAVO C/PLOMO 3x8"},{"$f":"'[1]87-0-14'!E800","v":"4 BARRAS"},{"$f":"'[1]87-0-14'!F800","v":"CLAVO CAB. PL"},{"$f":"'[1]87-0-14'!G800*(1+$E$13)","v":9303.4719999999998}]
[{"$f":"'[1]87-0-14'!B801","v":"CCP48"},{"$f":"'[1]87-0-14'!D801","v":"CLAVO C/PLOMO 4x8"},{"$f":"'[1]87-0-14'!E801","v":"4 BARRAS"},{"$f":"'[1]87-0-14'!F801","v":"CLAVO CAB. PL"},{"$f":"'[1]87-0-14'!G801*(1+$E$13)","v":13117.898000000001}]
[{"$f":"'[1]87-0-14'!B802","v":"CC1225E"},{"$f":"'[1]87-0-14'!D802","v":"CLAVO CAJONERO 12x25"},{"$f":"'[1]87-0-14'!E802","v":"ACINDAR"},{"$f":"'[1]87-0-14'!F802","v":"CLAVO CAJONERO"},{"$f":"'[1]87-0-14'!G802*(1+$E$13)","v":8844.8425000000007}]
[{"$f":"'[1]87-0-14'!B803","v":"CC1230E"},{"$f":"'[1]87-0-14'!D803","v":"CLAVO CAJONERO 12x30"},{"$f":"'[1]87-0-14'!E803","v":"ACINDAR"},{"$f":"'[1]87-0-14'!F803","v":"CLAVO CAJONERO"},{"$f":"'[1]87-0-14'!G803*(1+$E$13)","v":8408.9979999999996}]
[{"$f":"'[1]87-0-14'!B804","v":"CC1232E"},{"$f":"'[1]87-0-14'!D804","v":"CLAVO CAJONERO 12x32"},{"$f":"'[1]87-0-14'!E804","v":"ACINDAR"},{"$f":"'[1]87-0-14'!F804","v":"CLAVO CAJONERO"},{"$f":"'[1]87-0-14'!G804*(1+$E$13)","v":8460.8765000000003}]
[{"$f":"'[1]87-0-14'!B805","v":"CC1238E"},{"$f":"'[1]87-0-14'!D805","v":"CLAVO CAJONERO 12x38"},{"$f":"'[1]87-0-14'!E805","v":"ACINDAR"},{"$f":"'[1]87-0-14'!F805","v":"CLAVO CAJONERO"},{"$f":"'[1]87-0-14'!G805*(1+$E$13)","v":8124.17}]
[{"$f":"'[1]87-0-14'!B806","v":"CC1450E"},{"$f":"'[1]87-0-14'!D806","v":"CLAVO CAJONERO 14x50"},{"$f":"'[1]87-0-14'!E806","v":"ACINDAR"},{"$f":"'[1]87-0-14'!F806","v":"CLAVO CAJONERO"},{"$f":"'[1]87-0-14'!G806*(1+$E$13)","v":7353.4944999999998}]
[{"$f":"'[1]87-0-14'!B807","v":"CC1550E"},{"$f":"'[1]87-0-14'!D807","v":"CLAVO CAJONERO 15X50"},{"$f":"'[1]87-0-14'!E807","v":"ACINDAR"},{"$f":"'[1]87-0-14'!F807","v":"CLAVO CAJONERO"},{"$f":"'[1]87-0-14'!G807*(1+$E$13)","v":7353.4944999999998}]
[{"$f":"'[1]87-0-14'!B808","v":"CC1663E"},{"$f":"'[1]87-0-14'!D808","v":"CLAVO CAJONERO 16x63"},{"$f":"'[1]87-0-14'!E808","v":"ACINDAR"},{"$f":"'[1]87-0-14'!F808","v":"CLAVO CAJONERO"},{"$f":"'[1]87-0-14'!G808*(1+$E$13)","v":7353.4944999999998}]
[{"$f":"'[1]87-0-14'!B809","v":"CCC612"},{"$f":"'[1]87-0-14'!D809","v":"CLAVO CHATA  6x12"},{"$f":"'[1]87-0-14'!E809","v":"ACINDAR"},{"$f":"'[1]87-0-14'!F809","v":"CLAVO CHATA Y PER"},{"$f":"'[1]87-0-14'!G809*(1+$E$13)","v":29209.068000000003}]
[{"$f":"'[1]87-0-14'!B810","v":"CCC616"},{"$f":"'[1]87-0-14'!D810","v":"CLAVO CHATA  6x16"},{"$f":"'[1]87-0-14'!E810","v":"ACINDAR"},{"$f":"'[1]87-0-14'!F810","v":"CLAVO CHATA Y PER"},{"$f":"'[1]87-0-14'!G810*(1+$E$13)","v":29209.068000000003}]
[{"$f":"'[1]87-0-14'!B811","v":"CCC716"},{"$f":"'[1]87-0-14'!D811","v":"CLAVO CHATA  7x16"},{"$f":"'[1]87-0-14'!E811","v":"ACINDAR"},{"$f":"'[1]87-0-14'!F811","v":"CLAVO CHATA Y PER"},{"$f":"'[1]87-0-14'!G811*(1+$E$13)","v":16482.235000000001}]
[{"$f":"'[1]87-0-14'!B812","v":"CCC720"},{"$f":"'[1]87-0-14'!D812","v":"CLAVO CHATA  7x20"},{"$f":"'[1]87-0-14'!E812","v":"ACINDAR"},{"$f":"'[1]87-0-14'!F812","v":"CLAVO CHATA Y PER"},{"$f":"'[1]87-0-14'!G812*(1+$E$13)","v":16482.235000000001}]
[{"$f":"'[1]87-0-14'!B813","v":"CCC820"},{"$f":"'[1]87-0-14'!D813","v":"CLAVO CHATA  8x20"},{"$f":"'[1]87-0-14'!E813","v":"ACINDAR"},{"$f":"'[1]87-0-14'!F813","v":"CLAVO CHATA Y PER"},{"$f":"'[1]87-0-14'!G813*(1+$E$13)","v":13333.487500000001}]
[{"$f":"'[1]87-0-14'!B814","v":"CCC825"},{"$f":"'[1]87-0-14'!D814","v":"CLAVO CHATA  8x25"},{"$f":"'[1]87-0-14'!E814","v":"ACINDAR"},{"$f":"'[1]87-0-14'!F814","v":"ÇLAVO CHATA Y PER"},{"$f":"'[1]87-0-14'!G814*(1+$E$13)","v":13333.487500000001}]
[{"$f":"'[1]87-0-14'!B815","v":"CCC830"},{"$f":"'[1]87-0-14'!D815","v":"CLAVO CHATA  8x30"},{"$f":"'[1]87-0-14'!E815","v":"ACINDAR"},{"$f":"'[1]87-0-14'!F815","v":"CLAVO CHATA Y PER"},{"$f":"'[1]87-0-14'!G815*(1+$E$13)","v":13404.601499999999}]
[{"$f":"'[1]87-0-14'!B816","v":"CCC920"},{"$f":"'[1]87-0-14'!D816","v":"CLAVO CHATA  9x20"},{"$f":"'[1]87-0-14'!E816","v":"ACINDAR"},{"$f":"'[1]87-0-14'!F816","v":"CLAVO CHATA Y PER"},{"$f":"'[1]87-0-14'!G816*(1+$E$13)","v":12762.653499999999}]
[{"$f":"'[1]87-0-14'!B817","v":"CCC925"},{"$f":"'[1]87-0-14'!D817","v":"CLAVO CHATA  9x25"},{"$f":"'[1]87-0-14'!E817","v":"ACINDAR"},{"$f":"'[1]87-0-14'!F817","v":"CLAVO CHATA Y PER"},{"$f":"'[1]87-0-14'!G817*(1+$E$13)","v":12762.653499999999}]
[{"$f":"'[1]87-0-14'!B818","v":"CCC930"},{"$f":"'[1]87-0-14'!D818","v":"CLAVO CHATA  9x30"},{"$f":"'[1]87-0-14'!E818","v":"ACINDAR"},{"$f":"'[1]87-0-14'!F818","v":"CLAVO CHATA Y PER"},{"$f":"'[1]87-0-14'!G818*(1+$E$13)","v":12762.653499999999}]
[{"$f":"'[1]87-0-14'!B819","v":"CCC1020"},{"$f":"'[1]87-0-14'!D819","v":"CLAVO CHATA 10x20"},{"$f":"'[1]87-0-14'!E819","v":"ACINDAR"},{"$f":"'[1]87-0-14'!F819","v":"CLAVO CHATA Y PER"},{"$f":"'[1]87-0-14'!G819*(1+$E$13)","v":16837.355500000001}]
[{"$f":"'[1]87-0-14'!B820","v":"CCC1025"},{"$f":"'[1]87-0-14'!D820","v":"CLAVO CHATA 10x25"},{"$f":"'[1]87-0-14'!E820","v":"ACINDAR"},{"$f":"'[1]87-0-14'!F820","v":"CLAVO CHATA Y PER"},{"$f":"'[1]87-0-14'!G820*(1+$E$13)","v":12098.0445}]
[{"$f":"'[1]87-0-14'!B821","v":"CCC1030"},{"$f":"'[1]87-0-14'!D821","v":"CLAVO CHATA 10x30"},{"$f":"'[1]87-0-14'!E821","v":"ACINDAR"},{"$f":"'[1]87-0-14'!F821","v":"CLAVO CHATA Y PER"},{"$f":"'[1]87-0-14'!G821*(1+$E$13)","v":12098.0445}]
[{"$f":"'[1]87-0-14'!B822","v":"CCC1035"},{"$f":"'[1]87-0-14'!D822","v":"CLAVO CHATA 10x35"},{"$f":"'[1]87-0-14'!E822","v":"ACINDAR"},{"$f":"'[1]87-0-14'!F822","v":"CLAVO CHATA Y PER"},{"$f":"'[1]87-0-14'!G822*(1+$E$13)","v":12098.0445}]
[{"$f":"'[1]87-0-14'!B823","v":"CCC1040"},{"$f":"'[1]87-0-14'!D823","v":"CLAVO CHATA 10x40"},{"$f":"'[1]87-0-14'!E823","v":"ACINDAR"},{"$f":"'[1]87-0-14'!F823","v":"CLAVO CHATA Y PER"},{"$f":"'[1]87-0-14'!G823*(1+$E$13)","v":12098.0445}]
[{"$f":"'[1]87-0-14'!B824","v":"CCC1230"},{"$f":"'[1]87-0-14'!D824","v":"CLAVO CHATA 12x30"},{"$f":"'[1]87-0-14'!E824","v":"ACINDAR"},{"$f":"'[1]87-0-14'!F824","v":"CLAVO CHATA Y PER"},{"$f":"'[1]87-0-14'!G824*(1+$E$13)","v":11599.704000000002}]
[{"$f":"'[1]87-0-14'!B825","v":"CCC1235"},{"$f":"'[1]87-0-14'!D825","v":"CLAVO CHATA 12x35"},{"$f":"'[1]87-0-14'!E825","v":"ACINDAR"},{"$f":"'[1]87-0-14'!F825","v":"CLAVO CHATA Y PER"},{"$f":"'[1]87-0-14'!G825*(1+$E$13)","v":15394.507000000001}]
[{"$f":"'[1]87-0-14'!B826","v":"CCC1240"},{"$f":"'[1]87-0-14'!D826","v":"CLAVO CHATA 12x40"},{"$f":"'[1]87-0-14'!E826","v":"ACINDAR"},{"$f":"'[1]87-0-14'!F826","v":"CLAVO CHATA Y PER"},{"$f":"'[1]87-0-14'!G826*(1+$E$13)","v":11599.704000000002}]
[{"$f":"'[1]87-0-14'!B827","v":"CCC1250"},{"$f":"'[1]87-0-14'!D827","v":"CLAVO CHATA 12x50"},{"$f":"'[1]87-0-14'!E827","v":"ACINDAR"},{"$f":"'[1]87-0-14'!F827","v":"CLAVO CHATA Y PER"},{"$f":"'[1]87-0-14'!G827*(1+$E$13)","v":11599.704000000002}]
[{"$f":"'[1]87-0-14'!B828","v":"CCC1440"},{"$f":"'[1]87-0-14'!D828","v":"CLAVO CHATA 14x40"},{"$f":"'[1]87-0-14'!E828","v":"ACINDAR"},{"$f":"'[1]87-0-14'!F828","v":"CLAVO CHATA Y PER"},{"$f":"'[1]87-0-14'!G828*(1+$E$13)","v":10968.869499999999}]
[{"$f":"'[1]87-0-14'!B829","v":"CCC1450"},{"$f":"'[1]87-0-14'!D829","v":"CLAVO CHATA 14x50"},{"$f":"'[1]87-0-14'!E829","v":"ACINDAR"},{"$f":"'[1]87-0-14'!F829","v":"CLAVO CHATA Y PER"},{"$f":"'[1]87-0-14'!G829*(1+$E$13)","v":10966.467000000001}]
[{"$f":"'[1]87-0-14'!B830","v":"CCC1550"},{"$f":"'[1]87-0-14'!D830","v":"CLAVO CHATA 15x50"},{"$f":"'[1]87-0-14'!E830","v":"ACINDAR"},{"$f":"'[1]87-0-14'!F830","v":"CLAVO CHATA Y PER"},{"$f":"'[1]87-0-14'!G830*(1+$E$13)","v":10612.5245}]
[{"$f":"'[1]87-0-14'!B831","v":"CCC1663"},{"$f":"'[1]87-0-14'!D831","v":"CLAVO CHATA 16x63"},{"$f":"'[1]87-0-14'!E831","v":"ACINDAR"},{"$f":"'[1]87-0-14'!F831","v":"CLAVO CHATA Y PER"},{"$f":"'[1]87-0-14'!G831*(1+$E$13)","v":10427.020500000001}]
[{"$f":"'[1]87-0-14'!B832","v":"CCC1776"},{"$f":"'[1]87-0-14'!D832","v":"CLAVO CHATA 17x76"},{"$f":"'[1]87-0-14'!E832","v":"ACINDAR"},{"$f":"'[1]87-0-14'!F832","v":"CLAVO CHATA Y PER"},{"$f":"'[1]87-0-14'!G832*(1+$E$13)","v":10330.827500000001}]
[{"$f":"'[1]87-0-14'!B833","v":"CC112E"},{"$f":"'[1]87-0-14'!D833","v":"CLAVO COBRE 1 1/2\""},{"$f":"'[1]87-0-14'!E833","v":"4 BARRAS"},{"$f":"'[1]87-0-14'!F833","v":"CLAVO COBRE"},{"$f":"'[1]87-0-14'!G833*(1+$E$13)","v":63795.241000000002}]
[{"$f":"'[1]87-0-14'!B834","v":"CC212E"},{"$f":"'[1]87-0-14'!D834","v":"CLAVO COBRE 2 1/2\""},{"$f":"'[1]87-0-14'!E834","v":"4 BARRAS"},{"$f":"'[1]87-0-14'!F834","v":"CLAVO COBRE"},{"$f":"'[1]87-0-14'!G834*(1+$E$13)","v":63795.241000000002}]
[{"$f":"'[1]87-0-14'!B835","v":"CC2E"},{"$f":"'[1]87-0-14'!D835","v":"CLAVO COBRE 2\""},{"$f":"'[1]87-0-14'!E835","v":"4 BARRAS"},{"$f":"'[1]87-0-14'!F835","v":"CLAVO COBRE"},{"$f":"'[1]87-0-14'!G835*(1+$E$13)","v":63795.241000000002}]
[{"$f":"'[1]87-0-14'!B836","v":"CP21284B"},{"$f":"'[1]87-0-14'!D836","v":"CLAVO PARAGUA 2/12\" X 8"},{"$f":"'[1]87-0-14'!E836","v":"4 BARRAS"},{"$f":"'[1]87-0-14'!F836","v":"CLAVO PARAGUA"},{"$f":"'[1]87-0-14'!G836*(1+$E$13)","v":17025.355}]
[{"$f":"'[1]87-0-14'!B837","v":"CP384B"},{"$f":"'[1]87-0-14'!D837","v":"CLAVO PARAGUA 3\" X 8"},{"$f":"'[1]87-0-14'!E837","v":"4 BARRAS"},{"$f":"'[1]87-0-14'!F837","v":"CLAVO PARAGUA"},{"$f":"'[1]87-0-14'!G837*(1+$E$13)","v":18748.164499999999}]
[{"$f":"'[1]87-0-14'!B838","v":"CP484B"},{"$f":"'[1]87-0-14'!D838","v":"CLAVO PARAGUA 4\" X 8"},{"$f":"'[1]87-0-14'!E838","v":"4 BARRAS"},{"$f":"'[1]87-0-14'!F838","v":"CLAVO PARAGUA"},{"$f":"'[1]87-0-14'!G838*(1+$E$13)","v":24341.386000000002}]
[{"$f":"'[1]87-0-14'!B839","v":"CCP612"},{"$f":"'[1]87-0-14'!D839","v":"CLAVO PERDIDA  6x12"},{"$f":"'[1]87-0-14'!E839","v":"ACINDAR"},{"$f":"'[1]87-0-14'!F839","v":"CLAVO CHATA Y PER"},{"$f":"'[1]87-0-14'!G839*(1+$E$13)","v":29209.052499999998}]
[{"$f":"'[1]87-0-14'!B840","v":"CCP616"},{"$f":"'[1]87-0-14'!D840","v":"CLAVO PERDIDA  6x16"},{"$f":"'[1]87-0-14'!E840","v":"ACINDAR"},{"$f":"'[1]87-0-14'!F840","v":"CLAVO CHATA Y PER"},{"$f":"'[1]87-0-14'!G840*(1+$E$13)","v":29209.052499999998}]
[{"$f":"'[1]87-0-14'!B841","v":"CCP716"},{"$f":"'[1]87-0-14'!D841","v":"CLAVO PERDIDA  7x16"},{"$f":"'[1]87-0-14'!E841","v":"ACINDAR"},{"$f":"'[1]87-0-14'!F841","v":"CLAVO CHATA Y PER"},{"$f":"'[1]87-0-14'!G841*(1+$E$13)","v":17975.722000000002}]
[{"$f":"'[1]87-0-14'!B842","v":"CCP720"},{"$f":"'[1]87-0-14'!D842","v":"CLAVO PERDIDA  7x20"},{"$f":"'[1]87-0-14'!E842","v":"ACINDAR"},{"$f":"'[1]87-0-14'!F842","v":"CLAVO CHATA Y PER"},{"$f":"'[1]87-0-14'!G842*(1+$E$13)","v":27582.374000000003}]
[{"$f":"'[1]87-0-14'!B843","v":"CCP820"},{"$f":"'[1]87-0-14'!D843","v":"CLAVO PERDIDA  8x20"},{"$f":"'[1]87-0-14'!E843","v":"ACINDAR"},{"$f":"'[1]87-0-14'!F843","v":"CLAVO CHATA Y PER"},{"$f":"'[1]87-0-14'!G843*(1+$E$13)","v":13335.781499999999}]
[{"$f":"'[1]87-0-14'!B844","v":"CCP825"},{"$f":"'[1]87-0-14'!D844","v":"CLAVO PERDIDA  8x25"},{"$f":"'[1]87-0-14'!E844","v":"ACINDAR"},{"$f":"'[1]87-0-14'!F844","v":"CLAVO CHATA Y PER"},{"$f":"'[1]87-0-14'!G844*(1+$E$13)","v":13335.781499999999}]
[{"$f":"'[1]87-0-14'!B845","v":"CCP830"},{"$f":"'[1]87-0-14'!D845","v":"CLAVO PERDIDA  8x30"},{"$f":"'[1]87-0-14'!E845","v":"ACINDAR"},{"$f":"'[1]87-0-14'!F845","v":"CLAVO CHATA Y PER"},{"$f":"'[1]87-0-14'!G845*(1+$E$13)","v":17814.366999999998}]
[{"$f":"'[1]87-0-14'!B846","v":"CCP920"},{"$f":"'[1]87-0-14'!D846","v":"CLAVO PERDIDA  9x20"},{"$f":"'[1]87-0-14'!E846","v":"ACINDAR"},{"$f":"'[1]87-0-14'!F846","v":"CLAVO CHATA Y PER"},{"$f":"'[1]87-0-14'!G846*(1+$E$13)","v":12762.653499999999}]
[{"$f":"'[1]87-0-14'!B847","v":"CCP925"},{"$f":"'[1]87-0-14'!D847","v":"CLAVO PERDIDA  9x25"},{"$f":"'[1]87-0-14'!E847","v":"ACINDAR"},{"$f":"'[1]87-0-14'!F847","v":"CLAVO CHATA Y PER"},{"$f":"'[1]87-0-14'!G847*(1+$E$13)","v":12762.653499999999}]
[{"$f":"'[1]87-0-14'!B848","v":"CCP930"},{"$f":"'[1]87-0-14'!D848","v":"CLAVO PERDIDA  9x30"},{"$f":"'[1]87-0-14'!E848","v":"ACINDAR"},{"$f":"'[1]87-0-14'!F848","v":"CLAVO CHATA Y PER"},{"$f":"'[1]87-0-14'!G848*(1+$E$13)","v":12762.653499999999}]
[{"$f":"'[1]87-0-14'!B849","v":"CCP935E"},{"$f":"'[1]87-0-14'!D849","v":"CLAVO PERDIDA  9x35"},{"$f":"'[1]87-0-14'!E849","v":"ACINDAR"},{"$f":"'[1]87-0-14'!F849","v":"CLAVO CHATA Y PER"},{"$f":"'[1]87-0-14'!G849*(1+$E$13)","v":12762.653499999999}]
[{"$f":"'[1]87-0-14'!B850","v":"CCP1020"},{"$f":"'[1]87-0-14'!D850","v":"CLAVO PERDIDA 10x20"},{"$f":"'[1]87-0-14'!E850","v":"ACINDAR"},{"$f":"'[1]87-0-14'!F850","v":"CLAVO CHATA Y PER"},{"$f":"'[1]87-0-14'!G850*(1+$E$13)","v":12095.456}]
[{"$f":"'[1]87-0-14'!B851","v":"CCP1025"},{"$f":"'[1]87-0-14'!D851","v":"CLAVO PERDIDA 10x25"},{"$f":"'[1]87-0-14'!E851","v":"ACINDAR"},{"$f":"'[1]87-0-14'!F851","v":"CLAVO CHATA Y PER"},{"$f":"'[1]87-0-14'!G851*(1+$E$13)","v":12095.456}]
[{"$f":"'[1]87-0-14'!B852","v":"CCP1030"},{"$f":"'[1]87-0-14'!D852","v":"CLAVO PERDIDA 10x30"},{"$f":"'[1]87-0-14'!E852","v":"ACINDAR"},{"$f":"'[1]87-0-14'!F852","v":"CLAVO CHATA Y PER"},{"$f":"'[1]87-0-14'!G852*(1+$E$13)","v":12095.456}]
[{"$f":"'[1]87-0-14'!B853","v":"CCP1035"},{"$f":"'[1]87-0-14'!D853","v":"CLAVO PERDIDA 10x35"},{"$f":"'[1]87-0-14'!E853","v":"ACINDAR"},{"$f":"'[1]87-0-14'!F853","v":"CLAVO CHATA Y PER"},{"$f":"'[1]87-0-14'!G853*(1+$E$13)","v":12095.456}]
[{"$f":"'[1]87-0-14'!B854","v":"CCP1040"},{"$f":"'[1]87-0-14'!D854","v":"CLAVO PERDIDA 10x40"},{"$f":"'[1]87-0-14'!E854","v":"ACINDAR"},{"$f":"'[1]87-0-14'!F854","v":"CLAVO CHATA Y PER"},{"$f":"'[1]87-0-14'!G854*(1+$E$13)","v":12095.456}]
[{"$f":"'[1]87-0-14'!B855","v":"CCP1230"},{"$f":"'[1]87-0-14'!D855","v":"CLAVO PERDIDA 12x30"},{"$f":"'[1]87-0-14'!E855","v":"ACINDAR"},{"$f":"'[1]87-0-14'!F855","v":"CLAVO CHATA Y PER"},{"$f":"'[1]87-0-14'!G855*(1+$E$13)","v":11597.255000000001}]
[{"$f":"'[1]87-0-14'!B856","v":"CCP1235"},{"$f":"'[1]87-0-14'!D856","v":"CLAVO PERDIDA 12x35"},{"$f":"'[1]87-0-14'!E856","v":"ACINDAR"},{"$f":"'[1]87-0-14'!F856","v":"CLAVO CHATA Y PER"},{"$f":"'[1]87-0-14'!G856*(1+$E$13)","v":11597.255000000001}]
[{"$f":"'[1]87-0-14'!B857","v":"CCP1240"},{"$f":"'[1]87-0-14'!D857","v":"CLAVO PERDIDA 12x40"},{"$f":"'[1]87-0-14'!E857","v":"ACINDAR"},{"$f":"'[1]87-0-14'!F857","v":"CLAVO CHATA Y PER"},{"$f":"'[1]87-0-14'!G857*(1+$E$13)","v":11597.255000000001}]
[{"$f":"'[1]87-0-14'!B858","v":"CCP1250"},{"$f":"'[1]87-0-14'!D858","v":"CLAVO PERDIDA 12x50"},{"$f":"'[1]87-0-14'!E858","v":"ACINDAR"},{"$f":"'[1]87-0-14'!F858","v":"CLAVO CHATA Y PER"},{"$f":"'[1]87-0-14'!G858*(1+$E$13)","v":11597.2395}]
[{"$f":"'[1]87-0-14'!B859","v":"CCP1440"},{"$f":"'[1]87-0-14'!D859","v":"CLAVO PERDIDA 14x40"},{"$f":"'[1]87-0-14'!E859","v":"ACINDAR"},{"$f":"'[1]87-0-14'!F859","v":"CLAVO CHATA Y PER"},{"$f":"'[1]87-0-14'!G859*(1+$E$13)","v":10966.467000000001}]
[{"$f":"'[1]87-0-14'!B860","v":"CCP1450"},{"$f":"'[1]87-0-14'!D860","v":"CLAVO PERDIDA 14x50"},{"$f":"'[1]87-0-14'!E860","v":"ACINDAR"},{"$f":"'[1]87-0-14'!F860","v":"CLAVO CHATA Y PER"},{"$f":"'[1]87-0-14'!G860*(1+$E$13)","v":10966.467000000001}]
[{"$f":"'[1]87-0-14'!B861","v":"CCP1550"},{"$f":"'[1]87-0-14'!D861","v":"CLAVO PERDIDA 15x50"},{"$f":"'[1]87-0-14'!E861","v":"ACINDAR"},{"$f":"'[1]87-0-14'!F861","v":"CLAVO CHATA Y PER"},{"$f":"'[1]87-0-14'!G861*(1+$E$13)","v":10610.075500000001}]
[{"$f":"'[1]87-0-14'!B862","v":"CCP1663"},{"$f":"'[1]87-0-14'!D862","v":"CLAVO PERDIDA 16x63"},{"$f":"'[1]87-0-14'!E862","v":"ACINDAR"},{"$f":"'[1]87-0-14'!F862","v":"CLAVO CHATA Y PER"},{"$f":"'[1]87-0-14'!G862*(1+$E$13)","v":10424.710999999999}]
[{"$f":"'[1]87-0-14'!B863","v":"CCP1776"},{"$f":"'[1]87-0-14'!D863","v":"CLAVO PERDIDA 17x76"},{"$f":"'[1]87-0-14'!E863","v":"ACINDAR"},{"$f":"'[1]87-0-14'!F863","v":"CLAVO CHATA Y PER"},{"$f":"'[1]87-0-14'!G863*(1+$E$13)","v":10326.146500000001}]
[{"$f":"'[1]87-0-14'!B864","v":"CP35P"},{"$f":"'[1]87-0-14'!D864","v":"COBERTOR PLASTICO #3x5#"},{"$f":"'[1]87-0-14'!E864","v":"PAINTROLER"},{"$f":"'[1]87-0-14'!F864","v":"COBERTOR"},{"$f":"'[1]87-0-14'!G864*(1+$E$13)","v":5038.1819999999998}]
[{"$f":"'[1]87-0-14'!B865","v":"CP33P"},{"$f":"'[1]87-0-14'!D865","v":"COBERTOR PLASTICO 3x3"},{"$f":"'[1]87-0-14'!E865","v":"PAINTROLER"},{"$f":"'[1]87-0-14'!F865","v":"COBERTOR"},{"$f":"'[1]87-0-14'!G865*(1+$E$13)","v":3199.0450000000001}]
[{"$f":"'[1]87-0-14'!B866","v":"CSP20T"},{"$f":"'[1]87-0-14'!D866","v":"COFRE SEG.PORTAVALORES 20"},{"$f":"'[1]87-0-14'!E866","v":"TRABEX"},{"$f":"'[1]87-0-14'!F866","v":"COFRE SEGURIDAD"},{"$f":"'[1]87-0-14'!G866*(1+$E$13)","v":314442.88900000002}]
[{"$f":"'[1]87-0-14'!B867","v":"CST15200"},{"$f":"'[1]87-0-14'!D867","v":"COL T15 TELGOP TAMBOR 200"},{"$f":"'[1]87-0-14'!E867","v":"FORTEX"},{"$f":"'[1]87-0-14'!F867","v":"COLA P/TELGOPOR"},{"$f":"'[1]87-0-14'!G867*(1+$E$13)","v":2252480.4755000002}]
[{"$f":"'[1]87-0-14'!B868","v":"CC20F"},{"$f":"'[1]87-0-14'!D868","v":"COLA CALIENTE 20Kg"},{"$f":"'[1]87-0-14'!E868","v":"FORTEX"},{"$f":"'[1]87-0-14'!F868","v":"COLA CALIENTE"},{"$f":"'[1]87-0-14'!G868*(1+$E$13)","v":590217.52500000002}]
[{"$f":"'[1]87-0-14'!B869","v":"CT200F"},{"$f":"'[1]87-0-14'!D869","v":"COLA P/TELGOPOR 200g"},{"$f":"'[1]87-0-14'!E869","v":"FORTEX"},{"$f":"'[1]87-0-14'!F869","v":"COLA P/TELGOPOR"},{"$f":"'[1]87-0-14'!G869*(1+$E$13)","v":3685.2179999999998}]
[{"$f":"'[1]87-0-14'!B870","v":"CPM25F"},{"$f":"'[1]87-0-14'!D870","v":"COLA PISO MADER 25Kg"},{"$f":"'[1]87-0-14'!E870","v":"FORTEX"},{"$f":"'[1]87-0-14'!F870","v":"COLA PISO MADERA"},{"$f":"'[1]87-0-14'!G870*(1+$E$13)","v":157430.18300000002}]
[{"$f":"'[1]87-0-14'!B871","v":"CPM1F"},{"$f":"'[1]87-0-14'!D871","v":"COLA PISO MADERA 1kg"},{"$f":"'[1]87-0-14'!E871","v":"FORTEX"},{"$f":"'[1]87-0-14'!F871","v":"COLA PISO MADERA"},{"$f":"'[1]87-0-14'!G871*(1+$E$13)","v":8219.1849999999995}]
[{"$f":"'[1]87-0-14'!B872","v":"CPM5F"},{"$f":"'[1]87-0-14'!D872","v":"COLA PISO MADERA 5kg"},{"$f":"'[1]87-0-14'!E872","v":"FORTEX"},{"$f":"'[1]87-0-14'!F872","v":"COLA PISO MADERA"},{"$f":"'[1]87-0-14'!G872*(1+$E$13)","v":35584.512500000004}]
[{"$f":"'[1]87-0-14'!B873","v":"CSCPF"},{"$f":"'[1]87-0-14'!D873","v":"COLA SINT 200g C/PIC"},{"$f":"'[1]87-0-14'!E873","v":"FORTEX"},{"$f":"'[1]87-0-14'!F873","v":"COLA SINTETICA"},{"$f":"'[1]87-0-14'!G873*(1+$E$13)","v":3445.2005000000004}]
[{"$f":"'[1]87-0-14'!B874","v":"CS220F"},{"$f":"'[1]87-0-14'!D874","v":"COLA SINT A-20 TAMBOR 220"},{"$f":"'[1]87-0-14'!E874","v":"FORTEX"},{"$f":"'[1]87-0-14'!F874","v":"COLA SINTETICA"},{"$f":"'[1]87-0-14'!G874*(1+$E$13)","v":1903750.176}]
[{"$f":"'[1]87-0-14'!B875","v":"C125T"},{"$f":"'[1]87-0-14'!D875","v":"COLA SINTET C/PICO  125gr"},{"$f":"'[1]87-0-14'!E875","v":"TF3"},{"$f":"'[1]87-0-14'!F875","v":"COLA SINTETICA"},{"$f":"'[1]87-0-14'!G875*(1+$E$13)","v":1587.5100000000002}]
[{"$f":"'[1]87-0-14'!B876","v":"C250T"},{"$f":"'[1]87-0-14'!D876","v":"COLA SINTET C/PICO  250gr"},{"$f":"'[1]87-0-14'!E876","v":"TF3"},{"$f":"'[1]87-0-14'!F876","v":"COLA SINTETICA"},{"$f":"'[1]87-0-14'!G876*(1+$E$13)","v":2718.6534999999999}]
[{"$f":"'[1]87-0-14'!B877","v":"C500T"},{"$f":"'[1]87-0-14'!D877","v":"COLA SINTET C/PICO  500gr"},{"$f":"'[1]87-0-14'!E877","v":"TF3"},{"$f":"'[1]87-0-14'!F877","v":"COLA SINTETICA"},{"$f":"'[1]87-0-14'!G877*(1+$E$13)","v":4711.6745000000001}]
[{"$f":"'[1]87-0-14'!B878","v":"C1000T"},{"$f":"'[1]87-0-14'!D878","v":"COLA SINTET C/PICO 1000gr"},{"$f":"'[1]87-0-14'!E878","v":"TF3"},{"$f":"'[1]87-0-14'!F878","v":"COLA SINTETICA"},{"$f":"'[1]87-0-14'!G878*(1+$E$13)","v":8662.764000000001}]
[{"$f":"'[1]87-0-14'!B879","v":"CS1F"},{"$f":"'[1]87-0-14'!D879","v":"COLA SINTETICA  1 Kg"},{"$f":"'[1]87-0-14'!E879","v":"FORTEX"},{"$f":"'[1]87-0-14'!F879","v":"COLA SINTETICA"},{"$f":"'[1]87-0-14'!G879*(1+$E$13)","v":10102.1715}]
[{"$f":"'[1]87-0-14'!B880","v":"CS12F"},{"$f":"'[1]87-0-14'!D880","v":"COLA SINTETICA 1/2Kg"},{"$f":"'[1]87-0-14'!E880","v":"FORTEX"},{"$f":"'[1]87-0-14'!F880","v":"COLA SINTETICA"},{"$f":"'[1]87-0-14'!G880*(1+$E$13)","v":5915.1255000000001}]
[{"$f":"'[1]87-0-14'!B881","v":"CS14F"},{"$f":"'[1]87-0-14'!D881","v":"COLA SINTETICA 1/4Kg"},{"$f":"'[1]87-0-14'!E881","v":"FORTEX"},{"$f":"'[1]87-0-14'!F881","v":"COLA SINTETICA"},{"$f":"'[1]87-0-14'!G881*(1+$E$13)","v":3451.7570000000001}]
[{"$f":"'[1]87-0-14'!B882","v":"CS18F"},{"$f":"'[1]87-0-14'!D882","v":"COLA SINTETICA 1/8Kg"},{"$f":"'[1]87-0-14'!E882","v":"FORTEX"},{"$f":"'[1]87-0-14'!F882","v":"COLA SINTETICA"},{"$f":"'[1]87-0-14'!G882*(1+$E$13)","v":2550.6334999999999}]
[{"$f":"'[1]87-0-14'!B883","v":"CS24F"},{"$f":"'[1]87-0-14'!D883","v":"COLA SINTETICA 24Kg."},{"$f":"'[1]87-0-14'!E883","v":"FORTEX"},{"$f":"'[1]87-0-14'!F883","v":"COLA SINTETICA"},{"$f":"'[1]87-0-14'!G883*(1+$E$13)","v":221889.86250000002}]
[{"$f":"'[1]87-0-14'!B884","v":"CS6F"},{"$f":"'[1]87-0-14'!D884","v":"COLA SINTETICA 6 Kg."},{"$f":"'[1]87-0-14'!E884","v":"FORTEX"},{"$f":"'[1]87-0-14'!F884","v":"COLA SINTETICA"},{"$f":"'[1]87-0-14'!G884*(1+$E$13)","v":57488.538999999997}]
[{"$f":"'[1]87-0-14'!B885","v":"CT151F"},{"$f":"'[1]87-0-14'!D885","v":"COLA T-15 TELGOPOR 1"},{"$f":"'[1]87-0-14'!E885","v":"FORTEX"},{"$f":"'[1]87-0-14'!F885","v":"COLA T-15"},{"$f":"'[1]87-0-14'!G885*(1+$E$13)","v":13117.541500000001}]
[{"$f":"'[1]87-0-14'!B886","v":"CT156F"},{"$f":"'[1]87-0-14'!D886","v":"COLA T-15 TELGOPOR 6"},{"$f":"'[1]87-0-14'!E886","v":"FORTEX"},{"$f":"'[1]87-0-14'!F886","v":"COLA T-15"},{"$f":"'[1]87-0-14'!G886*(1+$E$13)","v":72115.951000000001}]
[{"$f":"'[1]87-0-14'!B887","v":"CX361F"},{"$f":"'[1]87-0-14'!D887","v":"COLA X-36  1 Kg"},{"$f":"'[1]87-0-14'!E887","v":"FORTEX"},{"$f":"'[1]87-0-14'!F887","v":"COLA X-36"},{"$f":"'[1]87-0-14'!G887*(1+$E$13)","v":15729.276}]
[{"$f":"'[1]87-0-14'!B888","v":"CX366F"},{"$f":"'[1]87-0-14'!D888","v":"COLA X-36  6 Kgs"},{"$f":"'[1]87-0-14'!E888","v":"FORTEX"},{"$f":"'[1]87-0-14'!F888","v":"COLA X-36"},{"$f":"'[1]87-0-14'!G888*(1+$E$13)","v":89656.200500000006}]
[{"$f":"'[1]87-0-14'!B889","v":"CX3622F"},{"$f":"'[1]87-0-14'!D889","v":"COLA X-36 22 Kgs"},{"$f":"'[1]87-0-14'!E889","v":"FORTEX"},{"$f":"'[1]87-0-14'!F889","v":"COLA X-36"},{"$f":"'[1]87-0-14'!G889*(1+$E$13)","v":320221.27350000001}]
[{"$f":"'[1]87-0-14'!B890","v":"C4PP"},{"$f":"'[1]87-0-14'!D890","v":"COM 4 PL/200-4-6-5-7-8-10"},{"$f":"'[1]87-0-14'!E890","v":"PRIVE"},{"$f":"'[1]87-0-14'!F890","v":"CERROJO"},{"$f":"'[1]87-0-14'!G890*(1+$E$13)","v":11320.704000000002}]
[{"$f":"'[1]87-0-14'!B891","v":"C6PP"},{"$f":"'[1]87-0-14'!D891","v":"COMBI 6 PLA/201-3//2001-3"},{"$f":"'[1]87-0-14'!E891","v":"PRIVE"},{"$f":"'[1]87-0-14'!F891","v":"CERRADURA"},{"$f":"'[1]87-0-14'!G891*(1+$E$13)","v":14680.9645}]
[{"$f":"'[1]87-0-14'!B892","v":"CAD42SC"},{"$f":"'[1]87-0-14'!D892","v":"CON ANG DESIGUAL  42"},{"$f":"'[1]87-0-14'!E892","v":"SC"},{"$f":"'[1]87-0-14'!F892","v":"CONECTOR ANGULO"},{"$f":"'[1]87-0-14'!G892*(1+$E$13)","v":17755.110499999999}]
[{"$f":"'[1]87-0-14'!B893","v":"CAD67SC"},{"$f":"'[1]87-0-14'!D893","v":"CON ANG DESIGUAL  67"},{"$f":"'[1]87-0-14'!E893","v":"SC"},{"$f":"'[1]87-0-14'!F893","v":"CONECTOR ANGULO"},{"$f":"'[1]87-0-14'!G893*(1+$E$13)","v":26649.429}]
[{"$f":"'[1]87-0-14'!B894","v":"CAD93SC"},{"$f":"'[1]87-0-14'!D894","v":"CON ANG DESIGUAL  93"},{"$f":"'[1]87-0-14'!E894","v":"SC"},{"$f":"'[1]87-0-14'!F894","v":"CONECTOR ANGULO"},{"$f":"'[1]87-0-14'!G894*(1+$E$13)","v":41406.885999999999}]
[{"$f":"'[1]87-0-14'!B895","v":"CAD117SC"},{"$f":"'[1]87-0-14'!D895","v":"CON ANG DESIGUAL 117"},{"$f":"'[1]87-0-14'!E895","v":"SC"},{"$f":"'[1]87-0-14'!F895","v":"CONECTOR ANGULO"},{"$f":"'[1]87-0-14'!G895*(1+$E$13)","v":56481.519500000002}]
[{"$f":"'[1]87-0-14'!B896","v":"CAD140SC"},{"$f":"'[1]87-0-14'!D896","v":"CON ANG DESIGUAL 140"},{"$f":"'[1]87-0-14'!E896","v":"SC"},{"$f":"'[1]87-0-14'!F896","v":"CONECTOR ANGULO"},{"$f":"'[1]87-0-14'!G896*(1+$E$13)","v":69106.486499999999}]
[{"$f":"'[1]87-0-14'!B897","v":"CAI42SC"},{"$f":"'[1]87-0-14'!D897","v":"CONEC ANGU IGUAL  42"},{"$f":"'[1]87-0-14'!E897","v":"SC"},{"$f":"'[1]87-0-14'!F897","v":"CONECTOR ANGULO"},{"$f":"'[1]87-0-14'!G897*(1+$E$13)","v":17616.447500000002}]
[{"$f":"'[1]87-0-14'!B898","v":"CAI67SC"},{"$f":"'[1]87-0-14'!D898","v":"CONEC ANGU IGUAL  67"},{"$f":"'[1]87-0-14'!E898","v":"SC"},{"$f":"'[1]87-0-14'!F898","v":"CONECTOR ANGULO"},{"$f":"'[1]87-0-14'!G898*(1+$E$13)","v":22876.853000000003}]
[{"$f":"'[1]87-0-14'!B899","v":"CAI93SC"},{"$f":"'[1]87-0-14'!D899","v":"CONEC ANGU IGUAL  93"},{"$f":"'[1]87-0-14'!E899","v":"SC"},{"$f":"'[1]87-0-14'!F899","v":"CONECTOR ANGULO"},{"$f":"'[1]87-0-14'!G899*(1+$E$13)","v":29584.819}]
[{"$f":"'[1]87-0-14'!B900","v":"CAI117SC"},{"$f":"'[1]87-0-14'!D900","v":"CONEC ANGU IGUAL 117"},{"$f":"'[1]87-0-14'!E900","v":"SC"},{"$f":"'[1]87-0-14'!F900","v":"CONECTOR ANGULO"},{"$f":"'[1]87-0-14'!G900*(1+$E$13)","v":49074.844499999999}]
[{"$f":"'[1]87-0-14'!B901","v":"CA42SC"},{"$f":"'[1]87-0-14'!D901","v":"CONECTOR ANGULO  42"},{"$f":"'[1]87-0-14'!E901","v":"SC"},{"$f":"'[1]87-0-14'!F901","v":"CONECTOR ANGULO"},{"$f":"'[1]87-0-14'!G901*(1+$E$13)","v":9744.1370000000006}]
[{"$f":"'[1]87-0-14'!B902","v":"CA67SC"},{"$f":"'[1]87-0-14'!D902","v":"CONECTOR ANGULO  67"},{"$f":"'[1]87-0-14'!E902","v":"SC"},{"$f":"'[1]87-0-14'!F902","v":"CONECTOR ANGULO"},{"$f":"'[1]87-0-14'!G902*(1+$E$13)","v":11612.538}]
[{"$f":"'[1]87-0-14'!B903","v":"CA93SC"},{"$f":"'[1]87-0-14'!D903","v":"CONECTOR ANGULO  93"},{"$f":"'[1]87-0-14'!E903","v":"SC"},{"$f":"'[1]87-0-14'!F903","v":"CONECTOR ANGULO"},{"$f":"'[1]87-0-14'!G903*(1+$E$13)","v":15612.654}]
[{"$f":"'[1]87-0-14'!B904","v":"CA117SC"},{"$f":"'[1]87-0-14'!D904","v":"CONECTOR ANGULO 117"},{"$f":"'[1]87-0-14'!E904","v":"SC"},{"$f":"'[1]87-0-14'!F904","v":"CONECTOR ANGULO"},{"$f":"'[1]87-0-14'!G904*(1+$E$13)","v":17336.998}]
[{"$f":"'[1]87-0-14'!B905","v":"CA140SC"},{"$f":"'[1]87-0-14'!D905","v":"CONECTOR ANGULO 140"},{"$f":"'[1]87-0-14'!E905","v":"SC"},{"$f":"'[1]87-0-14'!F905","v":"CONECTOR ANGULO"},{"$f":"'[1]87-0-14'!G905*(1+$E$13)","v":21901.004000000001}]
[{"$f":"'[1]87-0-14'!B906","v":"CA165SC"},{"$f":"'[1]87-0-14'!D906","v":"CONECTOR ANGULO 165"},{"$f":"'[1]87-0-14'!E906","v":"SC"},{"$f":"'[1]87-0-14'!F906","v":"CONECTOR ANGULO"},{"$f":"'[1]87-0-14'!G906*(1+$E$13)","v":25075.4195}]
[{"$f":"'[1]87-0-14'!B907","v":"CA190SC"},{"$f":"'[1]87-0-14'!D907","v":"CONECTOR ANGULO 190"},{"$f":"'[1]87-0-14'!E907","v":"SC"},{"$f":"'[1]87-0-14'!F907","v":"CONECTOR ANGULO"},{"$f":"'[1]87-0-14'!G907*(1+$E$13)","v":28065.9895}]
[{"$f":"'[1]87-0-14'!B908","v":"CA215SC"},{"$f":"'[1]87-0-14'!D908","v":"CONECTOR ANGULO 215"},{"$f":"'[1]87-0-14'!E908","v":"SC"},{"$f":"'[1]87-0-14'!F908","v":"CONECTOR ANGULO"},{"$f":"'[1]87-0-14'!G908*(1+$E$13)","v":35940.222000000002}]
[{"$f":"'[1]87-0-14'!B909","v":"CA240SC"},{"$f":"'[1]87-0-14'!D909","v":"CONECTOR ANGULO 240"},{"$f":"'[1]87-0-14'!E909","v":"SC"},{"$f":"'[1]87-0-14'!F909","v":"CONECTOR ANGULO"},{"$f":"'[1]87-0-14'!G909*(1+$E$13)","v":39614.729500000001}]
[{"$f":"'[1]87-0-14'!B910","v":"CA290SC"},{"$f":"'[1]87-0-14'!D910","v":"CONECTOR ANGULO 290"},{"$f":"'[1]87-0-14'!E910","v":"SC"},{"$f":"'[1]87-0-14'!F910","v":"CONECTOR ANGULO"},{"$f":"'[1]87-0-14'!G910*(1+$E$13)","v":47236.916499999999}]
[{"$f":"'[1]87-0-14'!B911","v":"CM12V"},{"$f":"'[1]87-0-14'!D911","v":"CONECTOR P/MANGUERA 1/2"},{"$f":"'[1]87-0-14'!E911","v":"VITAL GAS"},{"$f":"'[1]87-0-14'!F911","v":"RIEGO"},{"$f":"'[1]87-0-14'!G911*(1+$E$13)","v":2262.5970000000002}]
[{"$f":"'[1]87-0-14'!B912","v":"CM34V"},{"$f":"'[1]87-0-14'!D912","v":"CONECTOR P/MANGUERA 3/4"},{"$f":"'[1]87-0-14'!E912","v":"VITAL GAS"},{"$f":"'[1]87-0-14'!F912","v":"RIEGO"},{"$f":"'[1]87-0-14'!G912*(1+$E$13)","v":2512.8135000000002}]
[{"$f":"'[1]87-0-14'!B913","v":"CP42SC"},{"$f":"'[1]87-0-14'!D913","v":"CONECTOR PLACA  42mm"},{"$f":"'[1]87-0-14'!E913","v":"SC"},{"$f":"'[1]87-0-14'!F913","v":"CONECTOR ANGULO"},{"$f":"'[1]87-0-14'!G913*(1+$E$13)","v":15548.298000000001}]
[{"$f":"'[1]87-0-14'!B914","v":"CP67SC"},{"$f":"'[1]87-0-14'!D914","v":"CONECTOR PLACA  67mm"},{"$f":"'[1]87-0-14'!E914","v":"SC"},{"$f":"'[1]87-0-14'!F914","v":"CONECTOR ANGULO"},{"$f":"'[1]87-0-14'!G914*(1+$E$13)","v":25281.1355}]
[{"$f":"'[1]87-0-14'!B915","v":"CP93SC"},{"$f":"'[1]87-0-14'!D915","v":"CONECTOR PLACA  93mm"},{"$f":"'[1]87-0-14'!E915","v":"SC"},{"$f":"'[1]87-0-14'!F915","v":"CONECTOR ANGULO"},{"$f":"'[1]87-0-14'!G915*(1+$E$13)","v":38527.420000000006}]
[{"$f":"'[1]87-0-14'!B916","v":"CP117SC"},{"$f":"'[1]87-0-14'!D916","v":"CONECTOR PLACA 117mm"},{"$f":"'[1]87-0-14'!E916","v":"SC"},{"$f":"'[1]87-0-14'!F916","v":"CONECTOR ANGULO"},{"$f":"'[1]87-0-14'!G916*(1+$E$13)","v":56684.367999999995}]
[{"$f":"'[1]87-0-14'!B917","v":"CE40D"},{"$f":"'[1]87-0-14'!D917","v":"CONEX EXTENS AJUS 40"},{"$f":"'[1]87-0-14'!E917","v":"DUKE"},{"$f":"'[1]87-0-14'!F917","v":"CONEX EXTEN AJUST"},{"$f":"'[1]87-0-14'!G917*(1+$E$13)","v":3182.6460000000002}]
[{"$f":"'[1]87-0-14'!B918","v":"CE50D"},{"$f":"'[1]87-0-14'!D918","v":"CONEX EXTENS AJUS 50"},{"$f":"'[1]87-0-14'!E918","v":"DUKE"},{"$f":"'[1]87-0-14'!F918","v":"CONEX EXTEN AJUST"},{"$f":"'[1]87-0-14'!G918*(1+$E$13)","v":3437.0474999999997}]
[{"$f":"'[1]87-0-14'!B919","v":"CR"},{"$f":"'[1]87-0-14'!D919","v":"CONTRA"},{"$f":"'[1]87-0-14'!E919","v":"REEMBOLSO"},{"$f":"'[1]87-0-14'!F919","v":"CONTRA"},{"$f":"'[1]87-0-14'!G919*(1+$E$13)","v":0}]
[{"$f":"'[1]87-0-14'!B920","v":"CBB12P"},{"$f":"'[1]87-0-14'!D920","v":"CONV *BRILLAN* BLANCO 1/2"},{"$f":"'[1]87-0-14'!E920","v":"PREMIER"},{"$f":"'[1]87-0-14'!F920","v":"ESMALTE"},{"$f":"'[1]87-0-14'!G920*(1+$E$13)","v":12539.717000000001}]
[{"$f":"'[1]87-0-14'!B921","v":"CBB14P"},{"$f":"'[1]87-0-14'!D921","v":"CONV *BRILLAN* BLANCO 1/4"},{"$f":"'[1]87-0-14'!E921","v":"PREMIER"},{"$f":"'[1]87-0-14'!F921","v":"ESMALTE"},{"$f":"'[1]87-0-14'!G921*(1+$E$13)","v":7452.8650000000007}]
[{"$f":"'[1]87-0-14'!B922","v":"CBB20P"},{"$f":"'[1]87-0-14'!D922","v":"CONV *BRILLANT* BLANCO 20"},{"$f":"'[1]87-0-14'!E922","v":"PREMIER"},{"$f":"'[1]87-0-14'!F922","v":"CONVERTIDOR"},{"$f":"'[1]87-0-14'!G922*(1+$E$13)","v":399783.98249999998}]
[{"$f":"'[1]87-0-14'!B923","v":"CBN12P"},{"$f":"'[1]87-0-14'!D923","v":"CONV *BRILLANT* NEGRO 1/2"},{"$f":"'[1]87-0-14'!E923","v":"PREMIER"},{"$f":"'[1]87-0-14'!F923","v":"ESMALTE"},{"$f":"'[1]87-0-14'!G923*(1+$E$13)","v":10953.013000000001}]
[{"$f":"'[1]87-0-14'!B924","v":"CBN14P"},{"$f":"'[1]87-0-14'!D924","v":"CONV *BRILLANT* NEGRO 1/4"},{"$f":"'[1]87-0-14'!E924","v":"PREMIER"},{"$f":"'[1]87-0-14'!F924","v":"ESMALTE"},{"$f":"'[1]87-0-14'!G924*(1+$E$13)","v":6634.6975000000002}]
[{"$f":"'[1]87-0-14'!B925","v":"CBB1P"},{"$f":"'[1]87-0-14'!D925","v":"CONV *BRILLANTE* BLANCO 1"},{"$f":"'[1]87-0-14'!E925","v":"PREMIER"},{"$f":"'[1]87-0-14'!F925","v":"ESMALTE"},{"$f":"'[1]87-0-14'!G925*(1+$E$13)","v":21854.039000000001}]
[{"$f":"'[1]87-0-14'!B926","v":"CBB4P"},{"$f":"'[1]87-0-14'!D926","v":"CONV *BRILLANTE* BLANCO 4"},{"$f":"'[1]87-0-14'!E926","v":"PREMIER"},{"$f":"'[1]87-0-14'!F926","v":"CONVERTIDOR"},{"$f":"'[1]87-0-14'!G926*(1+$E$13)","v":83655.685500000007}]
[{"$f":"'[1]87-0-14'!B927","v":"CBN1P"},{"$f":"'[1]87-0-14'!D927","v":"CONV *BRILLANTE* NEGRO  1"},{"$f":"'[1]87-0-14'!E927","v":"PREMIER"},{"$f":"'[1]87-0-14'!F927","v":"ESMALTE"},{"$f":"'[1]87-0-14'!G927*(1+$E$13)","v":18826.253499999999}]
[{"$f":"'[1]87-0-14'!B928","v":"CBN20P"},{"$f":"'[1]87-0-14'!D928","v":"CONV *BRILLANTE* NEGRO 20"},{"$f":"'[1]87-0-14'!E928","v":"PREMIER"},{"$f":"'[1]87-0-14'!F928","v":"ESMALTE"},{"$f":"'[1]87-0-14'!G928*(1+$E$13)","v":339215.31449999998}]
[{"$f":"'[1]87-0-14'!B929","v":"CBN4P"},{"$f":"'[1]87-0-14'!D929","v":"CONV *BRILLANTE* NEGRO 4L"},{"$f":"'[1]87-0-14'!E929","v":"PREMIER"},{"$f":"'[1]87-0-14'!F929","v":"ESMALTE"},{"$f":"'[1]87-0-14'!G929*(1+$E$13)","v":71762.024000000005}]
[{"$f":"'[1]87-0-14'!B930","v":"CB12V"},{"$f":"'[1]87-0-14'!D930","v":"CONVER OX Blanco 1/2"},{"$f":"'[1]87-0-14'!E930","v":"VENIER"},{"$f":"'[1]87-0-14'!F930","v":"CONVERTIDOR"},{"$f":"'[1]87-0-14'!G930*(1+$E$13)","v":16229.616}]
[{"$f":"'[1]87-0-14'!B931","v":"CB14V"},{"$f":"'[1]87-0-14'!D931","v":"CONVER OX Blanco 1/4"},{"$f":"'[1]87-0-14'!E931","v":"VENIER"},{"$f":"'[1]87-0-14'!F931","v":"CONVERTIDOR"},{"$f":"'[1]87-0-14'!G931*(1+$E$13)","v":11135.696}]
[{"$f":"'[1]87-0-14'!B932","v":"CB1V"},{"$f":"'[1]87-0-14'!D932","v":"CONVER OX Blanco 1Lt"},{"$f":"'[1]87-0-14'!E932","v":"VENIER"},{"$f":"'[1]87-0-14'!F932","v":"CONVERTIDOR"},{"$f":"'[1]87-0-14'!G932*(1+$E$13)","v":26822.5795}]
[{"$f":"'[1]87-0-14'!B933","v":"CB4V"},{"$f":"'[1]87-0-14'!D933","v":"CONVER OX Blanco 4Lt"},{"$f":"'[1]87-0-14'!E933","v":"VENIER"},{"$f":"'[1]87-0-14'!F933","v":"CONVERTIDOR"},{"$f":"'[1]87-0-14'!G933*(1+$E$13)","v":97542.445500000002}]
[{"$f":"'[1]87-0-14'!B934","v":"CVI12V"},{"$f":"'[1]87-0-14'!D934","v":"CONVER OX V/Ingl 1/2"},{"$f":"'[1]87-0-14'!E934","v":"VENIER"},{"$f":"'[1]87-0-14'!F934","v":"CONVERTIDOR"},{"$f":"'[1]87-0-14'!G934*(1+$E$13)","v":36913.900999999998}]
[{"$f":"'[1]87-0-14'!B935","v":"CVI14V"},{"$f":"'[1]87-0-14'!D935","v":"CONVER OX V/Ingl 1/4"},{"$f":"'[1]87-0-14'!E935","v":"VENIER"},{"$f":"'[1]87-0-14'!F935","v":"CONVERTIDOR"},{"$f":"'[1]87-0-14'!G935*(1+$E$13)","v":24408.718000000001}]
[{"$f":"'[1]87-0-14'!B936","v":"CVI1V"},{"$f":"'[1]87-0-14'!D936","v":"CONVER OX V/Ingl 1Lt"},{"$f":"'[1]87-0-14'!E936","v":"VENIER"},{"$f":"'[1]87-0-14'!F936","v":"CONVERTIDOR"},{"$f":"'[1]87-0-14'!G936*(1+$E$13)","v":60893.982000000004}]
[{"$f":"'[1]87-0-14'!B937","v":"CVI4V"},{"$f":"'[1]87-0-14'!D937","v":"CONVER OX V/Ingl 4Lt"},{"$f":"'[1]87-0-14'!E937","v":"VENIER"},{"$f":"'[1]87-0-14'!F937","v":"CONVERTIDOR"},{"$f":"'[1]87-0-14'!G937*(1+$E$13)","v":226415.42850000001}]
[{"$f":"'[1]87-0-14'!B938","v":"CN12V"},{"$f":"'[1]87-0-14'!D938","v":"CONVER OXI Negro 1/2"},{"$f":"'[1]87-0-14'!E938","v":"VENIER"},{"$f":"'[1]87-0-14'!F938","v":"CONVERTIDOR"},{"$f":"'[1]87-0-14'!G938*(1+$E$13)","v":14245.1355}]
[{"$f":"'[1]87-0-14'!B939","v":"CN14V"},{"$f":"'[1]87-0-14'!D939","v":"CONVER OXI Negro 1/4"},{"$f":"'[1]87-0-14'!E939","v":"VENIER"},{"$f":"'[1]87-0-14'!F939","v":"CONVERTIDOR"},{"$f":"'[1]87-0-14'!G939*(1+$E$13)","v":9416.6995000000006}]
[{"$f":"'[1]87-0-14'!B940","v":"CN1V"},{"$f":"'[1]87-0-14'!D940","v":"CONVER OXI Negro 1Lt"},{"$f":"'[1]87-0-14'!E940","v":"VENIER"},{"$f":"'[1]87-0-14'!F940","v":"CONVERTIDOR"},{"$f":"'[1]87-0-14'!G940*(1+$E$13)","v":23496.5275}]
[{"$f":"'[1]87-0-14'!B941","v":"CN4V"},{"$f":"'[1]87-0-14'!D941","v":"CONVER OXI Negro 4Lt"},{"$f":"'[1]87-0-14'!E941","v":"VENIER"},{"$f":"'[1]87-0-14'!F941","v":"CONVERTIDOR"},{"$f":"'[1]87-0-14'!G941*(1+$E$13)","v":87366.447499999995}]
[{"$f":"'[1]87-0-14'!B942","v":"CR4V"},{"$f":"'[1]87-0-14'!D942","v":"CONVER OXID Rojo  4L"},{"$f":"'[1]87-0-14'!E942","v":"VENIER"},{"$f":"'[1]87-0-14'!F942","v":"CONVERTIDOR"},{"$f":"'[1]87-0-14'!G942*(1+$E$13)","v":87366.447499999995}]
[{"$f":"'[1]87-0-14'!B943","v":"CR12V"},{"$f":"'[1]87-0-14'!D943","v":"CONVER OXID Rojo 1/2"},{"$f":"'[1]87-0-14'!E943","v":"VENIER"},{"$f":"'[1]87-0-14'!F943","v":"CONVERTIDOR"},{"$f":"'[1]87-0-14'!G943*(1+$E$13)","v":14245.1355}]
[{"$f":"'[1]87-0-14'!B944","v":"CR14V"},{"$f":"'[1]87-0-14'!D944","v":"CONVER OXID Rojo 1/4"},{"$f":"'[1]87-0-14'!E944","v":"VENIER"},{"$f":"'[1]87-0-14'!F944","v":"CONVERTIDOR"},{"$f":"'[1]87-0-14'!G944*(1+$E$13)","v":9416.6995000000006}]
[{"$f":"'[1]87-0-14'!B945","v":"CR1V"},{"$f":"'[1]87-0-14'!D945","v":"CONVER OXID Rojo 1Lt"},{"$f":"'[1]87-0-14'!E945","v":"VENIER"},{"$f":"'[1]87-0-14'!F945","v":"CONVERTIDOR"},{"$f":"'[1]87-0-14'!G945*(1+$E$13)","v":60893.982000000004}]
[{"$f":"'[1]87-0-14'!B946","v":"CAK"},{"$f":"'[1]87-0-14'!D946","v":"CONVERT OXID AEROSOL"},{"$f":"'[1]87-0-14'!E946","v":"KUWAIT"},{"$f":"'[1]87-0-14'!F946","v":"CONVERTIDOR OXIDO"},{"$f":"'[1]87-0-14'!G946*(1+$E$13)","v":6500.9944999999998}]
[{"$f":"'[1]87-0-14'!B947","v":"CN20V"},{"$f":"'[1]87-0-14'!D947","v":"CONVERT OXIDO Negro 20Lts"},{"$f":"'[1]87-0-14'!E947","v":"VENIER"},{"$f":"'[1]87-0-14'!F947","v":"CONVERTIDOR"},{"$f":"'[1]87-0-14'!G947*(1+$E$13)","v":335180.72649999999}]
[{"$f":"'[1]87-0-14'!B948","v":"COB12P"},{"$f":"'[1]87-0-14'!D948","v":"CONVERTI OXI #BLANCO# 1/2"},{"$f":"'[1]87-0-14'!E948","v":"PREMIER"},{"$f":"'[1]87-0-14'!F948","v":"CONVERTIDOR"},{"$f":"'[1]87-0-14'!G948*(1+$E$13)","v":9993.3925000000017}]
[{"$f":"'[1]87-0-14'!B949","v":"COB1P"},{"$f":"'[1]87-0-14'!D949","v":"CONVERTI OXI #BLANCO# 1lt"},{"$f":"'[1]87-0-14'!E949","v":"PREMIER"},{"$f":"'[1]87-0-14'!F949","v":"CONVERTIDOR"},{"$f":"'[1]87-0-14'!G949*(1+$E$13)","v":16975.538}]
[{"$f":"'[1]87-0-14'!B950","v":"COB20P"},{"$f":"'[1]87-0-14'!D950","v":"CONVERTI OXI #BLANCO# 20l"},{"$f":"'[1]87-0-14'!E950","v":"PREMIER"},{"$f":"'[1]87-0-14'!F950","v":"CONVERTIDOR"},{"$f":"'[1]87-0-14'!G950*(1+$E$13)","v":301603.9755}]
[{"$f":"'[1]87-0-14'!B951","v":"COB4P"},{"$f":"'[1]87-0-14'!D951","v":"CONVERTI OXI #BLANCO# 4lt"},{"$f":"'[1]87-0-14'!E951","v":"PREMIER"},{"$f":"'[1]87-0-14'!F951","v":"CONVERTIDOR"},{"$f":"'[1]87-0-14'!G951*(1+$E$13)","v":63939.267}]
[{"$f":"'[1]87-0-14'!B952","v":"CON12P"},{"$f":"'[1]87-0-14'!D952","v":"CONVERTID OXI #NEGRO# 1/2"},{"$f":"'[1]87-0-14'!E952","v":"PREMIER"},{"$f":"'[1]87-0-14'!F952","v":"CONVERTIDOR"},{"$f":"'[1]87-0-14'!G952*(1+$E$13)","v":9563.2209999999995}]
[{"$f":"'[1]87-0-14'!B953","v":"CON1P"},{"$f":"'[1]87-0-14'!D953","v":"CONVERTID OXI #NEGRO# 1lt"},{"$f":"'[1]87-0-14'!E953","v":"PREMIER"},{"$f":"'[1]87-0-14'!F953","v":"CONVERTIDOR"},{"$f":"'[1]87-0-14'!G953*(1+$E$13)","v":16145.915999999999}]
[{"$f":"'[1]87-0-14'!B954","v":"CON20P"},{"$f":"'[1]87-0-14'!D954","v":"CONVERTID OXI #NEGRO# 20l"},{"$f":"'[1]87-0-14'!E954","v":"PREMIER"},{"$f":"'[1]87-0-14'!F954","v":"CONVERTIDOR"},{"$f":"'[1]87-0-14'!G954*(1+$E$13)","v":284743.72649999999}]
[{"$f":"'[1]87-0-14'!B955","v":"CON4P"},{"$f":"'[1]87-0-14'!D955","v":"CONVERTID OXI #NEGRO# 4lt"},{"$f":"'[1]87-0-14'!E955","v":"PREMIER"},{"$f":"'[1]87-0-14'!F955","v":"CONVERTIDOR"},{"$f":"'[1]87-0-14'!G955*(1+$E$13)","v":60567.226499999997}]
[{"$f":"'[1]87-0-14'!B956","v":"COR12P"},{"$f":"'[1]87-0-14'!D956","v":"CONVERTID OXID #ROJO# 1/2"},{"$f":"'[1]87-0-14'!E956","v":"PREMIER"},{"$f":"'[1]87-0-14'!F956","v":"CONVERTIDOR"},{"$f":"'[1]87-0-14'!G956*(1+$E$13)","v":9993.3925000000017}]
[{"$f":"'[1]87-0-14'!B957","v":"COR1P"},{"$f":"'[1]87-0-14'!D957","v":"CONVERTID OXID #ROJO# 1lt"},{"$f":"'[1]87-0-14'!E957","v":"PREMIER"},{"$f":"'[1]87-0-14'!F957","v":"CONVERTIDOR"},{"$f":"'[1]87-0-14'!G957*(1+$E$13)","v":16975.538}]
[{"$f":"'[1]87-0-14'!B958","v":"COR20P"},{"$f":"'[1]87-0-14'!D958","v":"CONVERTID OXID #ROJO# 20l"},{"$f":"'[1]87-0-14'!E958","v":"PREMIER"},{"$f":"'[1]87-0-14'!F958","v":"CONVERTIDOR"},{"$f":"'[1]87-0-14'!G958*(1+$E$13)","v":364968.859}]
[{"$f":"'[1]87-0-14'!B959","v":"COR4P"},{"$f":"'[1]87-0-14'!D959","v":"CONVERTID OXID #ROJO# 4lt"},{"$f":"'[1]87-0-14'!E959","v":"PREMIER"},{"$f":"'[1]87-0-14'!F959","v":"CONVERTIDOR"},{"$f":"'[1]87-0-14'!G959*(1+$E$13)","v":63939.267}]
[{"$f":"'[1]87-0-14'!B960","v":"CLLV"},{"$f":"'[1]87-0-14'!D960","v":"CORREA LAVARROPA #LARGA#"},{"$f":"'[1]87-0-14'!E960","v":"VITAL GAS"},{"$f":"'[1]87-0-14'!F960","v":"CORREA"},{"$f":"'[1]87-0-14'!G960*(1+$E$13)","v":2353.3184999999999}]
[{"$f":"'[1]87-0-14'!B961","v":"CLCV"},{"$f":"'[1]87-0-14'!D961","v":"CORREA LAVARROPA CORTA"},{"$f":"'[1]87-0-14'!E961","v":"VITAL GAS"},{"$f":"'[1]87-0-14'!F961","v":"CORREA"},{"$f":"'[1]87-0-14'!G961*(1+$E$13)","v":2199.884}]
[{"$f":"'[1]87-0-14'!B962","v":"CC4K"},{"$f":"'[1]87-0-14'!D962","v":"CORTAD CERAMIC 42 **K-10*"},{"$f":"'[1]87-0-14'!E962","v":"NEIKE"},{"$f":"'[1]87-0-14'!F962","v":"CORT. CERAMICA"},{"$f":"'[1]87-0-14'!G962*(1+$E$13)","v":101762.98699999999}]
[{"$f":"'[1]87-0-14'!B963","v":"CC5K"},{"$f":"'[1]87-0-14'!D963","v":"CORTAD CERAMIC 50 **K-10*"},{"$f":"'[1]87-0-14'!E963","v":"NEIKE"},{"$f":"'[1]87-0-14'!F963","v":"CORT. CERAMICA"},{"$f":"'[1]87-0-14'!G963*(1+$E$13)","v":130114.23850000001}]
[{"$f":"'[1]87-0-14'!B964","v":"C20"},{"$f":"'[1]87-0-14'!D964","v":"CORTAFRIO 20 cm."},{"$f":"'[1]87-0-14'!E964","v":"EL ROBLE"},{"$f":"'[1]87-0-14'!F964","v":"CORTAFRIO"},{"$f":"'[1]87-0-14'!G964*(1+$E$13)","v":9000.9430000000011}]
[{"$f":"'[1]87-0-14'!B965","v":"C20G"},{"$f":"'[1]87-0-14'!D965","v":"CORTAFRIO 20cm"},{"$f":"'[1]87-0-14'!E965","v":"GHERARDI"},{"$f":"'[1]87-0-14'!F965","v":"CORTAFRIO"},{"$f":"'[1]87-0-14'!G965*(1+$E$13)","v":11786.556499999999}]
[{"$f":"'[1]87-0-14'!B966","v":"C25"},{"$f":"'[1]87-0-14'!D966","v":"CORTAFRIO 25 cm."},{"$f":"'[1]87-0-14'!E966","v":"EL ROBLE"},{"$f":"'[1]87-0-14'!F966","v":"CORTAFRIO"},{"$f":"'[1]87-0-14'!G966*(1+$E$13)","v":9527.8810000000012}]
[{"$f":"'[1]87-0-14'!B967","v":"C25G"},{"$f":"'[1]87-0-14'!D967","v":"CORTAFRIO 25cm"},{"$f":"'[1]87-0-14'!E967","v":"GHERARDI"},{"$f":"'[1]87-0-14'!F967","v":"CORTAFRIO"},{"$f":"'[1]87-0-14'!G967*(1+$E$13)","v":12529.9365}]
[{"$f":"'[1]87-0-14'!B968","v":"C25V"},{"$f":"'[1]87-0-14'!D968","v":"CORTAFRIO 3/4  **25cm**"},{"$f":"'[1]87-0-14'!E968","v":"VIRGA"},{"$f":"'[1]87-0-14'!F968","v":"CORTAFRIO"},{"$f":"'[1]87-0-14'!G968*(1+$E$13)","v":5161.0659999999998}]
[{"$f":"'[1]87-0-14'!B969","v":"C30V"},{"$f":"'[1]87-0-14'!D969","v":"CORTAFRIO 3/4  **30cm**"},{"$f":"'[1]87-0-14'!E969","v":"VIRGA"},{"$f":"'[1]87-0-14'!F969","v":"CORTAFRIO"},{"$f":"'[1]87-0-14'!G969*(1+$E$13)","v":5734.5195000000003}]
[{"$f":"'[1]87-0-14'!B970","v":"C35V"},{"$f":"'[1]87-0-14'!D970","v":"CORTAFRIO 3/4  **35cm**"},{"$f":"'[1]87-0-14'!E970","v":"VIRGA"},{"$f":"'[1]87-0-14'!F970","v":"CORTAFRIO"},{"$f":"'[1]87-0-14'!G970*(1+$E$13)","v":6307.9885000000004}]
[{"$f":"'[1]87-0-14'!B971","v":"C20M"},{"$f":"'[1]87-0-14'!D971","v":"CORTAFRIO 3/4  20cm"},{"$f":"'[1]87-0-14'!E971","v":"MAZZUCA"},{"$f":"'[1]87-0-14'!F971","v":"CORTAFRIO"},{"$f":"'[1]87-0-14'!G971*(1+$E$13)","v":9709.0450000000001}]
[{"$f":"'[1]87-0-14'!B972","v":"C40M"},{"$f":"'[1]87-0-14'!D972","v":"CORTAFRIO 3/4  40cm"},{"$f":"'[1]87-0-14'!E972","v":"MAZZUCA"},{"$f":"'[1]87-0-14'!F972","v":"CORTAFRIO"},{"$f":"'[1]87-0-14'!G972*(1+$E$13)","v":14271.2065}]
[{"$f":"'[1]87-0-14'!B973","v":"C45M"},{"$f":"'[1]87-0-14'!D973","v":"CORTAFRIO 3/4  45cm"},{"$f":"'[1]87-0-14'!E973","v":"MAZZUCA"},{"$f":"'[1]87-0-14'!F973","v":"CORTAFRIO"},{"$f":"'[1]87-0-14'!G973*(1+$E$13)","v":16089.387500000001}]
[{"$f":"'[1]87-0-14'!B974","v":"C50M"},{"$f":"'[1]87-0-14'!D974","v":"CORTAFRIO 3/4  50cm"},{"$f":"'[1]87-0-14'!E974","v":"MAZZUCA"},{"$f":"'[1]87-0-14'!F974","v":"CORTAFRIO"},{"$f":"'[1]87-0-14'!G974*(1+$E$13)","v":18284.482}]
[{"$f":"'[1]87-0-14'!B975","v":"C30"},{"$f":"'[1]87-0-14'!D975","v":"CORTAFRIO 30 cm."},{"$f":"'[1]87-0-14'!E975","v":"EL ROBLE"},{"$f":"'[1]87-0-14'!F975","v":"CORTAFRIO"},{"$f":"'[1]87-0-14'!G975*(1+$E$13)","v":11016.718000000001}]
[{"$f":"'[1]87-0-14'!B976","v":"C30G"},{"$f":"'[1]87-0-14'!D976","v":"CORTAFRIO 30cm"},{"$f":"'[1]87-0-14'!E976","v":"GHERARDI"},{"$f":"'[1]87-0-14'!F976","v":"CORTAFRIO"},{"$f":"'[1]87-0-14'!G976*(1+$E$13)","v":13067.306}]
[{"$f":"'[1]87-0-14'!B977","v":"C35"},{"$f":"'[1]87-0-14'!D977","v":"CORTAFRIO 35 cm."},{"$f":"'[1]87-0-14'!E977","v":"EL ROBLE"},{"$f":"'[1]87-0-14'!F977","v":"CORTAFRIO"},{"$f":"'[1]87-0-14'!G977*(1+$E$13)","v":12552.954000000002}]
[{"$f":"'[1]87-0-14'!B978","v":"C35G"},{"$f":"'[1]87-0-14'!D978","v":"CORTAFRIO 35cm"},{"$f":"'[1]87-0-14'!E978","v":"GHERARDI"},{"$f":"'[1]87-0-14'!F978","v":"CORTAFRIO"},{"$f":"'[1]87-0-14'!G978*(1+$E$13)","v":14617.2595}]
[{"$f":"'[1]87-0-14'!B979","v":"C40"},{"$f":"'[1]87-0-14'!D979","v":"CORTAFRIO 40 cm."},{"$f":"'[1]87-0-14'!E979","v":"EL ROBLE"},{"$f":"'[1]87-0-14'!F979","v":"CORTAFRIO"},{"$f":"'[1]87-0-14'!G979*(1+$E$13)","v":13160.166500000001}]
[{"$f":"'[1]87-0-14'!B980","v":"C40G"},{"$f":"'[1]87-0-14'!D980","v":"CORTAFRIO 40cm"},{"$f":"'[1]87-0-14'!E980","v":"GHERARDI"},{"$f":"'[1]87-0-14'!F980","v":"CORTAFRIO"},{"$f":"'[1]87-0-14'!G980*(1+$E$13)","v":15391.4845}]
[{"$f":"'[1]87-0-14'!B981","v":"C45"},{"$f":"'[1]87-0-14'!D981","v":"CORTAFRIO 45 cm."},{"$f":"'[1]87-0-14'!E981","v":"EL ROBLE"},{"$f":"'[1]87-0-14'!F981","v":"CORTAFRIO"},{"$f":"'[1]87-0-14'!G981*(1+$E$13)","v":14818.682000000001}]
[{"$f":"'[1]87-0-14'!B982","v":"CC25ER"},{"$f":"'[1]87-0-14'!D982","v":"CORTAFRIO CHATO 25cm"},{"$f":"'[1]87-0-14'!E982","v":"EL ROBLE"},{"$f":"'[1]87-0-14'!F982","v":"CORTAFRIO CHATO"},{"$f":"'[1]87-0-14'!G982*(1+$E$13)","v":12414.074000000001}]
[{"$f":"'[1]87-0-14'!B983","v":"CC25G"},{"$f":"'[1]87-0-14'!D983","v":"CORTAFRIO CHATO 25cm"},{"$f":"'[1]87-0-14'!E983","v":"GHERARDI"},{"$f":"'[1]87-0-14'!F983","v":"CORTAFRIO CHATO"},{"$f":"'[1]87-0-14'!G983*(1+$E$13)","v":12612.629000000001}]
[{"$f":"'[1]87-0-14'!B984","v":"CC30ER"},{"$f":"'[1]87-0-14'!D984","v":"CORTAFRIO CHATO 30cm"},{"$f":"'[1]87-0-14'!E984","v":"EL ROBLE"},{"$f":"'[1]87-0-14'!F984","v":"CORTAFRIO CHATO"},{"$f":"'[1]87-0-14'!G984*(1+$E$13)","v":13160.166500000001}]
[{"$f":"'[1]87-0-14'!B985","v":"CC30G"},{"$f":"'[1]87-0-14'!D985","v":"CORTAFRIO CHATO 30cm"},{"$f":"'[1]87-0-14'!E985","v":"GHERARDI"},{"$f":"'[1]87-0-14'!F985","v":"CORTAFRIO CHATO"},{"$f":"'[1]87-0-14'!G985*(1+$E$13)","v":13387.319}]
[{"$f":"'[1]87-0-14'!B986","v":"CC35ER"},{"$f":"'[1]87-0-14'!D986","v":"CORTAFRIO CHATO 35cm"},{"$f":"'[1]87-0-14'!E986","v":"EL ROBLE"},{"$f":"'[1]87-0-14'!F986","v":"CORTAFRIO CHATO"},{"$f":"'[1]87-0-14'!G986*(1+$E$13)","v":14752.140500000001}]
[{"$f":"'[1]87-0-14'!B987","v":"CC35G"},{"$f":"'[1]87-0-14'!D987","v":"CORTAFRIO CHATO 35cm"},{"$f":"'[1]87-0-14'!E987","v":"GHERARDI"},{"$f":"'[1]87-0-14'!F987","v":"CORTAFRIO CHATO"},{"$f":"'[1]87-0-14'!G987*(1+$E$13)","v":14575.874500000002}]
[{"$f":"'[1]87-0-14'!B988","v":"CE"},{"$f":"'[1]87-0-14'!D988","v":"CORTAFRIO ELEC. 27cm"},{"$f":"'[1]87-0-14'!E988","v":"EL ROBLE"},{"$f":"'[1]87-0-14'!F988","v":"CORTAFRIO ELEC."},{"$f":"'[1]87-0-14'!G988*(1+$E$13)","v":9999.9025000000001}]
[{"$f":"'[1]87-0-14'!B989","v":"CEM"},{"$f":"'[1]87-0-14'!D989","v":"CORTAFRIO ELECTRICIS"},{"$f":"'[1]87-0-14'!E989","v":"MAZZUCA"},{"$f":"'[1]87-0-14'!F989","v":"CORTAFRIO"},{"$f":"'[1]87-0-14'!G989*(1+$E$13)","v":18284.482}]
[{"$f":"'[1]87-0-14'!B990","v":"CFAM"},{"$f":"'[1]87-0-14'!D990","v":"CRAYON #FLUO# Amarill x12"},{"$f":"'[1]87-0-14'!E990","v":"MARCAFACIL"},{"$f":"'[1]87-0-14'!F990","v":"CRAYON"},{"$f":"'[1]87-0-14'!G990*(1+$E$13)","v":18127.7925}]
[{"$f":"'[1]87-0-14'!B991","v":"CFNM"},{"$f":"'[1]87-0-14'!D991","v":"CRAYON #FLUO# NaranjA x12"},{"$f":"'[1]87-0-14'!E991","v":"MARCAFACIL"},{"$f":"'[1]87-0-14'!F991","v":"CRAYON"},{"$f":"'[1]87-0-14'!G991*(1+$E$13)","v":18127.7925}]
[{"$f":"'[1]87-0-14'!B992","v":"CAMM"},{"$f":"'[1]87-0-14'!D992","v":"CRAYON INDUS Amarillo x12"},{"$f":"'[1]87-0-14'!E992","v":"MARCAFACIL"},{"$f":"'[1]87-0-14'!F992","v":"CRAYON"},{"$f":"'[1]87-0-14'!G992*(1+$E$13)","v":13449.6445}]
[{"$f":"'[1]87-0-14'!B993","v":"CBLM"},{"$f":"'[1]87-0-14'!D993","v":"CRAYON INDUSTR Blanco x12"},{"$f":"'[1]87-0-14'!E993","v":"MARCAFACIL"},{"$f":"'[1]87-0-14'!F993","v":"CRAYON"},{"$f":"'[1]87-0-14'!G993*(1+$E$13)","v":13449.6445}]
[{"$f":"'[1]87-0-14'!B994","v":"CNEM"},{"$f":"'[1]87-0-14'!D994","v":"CRAYON INDUSTRI Negro x12"},{"$f":"'[1]87-0-14'!E994","v":"MARCAFACIL"},{"$f":"'[1]87-0-14'!F994","v":"CRAYON"},{"$f":"'[1]87-0-14'!G994*(1+$E$13)","v":13449.6445}]
[{"$f":"'[1]87-0-14'!B995","v":"CVEM"},{"$f":"'[1]87-0-14'!D995","v":"CRAYON INDUSTRI Verde x12"},{"$f":"'[1]87-0-14'!E995","v":"MARCAFACIL"},{"$f":"'[1]87-0-14'!F995","v":"CRAYON"},{"$f":"'[1]87-0-14'!G995*(1+$E$13)","v":13449.6445}]
[{"$f":"'[1]87-0-14'!B996","v":"CAZM"},{"$f":"'[1]87-0-14'!D996","v":"CRAYON INDUSTRIA Azul x12"},{"$f":"'[1]87-0-14'!E996","v":"MARCAFACIL"},{"$f":"'[1]87-0-14'!F996","v":"CRAYON"},{"$f":"'[1]87-0-14'!G996*(1+$E$13)","v":13449.6445}]
[{"$f":"'[1]87-0-14'!B997","v":"CROM"},{"$f":"'[1]87-0-14'!D997","v":"CRAYON INDUSTRIA Rojo x12"},{"$f":"'[1]87-0-14'!E997","v":"MARCAFACIL"},{"$f":"'[1]87-0-14'!F997","v":"CRAYON"},{"$f":"'[1]87-0-14'!G997*(1+$E$13)","v":13449.6445}]
[{"$f":"'[1]87-0-14'!B998","v":"CLM450T"},{"$f":"'[1]87-0-14'!D998","v":"CREM LIMPIAMANOS 450"},{"$f":"'[1]87-0-14'!E998","v":"TF3"},{"$f":"'[1]87-0-14'!F998","v":"CREMA LIMPIAMANOS"},{"$f":"'[1]87-0-14'!G998*(1+$E$13)","v":5618.2075000000004}]
[{"$f":"'[1]87-0-14'!B999","v":"CA150T"},{"$f":"'[1]87-0-14'!D999","v":"CREMA ADHE EPOXI BCA 150g"},{"$f":"'[1]87-0-14'!E999","v":"TF3"},{"$f":"'[1]87-0-14'!F999","v":"CREMA ADHESIVA"},{"$f":"'[1]87-0-14'!G999*(1+$E$13)","v":14681.9565}]
[{"$f":"'[1]87-0-14'!B1000","v":"C7MG"},{"$f":"'[1]87-0-14'!D1000","v":"CUCHA FORJA 7\" MOCHA"},{"$f":"'[1]87-0-14'!E1000","v":"GHERARDI"},{"$f":"'[1]87-0-14'!F1000","v":"CUCHARA"},{"$f":"'[1]87-0-14'!G1000*(1+$E$13)","v":33104.031999999999}]
[{"$f":"'[1]87-0-14'!B1001","v":"C8MG"},{"$f":"'[1]87-0-14'!D1001","v":"CUCHA FORJA 8\" MOCHA"},{"$f":"'[1]87-0-14'!E1001","v":"GHERARDI"},{"$f":"'[1]87-0-14'!F1001","v":"CUCHARA"},{"$f":"'[1]87-0-14'!G1001*(1+$E$13)","v":34594.527499999997}]
[{"$f":"'[1]87-0-14'!B1002","v":"CF7F"},{"$f":"'[1]87-0-14'!D1002","v":"CUCHARA *FORJADA*  7\""},{"$f":"'[1]87-0-14'!E1002","v":"FERCAS"},{"$f":"'[1]87-0-14'!F1002","v":"CUCHARA FORJADA"},{"$f":"'[1]87-0-14'!G1002*(1+$E$13)","v":25423.487499999999}]
[{"$f":"'[1]87-0-14'!B1003","v":"CF7MF"},{"$f":"'[1]87-0-14'!D1003","v":"CUCHARA *FORJADA*  7\" MOC"},{"$f":"'[1]87-0-14'!E1003","v":"FERCAS"},{"$f":"'[1]87-0-14'!F1003","v":"CUCHARA FORJADA"},{"$f":"'[1]87-0-14'!G1003*(1+$E$13)","v":25705.355}]
[{"$f":"'[1]87-0-14'!B1004","v":"CF8F"},{"$f":"'[1]87-0-14'!D1004","v":"CUCHARA *FORJADA*  8\""},{"$f":"'[1]87-0-14'!E1004","v":"FERCAS"},{"$f":"'[1]87-0-14'!F1004","v":"CUCHARA FORJADA"},{"$f":"'[1]87-0-14'!G1004*(1+$E$13)","v":25987.175999999999}]
[{"$f":"'[1]87-0-14'!B1005","v":"CF8MF"},{"$f":"'[1]87-0-14'!D1005","v":"CUCHARA *FORJADA*  8\" MOC"},{"$f":"'[1]87-0-14'!E1005","v":"FERCAS"},{"$f":"'[1]87-0-14'!F1005","v":"CUCHARA FORJADA"},{"$f":"'[1]87-0-14'!G1005*(1+$E$13)","v":27511.694}]
[{"$f":"'[1]87-0-14'!B1006","v":"C6G"},{"$f":"'[1]87-0-14'!D1006","v":"CUCHARA FORJADA 6\""},{"$f":"'[1]87-0-14'!E1006","v":"GHERARDI"},{"$f":"'[1]87-0-14'!F1006","v":"CUCHARA"},{"$f":"'[1]87-0-14'!G1006*(1+$E$13)","v":29963.809500000003}]
[{"$f":"'[1]87-0-14'!B1007","v":"C7G"},{"$f":"'[1]87-0-14'!D1007","v":"CUCHARA FORJADA 7\""},{"$f":"'[1]87-0-14'!E1007","v":"GHERARDI"},{"$f":"'[1]87-0-14'!F1007","v":"CUCHARA"},{"$f":"'[1]87-0-14'!G1007*(1+$E$13)","v":33104.016499999998}]
[{"$f":"'[1]87-0-14'!B1008","v":"C8G"},{"$f":"'[1]87-0-14'!D1008","v":"CUCHARA FORJADA 8\""},{"$f":"'[1]87-0-14'!E1008","v":"GHERARDI"},{"$f":"'[1]87-0-14'!F1008","v":"CUCHARA"},{"$f":"'[1]87-0-14'!G1008*(1+$E$13)","v":33665.426500000001}]
[{"$f":"'[1]87-0-14'!B1009","v":"C10G"},{"$f":"'[1]87-0-14'!D1009","v":"CUCHARA FORJADA N 10"},{"$f":"'[1]87-0-14'!E1009","v":"GHERARDI"},{"$f":"'[1]87-0-14'!F1009","v":"CUCHARA"},{"$f":"'[1]87-0-14'!G1009*(1+$E$13)","v":36811.1515}]
[{"$f":"'[1]87-0-14'!B1010","v":"C9G"},{"$f":"'[1]87-0-14'!D1010","v":"CUCHARA FORJADA N 9"},{"$f":"'[1]87-0-14'!E1010","v":"GHERARDI"},{"$f":"'[1]87-0-14'!F1010","v":"CUCHARA"},{"$f":"'[1]87-0-14'!G1010*(1+$E$13)","v":35208.684000000001}]
[{"$f":"'[1]87-0-14'!B1011","v":"C6ER"},{"$f":"'[1]87-0-14'!D1011","v":"CUCHARA N  6"},{"$f":"'[1]87-0-14'!E1011","v":"EL ROBLE"},{"$f":"'[1]87-0-14'!F1011","v":"CUCHARA"},{"$f":"'[1]87-0-14'!G1011*(1+$E$13)","v":9231.2420000000002}]
[{"$f":"'[1]87-0-14'!B1012","v":"C7ER"},{"$f":"'[1]87-0-14'!D1012","v":"CUCHARA N  7"},{"$f":"'[1]87-0-14'!E1012","v":"EL ROBLE"},{"$f":"'[1]87-0-14'!F1012","v":"CUCHARA"},{"$f":"'[1]87-0-14'!G1012*(1+$E$13)","v":10417.503500000001}]
[{"$f":"'[1]87-0-14'!B1013","v":"C7MER"},{"$f":"'[1]87-0-14'!D1013","v":"CUCHARA N  7M"},{"$f":"'[1]87-0-14'!E1013","v":"EL ROBLE"},{"$f":"'[1]87-0-14'!F1013","v":"CUCHARA"},{"$f":"'[1]87-0-14'!G1013*(1+$E$13)","v":10890.2225}]
[{"$f":"'[1]87-0-14'!B1014","v":"C8ER"},{"$f":"'[1]87-0-14'!D1014","v":"CUCHARA N  8"},{"$f":"'[1]87-0-14'!E1014","v":"EL ROBLE"},{"$f":"'[1]87-0-14'!F1014","v":"CUCHARA"},{"$f":"'[1]87-0-14'!G1014*(1+$E$13)","v":10890.2225}]
[{"$f":"'[1]87-0-14'!B1015","v":"C8MER"},{"$f":"'[1]87-0-14'!D1015","v":"CUCHARA N  8M"},{"$f":"'[1]87-0-14'!E1015","v":"EL ROBLE"},{"$f":"'[1]87-0-14'!F1015","v":"CUCHARA"},{"$f":"'[1]87-0-14'!G1015*(1+$E$13)","v":12088.9305}]
[{"$f":"'[1]87-0-14'!B1016","v":"CS6FE"},{"$f":"'[1]87-0-14'!D1016","v":"CUCHARA SOLD C/MADERA *6*"},{"$f":"'[1]87-0-14'!E1016","v":"FERCAS"},{"$f":"'[1]87-0-14'!F1016","v":"CUCHARA SOLDADA"},{"$f":"'[1]87-0-14'!G1016*(1+$E$13)","v":8658.0830000000005}]
[{"$f":"'[1]87-0-14'!B1017","v":"CS7F"},{"$f":"'[1]87-0-14'!D1017","v":"CUCHARA SOLD C/MADERA *7*"},{"$f":"'[1]87-0-14'!E1017","v":"FERCAS"},{"$f":"'[1]87-0-14'!F1017","v":"CUCHARA SOLDADA"},{"$f":"'[1]87-0-14'!G1017*(1+$E$13)","v":9823.5125000000007}]
[{"$f":"'[1]87-0-14'!B1018","v":"CS8F"},{"$f":"'[1]87-0-14'!D1018","v":"CUCHARA SOLD C/MADERA *8*"},{"$f":"'[1]87-0-14'!E1018","v":"FERCAS"},{"$f":"'[1]87-0-14'!F1018","v":"CUCHARA SOLDADA"},{"$f":"'[1]87-0-14'!G1018*(1+$E$13)","v":11287.472}]
[{"$f":"'[1]87-0-14'!B1019","v":"CS7MF"},{"$f":"'[1]87-0-14'!D1019","v":"CUCHARA SOLD C/MADERA 7 M"},{"$f":"'[1]87-0-14'!E1019","v":"FERCAS"},{"$f":"'[1]87-0-14'!F1019","v":"CUCHARA SOLDADA"},{"$f":"'[1]87-0-14'!G1019*(1+$E$13)","v":10276.422500000001}]
[{"$f":"'[1]87-0-14'!B1020","v":"CS8MF"},{"$f":"'[1]87-0-14'!D1020","v":"CUCHARA SOLD C/MADERA 8 M"},{"$f":"'[1]87-0-14'!E1020","v":"FERCAS"},{"$f":"'[1]87-0-14'!F1020","v":"CUCHARA SOLDADA"},{"$f":"'[1]87-0-14'!G1020*(1+$E$13)","v":11544.105500000001}]
[{"$f":"'[1]87-0-14'!B1021","v":"C6SJ"},{"$f":"'[1]87-0-14'!D1021","v":"CUCHARA SOLDAD C/PLA  *6*"},{"$f":"'[1]87-0-14'!E1021","v":"STA. JUANA"},{"$f":"'[1]87-0-14'!F1021","v":"CUCHARA"},{"$f":"'[1]87-0-14'!G1021*(1+$E$13)","v":8733.0410000000011}]
[{"$f":"'[1]87-0-14'!B1022","v":"C7SJ"},{"$f":"'[1]87-0-14'!D1022","v":"CUCHARA SOLDAD C/PLA  *7*"},{"$f":"'[1]87-0-14'!E1022","v":"STA. JUANA"},{"$f":"'[1]87-0-14'!F1022","v":"CUCHARA"},{"$f":"'[1]87-0-14'!G1022*(1+$E$13)","v":9703.3875000000007}]
[{"$f":"'[1]87-0-14'!B1023","v":"C8SJ"},{"$f":"'[1]87-0-14'!D1023","v":"CUCHARA SOLDAD C/PLA  *8*"},{"$f":"'[1]87-0-14'!E1023","v":"STA. JUANA"},{"$f":"'[1]87-0-14'!F1023","v":"CUCHARA"},{"$f":"'[1]87-0-14'!G1023*(1+$E$13)","v":10324.4105}]
[{"$f":"'[1]87-0-14'!B1024","v":"C7MSJ"},{"$f":"'[1]87-0-14'!D1024","v":"CUCHARA SOLDAD C/PLA  7 M"},{"$f":"'[1]87-0-14'!E1024","v":"STA. JUANA"},{"$f":"'[1]87-0-14'!F1024","v":"CUCHARA"},{"$f":"'[1]87-0-14'!G1024*(1+$E$13)","v":10169.147000000001}]
[{"$f":"'[1]87-0-14'!B1025","v":"C8MSJ"},{"$f":"'[1]87-0-14'!D1025","v":"CUCHARA SOLDAD C/PLA  8 M"},{"$f":"'[1]87-0-14'!E1025","v":"STA. JUANA"},{"$f":"'[1]87-0-14'!F1025","v":"CUCHARA"},{"$f":"'[1]87-0-14'!G1025*(1+$E$13)","v":11372.381000000001}]
[{"$f":"'[1]87-0-14'!B1026","v":"CS7G"},{"$f":"'[1]87-0-14'!D1026","v":"CUCHARA SOLDADA 7\""},{"$f":"'[1]87-0-14'!E1026","v":"GHERARDI"},{"$f":"'[1]87-0-14'!F1026","v":"CUCHARA SOLDADA"},{"$f":"'[1]87-0-14'!G1026*(1+$E$13)","v":18586.716500000002}]
[{"$f":"'[1]87-0-14'!B1027","v":"CS7MG"},{"$f":"'[1]87-0-14'!D1027","v":"CUCHARA SOLDADA 7\" M"},{"$f":"'[1]87-0-14'!E1027","v":"GHERARDI"},{"$f":"'[1]87-0-14'!F1027","v":"CUCHARA SOLDADA"},{"$f":"'[1]87-0-14'!G1027*(1+$E$13)","v":18586.716500000002}]
[{"$f":"'[1]87-0-14'!B1028","v":"CS8G"},{"$f":"'[1]87-0-14'!D1028","v":"CUCHARA SOLDADA 8\""},{"$f":"'[1]87-0-14'!E1028","v":"GHERARDI"},{"$f":"'[1]87-0-14'!F1028","v":"CUCHARA SOLDADA"},{"$f":"'[1]87-0-14'!G1028*(1+$E$13)","v":19136.579000000002}]
[{"$f":"'[1]87-0-14'!B1029","v":"CS8MG"},{"$f":"'[1]87-0-14'!D1029","v":"CUCHARA SOLDADA 8\" M"},{"$f":"'[1]87-0-14'!E1029","v":"GHERARDI"},{"$f":"'[1]87-0-14'!F1029","v":"CUCHARA SOLDADA"},{"$f":"'[1]87-0-14'!G1029*(1+$E$13)","v":19983.964}]
[{"$f":"'[1]87-0-14'!B1030","v":"C512G"},{"$f":"'[1]87-0-14'!D1030","v":"CUCHARIN FORJAD 5 1/2"},{"$f":"'[1]87-0-14'!E1030","v":"GHERARDI"},{"$f":"'[1]87-0-14'!F1030","v":"CUCHARA"},{"$f":"'[1]87-0-14'!G1030*(1+$E$13)","v":27384.423500000001}]
[{"$f":"'[1]87-0-14'!B1031","v":"C5G"},{"$f":"'[1]87-0-14'!D1031","v":"CUCHARIN FORJADO 5\""},{"$f":"'[1]87-0-14'!E1031","v":"GHERARDI"},{"$f":"'[1]87-0-14'!F1031","v":"CUCHARA"},{"$f":"'[1]87-0-14'!G1031*(1+$E$13)","v":29989.2605}]
[{"$f":"'[1]87-0-14'!B1032","v":"C5ER"},{"$f":"'[1]87-0-14'!D1032","v":"CUCHARIN N  5"},{"$f":"'[1]87-0-14'!E1032","v":"EL ROBLE"},{"$f":"'[1]87-0-14'!F1032","v":"CUCHARA"},{"$f":"'[1]87-0-14'!G1032*(1+$E$13)","v":8609.2890000000007}]
[{"$f":"'[1]87-0-14'!B1033","v":"C512ER"},{"$f":"'[1]87-0-14'!D1033","v":"CUCHARIN N  5 1/2"},{"$f":"'[1]87-0-14'!E1033","v":"EL ROBLE"},{"$f":"'[1]87-0-14'!F1033","v":"CUCHARA"},{"$f":"'[1]87-0-14'!G1033*(1+$E$13)","v":8907.0130000000008}]
[{"$f":"'[1]87-0-14'!B1034","v":"CN055C"},{"$f":"'[1]87-0-14'!D1034","v":"CUNA P/NIVELAD 0,5 a  5mm"},{"$f":"'[1]87-0-14'!E1034","v":"CRECCHIO"},{"$f":"'[1]87-0-14'!F1034","v":"SEPARADOR"},{"$f":"'[1]87-0-14'!G1034*(1+$E$13)","v":2541.6435000000001}]
[{"$f":"'[1]87-0-14'!B1035","v":"CN513C"},{"$f":"'[1]87-0-14'!D1035","v":"CUNA P/NIVELADOR 5 a 13mm"},{"$f":"'[1]87-0-14'!E1035","v":"CRECCHIO"},{"$f":"'[1]87-0-14'!F1035","v":"SEPARADOR"},{"$f":"'[1]87-0-14'!G1035*(1+$E$13)","v":7220.5355}]
[{"$f":"'[1]87-0-14'!B1036","v":"CM1V"},{"$f":"'[1]87-0-14'!D1036","v":"CURADOR P/MADERA  1L"},{"$f":"'[1]87-0-14'!E1036","v":"VENIER"},{"$f":"'[1]87-0-14'!F1036","v":"CURADOR P/MADERA"},{"$f":"'[1]87-0-14'!G1036*(1+$E$13)","v":13570.668500000002}]
[{"$f":"'[1]87-0-14'!B1037","v":"CM4V"},{"$f":"'[1]87-0-14'!D1037","v":"CURADOR P/MADERA  4L"},{"$f":"'[1]87-0-14'!E1037","v":"VENIER"},{"$f":"'[1]87-0-14'!F1037","v":"CURADOR P/MADERA"},{"$f":"'[1]87-0-14'!G1037*(1+$E$13)","v":48968.250999999997}]
[{"$f":"'[1]87-0-14'!B1038","v":"CM18V"},{"$f":"'[1]87-0-14'!D1038","v":"CURADOR P/MADERA 18L"},{"$f":"'[1]87-0-14'!E1038","v":"VENIER"},{"$f":"'[1]87-0-14'!F1038","v":"CURADOR P/MADERA"},{"$f":"'[1]87-0-14'!G1038*(1+$E$13)","v":190569.49299999999}]
[{"$f":"'[1]87-0-14'!B1039","v":"D3FB125V"},{"$f":"'[1]87-0-14'!D1039","v":"DE 3 FIBRAD BLA 1,25"},{"$f":"'[1]87-0-14'!E1039","v":"VENIER"},{"$f":"'[1]87-0-14'!F1039","v":"IMPERMEABILIZANTE"},{"$f":"'[1]87-0-14'!G1039*(1+$E$13)","v":14467.994500000001}]
[{"$f":"'[1]87-0-14'!B1040","v":"D3FB10V"},{"$f":"'[1]87-0-14'!D1040","v":"DE 3 FIBRAD BLANC 10"},{"$f":"'[1]87-0-14'!E1040","v":"VENIER"},{"$f":"'[1]87-0-14'!F1040","v":"IMPERMEABILIZANTE"},{"$f":"'[1]87-0-14'!G1040*(1+$E$13)","v":89118.784499999994}]
[{"$f":"'[1]87-0-14'!B1041","v":"D3FB20V"},{"$f":"'[1]87-0-14'!D1041","v":"DE 3 FIBRAD BLANC 20"},{"$f":"'[1]87-0-14'!E1041","v":"VENIER"},{"$f":"'[1]87-0-14'!F1041","v":"IMPERMEABILIZANTE"},{"$f":"'[1]87-0-14'!G1041*(1+$E$13)","v":173142.39350000001}]
[{"$f":"'[1]87-0-14'!B1042","v":"D3FB5V"},{"$f":"'[1]87-0-14'!D1042","v":"DE 3 FIBRADO BLANC 5"},{"$f":"'[1]87-0-14'!E1042","v":"VENIER"},{"$f":"'[1]87-0-14'!F1042","v":"IMPERMEABILIZANTE"},{"$f":"'[1]87-0-14'!G1042*(1+$E$13)","v":46638.446000000004}]
[{"$f":"'[1]87-0-14'!B1043","v":"DT"},{"$f":"'[1]87-0-14'!D1043","v":"DELANTAL DESCARNE/JEAN"},{"$f":"'[1]87-0-14'!E1043","v":"TA-CO"},{"$f":"'[1]87-0-14'!F1043","v":"DELANTAL"},{"$f":"'[1]87-0-14'!G1043*(1+$E$13)","v":2199715.5615000003}]
[{"$f":"'[1]87-0-14'!B1044","v":"DFB125V"},{"$f":"'[1]87-0-14'!D1044","v":"DES FRENTE Blan 1,25"},{"$f":"'[1]87-0-14'!E1044","v":"VENIER"},{"$f":"'[1]87-0-14'!F1044","v":"IMPERMEABILIZANTE"},{"$f":"'[1]87-0-14'!G1044*(1+$E$13)","v":11727.331}]
[{"$f":"'[1]87-0-14'!B1045","v":"DFB5V"},{"$f":"'[1]87-0-14'!D1045","v":"DES FRENTES Blanc  5"},{"$f":"'[1]87-0-14'!E1045","v":"VENIER"},{"$f":"'[1]87-0-14'!F1045","v":"IMPERMEABILIZANTE"},{"$f":"'[1]87-0-14'!G1045*(1+$E$13)","v":39831.373}]
[{"$f":"'[1]87-0-14'!B1046","v":"DFB12V"},{"$f":"'[1]87-0-14'!D1046","v":"DES FRENTES Blanc 12"},{"$f":"'[1]87-0-14'!E1046","v":"VENIER"},{"$f":"'[1]87-0-14'!F1046","v":"IMPERMEABILIZANTE"},{"$f":"'[1]87-0-14'!G1046*(1+$E$13)","v":92842.426999999996}]
[{"$f":"'[1]87-0-14'!B1047","v":"DFB25V"},{"$f":"'[1]87-0-14'!D1047","v":"DES FRENTES Blanc 25"},{"$f":"'[1]87-0-14'!E1047","v":"VENIER"},{"$f":"'[1]87-0-14'!F1047","v":"IMPERMEABILIZANTE"},{"$f":"'[1]87-0-14'!G1047*(1+$E$13)","v":171914.49900000001}]
[{"$f":"'[1]87-0-14'!B1048","v":"DK"},{"$f":"'[1]87-0-14'!D1048","v":"DESINFEC FOGGER #VALTRAY#"},{"$f":"'[1]87-0-14'!E1048","v":"KUWAIT"},{"$f":"'[1]87-0-14'!F1048","v":"DESINFECTANTE"},{"$f":"'[1]87-0-14'!G1048*(1+$E$13)","v":6242.8109999999997}]
[{"$f":"'[1]87-0-14'!B1049","v":"D1T"},{"$f":"'[1]87-0-14'!D1049","v":"DESOXIDANTE/FOSFATIZ 1 lt"},{"$f":"'[1]87-0-14'!E1049","v":"TF3"},{"$f":"'[1]87-0-14'!F1049","v":"DESOXIDANTE"},{"$f":"'[1]87-0-14'!G1049*(1+$E$13)","v":4347.7965000000004}]
[{"$f":"'[1]87-0-14'!B1050","v":"D170009V"},{"$f":"'[1]87-0-14'!D1050","v":"DESSUTO 1700 TRA 0,9"},{"$f":"'[1]87-0-14'!E1050","v":"VENIER"},{"$f":"'[1]87-0-14'!F1050","v":"IMPERMEABILIZANTE"},{"$f":"'[1]87-0-14'!G1050*(1+$E$13)","v":9167.8625000000011}]
[{"$f":"'[1]87-0-14'!B1051","v":"D170010V"},{"$f":"'[1]87-0-14'!D1051","v":"DESSUTO 1700 TRAN 10"},{"$f":"'[1]87-0-14'!E1051","v":"VENIER"},{"$f":"'[1]87-0-14'!F1051","v":"IMPERMEABILIZANTE"},{"$f":"'[1]87-0-14'!G1051*(1+$E$13)","v":75276.788499999995}]
[{"$f":"'[1]87-0-14'!B1052","v":"D170020V"},{"$f":"'[1]87-0-14'!D1052","v":"DESSUTO 1700 TRAN 20"},{"$f":"'[1]87-0-14'!E1052","v":"VENIER"},{"$f":"'[1]87-0-14'!F1052","v":"IMPERMEABILIZANTE"},{"$f":"'[1]87-0-14'!G1052*(1+$E$13)","v":145077.21}]
[{"$f":"'[1]87-0-14'!B1053","v":"D270009V"},{"$f":"'[1]87-0-14'!D1053","v":"DESSUTO 2700 SIL 0,9"},{"$f":"'[1]87-0-14'!E1053","v":"VENIER"},{"$f":"'[1]87-0-14'!F1053","v":"IMPERMEABILIZANTE"},{"$f":"'[1]87-0-14'!G1053*(1+$E$13)","v":8565.6720000000005}]
[{"$f":"'[1]87-0-14'!B1054","v":"D270010V"},{"$f":"'[1]87-0-14'!D1054","v":"DESSUTO 2700 SILI 10"},{"$f":"'[1]87-0-14'!E1054","v":"VENIER"},{"$f":"'[1]87-0-14'!F1054","v":"IMPERMEABILIZANTE"},{"$f":"'[1]87-0-14'!G1054*(1+$E$13)","v":30804.095500000003}]
[{"$f":"'[1]87-0-14'!B1055","v":"D270025V"},{"$f":"'[1]87-0-14'!D1055","v":"DESSUTO 2700 SILI 25"},{"$f":"'[1]87-0-14'!E1055","v":"VENIER"},{"$f":"'[1]87-0-14'!F1055","v":"IMPERMEABILIZANTE"},{"$f":"'[1]87-0-14'!G1055*(1+$E$13)","v":60355.263999999996}]
[{"$f":"'[1]87-0-14'!B1056","v":"D27005V"},{"$f":"'[1]87-0-14'!D1056","v":"DESSUTO 2700 SILIC 5"},{"$f":"'[1]87-0-14'!E1056","v":"VENIER"},{"$f":"'[1]87-0-14'!F1056","v":"IMPERMEABILIZANTE"},{"$f":"'[1]87-0-14'!G1056*(1+$E$13)","v":17592.128000000001}]
[{"$f":"'[1]87-0-14'!B1057","v":"D3FR125V"},{"$f":"'[1]87-0-14'!D1057","v":"DESSUTO 3FI ROJO 1,2"},{"$f":"'[1]87-0-14'!E1057","v":"VENIER"},{"$f":"'[1]87-0-14'!F1057","v":"IMPERMEABILIZANTE"},{"$f":"'[1]87-0-14'!G1057*(1+$E$13)","v":14467.994500000001}]
[{"$f":"'[1]87-0-14'!B1058","v":"D3FV125V"},{"$f":"'[1]87-0-14'!D1058","v":"DESSUTO 3FI VERD 1,2"},{"$f":"'[1]87-0-14'!E1058","v":"VENIER"},{"$f":"'[1]87-0-14'!F1058","v":"IMPERMEABILIZANTE"},{"$f":"'[1]87-0-14'!G1058*(1+$E$13)","v":14467.994500000001}]
[{"$f":"'[1]87-0-14'!B1059","v":"D86001V"},{"$f":"'[1]87-0-14'!D1059","v":"DESSUTO CHAS 8600  1"},{"$f":"'[1]87-0-14'!E1059","v":"VENIER"},{"$f":"'[1]87-0-14'!F1059","v":"PROTECTOR SUBCARR"},{"$f":"'[1]87-0-14'!G1059*(1+$E$13)","v":4578.8395}]
[{"$f":"'[1]87-0-14'!B1060","v":"D86004V"},{"$f":"'[1]87-0-14'!D1060","v":"DESSUTO CHAS 8600  4"},{"$f":"'[1]87-0-14'!E1060","v":"VENIER"},{"$f":"'[1]87-0-14'!F1060","v":"PROTECTOR SUBCARR"},{"$f":"'[1]87-0-14'!G1060*(1+$E$13)","v":15379.564999999999}]
[{"$f":"'[1]87-0-14'!B1061","v":"D860020V"},{"$f":"'[1]87-0-14'!D1061","v":"DESSUTO CHAS 8600 20"},{"$f":"'[1]87-0-14'!E1061","v":"VENIER"},{"$f":"'[1]87-0-14'!F1061","v":"PROTECTOR SUBCARR"},{"$f":"'[1]87-0-14'!G1061*(1+$E$13)","v":88127.915999999997}]
[{"$f":"'[1]87-0-14'!B1062","v":"D17005V"},{"$f":"'[1]87-0-14'!D1062","v":"DESSUTOL 1700 TRAN 5"},{"$f":"'[1]87-0-14'!E1062","v":"VENIER"},{"$f":"'[1]87-0-14'!F1062","v":"IMPERMEABILIZANTE"},{"$f":"'[1]87-0-14'!G1062*(1+$E$13)","v":40238.527000000002}]
[{"$f":"'[1]87-0-14'!B1063","v":"D3FV10V"},{"$f":"'[1]87-0-14'!D1063","v":"DESSUTOL 3F VERDE 10"},{"$f":"'[1]87-0-14'!E1063","v":"VENIER"},{"$f":"'[1]87-0-14'!F1063","v":"IMPERMEABILIZANTE"},{"$f":"'[1]87-0-14'!G1063*(1+$E$13)","v":89118.784499999994}]
[{"$f":"'[1]87-0-14'!B1064","v":"D3FV20V"},{"$f":"'[1]87-0-14'!D1064","v":"DESSUTOL 3F VERDE 20"},{"$f":"'[1]87-0-14'!E1064","v":"VENIER"},{"$f":"'[1]87-0-14'!F1064","v":"IMPERMEABILIZANTE"},{"$f":"'[1]87-0-14'!G1064*(1+$E$13)","v":173142.39350000001}]
[{"$f":"'[1]87-0-14'!B1065","v":"D3FR10V"},{"$f":"'[1]87-0-14'!D1065","v":"DESSUTOL 3FI ROJO 10"},{"$f":"'[1]87-0-14'!E1065","v":"VENIER"},{"$f":"'[1]87-0-14'!F1065","v":"IMPERMEABILIZANTE"},{"$f":"'[1]87-0-14'!G1065*(1+$E$13)","v":88997.900000000009}]
[{"$f":"'[1]87-0-14'!B1066","v":"D3FR20V"},{"$f":"'[1]87-0-14'!D1066","v":"DESSUTOL 3FI ROJO 20"},{"$f":"'[1]87-0-14'!E1066","v":"VENIER"},{"$f":"'[1]87-0-14'!F1066","v":"IMPERMEABILIZANTE"},{"$f":"'[1]87-0-14'!G1066*(1+$E$13)","v":173142.39350000001}]
[{"$f":"'[1]87-0-14'!B1067","v":"D3FV5V"},{"$f":"'[1]87-0-14'!D1067","v":"DESSUTOL 3FI VERDE 5"},{"$f":"'[1]87-0-14'!E1067","v":"VENIER"},{"$f":"'[1]87-0-14'!F1067","v":"IMPERMEABILIZANTE"},{"$f":"'[1]87-0-14'!G1067*(1+$E$13)","v":46638.446000000004}]
[{"$f":"'[1]87-0-14'!B1068","v":"D3FR5V"},{"$f":"'[1]87-0-14'!D1068","v":"DESSUTOL 3FIB ROJO 5"},{"$f":"'[1]87-0-14'!E1068","v":"VENIER"},{"$f":"'[1]87-0-14'!F1068","v":"IMPERMEABILIZANTE"},{"$f":"'[1]87-0-14'!G1068*(1+$E$13)","v":46638.446000000004}]
[{"$f":"'[1]87-0-14'!B1069","v":"D85001V"},{"$f":"'[1]87-0-14'!D1069","v":"DESSUTOL 8500  1 Lt"},{"$f":"'[1]87-0-14'!E1069","v":"VENIER"},{"$f":"'[1]87-0-14'!F1069","v":"IMPERMEABILIZANTE"},{"$f":"'[1]87-0-14'!G1069*(1+$E$13)","v":7739.6770000000006}]
[{"$f":"'[1]87-0-14'!B1070","v":"D85004V"},{"$f":"'[1]87-0-14'!D1070","v":"DESSUTOL 8500  4 Lt"},{"$f":"'[1]87-0-14'!E1070","v":"VENIER"},{"$f":"'[1]87-0-14'!F1070","v":"IMPERMEABILIZANTE"},{"$f":"'[1]87-0-14'!G1070*(1+$E$13)","v":24638.536500000002}]
[{"$f":"'[1]87-0-14'!B1071","v":"D850020V"},{"$f":"'[1]87-0-14'!D1071","v":"DESSUTOL 8500 20 Lts"},{"$f":"'[1]87-0-14'!E1071","v":"VENIER"},{"$f":"'[1]87-0-14'!F1071","v":"IMPERMEABILIZANTE"},{"$f":"'[1]87-0-14'!G1071*(1+$E$13)","v":77485.740000000005}]
[{"$f":"'[1]87-0-14'!B1072","v":"DP475M"},{"$f":"'[1]87-0-14'!D1072","v":"DEST. PHILLIPS 4x 75"},{"$f":"'[1]87-0-14'!E1072","v":"METZ"},{"$f":"'[1]87-0-14'!F1072","v":"DESTORN. PHILLIP"},{"$f":"'[1]87-0-14'!G1072*(1+$E$13)","v":2635.0464999999999}]
[{"$f":"'[1]87-0-14'!B1073","v":"DP4100M"},{"$f":"'[1]87-0-14'!D1073","v":"DEST. PHILLIPS 4x100"},{"$f":"'[1]87-0-14'!E1073","v":"METZ"},{"$f":"'[1]87-0-14'!F1073","v":"DESTORN. PHILLIP"},{"$f":"'[1]87-0-14'!G1073*(1+$E$13)","v":3091.2890000000002}]
[{"$f":"'[1]87-0-14'!B1074","v":"DP4125M"},{"$f":"'[1]87-0-14'!D1074","v":"DEST. PHILLIPS 4x125"},{"$f":"'[1]87-0-14'!E1074","v":"METZ"},{"$f":"'[1]87-0-14'!F1074","v":"DESTORN. PHILLIP"},{"$f":"'[1]87-0-14'!G1074*(1+$E$13)","v":3310.2265000000002}]
[{"$f":"'[1]87-0-14'!B1075","v":"DP575M"},{"$f":"'[1]87-0-14'!D1075","v":"DEST. PHILLIPS 5x 75"},{"$f":"'[1]87-0-14'!E1075","v":"METZ"},{"$f":"'[1]87-0-14'!F1075","v":"DESTORN. PHILLIP"},{"$f":"'[1]87-0-14'!G1075*(1+$E$13)","v":3878.2550000000001}]
[{"$f":"'[1]87-0-14'!B1076","v":"DP5100M"},{"$f":"'[1]87-0-14'!D1076","v":"DEST. PHILLIPS 5x100"},{"$f":"'[1]87-0-14'!E1076","v":"METZ"},{"$f":"'[1]87-0-14'!F1076","v":"DESTORN. PHILLIP"},{"$f":"'[1]87-0-14'!G1076*(1+$E$13)","v":4313.3554999999997}]
[{"$f":"'[1]87-0-14'!B1077","v":"DP5125M"},{"$f":"'[1]87-0-14'!D1077","v":"DEST. PHILLIPS 5x125"},{"$f":"'[1]87-0-14'!E1077","v":"METZ"},{"$f":"'[1]87-0-14'!F1077","v":"DESTORN. PHILLIP"},{"$f":"'[1]87-0-14'!G1077*(1+$E$13)","v":4972.9270000000006}]
[{"$f":"'[1]87-0-14'!B1078","v":"DP6100M"},{"$f":"'[1]87-0-14'!D1078","v":"DEST. PHILLIPS 6x100"},{"$f":"'[1]87-0-14'!E1078","v":"METZ"},{"$f":"'[1]87-0-14'!F1078","v":"DESTORN. PHILLIP"},{"$f":"'[1]87-0-14'!G1078*(1+$E$13)","v":5596.9105}]
[{"$f":"'[1]87-0-14'!B1079","v":"DS475M"},{"$f":"'[1]87-0-14'!D1079","v":"DEST. STANDARD 4x 75"},{"$f":"'[1]87-0-14'!E1079","v":"METZ"},{"$f":"'[1]87-0-14'!F1079","v":"DESTORN. STANDAR"},{"$f":"'[1]87-0-14'!G1079*(1+$E$13)","v":2515.9755}]
[{"$f":"'[1]87-0-14'!B1080","v":"DS4100M"},{"$f":"'[1]87-0-14'!D1080","v":"DEST. STANDARD 4x100"},{"$f":"'[1]87-0-14'!E1080","v":"METZ"},{"$f":"'[1]87-0-14'!F1080","v":"DESTORN. STANDAR"},{"$f":"'[1]87-0-14'!G1080*(1+$E$13)","v":2613.1295}]
[{"$f":"'[1]87-0-14'!B1081","v":"DS4125M"},{"$f":"'[1]87-0-14'!D1081","v":"DEST. STANDARD 4x125"},{"$f":"'[1]87-0-14'!E1081","v":"METZ"},{"$f":"'[1]87-0-14'!F1081","v":"DESTORN. STANDAR"},{"$f":"'[1]87-0-14'!G1081*(1+$E$13)","v":2856.0144999999998}]
[{"$f":"'[1]87-0-14'!B1082","v":"DS5100M"},{"$f":"'[1]87-0-14'!D1082","v":"DEST. STANDARD 5x100"},{"$f":"'[1]87-0-14'!E1082","v":"METZ"},{"$f":"'[1]87-0-14'!F1082","v":"DESTORN. STANDAR"},{"$f":"'[1]87-0-14'!G1082*(1+$E$13)","v":3729.4395000000004}]
[{"$f":"'[1]87-0-14'!B1083","v":"DS5125M"},{"$f":"'[1]87-0-14'!D1083","v":"DEST. STANDARD 5x125"},{"$f":"'[1]87-0-14'!E1083","v":"METZ"},{"$f":"'[1]87-0-14'!F1083","v":"DESTORN. STANDAR"},{"$f":"'[1]87-0-14'!G1083*(1+$E$13)","v":3950.1905000000006}]
[{"$f":"'[1]87-0-14'!B1084","v":"DS575M"},{"$f":"'[1]87-0-14'!D1084","v":"DEST. STANDARD 5x75"},{"$f":"'[1]87-0-14'!E1084","v":"METZ"},{"$f":"'[1]87-0-14'!F1084","v":"DESTORN. STANDAR"},{"$f":"'[1]87-0-14'!G1084*(1+$E$13)","v":3412.1545000000001}]
[{"$f":"'[1]87-0-14'!B1085","v":"DS6100M"},{"$f":"'[1]87-0-14'!D1085","v":"DEST. STANDARD 6x100"},{"$f":"'[1]87-0-14'!E1085","v":"METZ"},{"$f":"'[1]87-0-14'!F1085","v":"DESTORN. STANDAR"},{"$f":"'[1]87-0-14'!G1085*(1+$E$13)","v":4779.7815000000001}]
[{"$f":"'[1]87-0-14'!B1086","v":"DC1T"},{"$f":"'[1]87-0-14'!D1086","v":"DESTAPA CANERIAS   1 lt"},{"$f":"'[1]87-0-14'!E1086","v":"TF3"},{"$f":"'[1]87-0-14'!F1086","v":"DESTAPA CAÑERIAS"},{"$f":"'[1]87-0-14'!G1086*(1+$E$13)","v":3476.4794999999999}]
[{"$f":"'[1]87-0-14'!B1087","v":"DC12T"},{"$f":"'[1]87-0-14'!D1087","v":"DESTAPA CANERIAS  1/2 lt"},{"$f":"'[1]87-0-14'!E1087","v":"TF3"},{"$f":"'[1]87-0-14'!F1087","v":"DESTAPA CAÑERIAS"},{"$f":"'[1]87-0-14'!G1087*(1+$E$13)","v":2390.7665000000002}]
[{"$f":"'[1]87-0-14'!B1088","v":"DE4P"},{"$f":"'[1]87-0-14'!D1088","v":"DESTRAB ELECTR +4+ AGUJER"},{"$f":"'[1]87-0-14'!E1088","v":"PRIVE"},{"$f":"'[1]87-0-14'!F1088","v":"DESTRABADOR"},{"$f":"'[1]87-0-14'!G1088*(1+$E$13)","v":33775.104500000001}]
[{"$f":"'[1]87-0-14'!B1089","v":"DE2P"},{"$f":"'[1]87-0-14'!D1089","v":"DESTRAB ELECTR 2 AGUJEROS"},{"$f":"'[1]87-0-14'!E1089","v":"PRIVE"},{"$f":"'[1]87-0-14'!F1089","v":"DESTRABADOR"},{"$f":"'[1]87-0-14'!G1089*(1+$E$13)","v":33775.104500000001}]
[{"$f":"'[1]87-0-14'!B1090","v":"DA1803M"},{"$f":"'[1]87-0-14'!D1090","v":"DI C/DE AC 180x3.0 MASTER"},{"$f":"'[1]87-0-14'!E1090","v":"DOBLE A"},{"$f":"'[1]87-0-14'!F1090","v":"DISCO SOLIDO"},{"$f":"'[1]87-0-14'!G1090*(1+$E$13)","v":6891.0985000000001}]
[{"$f":"'[1]87-0-14'!B1091","v":"DA18064M"},{"$f":"'[1]87-0-14'!D1091","v":"DI DES ACE 180x6.4 MASTER"},{"$f":"'[1]87-0-14'!E1091","v":"DOBLE A"},{"$f":"'[1]87-0-14'!F1091","v":"DISCO SOLIDO"},{"$f":"'[1]87-0-14'!G1091*(1+$E$13)","v":11696.377500000001}]
[{"$f":"'[1]87-0-14'!B1092","v":"DEFZ40T"},{"$f":"'[1]87-0-14'!D1092","v":"DI FLAP BASIC ZIRCONI  40"},{"$f":"'[1]87-0-14'!E1092","v":"TYROLIT"},{"$f":"'[1]87-0-14'!F1092","v":"DISCO FLAP"},{"$f":"'[1]87-0-14'!G1092*(1+$E$13)","v":5106.5060000000003}]
[{"$f":"'[1]87-0-14'!B1093","v":"DEFZ60T"},{"$f":"'[1]87-0-14'!D1093","v":"DI FLAP BASIC ZIRCONI  60"},{"$f":"'[1]87-0-14'!E1093","v":"TYROLIT"},{"$f":"'[1]87-0-14'!F1093","v":"DISCO FLAP"},{"$f":"'[1]87-0-14'!G1093*(1+$E$13)","v":5106.5060000000003}]
[{"$f":"'[1]87-0-14'!B1094","v":"DEFZ80T"},{"$f":"'[1]87-0-14'!D1094","v":"DI FLAP BASIC ZIRCONI  80"},{"$f":"'[1]87-0-14'!E1094","v":"TYROLIT"},{"$f":"'[1]87-0-14'!F1094","v":"DISCO FLAP"},{"$f":"'[1]87-0-14'!G1094*(1+$E$13)","v":5106.5060000000003}]
[{"$f":"'[1]87-0-14'!B1095","v":"DEFZ120T"},{"$f":"'[1]87-0-14'!D1095","v":"DI FLAP BASIC ZIRCONI 120"},{"$f":"'[1]87-0-14'!E1095","v":"TYROLIT"},{"$f":"'[1]87-0-14'!F1095","v":"DISCO FLAP"},{"$f":"'[1]87-0-14'!G1095*(1+$E$13)","v":5106.5060000000003}]
[{"$f":"'[1]87-0-14'!B1096","v":"DF4540R"},{"$f":"'[1]87-0-14'!D1096","v":"DI FLAP O/A 4,5\"  40"},{"$f":"'[1]87-0-14'!E1096","v":"RHEIN"},{"$f":"'[1]87-0-14'!F1096","v":"DISCO FLAP"},{"$f":"'[1]87-0-14'!G1096*(1+$E$13)","v":2897.0430000000001}]
[{"$f":"'[1]87-0-14'!B1097","v":"DF4560R"},{"$f":"'[1]87-0-14'!D1097","v":"DI FLAP O/A 4,5\"  60"},{"$f":"'[1]87-0-14'!E1097","v":"RHEIN"},{"$f":"'[1]87-0-14'!F1097","v":"DISCO FLAP"},{"$f":"'[1]87-0-14'!G1097*(1+$E$13)","v":2897.0430000000001}]
[{"$f":"'[1]87-0-14'!B1098","v":"DF4580R"},{"$f":"'[1]87-0-14'!D1098","v":"DI FLAP O/A 4,5\"  80"},{"$f":"'[1]87-0-14'!E1098","v":"RHEIN"},{"$f":"'[1]87-0-14'!F1098","v":"DISCO FLAP"},{"$f":"'[1]87-0-14'!G1098*(1+$E$13)","v":2897.0430000000001}]
[{"$f":"'[1]87-0-14'!B1099","v":"DF45120R"},{"$f":"'[1]87-0-14'!D1099","v":"DI FLAP O/A 4,5\" 120"},{"$f":"'[1]87-0-14'!E1099","v":"RHEIN"},{"$f":"'[1]87-0-14'!F1099","v":"DISCO FLAP"},{"$f":"'[1]87-0-14'!G1099*(1+$E$13)","v":2897.0430000000001}]
[{"$f":"'[1]87-0-14'!B1100","v":"DM10132S"},{"$f":"'[1]87-0-14'!D1100","v":"DI META 101x32 SECUR"},{"$f":"'[1]87-0-14'!E1100","v":"TYROLIT"},{"$f":"'[1]87-0-14'!F1100","v":"DISCO METAL SECUR"},{"$f":"'[1]87-0-14'!G1100*(1+$E$13)","v":5213.2545}]
[{"$f":"'[1]87-0-14'!B1101","v":"DM10148S"},{"$f":"'[1]87-0-14'!D1101","v":"DI META 101x48 SECUR"},{"$f":"'[1]87-0-14'!E1101","v":"TYROLIT"},{"$f":"'[1]87-0-14'!F1101","v":"DISCO METAL SECUR"},{"$f":"'[1]87-0-14'!G1101*(1+$E$13)","v":6979.7275000000009}]
[{"$f":"'[1]87-0-14'!B1102","v":"DM11410S"},{"$f":"'[1]87-0-14'!D1102","v":"DI META 114x10 SECUR"},{"$f":"'[1]87-0-14'!E1102","v":"TYROLIT"},{"$f":"'[1]87-0-14'!F1102","v":"DISCO METAL SECUR"},{"$f":"'[1]87-0-14'!G1102*(1+$E$13)","v":6178.4705000000004}]
[{"$f":"'[1]87-0-14'!B1103","v":"DM11410X"},{"$f":"'[1]87-0-14'!D1103","v":"DI META 114x10 XPERT"},{"$f":"'[1]87-0-14'!E1103","v":"TYROLIT"},{"$f":"'[1]87-0-14'!F1103","v":"DISCO METAL XPERT"},{"$f":"'[1]87-0-14'!G1103*(1+$E$13)","v":4448.8564999999999}]
[{"$f":"'[1]87-0-14'!B1104","v":"DM11416S"},{"$f":"'[1]87-0-14'!D1104","v":"DI META 114x16 SECUR"},{"$f":"'[1]87-0-14'!E1104","v":"TYROLIT"},{"$f":"'[1]87-0-14'!F1104","v":"DISCO METAL SECUR"},{"$f":"'[1]87-0-14'!G1104*(1+$E$13)","v":5401.75}]
[{"$f":"'[1]87-0-14'!B1105","v":"DM11416X"},{"$f":"'[1]87-0-14'!D1105","v":"DI META 114x16 XPERT"},{"$f":"'[1]87-0-14'!E1105","v":"TYROLIT"},{"$f":"'[1]87-0-14'!F1105","v":"DISCO METAL XPERT"},{"$f":"'[1]87-0-14'!G1105*(1+$E$13)","v":3889.8025000000002}]
[{"$f":"'[1]87-0-14'!B1106","v":"DM11430X"},{"$f":"'[1]87-0-14'!D1106","v":"DI META 114x30 XPERT"},{"$f":"'[1]87-0-14'!E1106","v":"TYROLIT"},{"$f":"'[1]87-0-14'!F1106","v":"DISCO METAL XPERT"},{"$f":"'[1]87-0-14'!G1106*(1+$E$13)","v":3932.9854999999998}]
[{"$f":"'[1]87-0-14'!B1107","v":"DM11432S"},{"$f":"'[1]87-0-14'!D1107","v":"DI META 114x32 SECUR"},{"$f":"'[1]87-0-14'!E1107","v":"TYROLIT"},{"$f":"'[1]87-0-14'!F1107","v":"DISCO METAL SECUR"},{"$f":"'[1]87-0-14'!G1107*(1+$E$13)","v":5118.5495000000001}]
[{"$f":"'[1]87-0-14'!B1108","v":"DM11448S"},{"$f":"'[1]87-0-14'!D1108","v":"DI META 114x48 SECUR"},{"$f":"'[1]87-0-14'!E1108","v":"TYROLIT"},{"$f":"'[1]87-0-14'!F1108","v":"DISCO METAL SECUR"},{"$f":"'[1]87-0-14'!G1108*(1+$E$13)","v":6846.4740000000002}]
[{"$f":"'[1]87-0-14'!B1109","v":"DM11448X"},{"$f":"'[1]87-0-14'!D1109","v":"DI META 114x48 XPERT"},{"$f":"'[1]87-0-14'!E1109","v":"TYROLIT"},{"$f":"'[1]87-0-14'!F1109","v":"DISCO METAL XPERT"},{"$f":"'[1]87-0-14'!G1109*(1+$E$13)","v":6053.835}]
[{"$f":"'[1]87-0-14'!B1110","v":"DM11470S"},{"$f":"'[1]87-0-14'!D1110","v":"DI META 114x70 SECUR"},{"$f":"'[1]87-0-14'!E1110","v":"TYROLIT"},{"$f":"'[1]87-0-14'!F1110","v":"DISCO METAL SECUR"},{"$f":"'[1]87-0-14'!G1110*(1+$E$13)","v":9197.9480000000003}]
[{"$f":"'[1]87-0-14'!B1111","v":"DM115075"},{"$f":"'[1]87-0-14'!D1111","v":"DI META 115x0,75 SECUR R"},{"$f":"'[1]87-0-14'!E1111","v":"TYROLIT"},{"$f":"'[1]87-0-14'!F1111","v":"DISCO METAL SECUR"},{"$f":"'[1]87-0-14'!G1111*(1+$E$13)","v":6491.6635000000006}]
[{"$f":"'[1]87-0-14'!B1112","v":"DM17816S"},{"$f":"'[1]87-0-14'!D1112","v":"DI META 178x16 SECUR"},{"$f":"'[1]87-0-14'!E1112","v":"TYROLIT"},{"$f":"'[1]87-0-14'!F1112","v":"DISCO METAL SECUR"},{"$f":"'[1]87-0-14'!G1112*(1+$E$13)","v":8419.3984999999993}]
[{"$f":"'[1]87-0-14'!B1113","v":"DM17816X"},{"$f":"'[1]87-0-14'!D1113","v":"DI META 178x16 XPERT"},{"$f":"'[1]87-0-14'!E1113","v":"TYROLIT"},{"$f":"'[1]87-0-14'!F1113","v":"DISCO METAL XPERT"},{"$f":"'[1]87-0-14'!G1113*(1+$E$13)","v":6061.7245000000003}]
[{"$f":"'[1]87-0-14'!B1114","v":"DM17830X"},{"$f":"'[1]87-0-14'!D1114","v":"DI META 178x30 XPERT"},{"$f":"'[1]87-0-14'!E1114","v":"TYROLIT"},{"$f":"'[1]87-0-14'!F1114","v":"DISCO METAL XPERT"},{"$f":"'[1]87-0-14'!G1114*(1+$E$13)","v":6251.0570000000007}]
[{"$f":"'[1]87-0-14'!B1115","v":"DM17832S"},{"$f":"'[1]87-0-14'!D1115","v":"DI META 178x32 SECUR"},{"$f":"'[1]87-0-14'!E1115","v":"TYROLIT"},{"$f":"'[1]87-0-14'!F1115","v":"DISCO METAL SECUR"},{"$f":"'[1]87-0-14'!G1115*(1+$E$13)","v":8135.5160000000005}]
[{"$f":"'[1]87-0-14'!B1116","v":"DM17848S"},{"$f":"'[1]87-0-14'!D1116","v":"DI META 178x48 SECUR"},{"$f":"'[1]87-0-14'!E1116","v":"TYROLIT"},{"$f":"'[1]87-0-14'!F1116","v":"DISCO METAL SECUR"},{"$f":"'[1]87-0-14'!G1116*(1+$E$13)","v":11789.2225}]
[{"$f":"'[1]87-0-14'!B1117","v":"DM17864X"},{"$f":"'[1]87-0-14'!D1117","v":"DI META 178x64 XPERT"},{"$f":"'[1]87-0-14'!E1117","v":"TYROLIT"},{"$f":"'[1]87-0-14'!F1117","v":"DISCO METAL XPERT"},{"$f":"'[1]87-0-14'!G1117*(1+$E$13)","v":10611.005500000001}]
[{"$f":"'[1]87-0-14'!B1118","v":"DM17870R"},{"$f":"'[1]87-0-14'!D1118","v":"DI META 178x70 RAPID"},{"$f":"'[1]87-0-14'!E1118","v":"TYROLIT"},{"$f":"'[1]87-0-14'!F1118","v":"DISCO METAL SECUR"},{"$f":"'[1]87-0-14'!G1118*(1+$E$13)","v":12045.794}]
[{"$f":"'[1]87-0-14'!B1119","v":"DM17870S"},{"$f":"'[1]87-0-14'!D1119","v":"DI META 178x70 SECUR"},{"$f":"'[1]87-0-14'!E1119","v":"TYROLIT"},{"$f":"'[1]87-0-14'!F1119","v":"DISCO METAL SECUR"},{"$f":"'[1]87-0-14'!G1119*(1+$E$13)","v":14994.7}]
[{"$f":"'[1]87-0-14'!B1120","v":"DM23019S"},{"$f":"'[1]87-0-14'!D1120","v":"DI META 230x19 SECUR"},{"$f":"'[1]87-0-14'!E1120","v":"TYROLIT"},{"$f":"'[1]87-0-14'!F1120","v":"DISCO METAL SECUR"},{"$f":"'[1]87-0-14'!G1120*(1+$E$13)","v":13443.088}]
[{"$f":"'[1]87-0-14'!B1121","v":"DM23030X"},{"$f":"'[1]87-0-14'!D1121","v":"DI META 230x30 XPERT"},{"$f":"'[1]87-0-14'!E1121","v":"TYROLIT"},{"$f":"'[1]87-0-14'!F1121","v":"DISCO METAL XPERT"},{"$f":"'[1]87-0-14'!G1121*(1+$E$13)","v":9991.7185000000009}]
[{"$f":"'[1]87-0-14'!B1122","v":"DM23032S"},{"$f":"'[1]87-0-14'!D1122","v":"DI META 230x32 SECUR"},{"$f":"'[1]87-0-14'!E1122","v":"TYROLIT"},{"$f":"'[1]87-0-14'!F1122","v":"DISCO METAL SECUR"},{"$f":"'[1]87-0-14'!G1122*(1+$E$13)","v":13022.4025}]
[{"$f":"'[1]87-0-14'!B1123","v":"DM23064X"},{"$f":"'[1]87-0-14'!D1123","v":"DI META 230x64 XPERT"},{"$f":"'[1]87-0-14'!E1123","v":"TYROLIT"},{"$f":"'[1]87-0-14'!F1123","v":"DISCO METAL XPERT"},{"$f":"'[1]87-0-14'!G1123*(1+$E$13)","v":15108.749}]
[{"$f":"'[1]87-0-14'!B1124","v":"DM23070R"},{"$f":"'[1]87-0-14'!D1124","v":"DI META 230x70 RAPID"},{"$f":"'[1]87-0-14'!E1124","v":"TYROLIT"},{"$f":"'[1]87-0-14'!F1124","v":"DISCO METAL SECUR"},{"$f":"'[1]87-0-14'!G1124*(1+$E$13)","v":19037.782000000003}]
[{"$f":"'[1]87-0-14'!B1125","v":"DM23070S"},{"$f":"'[1]87-0-14'!D1125","v":"DI META 230x70 SECUR"},{"$f":"'[1]87-0-14'!E1125","v":"TYROLIT"},{"$f":"'[1]87-0-14'!F1125","v":"DISCO METAL SECUR"},{"$f":"'[1]87-0-14'!G1125*(1+$E$13)","v":23233.57}]
[{"$f":"'[1]87-0-14'!B1126","v":"DP11430X"},{"$f":"'[1]87-0-14'!D1126","v":"DI PIED 114x30 XPERT"},{"$f":"'[1]87-0-14'!E1126","v":"TYROLIT"},{"$f":"'[1]87-0-14'!F1126","v":"DISCO PIEDR XPERT"},{"$f":"'[1]87-0-14'!G1126*(1+$E$13)","v":3932.9854999999998}]
[{"$f":"'[1]87-0-14'!B1127","v":"DP11432S"},{"$f":"'[1]87-0-14'!D1127","v":"DI PIED 114x32 SECUR"},{"$f":"'[1]87-0-14'!E1127","v":"TYROLIT"},{"$f":"'[1]87-0-14'!F1127","v":"DISCO PIEDR SECUR"},{"$f":"'[1]87-0-14'!G1127*(1+$E$13)","v":6129.4130000000005}]
[{"$f":"'[1]87-0-14'!B1128","v":"DP17830X"},{"$f":"'[1]87-0-14'!D1128","v":"DI PIED 178x30 XPERT"},{"$f":"'[1]87-0-14'!E1128","v":"TYROLIT"},{"$f":"'[1]87-0-14'!F1128","v":"DISCO PIEDR XPERT"},{"$f":"'[1]87-0-14'!G1128*(1+$E$13)","v":6251.0570000000007}]
[{"$f":"'[1]87-0-14'!B1129","v":"DP17832S"},{"$f":"'[1]87-0-14'!D1129","v":"DI PIED 178x32 SECUR"},{"$f":"'[1]87-0-14'!E1129","v":"TYROLIT"},{"$f":"'[1]87-0-14'!F1129","v":"DISCO PIEDR SECUR"},{"$f":"'[1]87-0-14'!G1129*(1+$E$13)","v":9777.6479999999992}]
[{"$f":"'[1]87-0-14'!B1130","v":"DP23032S"},{"$f":"'[1]87-0-14'!D1130","v":"DI PIED 230x32 SECUR"},{"$f":"'[1]87-0-14'!E1130","v":"TYROLIT"},{"$f":"'[1]87-0-14'!F1130","v":"DISCO PIEDR SECUR"},{"$f":"'[1]87-0-14'!G1130*(1+$E$13)","v":15615.800499999999}]
[{"$f":"'[1]87-0-14'!B1131","v":"DP250S"},{"$f":"'[1]87-0-14'!D1131","v":"DI PIEDRA 250  SECUR"},{"$f":"'[1]87-0-14'!E1131","v":"TYROLIT"},{"$f":"'[1]87-0-14'!F1131","v":"DISCO PIEDR SECUR"},{"$f":"'[1]87-0-14'!G1131*(1+$E$13)","v":19658.4175}]
[{"$f":"'[1]87-0-14'!B1132","v":"DP300S"},{"$f":"'[1]87-0-14'!D1132","v":"DI PIEDRA 300  SECUR"},{"$f":"'[1]87-0-14'!E1132","v":"TYROLIT"},{"$f":"'[1]87-0-14'!F1132","v":"DISCO PIEDR SECUR"},{"$f":"'[1]87-0-14'!G1132*(1+$E$13)","v":24776.641500000002}]
[{"$f":"'[1]87-0-14'!B1133","v":"DP350S"},{"$f":"'[1]87-0-14'!D1133","v":"DI PIEDRA 350  SECUR"},{"$f":"'[1]87-0-14'!E1133","v":"TYROLIT"},{"$f":"'[1]87-0-14'!F1133","v":"DISCO PIEDR SECUR"},{"$f":"'[1]87-0-14'!G1133*(1+$E$13)","v":31990.202000000001}]
[{"$f":"'[1]87-0-14'!B1134","v":"DM23019X"},{"$f":"'[1]87-0-14'!D1134","v":"DI RE METAL 230X1,9 XPERT"},{"$f":"'[1]87-0-14'!E1134","v":"TYROLIT"},{"$f":"'[1]87-0-14'!F1134","v":"DISCO METAL XPERT"},{"$f":"'[1]87-0-14'!G1134*(1+$E$13)","v":9680.9435000000012}]
[{"$f":"'[1]87-0-14'!B1135","v":"D3002525"},{"$f":"'[1]87-0-14'!D1135","v":"DI S/300x25x25 SECUR"},{"$f":"'[1]87-0-14'!E1135","v":"TYROLIT"},{"$f":"'[1]87-0-14'!F1135","v":"DISCO METAL SECUR"},{"$f":"'[1]87-0-14'!G1135*(1+$E$13)","v":18199.603999999999}]
[{"$f":"'[1]87-0-14'!B1136","v":"D3003025"},{"$f":"'[1]87-0-14'!D1136","v":"DI S/300x30x25 SECUR"},{"$f":"'[1]87-0-14'!E1136","v":"TYROLIT"},{"$f":"'[1]87-0-14'!F1136","v":"DISCO METAL SECUR"},{"$f":"'[1]87-0-14'!G1136*(1+$E$13)","v":18199.603999999999}]
[{"$f":"'[1]87-0-14'!B1137","v":"D3003225"},{"$f":"'[1]87-0-14'!D1137","v":"DI S/300x32x25 SECUR"},{"$f":"'[1]87-0-14'!E1137","v":"TYROLIT"},{"$f":"'[1]87-0-14'!F1137","v":"DISCO METAL SECUR"},{"$f":"'[1]87-0-14'!G1137*(1+$E$13)","v":20857.125499999998}]
[{"$f":"'[1]87-0-14'!B1138","v":"D3004032"},{"$f":"'[1]87-0-14'!D1138","v":"DI S/300x40x32 SECUR"},{"$f":"'[1]87-0-14'!E1138","v":"TYROLIT"},{"$f":"'[1]87-0-14'!F1138","v":"DISCO METAL SECUR"},{"$f":"'[1]87-0-14'!G1138*(1+$E$13)","v":24011.762999999999}]
[{"$f":"'[1]87-0-14'!B1139","v":"D3502525"},{"$f":"'[1]87-0-14'!D1139","v":"DI S/350x25x25 SECUR"},{"$f":"'[1]87-0-14'!E1139","v":"TYROLIT"},{"$f":"'[1]87-0-14'!F1139","v":"DISCO METAL SECUR"},{"$f":"'[1]87-0-14'!G1139*(1+$E$13)","v":22736.965500000002}]
[{"$f":"'[1]87-0-14'!B1140","v":"D3503025"},{"$f":"'[1]87-0-14'!D1140","v":"DI S/350x30x25 SECUR"},{"$f":"'[1]87-0-14'!E1140","v":"TYROLIT"},{"$f":"'[1]87-0-14'!F1140","v":"DISCO METAL SECUR"},{"$f":"'[1]87-0-14'!G1140*(1+$E$13)","v":22736.965500000002}]
[{"$f":"'[1]87-0-14'!B1141","v":"D3503225"},{"$f":"'[1]87-0-14'!D1141","v":"DI S/350x32x25 SECUR"},{"$f":"'[1]87-0-14'!E1141","v":"TYROLIT"},{"$f":"'[1]87-0-14'!F1141","v":"DISCO METAL SECUR"},{"$f":"'[1]87-0-14'!G1141*(1+$E$13)","v":26603.239000000001}]
[{"$f":"'[1]87-0-14'!B1142","v":"D3504032"},{"$f":"'[1]87-0-14'!D1142","v":"DI S/350x40x32 SECUR"},{"$f":"'[1]87-0-14'!E1142","v":"TYROLIT"},{"$f":"'[1]87-0-14'!F1142","v":"DISCO METAL SECUR"},{"$f":"'[1]87-0-14'!G1142*(1+$E$13)","v":30892.538499999999}]
[{"$f":"'[1]87-0-14'!B1143","v":"D4002525"},{"$f":"'[1]87-0-14'!D1143","v":"DI S/400x25x25 SECUR"},{"$f":"'[1]87-0-14'!E1143","v":"TYROLIT"},{"$f":"'[1]87-0-14'!F1143","v":"DISCO METAL SECUR"},{"$f":"'[1]87-0-14'!G1143*(1+$E$13)","v":32801.084500000004}]
[{"$f":"'[1]87-0-14'!B1144","v":"D4003025"},{"$f":"'[1]87-0-14'!D1144","v":"DI S/400x30x25 SECUR"},{"$f":"'[1]87-0-14'!E1144","v":"TYROLIT"},{"$f":"'[1]87-0-14'!F1144","v":"DISCO METAL SECUR"},{"$f":"'[1]87-0-14'!G1144*(1+$E$13)","v":32801.084500000004}]
[{"$f":"'[1]87-0-14'!B1145","v":"D4004032"},{"$f":"'[1]87-0-14'!D1145","v":"DI S/400x40x32 SECUR"},{"$f":"'[1]87-0-14'!E1145","v":"TYROLIT"},{"$f":"'[1]87-0-14'!F1145","v":"DISCO METAL SECUR"},{"$f":"'[1]87-0-14'!G1145*(1+$E$13)","v":38375.582000000002}]
[{"$f":"'[1]87-0-14'!B1146","v":"D4004525"},{"$f":"'[1]87-0-14'!D1146","v":"DI S/400x45x25 SECUR"},{"$f":"'[1]87-0-14'!E1146","v":"TYROLIT"},{"$f":"'[1]87-0-14'!F1146","v":"DISCO METAL SECUR"},{"$f":"'[1]87-0-14'!G1146*(1+$E$13)","v":41773.120000000003}]
[{"$f":"'[1]87-0-14'!B1147","v":"DS300X"},{"$f":"'[1]87-0-14'!D1147","v":"DI SENSI 300 \"XPERT\""},{"$f":"'[1]87-0-14'!E1147","v":"TYROLIT"},{"$f":"'[1]87-0-14'!F1147","v":"DISCO METAL XPERT"},{"$f":"'[1]87-0-14'!G1147*(1+$E$13)","v":16044.995500000001}]
[{"$f":"'[1]87-0-14'!B1148","v":"DS350X"},{"$f":"'[1]87-0-14'!D1148","v":"DI SENSI 350 \"XPERT\""},{"$f":"'[1]87-0-14'!E1148","v":"TYROLIT"},{"$f":"'[1]87-0-14'!F1148","v":"DISCO METAL XPERT"},{"$f":"'[1]87-0-14'!G1148*(1+$E$13)","v":18819.9915}]
[{"$f":"'[1]87-0-14'!B1149","v":"DS400X"},{"$f":"'[1]87-0-14'!D1149","v":"DI SENSI 400 \"XPERT\""},{"$f":"'[1]87-0-14'!E1149","v":"TYROLIT"},{"$f":"'[1]87-0-14'!F1149","v":"DISCO METAL XPERT"},{"$f":"'[1]87-0-14'!G1149*(1+$E$13)","v":25854.681999999997}]
[{"$f":"'[1]87-0-14'!B1150","v":"DS350BT"},{"$f":"'[1]87-0-14'!D1150","v":"DI SENSIT 350X2.8 #BASIC#"},{"$f":"'[1]87-0-14'!E1150","v":"TYROLIT"},{"$f":"'[1]87-0-14'!F1150","v":"DISCO METAL XPERT"},{"$f":"'[1]87-0-14'!G1150*(1+$E$13)","v":15997.581000000002}]
[{"$f":"'[1]87-0-14'!B1151","v":"DVA580T"},{"$f":"'[1]87-0-14'!D1151","v":"DI VELC ANTIEMPA #5\"#  80"},{"$f":"'[1]87-0-14'!E1151","v":"TYROLIT"},{"$f":"'[1]87-0-14'!F1151","v":"DISCO C/VELCRO"},{"$f":"'[1]87-0-14'!G1151*(1+$E$13)","v":1436.633}]
[{"$f":"'[1]87-0-14'!B1152","v":"DVA5100T"},{"$f":"'[1]87-0-14'!D1152","v":"DI VELC ANTIEMPA #5\"# 100"},{"$f":"'[1]87-0-14'!E1152","v":"TYROLIT"},{"$f":"'[1]87-0-14'!F1152","v":"DISCO C/VELCRO"},{"$f":"'[1]87-0-14'!G1152*(1+$E$13)","v":1436.633}]
[{"$f":"'[1]87-0-14'!B1153","v":"DVA5120T"},{"$f":"'[1]87-0-14'!D1153","v":"DI VELC ANTIEMPA #5\"# 120"},{"$f":"'[1]87-0-14'!E1153","v":"TYROLIT"},{"$f":"'[1]87-0-14'!F1153","v":"DISCO C/VELCRO"},{"$f":"'[1]87-0-14'!G1153*(1+$E$13)","v":1436.633}]
[{"$f":"'[1]87-0-14'!B1154","v":"DVA5150T"},{"$f":"'[1]87-0-14'!D1154","v":"DI VELC ANTIEMPA #5\"# 150"},{"$f":"'[1]87-0-14'!E1154","v":"TYROLIT"},{"$f":"'[1]87-0-14'!F1154","v":"DISCO C/VELCRO"},{"$f":"'[1]87-0-14'!G1154*(1+$E$13)","v":1436.633}]
[{"$f":"'[1]87-0-14'!B1155","v":"DVA5180T"},{"$f":"'[1]87-0-14'!D1155","v":"DI VELC ANTIEMPA #5\"# 180"},{"$f":"'[1]87-0-14'!E1155","v":"TYROLIT"},{"$f":"'[1]87-0-14'!F1155","v":"DISCO C/VELCRO"},{"$f":"'[1]87-0-14'!G1155*(1+$E$13)","v":1436.633}]
[{"$f":"'[1]87-0-14'!B1156","v":"DVA5220T"},{"$f":"'[1]87-0-14'!D1156","v":"DI VELC ANTIEMPA #5\"# 220"},{"$f":"'[1]87-0-14'!E1156","v":"TYROLIT"},{"$f":"'[1]87-0-14'!F1156","v":"DISCO C/VELCRO"},{"$f":"'[1]87-0-14'!G1156*(1+$E$13)","v":1436.633}]
[{"$f":"'[1]87-0-14'!B1157","v":"DVA6180T"},{"$f":"'[1]87-0-14'!D1157","v":"DI VELC ANTIEMPAST 6\" 180"},{"$f":"'[1]87-0-14'!E1157","v":"TYROLIT"},{"$f":"'[1]87-0-14'!F1157","v":"DISCO C/VELCRO"},{"$f":"'[1]87-0-14'!G1157*(1+$E$13)","v":1562.6324999999999}]
[{"$f":"'[1]87-0-14'!B1158","v":"DVA6220T"},{"$f":"'[1]87-0-14'!D1158","v":"DI VELC ANTIEMPAST 6\" 220"},{"$f":"'[1]87-0-14'!E1158","v":"TYROLIT"},{"$f":"'[1]87-0-14'!F1158","v":"DISCO C/VELCRO"},{"$f":"'[1]87-0-14'!G1158*(1+$E$13)","v":1562.6324999999999}]
[{"$f":"'[1]87-0-14'!B1159","v":"DVA6240T"},{"$f":"'[1]87-0-14'!D1159","v":"DI VELC ANTIEMPAST 6\" 240"},{"$f":"'[1]87-0-14'!E1159","v":"TYROLIT"},{"$f":"'[1]87-0-14'!F1159","v":"DISCO C/VELCRO"},{"$f":"'[1]87-0-14'!G1159*(1+$E$13)","v":1562.6324999999999}]
[{"$f":"'[1]87-0-14'!B1160","v":"DVA6320T"},{"$f":"'[1]87-0-14'!D1160","v":"DI VELC ANTIEMPAST 6\" 320"},{"$f":"'[1]87-0-14'!E1160","v":"TYROLIT"},{"$f":"'[1]87-0-14'!F1160","v":"DISCO C/VELCRO"},{"$f":"'[1]87-0-14'!G1160*(1+$E$13)","v":1562.6324999999999}]
[{"$f":"'[1]87-0-14'!B1161","v":"DVA6360T"},{"$f":"'[1]87-0-14'!D1161","v":"DI VELC ANTIEMPAST 6\" 360"},{"$f":"'[1]87-0-14'!E1161","v":"TYROLIT"},{"$f":"'[1]87-0-14'!F1161","v":"DISCO C/VELCRO"},{"$f":"'[1]87-0-14'!G1161*(1+$E$13)","v":1562.6324999999999}]
[{"$f":"'[1]87-0-14'!B1162","v":"DVA680T"},{"$f":"'[1]87-0-14'!D1162","v":"DI VELC ANTIEMPAST 6\" 80"},{"$f":"'[1]87-0-14'!E1162","v":"TYROLIT"},{"$f":"'[1]87-0-14'!F1162","v":"DISCO C/VELCRO"},{"$f":"'[1]87-0-14'!G1162*(1+$E$13)","v":1562.6324999999999}]
[{"$f":"'[1]87-0-14'!B1163","v":"DP1V"},{"$f":"'[1]87-0-14'!D1163","v":"DILUYEN PILET PLAS 1"},{"$f":"'[1]87-0-14'!E1163","v":"VENIER"},{"$f":"'[1]87-0-14'!F1163","v":"DILUYENTES"},{"$f":"'[1]87-0-14'!G1163*(1+$E$13)","v":17970.994500000001}]
[{"$f":"'[1]87-0-14'!B1164","v":"D18F"},{"$f":"'[1]87-0-14'!D1164","v":"DILUYENTE ASISTEN 18\"L"},{"$f":"'[1]87-0-14'!E1164","v":"FORTEX"},{"$f":"'[1]87-0-14'!F1164","v":"DILUYENTE"},{"$f":"'[1]87-0-14'!G1164*(1+$E$13)","v":173181.26750000002}]
[{"$f":"'[1]87-0-14'!B1165","v":"D1F"},{"$f":"'[1]87-0-14'!D1165","v":"DILUYENTE ASISTEN 1l"},{"$f":"'[1]87-0-14'!E1165","v":"FORTEX"},{"$f":"'[1]87-0-14'!F1165","v":"DILUYENTE"},{"$f":"'[1]87-0-14'!G1165*(1+$E$13)","v":12388.793500000002}]
[{"$f":"'[1]87-0-14'!B1166","v":"D4F"},{"$f":"'[1]87-0-14'!D1166","v":"DILUYENTE ASISTEN 4L"},{"$f":"'[1]87-0-14'!E1166","v":"FORTEX"},{"$f":"'[1]87-0-14'!F1166","v":"DILUYENTE"},{"$f":"'[1]87-0-14'!G1166*(1+$E$13)","v":43522.233}]
[{"$f":"'[1]87-0-14'!B1167","v":"DBC412T"},{"$f":"'[1]87-0-14'!D1167","v":"DIS #BASIC# CONTINU 4 1/2"},{"$f":"'[1]87-0-14'!E1167","v":"TYROLIT"},{"$f":"'[1]87-0-14'!F1167","v":"DISCO DIAMANTADO"},{"$f":"'[1]87-0-14'!G1167*(1+$E$13)","v":11774.637000000001}]
[{"$f":"'[1]87-0-14'!B1168","v":"DBC7T"},{"$f":"'[1]87-0-14'!D1168","v":"DIS #BASIC# CONTINUO  7\""},{"$f":"'[1]87-0-14'!E1168","v":"TYROLIT"},{"$f":"'[1]87-0-14'!F1168","v":"DISCO DIAMANTADO"},{"$f":"'[1]87-0-14'!G1168*(1+$E$13)","v":30592.784}]
[{"$f":"'[1]87-0-14'!B1169","v":"DBS412T"},{"$f":"'[1]87-0-14'!D1169","v":"DIS #BASIC# SEGMENT 4 1/2"},{"$f":"'[1]87-0-14'!E1169","v":"TYROLIT"},{"$f":"'[1]87-0-14'!F1169","v":"DISCO DIAMANTADO"},{"$f":"'[1]87-0-14'!G1169*(1+$E$13)","v":16381.02}]
[{"$f":"'[1]87-0-14'!B1170","v":"DBS7T"},{"$f":"'[1]87-0-14'!D1170","v":"DIS #BASIC# SEGMENTADO 7\""},{"$f":"'[1]87-0-14'!E1170","v":"TYROLIT"},{"$f":"'[1]87-0-14'!F1170","v":"DISCO DIAMANTADO"},{"$f":"'[1]87-0-14'!G1170*(1+$E$13)","v":37426.966500000002}]
[{"$f":"'[1]87-0-14'!B1171","v":"DBS9T"},{"$f":"'[1]87-0-14'!D1171","v":"DIS #BASIC# SEGMENTADO 9\""},{"$f":"'[1]87-0-14'!E1171","v":"TYROLIT"},{"$f":"'[1]87-0-14'!F1171","v":"DISCO DIAMANTADO"},{"$f":"'[1]87-0-14'!G1171*(1+$E$13)","v":59922.442000000003}]
[{"$f":"'[1]87-0-14'!B1172","v":"DBT7T"},{"$f":"'[1]87-0-14'!D1172","v":"DIS #BASIC# TURBO  7\""},{"$f":"'[1]87-0-14'!E1172","v":"TYROLIT"},{"$f":"'[1]87-0-14'!F1172","v":"DISCO DIAMANTADO"},{"$f":"'[1]87-0-14'!G1172*(1+$E$13)","v":39739.644}]
[{"$f":"'[1]87-0-14'!B1173","v":"DBT9T"},{"$f":"'[1]87-0-14'!D1173","v":"DIS #BASIC# TURBO  9\""},{"$f":"'[1]87-0-14'!E1173","v":"TYROLIT"},{"$f":"'[1]87-0-14'!F1173","v":"DISCO DIAMANTADO"},{"$f":"'[1]87-0-14'!G1173*(1+$E$13)","v":62234.0965}]
[{"$f":"'[1]87-0-14'!B1174","v":"DBT412T"},{"$f":"'[1]87-0-14'!D1174","v":"DIS #BASIC# TURBO 4 1/2\""},{"$f":"'[1]87-0-14'!E1174","v":"TYROLIT"},{"$f":"'[1]87-0-14'!F1174","v":"DISCO DIAMANTADO"},{"$f":"'[1]87-0-14'!G1174*(1+$E$13)","v":16926.589}]
[{"$f":"'[1]87-0-14'!B1175","v":"DE1151T"},{"$f":"'[1]87-0-14'!D1175","v":"DIS #ECO BASIC# 115x1,00"},{"$f":"'[1]87-0-14'!E1175","v":"TYROLIT"},{"$f":"'[1]87-0-14'!F1175","v":"DISCO METAL BASIC"},{"$f":"'[1]87-0-14'!G1175*(1+$E$13)","v":1598.6234999999999}]
[{"$f":"'[1]87-0-14'!B1176","v":"DE11516T"},{"$f":"'[1]87-0-14'!D1176","v":"DIS #ECO BASIC# 115x1,60"},{"$f":"'[1]87-0-14'!E1176","v":"TYROLIT"},{"$f":"'[1]87-0-14'!F1176","v":"DISCO METAL BASIC"},{"$f":"'[1]87-0-14'!G1176*(1+$E$13)","v":1552.1545000000001}]
[{"$f":"'[1]87-0-14'!B1177","v":"DE18016T"},{"$f":"'[1]87-0-14'!D1177","v":"DIS #ECO BASIC# 180x1,60"},{"$f":"'[1]87-0-14'!E1177","v":"TYROLIT"},{"$f":"'[1]87-0-14'!F1177","v":"DISCO METAL BASIC"},{"$f":"'[1]87-0-14'!G1177*(1+$E$13)","v":3685.6520000000005}]
[{"$f":"'[1]87-0-14'!B1178","v":"DSC412T"},{"$f":"'[1]87-0-14'!D1178","v":"DIS #STAND# CONTINU 4 1/2"},{"$f":"'[1]87-0-14'!E1178","v":"TYROLIT"},{"$f":"'[1]87-0-14'!F1178","v":"DISCO DIAMANTADO"},{"$f":"'[1]87-0-14'!G1178*(1+$E$13)","v":14333.671500000002}]
[{"$f":"'[1]87-0-14'!B1179","v":"DSC7T"},{"$f":"'[1]87-0-14'!D1179","v":"DIS #STANDAR# CONTINUO  7"},{"$f":"'[1]87-0-14'!E1179","v":"TYROLIT"},{"$f":"'[1]87-0-14'!F1179","v":"DISCO DIAMANTADO"},{"$f":"'[1]87-0-14'!G1179*(1+$E$13)","v":37246.562000000005}]
[{"$f":"'[1]87-0-14'!B1180","v":"DSC10T"},{"$f":"'[1]87-0-14'!D1180","v":"DIS #STANDAR# CONTINUO 10"},{"$f":"'[1]87-0-14'!E1180","v":"TYROLIT"},{"$f":"'[1]87-0-14'!F1180","v":"DISCO DIAMANTADO"},{"$f":"'[1]87-0-14'!G1180*(1+$E$13)","v":71980.884000000005}]
[{"$f":"'[1]87-0-14'!B1181","v":"DSM412T"},{"$f":"'[1]87-0-14'!D1181","v":"DIS #STANDAR# MULTIU 41/2"},{"$f":"'[1]87-0-14'!E1181","v":"TYROLIT"},{"$f":"'[1]87-0-14'!F1181","v":"DISCO MULTIUSO"},{"$f":"'[1]87-0-14'!G1181*(1+$E$13)","v":25760.69}]
[{"$f":"'[1]87-0-14'!B1182","v":"DSM7T"},{"$f":"'[1]87-0-14'!D1182","v":"DIS #STANDAR# MULTIUSO 7\""},{"$f":"'[1]87-0-14'!E1182","v":"TYROLIT"},{"$f":"'[1]87-0-14'!F1182","v":"DISCO MULTIUSO"},{"$f":"'[1]87-0-14'!G1182*(1+$E$13)","v":61846.255499999999}]
[{"$f":"'[1]87-0-14'!B1183","v":"DSS412T"},{"$f":"'[1]87-0-14'!D1183","v":"DIS #STANDAR# SEGMEN 41/2"},{"$f":"'[1]87-0-14'!E1183","v":"TYROLIT"},{"$f":"'[1]87-0-14'!F1183","v":"DISCO DIAMANTADO"},{"$f":"'[1]87-0-14'!G1183*(1+$E$13)","v":19962.000499999998}]
[{"$f":"'[1]87-0-14'!B1184","v":"DSS10T"},{"$f":"'[1]87-0-14'!D1184","v":"DIS #STANDAR# SEGMENTA 10"},{"$f":"'[1]87-0-14'!E1184","v":"TYROLIT"},{"$f":"'[1]87-0-14'!F1184","v":"DISCO DIAMANTADO"},{"$f":"'[1]87-0-14'!G1184*(1+$E$13)","v":110011.23450000001}]
[{"$f":"'[1]87-0-14'!B1185","v":"DSS12T"},{"$f":"'[1]87-0-14'!D1185","v":"DIS #STANDAR# SEGMENTA 12"},{"$f":"'[1]87-0-14'!E1185","v":"TYROLIT"},{"$f":"'[1]87-0-14'!F1185","v":"DISCO DIAMANTADO"},{"$f":"'[1]87-0-14'!G1185*(1+$E$13)","v":206038.9425}]
[{"$f":"'[1]87-0-14'!B1186","v":"DSS7T"},{"$f":"'[1]87-0-14'!D1186","v":"DIS #STANDAR# SEGMENTAD 7"},{"$f":"'[1]87-0-14'!E1186","v":"TYROLIT"},{"$f":"'[1]87-0-14'!F1186","v":"DISCO DIAMANTADO"},{"$f":"'[1]87-0-14'!G1186*(1+$E$13)","v":45676.392}]
[{"$f":"'[1]87-0-14'!B1187","v":"DSS9T"},{"$f":"'[1]87-0-14'!D1187","v":"DIS #STANDAR# SEGMENTAD 9"},{"$f":"'[1]87-0-14'!E1187","v":"TYROLIT"},{"$f":"'[1]87-0-14'!F1187","v":"DISCO DIAMANTADO"},{"$f":"'[1]87-0-14'!G1187*(1+$E$13)","v":73145.987999999998}]
[{"$f":"'[1]87-0-14'!B1188","v":"DST7T"},{"$f":"'[1]87-0-14'!D1188","v":"DIS #STANDAR# TURBO  7\""},{"$f":"'[1]87-0-14'!E1188","v":"TYROLIT"},{"$f":"'[1]87-0-14'!F1188","v":"DISCO DIAMANTADO"},{"$f":"'[1]87-0-14'!G1188*(1+$E$13)","v":48479.055500000002}]
[{"$f":"'[1]87-0-14'!B1189","v":"DST9T"},{"$f":"'[1]87-0-14'!D1189","v":"DIS #STANDAR# TURBO  9\""},{"$f":"'[1]87-0-14'!E1189","v":"TYROLIT"},{"$f":"'[1]87-0-14'!F1189","v":"DISCO TURBO"},{"$f":"'[1]87-0-14'!G1189*(1+$E$13)","v":75950.124000000011}]
[{"$f":"'[1]87-0-14'!B1190","v":"DST10T"},{"$f":"'[1]87-0-14'!D1190","v":"DIS #STANDAR# TURBO 10\""},{"$f":"'[1]87-0-14'!E1190","v":"TYROLIT"},{"$f":"'[1]87-0-14'!F1190","v":"DISCO DIAMANTADO"},{"$f":"'[1]87-0-14'!G1190*(1+$E$13)","v":111368.12}]
[{"$f":"'[1]87-0-14'!B1191","v":"DST12T"},{"$f":"'[1]87-0-14'!D1191","v":"DIS #STANDAR# TURBO 12\""},{"$f":"'[1]87-0-14'!E1191","v":"TYROLIT"},{"$f":"'[1]87-0-14'!F1191","v":"DISCO DIAMANTADO"},{"$f":"'[1]87-0-14'!G1191*(1+$E$13)","v":213020.80900000001}]
[{"$f":"'[1]87-0-14'!B1192","v":"DST412T"},{"$f":"'[1]87-0-14'!D1192","v":"DIS #STANDAR# TURBO 4 1/2"},{"$f":"'[1]87-0-14'!E1192","v":"TYROLIT"},{"$f":"'[1]87-0-14'!F1192","v":"DISCO DIAMANTADO"},{"$f":"'[1]87-0-14'!G1192*(1+$E$13)","v":20632.638999999999}]
[{"$f":"'[1]87-0-14'!B1193","v":"D11508S"},{"$f":"'[1]87-0-14'!D1193","v":"DIS ACE REC 115x0,80"},{"$f":"'[1]87-0-14'!E1193","v":"SIN-PAR"},{"$f":"'[1]87-0-14'!F1193","v":"DISCO ABRASIVO"},{"$f":"'[1]87-0-14'!G1193*(1+$E$13)","v":3877.7125000000001}]
[{"$f":"'[1]87-0-14'!B1194","v":"D11512S"},{"$f":"'[1]87-0-14'!D1194","v":"DIS ACE RECT 115x1,2"},{"$f":"'[1]87-0-14'!E1194","v":"SIN-PAR"},{"$f":"'[1]87-0-14'!F1194","v":"DISCO ABRASIVO"},{"$f":"'[1]87-0-14'!G1194*(1+$E$13)","v":1813.655}]
[{"$f":"'[1]87-0-14'!B1195","v":"D11516S"},{"$f":"'[1]87-0-14'!D1195","v":"DIS ACE RECT 115x1,6"},{"$f":"'[1]87-0-14'!E1195","v":"SIN-PAR"},{"$f":"'[1]87-0-14'!F1195","v":"DISCO ABRASIVO"},{"$f":"'[1]87-0-14'!G1195*(1+$E$13)","v":1328.4740000000002}]
[{"$f":"'[1]87-0-14'!B1196","v":"D18018S"},{"$f":"'[1]87-0-14'!D1196","v":"DIS ACE RECT 180x1,8"},{"$f":"'[1]87-0-14'!E1196","v":"SIN-PAR"},{"$f":"'[1]87-0-14'!F1196","v":"DISCO ABRASIVO"},{"$f":"'[1]87-0-14'!G1196*(1+$E$13)","v":6803.1050000000005}]
[{"$f":"'[1]87-0-14'!B1197","v":"D23018S"},{"$f":"'[1]87-0-14'!D1197","v":"DIS ACE RECT 230x1,8"},{"$f":"'[1]87-0-14'!E1197","v":"SIN-PAR"},{"$f":"'[1]87-0-14'!F1197","v":"DISCO ABRASIVO"},{"$f":"'[1]87-0-14'!G1197*(1+$E$13)","v":9082.1785}]
[{"$f":"'[1]87-0-14'!B1198","v":"D30032S"},{"$f":"'[1]87-0-14'!D1198","v":"DIS ACE SENS 300x3,2"},{"$f":"'[1]87-0-14'!E1198","v":"SIN-PAR"},{"$f":"'[1]87-0-14'!F1198","v":"DISCO ABRASIVO"},{"$f":"'[1]87-0-14'!G1198*(1+$E$13)","v":17597.800999999999}]
[{"$f":"'[1]87-0-14'!B1199","v":"D35032S"},{"$f":"'[1]87-0-14'!D1199","v":"DIS ACE SENS 350x3,2"},{"$f":"'[1]87-0-14'!E1199","v":"SIN-PAR"},{"$f":"'[1]87-0-14'!F1199","v":"DISCO ABRASIVO"},{"$f":"'[1]87-0-14'!G1199*(1+$E$13)","v":22424.423500000001}]
[{"$f":"'[1]87-0-14'!B1200","v":"D1156S"},{"$f":"'[1]87-0-14'!D1200","v":"DIS ACER C/DEP 115x6"},{"$f":"'[1]87-0-14'!E1200","v":"SIN-PAR"},{"$f":"'[1]87-0-14'!F1200","v":"DISCO ABRASIVO"},{"$f":"'[1]87-0-14'!G1200*(1+$E$13)","v":12947.754499999999}]
[{"$f":"'[1]87-0-14'!B1201","v":"D1806S"},{"$f":"'[1]87-0-14'!D1201","v":"DIS ACER C/DEP 180x6"},{"$f":"'[1]87-0-14'!E1201","v":"SIN-PAR"},{"$f":"'[1]87-0-14'!F1201","v":"DISCO ABRASIVO"},{"$f":"'[1]87-0-14'!G1201*(1+$E$13)","v":24704.985000000001}]
[{"$f":"'[1]87-0-14'!B1202","v":"D2306S"},{"$f":"'[1]87-0-14'!D1202","v":"DIS ACER C/DEP 230x6"},{"$f":"'[1]87-0-14'!E1202","v":"SIN-PAR"},{"$f":"'[1]87-0-14'!F1202","v":"DISCO ABRASIVO"},{"$f":"'[1]87-0-14'!G1202*(1+$E$13)","v":39398.876500000006}]
[{"$f":"'[1]87-0-14'!B1203","v":"DCC412Y"},{"$f":"'[1]87-0-14'!D1203","v":"DIS C/COMB #TURBO# 4 1/2"},{"$f":"'[1]87-0-14'!E1203","v":"YARD"},{"$f":"'[1]87-0-14'!F1203","v":"DISCO DIAMANTADO"},{"$f":"'[1]87-0-14'!G1203*(1+$E$13)","v":6659.978000000001}]
[{"$f":"'[1]87-0-14'!B1204","v":"DCC7Y"},{"$f":"'[1]87-0-14'!D1204","v":"DIS C/COMBI #TURBO# 7\""},{"$f":"'[1]87-0-14'!E1204","v":"YARD"},{"$f":"'[1]87-0-14'!F1204","v":"DISCO DIAMANTADO"},{"$f":"'[1]87-0-14'!G1204*(1+$E$13)","v":17472.824500000002}]
[{"$f":"'[1]87-0-14'!B1205","v":"DCC9Y"},{"$f":"'[1]87-0-14'!D1205","v":"DIS C/COMBI #TURBO# 9\""},{"$f":"'[1]87-0-14'!E1205","v":"YARD"},{"$f":"'[1]87-0-14'!F1205","v":"DISCO DIAMANTADO"},{"$f":"'[1]87-0-14'!G1205*(1+$E$13)","v":29030.663}]
[{"$f":"'[1]87-0-14'!B1206","v":"DCH412Y"},{"$f":"'[1]87-0-14'!D1206","v":"DIS C/HUM #CONTINUO# 41/2"},{"$f":"'[1]87-0-14'!E1206","v":"YARD"},{"$f":"'[1]87-0-14'!F1206","v":"DISCO DIAMANTADO"},{"$f":"'[1]87-0-14'!G1206*(1+$E$13)","v":5189.2605000000003}]
[{"$f":"'[1]87-0-14'!B1207","v":"DCH7Y"},{"$f":"'[1]87-0-14'!D1207","v":"DIS C/HUM #CONTINUO# 7\""},{"$f":"'[1]87-0-14'!E1207","v":"YARD"},{"$f":"'[1]87-0-14'!F1207","v":"DISCO DIAMANTADO"},{"$f":"'[1]87-0-14'!G1207*(1+$E$13)","v":13971.746500000001}]
[{"$f":"'[1]87-0-14'!B1208","v":"DCS412Y"},{"$f":"'[1]87-0-14'!D1208","v":"DIS C/SEC #SEGMENTA# 41/2"},{"$f":"'[1]87-0-14'!E1208","v":"YARD"},{"$f":"'[1]87-0-14'!F1208","v":"DISCO DIAMANTADO"},{"$f":"'[1]87-0-14'!G1208*(1+$E$13)","v":5966.7715000000007}]
[{"$f":"'[1]87-0-14'!B1209","v":"DCS7Y"},{"$f":"'[1]87-0-14'!D1209","v":"DIS C/SEC #SEGMENTA# 7\""},{"$f":"'[1]87-0-14'!E1209","v":"YARD"},{"$f":"'[1]87-0-14'!F1209","v":"DISCO DIAMANTADO"},{"$f":"'[1]87-0-14'!G1209*(1+$E$13)","v":16355.692999999999}]
[{"$f":"'[1]87-0-14'!B1210","v":"DCS9Y"},{"$f":"'[1]87-0-14'!D1210","v":"DIS C/SEC #SEGMENTA# 9\""},{"$f":"'[1]87-0-14'!E1210","v":"YARD"},{"$f":"'[1]87-0-14'!F1210","v":"DISCO DIAMANTADO"},{"$f":"'[1]87-0-14'!G1210*(1+$E$13)","v":25659.133999999998}]
[{"$f":"'[1]87-0-14'!B1211","v":"DCC412R"},{"$f":"'[1]87-0-14'!D1211","v":"DIS DIA C/CO TURB 4 1/2"},{"$f":"'[1]87-0-14'!E1211","v":"RHEIN"},{"$f":"'[1]87-0-14'!F1211","v":"DIS. DIAMANTADO"},{"$f":"'[1]87-0-14'!G1211*(1+$E$13)","v":9799.0380000000005}]
[{"$f":"'[1]87-0-14'!B1212","v":"DCC7R"},{"$f":"'[1]87-0-14'!D1212","v":"DIS DIA C/CO TURBO 7"},{"$f":"'[1]87-0-14'!E1212","v":"RHEIN"},{"$f":"'[1]87-0-14'!F1212","v":"DIS. DIAMANTADO"},{"$f":"'[1]87-0-14'!G1212*(1+$E$13)","v":23461.141}]
[{"$f":"'[1]87-0-14'!B1213","v":"DCC9R"},{"$f":"'[1]87-0-14'!D1213","v":"DIS DIA C/CO TURBO 9"},{"$f":"'[1]87-0-14'!E1213","v":"RHEIN"},{"$f":"'[1]87-0-14'!F1213","v":"DIS. DIAMANTADO"},{"$f":"'[1]87-0-14'!G1213*(1+$E$13)","v":37694.186500000003}]
[{"$f":"'[1]87-0-14'!B1214","v":"DCH412R"},{"$f":"'[1]87-0-14'!D1214","v":"DIS DIA C/HU CONT 4 1/2"},{"$f":"'[1]87-0-14'!E1214","v":"RHEIN"},{"$f":"'[1]87-0-14'!F1214","v":"DIS. DIAMANTADO"},{"$f":"'[1]87-0-14'!G1214*(1+$E$13)","v":7126.5124999999998}]
[{"$f":"'[1]87-0-14'!B1215","v":"DCH7R"},{"$f":"'[1]87-0-14'!D1215","v":"DIS DIA C/HU CONTI 7"},{"$f":"'[1]87-0-14'!E1215","v":"RHEIN"},{"$f":"'[1]87-0-14'!F1215","v":"DIS. DIAMANTADO"},{"$f":"'[1]87-0-14'!G1215*(1+$E$13)","v":17514.287}]
[{"$f":"'[1]87-0-14'!B1216","v":"DCH9R"},{"$f":"'[1]87-0-14'!D1216","v":"DIS DIA C/HU CONTI 9"},{"$f":"'[1]87-0-14'!E1216","v":"RHEIN"},{"$f":"'[1]87-0-14'!F1216","v":"DIS. DIAMANTADO"},{"$f":"'[1]87-0-14'!G1216*(1+$E$13)","v":30162.225000000002}]
[{"$f":"'[1]87-0-14'!B1217","v":"DCS412R"},{"$f":"'[1]87-0-14'!D1217","v":"DIS DIA C/SE SEGM 4 1/2"},{"$f":"'[1]87-0-14'!E1217","v":"RHEIN"},{"$f":"'[1]87-0-14'!F1217","v":"DIS. DIAMANTADO"},{"$f":"'[1]87-0-14'!G1217*(1+$E$13)","v":8433.5344999999998}]
[{"$f":"'[1]87-0-14'!B1218","v":"DCS7R"},{"$f":"'[1]87-0-14'!D1218","v":"DIS DIA C/SE SEGME 7"},{"$f":"'[1]87-0-14'!E1218","v":"RHEIN"},{"$f":"'[1]87-0-14'!F1218","v":"DIS. DIAMANTADO"},{"$f":"'[1]87-0-14'!G1218*(1+$E$13)","v":20959.177499999998}]
[{"$f":"'[1]87-0-14'!B1219","v":"DCS9R"},{"$f":"'[1]87-0-14'!D1219","v":"DIS DIA C/SE SEGME 9"},{"$f":"'[1]87-0-14'!E1219","v":"RHEIN"},{"$f":"'[1]87-0-14'!F1219","v":"DIS. DIAMANTADO"},{"$f":"'[1]87-0-14'!G1219*(1+$E$13)","v":32252.570500000002}]
[{"$f":"'[1]87-0-14'!B1220","v":"DFC60T"},{"$f":"'[1]87-0-14'!D1220","v":"DIS FLAP C/SILICIO  60"},{"$f":"'[1]87-0-14'!E1220","v":"TYROLIT"},{"$f":"'[1]87-0-14'!F1220","v":"DISCO FLAP"},{"$f":"'[1]87-0-14'!G1220*(1+$E$13)","v":8645.744999999999}]
[{"$f":"'[1]87-0-14'!B1221","v":"DFC80T"},{"$f":"'[1]87-0-14'!D1221","v":"DIS FLAP C/SILICIO  80"},{"$f":"'[1]87-0-14'!E1221","v":"TYROLIT"},{"$f":"'[1]87-0-14'!F1221","v":"DISCO FLAP"},{"$f":"'[1]87-0-14'!G1221*(1+$E$13)","v":8645.744999999999}]
[{"$f":"'[1]87-0-14'!B1222","v":"DFC120T"},{"$f":"'[1]87-0-14'!D1222","v":"DIS FLAP C/SILICIO 120"},{"$f":"'[1]87-0-14'!E1222","v":"TYROLIT"},{"$f":"'[1]87-0-14'!F1222","v":"DISCO FLAP"},{"$f":"'[1]87-0-14'!G1222*(1+$E$13)","v":8645.744999999999}]
[{"$f":"'[1]87-0-14'!B1223","v":"DFC220T"},{"$f":"'[1]87-0-14'!D1223","v":"DIS FLAP C/SILICIO 220"},{"$f":"'[1]87-0-14'!E1223","v":"TYROLIT"},{"$f":"'[1]87-0-14'!F1223","v":"DISCO FLAP"},{"$f":"'[1]87-0-14'!G1223*(1+$E$13)","v":8645.744999999999}]
[{"$f":"'[1]87-0-14'!B1224","v":"DFO40T"},{"$f":"'[1]87-0-14'!D1224","v":"DIS FLAP O/ALUMIN 115  40"},{"$f":"'[1]87-0-14'!E1224","v":"TYROLIT"},{"$f":"'[1]87-0-14'!F1224","v":"DISCO FLAP"},{"$f":"'[1]87-0-14'!G1224*(1+$E$13)","v":6499.1500000000005}]
[{"$f":"'[1]87-0-14'!B1225","v":"DFO60T"},{"$f":"'[1]87-0-14'!D1225","v":"DIS FLAP O/ALUMIN 115  60"},{"$f":"'[1]87-0-14'!E1225","v":"TYROLIT"},{"$f":"'[1]87-0-14'!F1225","v":"DISCO FLAP"},{"$f":"'[1]87-0-14'!G1225*(1+$E$13)","v":6499.1500000000005}]
[{"$f":"'[1]87-0-14'!B1226","v":"DFO80T"},{"$f":"'[1]87-0-14'!D1226","v":"DIS FLAP O/ALUMIN 115  80"},{"$f":"'[1]87-0-14'!E1226","v":"TYROLIT"},{"$f":"'[1]87-0-14'!F1226","v":"DISCO FLAP"},{"$f":"'[1]87-0-14'!G1226*(1+$E$13)","v":6499.1500000000005}]
[{"$f":"'[1]87-0-14'!B1227","v":"DFO120T"},{"$f":"'[1]87-0-14'!D1227","v":"DIS FLAP O/ALUMIN 115 120"},{"$f":"'[1]87-0-14'!E1227","v":"TYROLIT"},{"$f":"'[1]87-0-14'!F1227","v":"DISCO FLAP"},{"$f":"'[1]87-0-14'!G1227*(1+$E$13)","v":6499.1500000000005}]
[{"$f":"'[1]87-0-14'!B1228","v":"DFO740T"},{"$f":"'[1]87-0-14'!D1228","v":"DIS FLAP O/ALUMIN 180  40"},{"$f":"'[1]87-0-14'!E1228","v":"TYROLIT"},{"$f":"'[1]87-0-14'!F1228","v":"DISCO FLAP"},{"$f":"'[1]87-0-14'!G1228*(1+$E$13)","v":14734.4085}]
[{"$f":"'[1]87-0-14'!B1229","v":"DFO760T"},{"$f":"'[1]87-0-14'!D1229","v":"DIS FLAP O/ALUMIN 180  60"},{"$f":"'[1]87-0-14'!E1229","v":"TYROLIT"},{"$f":"'[1]87-0-14'!F1229","v":"DISCO FLAP"},{"$f":"'[1]87-0-14'!G1229*(1+$E$13)","v":14734.4085}]
[{"$f":"'[1]87-0-14'!B1230","v":"DFO780T"},{"$f":"'[1]87-0-14'!D1230","v":"DIS FLAP O/ALUMIN 180  80"},{"$f":"'[1]87-0-14'!E1230","v":"TYROLIT"},{"$f":"'[1]87-0-14'!F1230","v":"DISCO FLAP"},{"$f":"'[1]87-0-14'!G1230*(1+$E$13)","v":14734.4085}]
[{"$f":"'[1]87-0-14'!B1231","v":"DFO7120T"},{"$f":"'[1]87-0-14'!D1231","v":"DIS FLAP O/ALUMIN 180 120"},{"$f":"'[1]87-0-14'!E1231","v":"TYROLIT"},{"$f":"'[1]87-0-14'!F1231","v":"DISCO FLAP"},{"$f":"'[1]87-0-14'!G1231*(1+$E$13)","v":14734.4085}]
[{"$f":"'[1]87-0-14'!B1232","v":"DF760R"},{"$f":"'[1]87-0-14'!D1232","v":"DIS FLAP OXI/ALU *7\"*  60"},{"$f":"'[1]87-0-14'!E1232","v":"RHEIN"},{"$f":"'[1]87-0-14'!F1232","v":"DISCO FLAP"},{"$f":"'[1]87-0-14'!G1232*(1+$E$13)","v":13127.6785}]
[{"$f":"'[1]87-0-14'!B1233","v":"DF780R"},{"$f":"'[1]87-0-14'!D1233","v":"DIS FLAP OXI/ALU *7\"*  80"},{"$f":"'[1]87-0-14'!E1233","v":"RHEIN"},{"$f":"'[1]87-0-14'!F1233","v":"DISCO FLAP"},{"$f":"'[1]87-0-14'!G1233*(1+$E$13)","v":13127.6785}]
[{"$f":"'[1]87-0-14'!B1234","v":"DF7120R"},{"$f":"'[1]87-0-14'!D1234","v":"DIS FLAP OXI/ALU *7\"* 120"},{"$f":"'[1]87-0-14'!E1234","v":"RHEIN"},{"$f":"'[1]87-0-14'!F1234","v":"DISCO FLAP"},{"$f":"'[1]87-0-14'!G1234*(1+$E$13)","v":13127.6785}]
[{"$f":"'[1]87-0-14'!B1235","v":"DFZ740T"},{"$f":"'[1]87-0-14'!D1235","v":"DIS FLAP ZIRCONIO 180  40"},{"$f":"'[1]87-0-14'!E1235","v":"TYROLIT"},{"$f":"'[1]87-0-14'!F1235","v":"DISCO FLAP"},{"$f":"'[1]87-0-14'!G1235*(1+$E$13)","v":19135.587000000003}]
[{"$f":"'[1]87-0-14'!B1236","v":"DFZ40T"},{"$f":"'[1]87-0-14'!D1236","v":"DIS FLAP ZIRCONIO R/N  40"},{"$f":"'[1]87-0-14'!E1236","v":"TYROLIT"},{"$f":"'[1]87-0-14'!F1236","v":"DISCO FLAP"},{"$f":"'[1]87-0-14'!G1236*(1+$E$13)","v":8837.7124999999996}]
[{"$f":"'[1]87-0-14'!B1237","v":"DFZ60T"},{"$f":"'[1]87-0-14'!D1237","v":"DIS FLAP ZIRCONIO R/N  60"},{"$f":"'[1]87-0-14'!E1237","v":"TYROLIT"},{"$f":"'[1]87-0-14'!F1237","v":"DISCO FLAP"},{"$f":"'[1]87-0-14'!G1237*(1+$E$13)","v":8837.7124999999996}]
[{"$f":"'[1]87-0-14'!B1238","v":"DFZ80T"},{"$f":"'[1]87-0-14'!D1238","v":"DIS FLAP ZIRCONIO R/N  80"},{"$f":"'[1]87-0-14'!E1238","v":"TYROLIT"},{"$f":"'[1]87-0-14'!F1238","v":"DISCO FLAP"},{"$f":"'[1]87-0-14'!G1238*(1+$E$13)","v":8837.7124999999996}]
[{"$f":"'[1]87-0-14'!B1239","v":"DFZ120T"},{"$f":"'[1]87-0-14'!D1239","v":"DIS FLAP ZIRCONIO R/N 120"},{"$f":"'[1]87-0-14'!E1239","v":"TYROLIT"},{"$f":"'[1]87-0-14'!F1239","v":"DISCO FLAP"},{"$f":"'[1]87-0-14'!G1239*(1+$E$13)","v":8837.7124999999996}]
[{"$f":"'[1]87-0-14'!B1240","v":"DLT"},{"$f":"'[1]87-0-14'!D1240","v":"DIS PREMIER LIMPIEZA 115"},{"$f":"'[1]87-0-14'!E1240","v":"TYROLIT"},{"$f":"'[1]87-0-14'!F1240","v":"DISCO LIMPIEZA"},{"$f":"'[1]87-0-14'!G1240*(1+$E$13)","v":35155.906499999997}]
[{"$f":"'[1]87-0-14'!B1241","v":"DM1151BT"},{"$f":"'[1]87-0-14'!D1241","v":"DIS RECTO 115X1,0 #BASIC#"},{"$f":"'[1]87-0-14'!E1241","v":"TYROLIT"},{"$f":"'[1]87-0-14'!F1241","v":"DISCO METAL BASIC"},{"$f":"'[1]87-0-14'!G1241*(1+$E$13)","v":3557.4670000000001}]
[{"$f":"'[1]87-0-14'!B1242","v":"DM11516B"},{"$f":"'[1]87-0-14'!D1242","v":"DIS RECTO 115X1,6 #BASIC#"},{"$f":"'[1]87-0-14'!E1242","v":"TYROLIT"},{"$f":"'[1]87-0-14'!F1242","v":"DISCO METAL BASIC"},{"$f":"'[1]87-0-14'!G1242*(1+$E$13)","v":3110.9119999999998}]
[{"$f":"'[1]87-0-14'!B1243","v":"DM11525B"},{"$f":"'[1]87-0-14'!D1243","v":"DIS RECTO 115x2,5 #BASIC#"},{"$f":"'[1]87-0-14'!E1243","v":"TYROLIT"},{"$f":"'[1]87-0-14'!F1243","v":"DISCO METAL BASIC"},{"$f":"'[1]87-0-14'!G1243*(1+$E$13)","v":3446.8744999999999}]
[{"$f":"'[1]87-0-14'!B1244","v":"DM17816B"},{"$f":"'[1]87-0-14'!D1244","v":"DIS RECTO 178X1,6 #BASIC#"},{"$f":"'[1]87-0-14'!E1244","v":"TYROLIT"},{"$f":"'[1]87-0-14'!F1244","v":"DISCO METAL BASIC"},{"$f":"'[1]87-0-14'!G1244*(1+$E$13)","v":4849.5469999999996}]
[{"$f":"'[1]87-0-14'!B1245","v":"D31412R"},{"$f":"'[1]87-0-14'!D1245","v":"DISC DIAM \"3en1\"  4 1/2"},{"$f":"'[1]87-0-14'!E1245","v":"RHEIN"},{"$f":"'[1]87-0-14'!F1245","v":"DIS. DIAMANTADO"},{"$f":"'[1]87-0-14'!G1245*(1+$E$13)","v":12672.753500000001}]
[{"$f":"'[1]87-0-14'!B1246","v":"D317R"},{"$f":"'[1]87-0-14'!D1246","v":"DISC DIAM \"3en1\"  7\""},{"$f":"'[1]87-0-14'!E1246","v":"RHEIN"},{"$f":"'[1]87-0-14'!F1246","v":"DIS. DIAMANTADO"},{"$f":"'[1]87-0-14'!G1246*(1+$E$13)","v":30164.364000000001}]
[{"$f":"'[1]87-0-14'!B1247","v":"D319R"},{"$f":"'[1]87-0-14'!D1247","v":"DISC DIAM \"3en1\"  9\""},{"$f":"'[1]87-0-14'!E1247","v":"RHEIN"},{"$f":"'[1]87-0-14'!F1247","v":"DIS. DIAMANTADO"},{"$f":"'[1]87-0-14'!G1247*(1+$E$13)","v":49010.736500000006}]
[{"$f":"'[1]87-0-14'!B1248","v":"D11514D"},{"$f":"'[1]87-0-14'!D1248","v":"DISCO ABRA 115 N  14"},{"$f":"'[1]87-0-14'!E1248","v":"DOBLE A"},{"$f":"'[1]87-0-14'!F1248","v":"DISCO ABRASIVO"},{"$f":"'[1]87-0-14'!G1248*(1+$E$13)","v":4254.1765000000005}]
[{"$f":"'[1]87-0-14'!B1249","v":"D11516D"},{"$f":"'[1]87-0-14'!D1249","v":"DISCO ABRA 115 N  16"},{"$f":"'[1]87-0-14'!E1249","v":"DOBLE A"},{"$f":"'[1]87-0-14'!F1249","v":"DISCO ABRASIVO"},{"$f":"'[1]87-0-14'!G1249*(1+$E$13)","v":4254.1765000000005}]
[{"$f":"'[1]87-0-14'!B1250","v":"D11524D"},{"$f":"'[1]87-0-14'!D1250","v":"DISCO ABRA 115 N  24"},{"$f":"'[1]87-0-14'!E1250","v":"DOBLE A"},{"$f":"'[1]87-0-14'!F1250","v":"DISCO ABRASIVO"},{"$f":"'[1]87-0-14'!G1250*(1+$E$13)","v":4243.7759999999998}]
[{"$f":"'[1]87-0-14'!B1251","v":"D11536D"},{"$f":"'[1]87-0-14'!D1251","v":"DISCO ABRA 115 N  36"},{"$f":"'[1]87-0-14'!E1251","v":"DOBLE A"},{"$f":"'[1]87-0-14'!F1251","v":"DISCO ABRASIVO"},{"$f":"'[1]87-0-14'!G1251*(1+$E$13)","v":4243.7759999999998}]
[{"$f":"'[1]87-0-14'!B1252","v":"D11560D"},{"$f":"'[1]87-0-14'!D1252","v":"DISCO ABRA 115 N  60"},{"$f":"'[1]87-0-14'!E1252","v":"DOBLE A"},{"$f":"'[1]87-0-14'!F1252","v":"DISCO ABRASIVO"},{"$f":"'[1]87-0-14'!G1252*(1+$E$13)","v":3896.9015000000004}]
[{"$f":"'[1]87-0-14'!B1253","v":"D11580D"},{"$f":"'[1]87-0-14'!D1253","v":"DISCO ABRA 115 N  80"},{"$f":"'[1]87-0-14'!E1253","v":"DOBLE A"},{"$f":"'[1]87-0-14'!F1253","v":"DISCO ABRASIVO"},{"$f":"'[1]87-0-14'!G1253*(1+$E$13)","v":3627.9919999999997}]
[{"$f":"'[1]87-0-14'!B1254","v":"D115100D"},{"$f":"'[1]87-0-14'!D1254","v":"DISCO ABRA 115 N 100"},{"$f":"'[1]87-0-14'!E1254","v":"DOBLE A"},{"$f":"'[1]87-0-14'!F1254","v":"DISCO ABRASIVO"},{"$f":"'[1]87-0-14'!G1254*(1+$E$13)","v":3627.9919999999997}]
[{"$f":"'[1]87-0-14'!B1255","v":"D115120D"},{"$f":"'[1]87-0-14'!D1255","v":"DISCO ABRA 115 N 120"},{"$f":"'[1]87-0-14'!E1255","v":"DOBLE A"},{"$f":"'[1]87-0-14'!F1255","v":"DISCO ABRASIVO"},{"$f":"'[1]87-0-14'!G1255*(1+$E$13)","v":3627.9919999999997}]
[{"$f":"'[1]87-0-14'!B1256","v":"D17814D"},{"$f":"'[1]87-0-14'!D1256","v":"DISCO ABRA 178 N  14"},{"$f":"'[1]87-0-14'!E1256","v":"DOBLE A"},{"$f":"'[1]87-0-14'!F1256","v":"DISCO ABRASIVO"},{"$f":"'[1]87-0-14'!G1256*(1+$E$13)","v":6637.0225}]
[{"$f":"'[1]87-0-14'!B1257","v":"D17816D"},{"$f":"'[1]87-0-14'!D1257","v":"DISCO ABRA 178 N  16"},{"$f":"'[1]87-0-14'!E1257","v":"DOBLE A"},{"$f":"'[1]87-0-14'!F1257","v":"DISCO ABRASIVO"},{"$f":"'[1]87-0-14'!G1257*(1+$E$13)","v":6637.0225}]
[{"$f":"'[1]87-0-14'!B1258","v":"D17824D"},{"$f":"'[1]87-0-14'!D1258","v":"DISCO ABRA 178 N  24"},{"$f":"'[1]87-0-14'!E1258","v":"DOBLE A"},{"$f":"'[1]87-0-14'!F1258","v":"DISCO ABRASIVO"},{"$f":"'[1]87-0-14'!G1258*(1+$E$13)","v":6846.4120000000003}]
[{"$f":"'[1]87-0-14'!B1259","v":"D17836D"},{"$f":"'[1]87-0-14'!D1259","v":"DISCO ABRA 178 N  36"},{"$f":"'[1]87-0-14'!E1259","v":"DOBLE A"},{"$f":"'[1]87-0-14'!F1259","v":"DISCO ABRASIVO"},{"$f":"'[1]87-0-14'!G1259*(1+$E$13)","v":6846.4120000000003}]
[{"$f":"'[1]87-0-14'!B1260","v":"D17850D"},{"$f":"'[1]87-0-14'!D1260","v":"DISCO ABRA 178 N  50"},{"$f":"'[1]87-0-14'!E1260","v":"DOBLE A"},{"$f":"'[1]87-0-14'!F1260","v":"DISCO ABRASIVO"},{"$f":"'[1]87-0-14'!G1260*(1+$E$13)","v":6125.0884999999998}]
[{"$f":"'[1]87-0-14'!B1261","v":"D17860D"},{"$f":"'[1]87-0-14'!D1261","v":"DISCO ABRA 178 N  60"},{"$f":"'[1]87-0-14'!E1261","v":"DOBLE A"},{"$f":"'[1]87-0-14'!F1261","v":"DISCO ABRASIVO"},{"$f":"'[1]87-0-14'!G1261*(1+$E$13)","v":6125.0884999999998}]
[{"$f":"'[1]87-0-14'!B1262","v":"D17880D"},{"$f":"'[1]87-0-14'!D1262","v":"DISCO ABRA 178 N  80"},{"$f":"'[1]87-0-14'!E1262","v":"DOBLE A"},{"$f":"'[1]87-0-14'!F1262","v":"DISCO ABRASIVO"},{"$f":"'[1]87-0-14'!G1262*(1+$E$13)","v":5687.5080000000007}]
[{"$f":"'[1]87-0-14'!B1263","v":"D178100D"},{"$f":"'[1]87-0-14'!D1263","v":"DISCO ABRA 178 N 100"},{"$f":"'[1]87-0-14'!E1263","v":"DOBLE A"},{"$f":"'[1]87-0-14'!F1263","v":"DISCO ABRASIVO"},{"$f":"'[1]87-0-14'!G1263*(1+$E$13)","v":5687.5080000000007}]
[{"$f":"'[1]87-0-14'!B1264","v":"D178120D"},{"$f":"'[1]87-0-14'!D1264","v":"DISCO ABRA 178 N 120"},{"$f":"'[1]87-0-14'!E1264","v":"DOBLE A"},{"$f":"'[1]87-0-14'!F1264","v":"DISCO ABRASIVO"},{"$f":"'[1]87-0-14'!G1264*(1+$E$13)","v":5687.5080000000007}]
[{"$f":"'[1]87-0-14'!B1265","v":"DCD4516R"},{"$f":"'[1]87-0-14'!D1265","v":"DISCO CE/DEP OXID 4.5x1,6"},{"$f":"'[1]87-0-14'!E1265","v":"RHEIN"},{"$f":"'[1]87-0-14'!F1265","v":"DISCO"},{"$f":"'[1]87-0-14'!G1265*(1+$E$13)","v":1277.9285}]
[{"$f":"'[1]87-0-14'!B1266","v":"DZ40S"},{"$f":"'[1]87-0-14'!D1266","v":"DISCO FLAPP ZIRCONIO  40"},{"$f":"'[1]87-0-14'!E1266","v":"SIN-PAR"},{"$f":"'[1]87-0-14'!F1266","v":"DISCO FLAPP"},{"$f":"'[1]87-0-14'!G1266*(1+$E$13)","v":8178.5595000000003}]
[{"$f":"'[1]87-0-14'!B1267","v":"DZ60S"},{"$f":"'[1]87-0-14'!D1267","v":"DISCO FLAPP ZIRCONIO  60"},{"$f":"'[1]87-0-14'!E1267","v":"SIN-PAR"},{"$f":"'[1]87-0-14'!F1267","v":"DISCO FLAPP"},{"$f":"'[1]87-0-14'!G1267*(1+$E$13)","v":8178.5595000000003}]
[{"$f":"'[1]87-0-14'!B1268","v":"DZ80S"},{"$f":"'[1]87-0-14'!D1268","v":"DISCO FLAPP ZIRCONIO  80"},{"$f":"'[1]87-0-14'!E1268","v":"SIN-PAR"},{"$f":"'[1]87-0-14'!F1268","v":"DISCO FLAPP"},{"$f":"'[1]87-0-14'!G1268*(1+$E$13)","v":8178.5595000000003}]
[{"$f":"'[1]87-0-14'!B1269","v":"DZ120S"},{"$f":"'[1]87-0-14'!D1269","v":"DISCO FLAPP ZIRCONIO 120"},{"$f":"'[1]87-0-14'!E1269","v":"SIN-PAR"},{"$f":"'[1]87-0-14'!F1269","v":"DISCO FLAPP"},{"$f":"'[1]87-0-14'!G1269*(1+$E$13)","v":8178.5595000000003}]
[{"$f":"'[1]87-0-14'!B1270","v":"DR4516R"},{"$f":"'[1]87-0-14'!D1270","v":"DISCO RECTO ACERO 4,5x1.6"},{"$f":"'[1]87-0-14'!E1270","v":"RHEIN"},{"$f":"'[1]87-0-14'!F1270","v":"DISCO"},{"$f":"'[1]87-0-14'!G1270*(1+$E$13)","v":1216.3625}]
[{"$f":"'[1]87-0-14'!B1271","v":"DR451R"},{"$f":"'[1]87-0-14'!D1271","v":"DISCO RECTO OXIDO *4,5x1*"},{"$f":"'[1]87-0-14'!E1271","v":"RHEIN"},{"$f":"'[1]87-0-14'!F1271","v":"DISCO"},{"$f":"'[1]87-0-14'!G1271*(1+$E$13)","v":1326.9395000000002}]
[{"$f":"'[1]87-0-14'!B1272","v":"DR712R"},{"$f":"'[1]87-0-14'!D1272","v":"DISCO RECTO OXIDO 7,0x1,2"},{"$f":"'[1]87-0-14'!E1272","v":"RHEIN"},{"$f":"'[1]87-0-14'!F1272","v":"DISCO"},{"$f":"'[1]87-0-14'!G1272*(1+$E$13)","v":3454.7020000000002}]
[{"$f":"'[1]87-0-14'!B1273","v":"DR72R"},{"$f":"'[1]87-0-14'!D1273","v":"DISCO RECTO OXIDO 7,0x2,0"},{"$f":"'[1]87-0-14'!E1273","v":"RHEIN"},{"$f":"'[1]87-0-14'!F1273","v":"DISCO"},{"$f":"'[1]87-0-14'!G1273*(1+$E$13)","v":3109.4085}]
[{"$f":"'[1]87-0-14'!B1274","v":"DR919R"},{"$f":"'[1]87-0-14'!D1274","v":"DISCO RECTO OXIDO 9,0x1,9"},{"$f":"'[1]87-0-14'!E1274","v":"RHEIN"},{"$f":"'[1]87-0-14'!F1274","v":"DISCO"},{"$f":"'[1]87-0-14'!G1274*(1+$E$13)","v":5038.4765000000007}]
[{"$f":"'[1]87-0-14'!B1275","v":"DCV"},{"$f":"'[1]87-0-14'!D1275","v":"DUCHA PARA CALEFON"},{"$f":"'[1]87-0-14'!E1275","v":"VITAL GAS"},{"$f":"'[1]87-0-14'!F1275","v":"REPUESTO CALEFON"},{"$f":"'[1]87-0-14'!G1275*(1+$E$13)","v":869.08500000000015}]
[{"$f":"'[1]87-0-14'!B1276","v":"EMCW220R"},{"$f":"'[1]87-0-14'!D1276","v":"EJE P/M COP WIDIA SDS 220"},{"$f":"'[1]87-0-14'!E1276","v":"RHEIN"},{"$f":"'[1]87-0-14'!F1276","v":"MECHA COPA"},{"$f":"'[1]87-0-14'!G1276*(1+$E$13)","v":17888.038500000002}]
[{"$f":"'[1]87-0-14'!B1277","v":"EMCW430R"},{"$f":"'[1]87-0-14'!D1277","v":"EJE P/M COP WIDIA SDS 430"},{"$f":"'[1]87-0-14'!E1277","v":"RHEIN"},{"$f":"'[1]87-0-14'!F1277","v":"MECHA COPA"},{"$f":"'[1]87-0-14'!G1277*(1+$E$13)","v":22258.403000000002}]
[{"$f":"'[1]87-0-14'!B1278","v":"EN1002S"},{"$f":"'[1]87-0-14'!D1278","v":"ELE F/LIMABL *NI100* 2,00"},{"$f":"'[1]87-0-14'!E1278","v":"SIDERAL"},{"$f":"'[1]87-0-14'!F1278","v":"ELECTRODO"},{"$f":"'[1]87-0-14'!G1278*(1+$E$13)","v":6356663.4445000002}]
[{"$f":"'[1]87-0-14'!B1279","v":"EN100250"},{"$f":"'[1]87-0-14'!D1279","v":"ELE F/LIMABL *NI100* 2,50"},{"$f":"'[1]87-0-14'!E1279","v":"SIDERAL"},{"$f":"'[1]87-0-14'!F1279","v":"ELECTRODO"},{"$f":"'[1]87-0-14'!G1279*(1+$E$13)","v":6356663.4445000002}]
[{"$f":"'[1]87-0-14'!B1280","v":"EN100325"},{"$f":"'[1]87-0-14'!D1280","v":"ELE F/LIMABL *NI100* 3,25"},{"$f":"'[1]87-0-14'!E1280","v":"SIDERAL"},{"$f":"'[1]87-0-14'!F1280","v":"ELECTRODO"},{"$f":"'[1]87-0-14'!G1280*(1+$E$13)","v":6356663.4445000002}]
[{"$f":"'[1]87-0-14'!B1281","v":"EPA150S"},{"$f":"'[1]87-0-14'!D1281","v":"ELEC *6013* PUN AZUL 1,50"},{"$f":"'[1]87-0-14'!E1281","v":"SIDERAL"},{"$f":"'[1]87-0-14'!F1281","v":"ELECTRODO"},{"$f":"'[1]87-0-14'!G1281*(1+$E$13)","v":32288.561500000003}]
[{"$f":"'[1]87-0-14'!B1282","v":"EPA2S"},{"$f":"'[1]87-0-14'!D1282","v":"ELEC *6013* PUN AZUL 2,00"},{"$f":"'[1]87-0-14'!E1282","v":"SIDERAL"},{"$f":"'[1]87-0-14'!F1282","v":"ELECTRODO"},{"$f":"'[1]87-0-14'!G1282*(1+$E$13)","v":16513.7}]
[{"$f":"'[1]87-0-14'!B1283","v":"EPA250S"},{"$f":"'[1]87-0-14'!D1283","v":"ELEC *6013* PUN AZUL 2,50"},{"$f":"'[1]87-0-14'!E1283","v":"SIDERAL"},{"$f":"'[1]87-0-14'!F1283","v":"ELECTRODO"},{"$f":"'[1]87-0-14'!G1283*(1+$E$13)","v":12363.017000000002}]
[{"$f":"'[1]87-0-14'!B1284","v":"EPA325S"},{"$f":"'[1]87-0-14'!D1284","v":"ELEC *6013* PUN AZUL 3,25"},{"$f":"'[1]87-0-14'!E1284","v":"SIDERAL"},{"$f":"'[1]87-0-14'!F1284","v":"ELECTRODO"},{"$f":"'[1]87-0-14'!G1284*(1+$E$13)","v":11084.6855}]
[{"$f":"'[1]87-0-14'!B1285","v":"EPA4S"},{"$f":"'[1]87-0-14'!D1285","v":"ELEC *6013* PUN AZUL 4,00"},{"$f":"'[1]87-0-14'!E1285","v":"SIDERAL"},{"$f":"'[1]87-0-14'!F1285","v":"ELECTRODO"},{"$f":"'[1]87-0-14'!G1285*(1+$E$13)","v":11084.391000000001}]
[{"$f":"'[1]87-0-14'!B1286","v":"EPA5S"},{"$f":"'[1]87-0-14'!D1286","v":"ELEC *6013* PUN AZUL 5,00"},{"$f":"'[1]87-0-14'!E1286","v":"SIDERAL"},{"$f":"'[1]87-0-14'!F1286","v":"ELECTRODO"},{"$f":"'[1]87-0-14'!G1286*(1+$E$13)","v":11211.987000000001}]
[{"$f":"'[1]87-0-14'!B1287","v":"E3082S"},{"$f":"'[1]87-0-14'!D1287","v":"ELEC A/INOXID *308L* 2,00"},{"$f":"'[1]87-0-14'!E1287","v":"SIDERAL"},{"$f":"'[1]87-0-14'!F1287","v":"ELECTRODO"},{"$f":"'[1]87-0-14'!G1287*(1+$E$13)","v":71846.312999999995}]
[{"$f":"'[1]87-0-14'!B1288","v":"E308250S"},{"$f":"'[1]87-0-14'!D1288","v":"ELEC A/INOXID *308L* 2,50"},{"$f":"'[1]87-0-14'!E1288","v":"SIDERAL"},{"$f":"'[1]87-0-14'!F1288","v":"ELECTRODO"},{"$f":"'[1]87-0-14'!G1288*(1+$E$13)","v":67558.036500000002}]
[{"$f":"'[1]87-0-14'!B1289","v":"E308325S"},{"$f":"'[1]87-0-14'!D1289","v":"ELEC A/INOXID *308L* 3,25"},{"$f":"'[1]87-0-14'!E1289","v":"SIDERAL"},{"$f":"'[1]87-0-14'!F1289","v":"ELECTRODO"},{"$f":"'[1]87-0-14'!G1289*(1+$E$13)","v":66506.253000000012}]
[{"$f":"'[1]87-0-14'!B1290","v":"E3084S"},{"$f":"'[1]87-0-14'!D1290","v":"ELEC A/INOXID *308L* 4,00"},{"$f":"'[1]87-0-14'!E1290","v":"SIDERAL"},{"$f":"'[1]87-0-14'!F1290","v":"ELECTRODO"},{"$f":"'[1]87-0-14'!G1290*(1+$E$13)","v":67670.938500000004}]
[{"$f":"'[1]87-0-14'!B1291","v":"E4043250"},{"$f":"'[1]87-0-14'!D1291","v":"ELEC ALUMINIO *4043* 2,50"},{"$f":"'[1]87-0-14'!E1291","v":"SIDERAL"},{"$f":"'[1]87-0-14'!F1291","v":"ELECTRODO"},{"$f":"'[1]87-0-14'!G1291*(1+$E$13)","v":206739.465}]
[{"$f":"'[1]87-0-14'!B1292","v":"E4043325"},{"$f":"'[1]87-0-14'!D1292","v":"ELEC ALUMINIO *4043* 3,25"},{"$f":"'[1]87-0-14'!E1292","v":"SIDERAL"},{"$f":"'[1]87-0-14'!F1292","v":"ELECTRODO"},{"$f":"'[1]87-0-14'!G1292*(1+$E$13)","v":202931.93650000001}]
[{"$f":"'[1]87-0-14'!B1293","v":"E6011250"},{"$f":"'[1]87-0-14'!D1293","v":"ELEC P/BLANCA *6011* 2,50"},{"$f":"'[1]87-0-14'!E1293","v":"SIDERAL"},{"$f":"'[1]87-0-14'!F1293","v":"ELECTRODO"},{"$f":"'[1]87-0-14'!G1293*(1+$E$13)","v":15563.612000000001}]
[{"$f":"'[1]87-0-14'!B1294","v":"E6011325"},{"$f":"'[1]87-0-14'!D1294","v":"ELEC P/BLANCA *6011* 3,25"},{"$f":"'[1]87-0-14'!E1294","v":"SIDERAL"},{"$f":"'[1]87-0-14'!F1294","v":"ELECTRODO"},{"$f":"'[1]87-0-14'!G1294*(1+$E$13)","v":12414.26}]
[{"$f":"'[1]87-0-14'!B1295","v":"E60114S"},{"$f":"'[1]87-0-14'!D1295","v":"ELEC P/BLANCA *6011* 4,00"},{"$f":"'[1]87-0-14'!E1295","v":"SIDERAL"},{"$f":"'[1]87-0-14'!F1295","v":"ALAMBRE P/SOLDADU"},{"$f":"'[1]87-0-14'!G1295*(1+$E$13)","v":12191.804}]
[{"$f":"'[1]87-0-14'!B1296","v":"E60115S"},{"$f":"'[1]87-0-14'!D1296","v":"ELEC P/BLANCA *6011* 5,00"},{"$f":"'[1]87-0-14'!E1296","v":"SIDERAL"},{"$f":"'[1]87-0-14'!F1296","v":"ELECTRODO"},{"$f":"'[1]87-0-14'!G1296*(1+$E$13)","v":12174.986500000001}]
[{"$f":"'[1]87-0-14'!B1297","v":"E7016250"},{"$f":"'[1]87-0-14'!D1297","v":"ELEC P/NARANJ *7016* 2,50"},{"$f":"'[1]87-0-14'!E1297","v":"SIDERAL"},{"$f":"'[1]87-0-14'!F1297","v":"ELECTRODO"},{"$f":"'[1]87-0-14'!G1297*(1+$E$13)","v":19458.994500000001}]
[{"$f":"'[1]87-0-14'!B1298","v":"E7016325"},{"$f":"'[1]87-0-14'!D1298","v":"ELEC P/NARANJ *7016* 3,25"},{"$f":"'[1]87-0-14'!E1298","v":"SIDERAL"},{"$f":"'[1]87-0-14'!F1298","v":"ELECTRODO"},{"$f":"'[1]87-0-14'!G1298*(1+$E$13)","v":14747.614500000001}]
[{"$f":"'[1]87-0-14'!B1299","v":"E70164S"},{"$f":"'[1]87-0-14'!D1299","v":"ELEC P/NARANJ *7016* 4,00"},{"$f":"'[1]87-0-14'!E1299","v":"SIDERAL"},{"$f":"'[1]87-0-14'!F1299","v":"ELECTRODO"},{"$f":"'[1]87-0-14'!G1299*(1+$E$13)","v":14434.390500000001}]
[{"$f":"'[1]87-0-14'!B1300","v":"E70165S"},{"$f":"'[1]87-0-14'!D1300","v":"ELEC P/NARANJ *7016* 5,00"},{"$f":"'[1]87-0-14'!E1300","v":"SIDERAL"},{"$f":"'[1]87-0-14'!F1300","v":"ELECTRODO"},{"$f":"'[1]87-0-14'!G1300*(1+$E$13)","v":14691.907499999999}]
[{"$f":"'[1]87-0-14'!B1301","v":"E7024325"},{"$f":"'[1]87-0-14'!D1301","v":"ELEC P/NARANJ *7024* 3,25"},{"$f":"'[1]87-0-14'!E1301","v":"SIDERAL"},{"$f":"'[1]87-0-14'!F1301","v":"ELECTRODO"},{"$f":"'[1]87-0-14'!G1301*(1+$E$13)","v":19432.97}]
[{"$f":"'[1]87-0-14'!B1302","v":"E70244S"},{"$f":"'[1]87-0-14'!D1302","v":"ELEC P/NARANJ *7024* 4,00"},{"$f":"'[1]87-0-14'!E1302","v":"SIDERAL"},{"$f":"'[1]87-0-14'!F1302","v":"ELECTRODO"},{"$f":"'[1]87-0-14'!G1302*(1+$E$13)","v":19094.294999999998}]
[{"$f":"'[1]87-0-14'!B1303","v":"E70245S"},{"$f":"'[1]87-0-14'!D1303","v":"ELEC P/NARANJ *7024* 5,00"},{"$f":"'[1]87-0-14'!E1303","v":"SIDERAL"},{"$f":"'[1]87-0-14'!F1303","v":"ELECTRODO"},{"$f":"'[1]87-0-14'!G1303*(1+$E$13)","v":19234.973000000002}]
[{"$f":"'[1]87-0-14'!B1304","v":"E6012250"},{"$f":"'[1]87-0-14'!D1304","v":"ELEC P/NEGRA *6012* 2,50m"},{"$f":"'[1]87-0-14'!E1304","v":"SIDERAL"},{"$f":"'[1]87-0-14'!F1304","v":"ELECTRODO"},{"$f":"'[1]87-0-14'!G1304*(1+$E$13)","v":17990.772500000003}]
[{"$f":"'[1]87-0-14'!B1305","v":"E6012325"},{"$f":"'[1]87-0-14'!D1305","v":"ELEC P/NEGRA *6012* 3,25m"},{"$f":"'[1]87-0-14'!E1305","v":"SIDERAL"},{"$f":"'[1]87-0-14'!F1305","v":"ELECTRODO"},{"$f":"'[1]87-0-14'!G1305*(1+$E$13)","v":14918.238500000001}]
[{"$f":"'[1]87-0-14'!B1306","v":"E60124S"},{"$f":"'[1]87-0-14'!D1306","v":"ELEC P/NEGRA *6012* 4,00m"},{"$f":"'[1]87-0-14'!E1306","v":"SIDERAL"},{"$f":"'[1]87-0-14'!F1306","v":"ELECTRODO"},{"$f":"'[1]87-0-14'!G1306*(1+$E$13)","v":14614.996500000001}]
[{"$f":"'[1]87-0-14'!B1307","v":"E7015250"},{"$f":"'[1]87-0-14'!D1307","v":"ELEC P/PLATEA *7015* 2,50"},{"$f":"'[1]87-0-14'!E1307","v":"SIDERAL"},{"$f":"'[1]87-0-14'!F1307","v":"ELECTRODO"},{"$f":"'[1]87-0-14'!G1307*(1+$E$13)","v":14874.730000000001}]
[{"$f":"'[1]87-0-14'!B1308","v":"E7015325"},{"$f":"'[1]87-0-14'!D1308","v":"ELEC P/PLATEA *7015* 3,25"},{"$f":"'[1]87-0-14'!E1308","v":"SIDERAL"},{"$f":"'[1]87-0-14'!F1308","v":"ELECTRODO"},{"$f":"'[1]87-0-14'!G1308*(1+$E$13)","v":13367.711499999999}]
[{"$f":"'[1]87-0-14'!B1309","v":"E70154S"},{"$f":"'[1]87-0-14'!D1309","v":"ELEC P/PLATEA *7015* 4,00"},{"$f":"'[1]87-0-14'!E1309","v":"SIDERAL"},{"$f":"'[1]87-0-14'!F1309","v":"ELECTRODO"},{"$f":"'[1]87-0-14'!G1309*(1+$E$13)","v":11343.0705}]
[{"$f":"'[1]87-0-14'!B1310","v":"E70155S"},{"$f":"'[1]87-0-14'!D1310","v":"ELEC P/PLATEA *7015* 5,00"},{"$f":"'[1]87-0-14'!E1310","v":"SIDERAL"},{"$f":"'[1]87-0-14'!F1310","v":"ELECTRODO"},{"$f":"'[1]87-0-14'!G1310*(1+$E$13)","v":11466.047500000001}]
[{"$f":"'[1]87-0-14'!B1311","v":"E6010250"},{"$f":"'[1]87-0-14'!D1311","v":"ELEC P/PLATEAD 6010* 2,50"},{"$f":"'[1]87-0-14'!E1311","v":"SIDERAL"},{"$f":"'[1]87-0-14'!F1311","v":"ELECTRODO"},{"$f":"'[1]87-0-14'!G1311*(1+$E$13)","v":15698.477499999999}]
[{"$f":"'[1]87-0-14'!B1312","v":"E6010325"},{"$f":"'[1]87-0-14'!D1312","v":"ELEC P/PLATEAD 6010* 3,25"},{"$f":"'[1]87-0-14'!E1312","v":"SIDERAL"},{"$f":"'[1]87-0-14'!F1312","v":"ELECTRODO"},{"$f":"'[1]87-0-14'!G1312*(1+$E$13)","v":13543.326499999999}]
[{"$f":"'[1]87-0-14'!B1313","v":"E60104S"},{"$f":"'[1]87-0-14'!D1313","v":"ELEC P/PLATEAD 6010* 4,00"},{"$f":"'[1]87-0-14'!E1313","v":"SIDERAL"},{"$f":"'[1]87-0-14'!F1313","v":"ELECTRODO"},{"$f":"'[1]87-0-14'!G1313*(1+$E$13)","v":13465.160000000002}]
[{"$f":"'[1]87-0-14'!B1314","v":"E60105S"},{"$f":"'[1]87-0-14'!D1314","v":"ELEC P/PLATEAD 6010* 5,00"},{"$f":"'[1]87-0-14'!E1314","v":"SIDERAL"},{"$f":"'[1]87-0-14'!F1314","v":"ELECTRODO"},{"$f":"'[1]87-0-14'!G1314*(1+$E$13)","v":13537.870500000001}]
[{"$f":"'[1]87-0-14'!B1315","v":"E7010325"},{"$f":"'[1]87-0-14'!D1315","v":"ELEC P/ROJA *7010* 3,25mm"},{"$f":"'[1]87-0-14'!E1315","v":"SIDERAL"},{"$f":"'[1]87-0-14'!F1315","v":"ELECTRODO"},{"$f":"'[1]87-0-14'!G1315*(1+$E$13)","v":19394.312999999998}]
[{"$f":"'[1]87-0-14'!B1316","v":"E70104S"},{"$f":"'[1]87-0-14'!D1316","v":"ELEC P/ROJA *7010* 4,00mm"},{"$f":"'[1]87-0-14'!E1316","v":"SIDERAL"},{"$f":"'[1]87-0-14'!F1316","v":"ELECTRODO"},{"$f":"'[1]87-0-14'!G1316*(1+$E$13)","v":19394.312999999998}]
[{"$f":"'[1]87-0-14'!B1317","v":"E70105S"},{"$f":"'[1]87-0-14'!D1317","v":"ELEC P/ROJA *7010* 5,00mm"},{"$f":"'[1]87-0-14'!E1317","v":"SIDERAL"},{"$f":"'[1]87-0-14'!F1317","v":"ELECTRODO"},{"$f":"'[1]87-0-14'!G1317*(1+$E$13)","v":19394.312999999998}]
[{"$f":"'[1]87-0-14'!B1318","v":"E7018250"},{"$f":"'[1]87-0-14'!D1318","v":"ELEC P/VERDE *7018*  2,50"},{"$f":"'[1]87-0-14'!E1318","v":"SIDERAL"},{"$f":"'[1]87-0-14'!F1318","v":"ELECTRODO"},{"$f":"'[1]87-0-14'!G1318*(1+$E$13)","v":14634.6505}]
[{"$f":"'[1]87-0-14'!B1319","v":"E7018325"},{"$f":"'[1]87-0-14'!D1319","v":"ELEC P/VERDE *7018*  3,25"},{"$f":"'[1]87-0-14'!E1319","v":"SIDERAL"},{"$f":"'[1]87-0-14'!F1319","v":"ELECTRODO"},{"$f":"'[1]87-0-14'!G1319*(1+$E$13)","v":13080.543}]
[{"$f":"'[1]87-0-14'!B1320","v":"E70184S"},{"$f":"'[1]87-0-14'!D1320","v":"ELEC P/VERDE *7018* 4,00m"},{"$f":"'[1]87-0-14'!E1320","v":"SIDERAL"},{"$f":"'[1]87-0-14'!F1320","v":"ELECTRODO"},{"$f":"'[1]87-0-14'!G1320*(1+$E$13)","v":11565.3405}]
[{"$f":"'[1]87-0-14'!B1321","v":"E70185S"},{"$f":"'[1]87-0-14'!D1321","v":"ELEC P/VERDE *7018* 5,00m"},{"$f":"'[1]87-0-14'!E1321","v":"SIDERAL"},{"$f":"'[1]87-0-14'!F1321","v":"ELECTRODO"},{"$f":"'[1]87-0-14'!G1321*(1+$E$13)","v":11598.308999999999}]
[{"$f":"'[1]87-0-14'!B1322","v":"EI1P"},{"$f":"'[1]87-0-14'!D1322","v":"ENDUIDO \"INTERIOR\"  1 Lt"},{"$f":"'[1]87-0-14'!E1322","v":"PREMIER"},{"$f":"'[1]87-0-14'!F1322","v":"ENDUIDO"},{"$f":"'[1]87-0-14'!G1322*(1+$E$13)","v":5820.9009999999998}]
[{"$f":"'[1]87-0-14'!B1323","v":"EI4P"},{"$f":"'[1]87-0-14'!D1323","v":"ENDUIDO \"INTERIOR\"  4 Lts"},{"$f":"'[1]87-0-14'!E1323","v":"PREMIER"},{"$f":"'[1]87-0-14'!F1323","v":"ENDUIDO"},{"$f":"'[1]87-0-14'!G1323*(1+$E$13)","v":18554.6005}]
[{"$f":"'[1]87-0-14'!B1324","v":"EI10P"},{"$f":"'[1]87-0-14'!D1324","v":"ENDUIDO \"INTERIOR\" 10 Lts"},{"$f":"'[1]87-0-14'!E1324","v":"PREMIER"},{"$f":"'[1]87-0-14'!F1324","v":"ENDUIDO"},{"$f":"'[1]87-0-14'!G1324*(1+$E$13)","v":42099.5965}]
[{"$f":"'[1]87-0-14'!B1325","v":"EI20P"},{"$f":"'[1]87-0-14'!D1325","v":"ENDUIDO \"INTERIOR\" 20 Lts"},{"$f":"'[1]87-0-14'!E1325","v":"PREMIER"},{"$f":"'[1]87-0-14'!F1325","v":"ENDUIDO"},{"$f":"'[1]87-0-14'!G1325*(1+$E$13)","v":76616.515500000009}]
[{"$f":"'[1]87-0-14'!B1326","v":"EE1V"},{"$f":"'[1]87-0-14'!D1326","v":"ENDUIDO EXTERIOR  1L"},{"$f":"'[1]87-0-14'!E1326","v":"VENIER"},{"$f":"'[1]87-0-14'!F1326","v":"ENDUIDO"},{"$f":"'[1]87-0-14'!G1326*(1+$E$13)","v":8162.6255000000001}]
[{"$f":"'[1]87-0-14'!B1327","v":"EE4V"},{"$f":"'[1]87-0-14'!D1327","v":"ENDUIDO EXTERIOR  4L"},{"$f":"'[1]87-0-14'!E1327","v":"VENIER"},{"$f":"'[1]87-0-14'!F1327","v":"ENDUIDO"},{"$f":"'[1]87-0-14'!G1327*(1+$E$13)","v":27938.765499999998}]
[{"$f":"'[1]87-0-14'!B1328","v":"EE10V"},{"$f":"'[1]87-0-14'!D1328","v":"ENDUIDO EXTERIOR 10L"},{"$f":"'[1]87-0-14'!E1328","v":"VENIER"},{"$f":"'[1]87-0-14'!F1328","v":"ENDUIDO"},{"$f":"'[1]87-0-14'!G1328*(1+$E$13)","v":60497.709000000003}]
[{"$f":"'[1]87-0-14'!B1329","v":"EE20V"},{"$f":"'[1]87-0-14'!D1329","v":"ENDUIDO EXTERIOR 20L"},{"$f":"'[1]87-0-14'!E1329","v":"VENIER"},{"$f":"'[1]87-0-14'!F1329","v":"ENDUIDO"},{"$f":"'[1]87-0-14'!G1329*(1+$E$13)","v":110747.29849999999}]
[{"$f":"'[1]87-0-14'!B1330","v":"EE1P"},{"$f":"'[1]87-0-14'!D1330","v":"ENDUIDO EXTERIOR/INT  1 L"},{"$f":"'[1]87-0-14'!E1330","v":"PREMIER"},{"$f":"'[1]87-0-14'!F1330","v":"ENDUIDO"},{"$f":"'[1]87-0-14'!G1330*(1+$E$13)","v":6497.4295000000011}]
[{"$f":"'[1]87-0-14'!B1331","v":"EE4P"},{"$f":"'[1]87-0-14'!D1331","v":"ENDUIDO EXTERIOR/INT  4 L"},{"$f":"'[1]87-0-14'!E1331","v":"PREMIER"},{"$f":"'[1]87-0-14'!F1331","v":"ENDUIDO"},{"$f":"'[1]87-0-14'!G1331*(1+$E$13)","v":21143.829000000002}]
[{"$f":"'[1]87-0-14'!B1332","v":"EE10P"},{"$f":"'[1]87-0-14'!D1332","v":"ENDUIDO EXTERIOR/INT 10 L"},{"$f":"'[1]87-0-14'!E1332","v":"PREMIER"},{"$f":"'[1]87-0-14'!F1332","v":"ENDUIDO"},{"$f":"'[1]87-0-14'!G1332*(1+$E$13)","v":48349.677000000003}]
[{"$f":"'[1]87-0-14'!B1333","v":"EE20P"},{"$f":"'[1]87-0-14'!D1333","v":"ENDUIDO EXTERIOR/INT 20 L"},{"$f":"'[1]87-0-14'!E1333","v":"PREMIER"},{"$f":"'[1]87-0-14'!F1333","v":"ENDUIDO"},{"$f":"'[1]87-0-14'!G1333*(1+$E$13)","v":88872.101999999999}]
[{"$f":"'[1]87-0-14'!B1334","v":"EI1V"},{"$f":"'[1]87-0-14'!D1334","v":"ENDUIDO INTERIOR  1L"},{"$f":"'[1]87-0-14'!E1334","v":"VENIER"},{"$f":"'[1]87-0-14'!F1334","v":"ENDUIDO"},{"$f":"'[1]87-0-14'!G1334*(1+$E$13)","v":7671.8490000000002}]
[{"$f":"'[1]87-0-14'!B1335","v":"EI4V"},{"$f":"'[1]87-0-14'!D1335","v":"ENDUIDO INTERIOR  4L"},{"$f":"'[1]87-0-14'!E1335","v":"VENIER"},{"$f":"'[1]87-0-14'!F1335","v":"ENDUIDO"},{"$f":"'[1]87-0-14'!G1335*(1+$E$13)","v":21911.4355}]
[{"$f":"'[1]87-0-14'!B1336","v":"EI10V"},{"$f":"'[1]87-0-14'!D1336","v":"ENDUIDO INTERIOR 10L"},{"$f":"'[1]87-0-14'!E1336","v":"VENIER"},{"$f":"'[1]87-0-14'!F1336","v":"ENDUIDO"},{"$f":"'[1]87-0-14'!G1336*(1+$E$13)","v":48440.212500000001}]
[{"$f":"'[1]87-0-14'!B1337","v":"EI20V"},{"$f":"'[1]87-0-14'!D1337","v":"ENDUIDO INTERIOR 20L"},{"$f":"'[1]87-0-14'!E1337","v":"VENIER"},{"$f":"'[1]87-0-14'!F1337","v":"ENDUIDO"},{"$f":"'[1]87-0-14'!G1337*(1+$E$13)","v":87802.354000000007}]
[{"$f":"'[1]87-0-14'!B1338","v":"E4"},{"$f":"'[1]87-0-14'!D1338","v":"ENROLLADOR  4 Mt."},{"$f":"'[1]87-0-14'!E1338","v":"SIRA"},{"$f":"'[1]87-0-14'!F1338","v":"ENROLLADOR"},{"$f":"'[1]87-0-14'!G1338*(1+$E$13)","v":13949.101000000001}]
[{"$f":"'[1]87-0-14'!B1339","v":"E6"},{"$f":"'[1]87-0-14'!D1339","v":"ENROLLADOR  6 Mt."},{"$f":"'[1]87-0-14'!E1339","v":"SIRA"},{"$f":"'[1]87-0-14'!F1339","v":"ENROLLADOR"},{"$f":"'[1]87-0-14'!G1339*(1+$E$13)","v":17660.963500000002}]
[{"$f":"'[1]87-0-14'!B1340","v":"E8"},{"$f":"'[1]87-0-14'!D1340","v":"ENROLLADOR  8 Mt."},{"$f":"'[1]87-0-14'!E1340","v":"SIRA"},{"$f":"'[1]87-0-14'!F1340","v":"ENROLLADOR"},{"$f":"'[1]87-0-14'!G1340*(1+$E$13)","v":29886.495500000001}]
[{"$f":"'[1]87-0-14'!B1341","v":"EA30K"},{"$f":"'[1]87-0-14'!D1341","v":"ENTO UN Amarillo  30"},{"$f":"'[1]87-0-14'!E1341","v":"TF3"},{"$f":"'[1]87-0-14'!F1341","v":"ENTONADOR"},{"$f":"'[1]87-0-14'!G1341*(1+$E$13)","v":1056.79}]
[{"$f":"'[1]87-0-14'!B1342","v":"EA120K"},{"$f":"'[1]87-0-14'!D1342","v":"ENTO UN Amarillo 120"},{"$f":"'[1]87-0-14'!E1342","v":"TF3"},{"$f":"'[1]87-0-14'!F1342","v":"ENTONADOR"},{"$f":"'[1]87-0-14'!G1342*(1+$E$13)","v":3574.951}]
[{"$f":"'[1]87-0-14'!B1343","v":"EB30K"},{"$f":"'[1]87-0-14'!D1343","v":"ENTO UN Bermello  30"},{"$f":"'[1]87-0-14'!E1343","v":"TF3"},{"$f":"'[1]87-0-14'!F1343","v":"ENTONADOR"},{"$f":"'[1]87-0-14'!G1343*(1+$E$13)","v":1056.79}]
[{"$f":"'[1]87-0-14'!B1344","v":"EB120K"},{"$f":"'[1]87-0-14'!D1344","v":"ENTO UN Bermello 120"},{"$f":"'[1]87-0-14'!E1344","v":"TF3"},{"$f":"'[1]87-0-14'!F1344","v":"ENTONADOR"},{"$f":"'[1]87-0-14'!G1344*(1+$E$13)","v":3574.951}]
[{"$f":"'[1]87-0-14'!B1345","v":"EVO30K"},{"$f":"'[1]87-0-14'!D1345","v":"ENTO UN V/Oscuro  30"},{"$f":"'[1]87-0-14'!E1345","v":"TF3"},{"$f":"'[1]87-0-14'!F1345","v":"ENTONADOR"},{"$f":"'[1]87-0-14'!G1345*(1+$E$13)","v":1056.79}]
[{"$f":"'[1]87-0-14'!B1346","v":"EVO120K"},{"$f":"'[1]87-0-14'!D1346","v":"ENTO UN V/Oscuro 120"},{"$f":"'[1]87-0-14'!E1346","v":"TF3"},{"$f":"'[1]87-0-14'!F1346","v":"ENTONADOR"},{"$f":"'[1]87-0-14'!G1346*(1+$E$13)","v":3574.951}]
[{"$f":"'[1]87-0-14'!B1347","v":"ENA30K"},{"$f":"'[1]87-0-14'!D1347","v":"ENTO UNI Naranja  30"},{"$f":"'[1]87-0-14'!E1347","v":"TF3"},{"$f":"'[1]87-0-14'!F1347","v":"ENTONADOR"},{"$f":"'[1]87-0-14'!G1347*(1+$E$13)","v":1056.79}]
[{"$f":"'[1]87-0-14'!B1348","v":"ENA120K"},{"$f":"'[1]87-0-14'!D1348","v":"ENTO UNI Naranja 120"},{"$f":"'[1]87-0-14'!E1348","v":"TF3"},{"$f":"'[1]87-0-14'!F1348","v":"ENTONADOR"},{"$f":"'[1]87-0-14'!G1348*(1+$E$13)","v":3574.951}]
[{"$f":"'[1]87-0-14'!B1349","v":"EVC30K"},{"$f":"'[1]87-0-14'!D1349","v":"ENTO UNI V/Claro  30"},{"$f":"'[1]87-0-14'!E1349","v":"TF3"},{"$f":"'[1]87-0-14'!F1349","v":"ENTONADOR"},{"$f":"'[1]87-0-14'!G1349*(1+$E$13)","v":1056.79}]
[{"$f":"'[1]87-0-14'!B1350","v":"EVC120K"},{"$f":"'[1]87-0-14'!D1350","v":"ENTO UNI V/Claro 120"},{"$f":"'[1]87-0-14'!E1350","v":"TF3"},{"$f":"'[1]87-0-14'!F1350","v":"ENTONADOR"},{"$f":"'[1]87-0-14'!G1350*(1+$E$13)","v":3574.951}]
[{"$f":"'[1]87-0-14'!B1351","v":"EV30K"},{"$f":"'[1]87-0-14'!D1351","v":"ENTO UNI Violeta  30"},{"$f":"'[1]87-0-14'!E1351","v":"TF3"},{"$f":"'[1]87-0-14'!F1351","v":"ENTONADOR"},{"$f":"'[1]87-0-14'!G1351*(1+$E$13)","v":1056.79}]
[{"$f":"'[1]87-0-14'!B1352","v":"EV120K"},{"$f":"'[1]87-0-14'!D1352","v":"ENTO UNI Violeta 120"},{"$f":"'[1]87-0-14'!E1352","v":"TF3"},{"$f":"'[1]87-0-14'!F1352","v":"ENTONADOR"},{"$f":"'[1]87-0-14'!G1352*(1+$E$13)","v":3574.951}]
[{"$f":"'[1]87-0-14'!B1353","v":"EM30K"},{"$f":"'[1]87-0-14'!D1353","v":"ENTON UNI Marron  30"},{"$f":"'[1]87-0-14'!E1353","v":"TF3"},{"$f":"'[1]87-0-14'!F1353","v":"ENTONADOR"},{"$f":"'[1]87-0-14'!G1353*(1+$E$13)","v":1056.79}]
[{"$f":"'[1]87-0-14'!B1354","v":"EM120K"},{"$f":"'[1]87-0-14'!D1354","v":"ENTON UNI Marron 120"},{"$f":"'[1]87-0-14'!E1354","v":"TF3"},{"$f":"'[1]87-0-14'!F1354","v":"ENTONADOR"},{"$f":"'[1]87-0-14'!G1354*(1+$E$13)","v":3574.951}]
[{"$f":"'[1]87-0-14'!B1355","v":"EC30K"},{"$f":"'[1]87-0-14'!D1355","v":"ENTONA UNI Cedro  30"},{"$f":"'[1]87-0-14'!E1355","v":"TF3"},{"$f":"'[1]87-0-14'!F1355","v":"ENTONADOR"},{"$f":"'[1]87-0-14'!G1355*(1+$E$13)","v":1056.79}]
[{"$f":"'[1]87-0-14'!B1356","v":"EC120K"},{"$f":"'[1]87-0-14'!D1356","v":"ENTONA UNI Cedro 120"},{"$f":"'[1]87-0-14'!E1356","v":"TF3"},{"$f":"'[1]87-0-14'!F1356","v":"ENTONADOR"},{"$f":"'[1]87-0-14'!G1356*(1+$E$13)","v":3574.951}]
[{"$f":"'[1]87-0-14'!B1357","v":"EN30K"},{"$f":"'[1]87-0-14'!D1357","v":"ENTONA UNI Negro  30"},{"$f":"'[1]87-0-14'!E1357","v":"TF3"},{"$f":"'[1]87-0-14'!F1357","v":"ENTONADOR"},{"$f":"'[1]87-0-14'!G1357*(1+$E$13)","v":1056.79}]
[{"$f":"'[1]87-0-14'!B1358","v":"EN120K"},{"$f":"'[1]87-0-14'!D1358","v":"ENTONA UNI Negro 120"},{"$f":"'[1]87-0-14'!E1358","v":"TF3"},{"$f":"'[1]87-0-14'!F1358","v":"ENTONADOR"},{"$f":"'[1]87-0-14'!G1358*(1+$E$13)","v":3574.951}]
[{"$f":"'[1]87-0-14'!B1359","v":"ES30K"},{"$f":"'[1]87-0-14'!D1359","v":"ENTONA UNI Siena  30"},{"$f":"'[1]87-0-14'!E1359","v":"TF3"},{"$f":"'[1]87-0-14'!F1359","v":"ENTONADOR"},{"$f":"'[1]87-0-14'!G1359*(1+$E$13)","v":1056.79}]
[{"$f":"'[1]87-0-14'!B1360","v":"ES120K"},{"$f":"'[1]87-0-14'!D1360","v":"ENTONA UNI Siena 120"},{"$f":"'[1]87-0-14'!E1360","v":"TF3"},{"$f":"'[1]87-0-14'!F1360","v":"ENTONADOR"},{"$f":"'[1]87-0-14'!G1360*(1+$E$13)","v":3574.951}]
[{"$f":"'[1]87-0-14'!B1361","v":"EAZ30K"},{"$f":"'[1]87-0-14'!D1361","v":"ENTONA UNIV Azul  30"},{"$f":"'[1]87-0-14'!E1361","v":"TF3"},{"$f":"'[1]87-0-14'!F1361","v":"ENTONADOR"},{"$f":"'[1]87-0-14'!G1361*(1+$E$13)","v":1056.79}]
[{"$f":"'[1]87-0-14'!B1362","v":"EAZ120K"},{"$f":"'[1]87-0-14'!D1362","v":"ENTONA UNIV Azul 120"},{"$f":"'[1]87-0-14'!E1362","v":"TF3"},{"$f":"'[1]87-0-14'!F1362","v":"ENTONADOR"},{"$f":"'[1]87-0-14'!G1362*(1+$E$13)","v":3574.951}]
[{"$f":"'[1]87-0-14'!B1363","v":"EO30K"},{"$f":"'[1]87-0-14'!D1363","v":"ENTONA UNIV Ocre  30"},{"$f":"'[1]87-0-14'!E1363","v":"TF3"},{"$f":"'[1]87-0-14'!F1363","v":"ENTONADOR"},{"$f":"'[1]87-0-14'!G1363*(1+$E$13)","v":1056.79}]
[{"$f":"'[1]87-0-14'!B1364","v":"EO120K"},{"$f":"'[1]87-0-14'!D1364","v":"ENTONA UNIV Ocre 120"},{"$f":"'[1]87-0-14'!E1364","v":"TF3"},{"$f":"'[1]87-0-14'!F1364","v":"ENTONADOR"},{"$f":"'[1]87-0-14'!G1364*(1+$E$13)","v":3574.951}]
[{"$f":"'[1]87-0-14'!B1365","v":"EB30V"},{"$f":"'[1]87-0-14'!D1365","v":"ENTONAD Bermello  30"},{"$f":"'[1]87-0-14'!E1365","v":"VENIER"},{"$f":"'[1]87-0-14'!F1365","v":"ENTONADOR"},{"$f":"'[1]87-0-14'!G1365*(1+$E$13)","v":1651.2304999999999}]
[{"$f":"'[1]87-0-14'!B1366","v":"EB120V"},{"$f":"'[1]87-0-14'!D1366","v":"ENTONAD Bermello 120"},{"$f":"'[1]87-0-14'!E1366","v":"VENIER"},{"$f":"'[1]87-0-14'!F1366","v":"ENTONADOR"},{"$f":"'[1]87-0-14'!G1366*(1+$E$13)","v":4846.6640000000007}]
[{"$f":"'[1]87-0-14'!B1367","v":"EVO30V"},{"$f":"'[1]87-0-14'!D1367","v":"ENTONAD V/Oscuro  30"},{"$f":"'[1]87-0-14'!E1367","v":"VENIER"},{"$f":"'[1]87-0-14'!F1367","v":"ENTONADOR"},{"$f":"'[1]87-0-14'!G1367*(1+$E$13)","v":1651.2304999999999}]
[{"$f":"'[1]87-0-14'!B1368","v":"EVO120V"},{"$f":"'[1]87-0-14'!D1368","v":"ENTONAD V/Oscuro 120"},{"$f":"'[1]87-0-14'!E1368","v":"VENIER"},{"$f":"'[1]87-0-14'!F1368","v":"ENTONADOR"},{"$f":"'[1]87-0-14'!G1368*(1+$E$13)","v":4846.6640000000007}]
[{"$f":"'[1]87-0-14'!B1369","v":"EA30V"},{"$f":"'[1]87-0-14'!D1369","v":"ENTONADO Amarill  30"},{"$f":"'[1]87-0-14'!E1369","v":"VENIER"},{"$f":"'[1]87-0-14'!F1369","v":"ENTONADOR"},{"$f":"'[1]87-0-14'!G1369*(1+$E$13)","v":1651.2304999999999}]
[{"$f":"'[1]87-0-14'!B1370","v":"EA120V"},{"$f":"'[1]87-0-14'!D1370","v":"ENTONADO Amarill 120"},{"$f":"'[1]87-0-14'!E1370","v":"VENIER"},{"$f":"'[1]87-0-14'!F1370","v":"ENTONADOR"},{"$f":"'[1]87-0-14'!G1370*(1+$E$13)","v":4846.6640000000007}]
[{"$f":"'[1]87-0-14'!B1371","v":"EVC30V"},{"$f":"'[1]87-0-14'!D1371","v":"ENTONADO V/Claro  30"},{"$f":"'[1]87-0-14'!E1371","v":"VENIER"},{"$f":"'[1]87-0-14'!F1371","v":"ENTONADOR"},{"$f":"'[1]87-0-14'!G1371*(1+$E$13)","v":1651.2304999999999}]
[{"$f":"'[1]87-0-14'!B1372","v":"EVC120V"},{"$f":"'[1]87-0-14'!D1372","v":"ENTONADO V/Claro 120"},{"$f":"'[1]87-0-14'!E1372","v":"VENIER"},{"$f":"'[1]87-0-14'!F1372","v":"ENTONADOR"},{"$f":"'[1]87-0-14'!G1372*(1+$E$13)","v":4846.6640000000007}]
[{"$f":"'[1]87-0-14'!B1373","v":"EV30V"},{"$f":"'[1]87-0-14'!D1373","v":"ENTONADO Violeta  30"},{"$f":"'[1]87-0-14'!E1373","v":"VENIER"},{"$f":"'[1]87-0-14'!F1373","v":"ENTONADOR"},{"$f":"'[1]87-0-14'!G1373*(1+$E$13)","v":1651.2304999999999}]
[{"$f":"'[1]87-0-14'!B1374","v":"EV120V"},{"$f":"'[1]87-0-14'!D1374","v":"ENTONADO Violeta 120"},{"$f":"'[1]87-0-14'!E1374","v":"VENIER"},{"$f":"'[1]87-0-14'!F1374","v":"ENTONADOR"},{"$f":"'[1]87-0-14'!G1374*(1+$E$13)","v":4846.6640000000007}]
[{"$f":"'[1]87-0-14'!B1375","v":"EAZ30V"},{"$f":"'[1]87-0-14'!D1375","v":"ENTONADOR Azul  30cc"},{"$f":"'[1]87-0-14'!E1375","v":"VENIER"},{"$f":"'[1]87-0-14'!F1375","v":"ENTONADOR"},{"$f":"'[1]87-0-14'!G1375*(1+$E$13)","v":1651.2304999999999}]
[{"$f":"'[1]87-0-14'!B1376","v":"EAZ120V"},{"$f":"'[1]87-0-14'!D1376","v":"ENTONADOR Azul 120cc"},{"$f":"'[1]87-0-14'!E1376","v":"VENIER"},{"$f":"'[1]87-0-14'!F1376","v":"ENTONADOR"},{"$f":"'[1]87-0-14'!G1376*(1+$E$13)","v":4846.6640000000007}]
[{"$f":"'[1]87-0-14'!B1377","v":"EC30V"},{"$f":"'[1]87-0-14'!D1377","v":"ENTONADOR Cedro  30c"},{"$f":"'[1]87-0-14'!E1377","v":"VENIER"},{"$f":"'[1]87-0-14'!F1377","v":"ENTONADOR"},{"$f":"'[1]87-0-14'!G1377*(1+$E$13)","v":1651.2304999999999}]
[{"$f":"'[1]87-0-14'!B1378","v":"EC120V"},{"$f":"'[1]87-0-14'!D1378","v":"ENTONADOR Cedro 120c"},{"$f":"'[1]87-0-14'!E1378","v":"VENIER"},{"$f":"'[1]87-0-14'!F1378","v":"ENTONADOR"},{"$f":"'[1]87-0-14'!G1378*(1+$E$13)","v":4846.6640000000007}]
[{"$f":"'[1]87-0-14'!B1379","v":"EM30V"},{"$f":"'[1]87-0-14'!D1379","v":"ENTONADOR Marron  30"},{"$f":"'[1]87-0-14'!E1379","v":"VENIER"},{"$f":"'[1]87-0-14'!F1379","v":"ENTONADOR"},{"$f":"'[1]87-0-14'!G1379*(1+$E$13)","v":1651.2304999999999}]
[{"$f":"'[1]87-0-14'!B1380","v":"EM120V"},{"$f":"'[1]87-0-14'!D1380","v":"ENTONADOR Marron 120"},{"$f":"'[1]87-0-14'!E1380","v":"VENIER"},{"$f":"'[1]87-0-14'!F1380","v":"ENTONADOR"},{"$f":"'[1]87-0-14'!G1380*(1+$E$13)","v":4846.6640000000007}]
[{"$f":"'[1]87-0-14'!B1381","v":"ENA30V"},{"$f":"'[1]87-0-14'!D1381","v":"ENTONADOR Naranj  30"},{"$f":"'[1]87-0-14'!E1381","v":"VENIER"},{"$f":"'[1]87-0-14'!F1381","v":"ENTONADOR"},{"$f":"'[1]87-0-14'!G1381*(1+$E$13)","v":1651.2304999999999}]
[{"$f":"'[1]87-0-14'!B1382","v":"ENA120V"},{"$f":"'[1]87-0-14'!D1382","v":"ENTONADOR Naranj 120"},{"$f":"'[1]87-0-14'!E1382","v":"VENIER"},{"$f":"'[1]87-0-14'!F1382","v":"ENTONADOR"},{"$f":"'[1]87-0-14'!G1382*(1+$E$13)","v":4846.6640000000007}]
[{"$f":"'[1]87-0-14'!B1383","v":"EN30V"},{"$f":"'[1]87-0-14'!D1383","v":"ENTONADOR Negro  30c"},{"$f":"'[1]87-0-14'!E1383","v":"VENIER"},{"$f":"'[1]87-0-14'!F1383","v":"ENTONADOR"},{"$f":"'[1]87-0-14'!G1383*(1+$E$13)","v":1651.2304999999999}]
[{"$f":"'[1]87-0-14'!B1384","v":"EN120V"},{"$f":"'[1]87-0-14'!D1384","v":"ENTONADOR Negro 120c"},{"$f":"'[1]87-0-14'!E1384","v":"VENIER"},{"$f":"'[1]87-0-14'!F1384","v":"ENTONADOR"},{"$f":"'[1]87-0-14'!G1384*(1+$E$13)","v":4846.6640000000007}]
[{"$f":"'[1]87-0-14'!B1385","v":"EO30V"},{"$f":"'[1]87-0-14'!D1385","v":"ENTONADOR Ocre  30cc"},{"$f":"'[1]87-0-14'!E1385","v":"VENIER"},{"$f":"'[1]87-0-14'!F1385","v":"ENTONADOR"},{"$f":"'[1]87-0-14'!G1385*(1+$E$13)","v":1651.2304999999999}]
[{"$f":"'[1]87-0-14'!B1386","v":"EO120V"},{"$f":"'[1]87-0-14'!D1386","v":"ENTONADOR Ocre 120cc"},{"$f":"'[1]87-0-14'!E1386","v":"VENIER"},{"$f":"'[1]87-0-14'!F1386","v":"ENTONADOR"},{"$f":"'[1]87-0-14'!G1386*(1+$E$13)","v":4846.6640000000007}]
[{"$f":"'[1]87-0-14'!B1387","v":"ES30V"},{"$f":"'[1]87-0-14'!D1387","v":"ENTONADOR Siena  30c"},{"$f":"'[1]87-0-14'!E1387","v":"VENIER"},{"$f":"'[1]87-0-14'!F1387","v":"ENTONADOR"},{"$f":"'[1]87-0-14'!G1387*(1+$E$13)","v":1651.2304999999999}]
[{"$f":"'[1]87-0-14'!B1388","v":"ES120V"},{"$f":"'[1]87-0-14'!D1388","v":"ENTONADOR Siena 120c"},{"$f":"'[1]87-0-14'!E1388","v":"VENIER"},{"$f":"'[1]87-0-14'!F1388","v":"ENTONADOR"},{"$f":"'[1]87-0-14'!G1388*(1+$E$13)","v":4846.6640000000007}]
[{"$f":"'[1]87-0-14'!B1389","v":"A440NK"},{"$f":"'[1]87-0-14'!D1389","v":"ES AER \"440\"  Negro"},{"$f":"'[1]87-0-14'!E1389","v":"KUWAIT"},{"$f":"'[1]87-0-14'!F1389","v":"ESMALTE AEROSOL"},{"$f":"'[1]87-0-14'!G1389*(1+$E$13)","v":7939.7510000000002}]
[{"$f":"'[1]87-0-14'!B1390","v":"A440PK"},{"$f":"'[1]87-0-14'!D1390","v":"ES AER \"440\"  Plata"},{"$f":"'[1]87-0-14'!E1390","v":"KUWAIT"},{"$f":"'[1]87-0-14'!F1390","v":"ESMALTE AEROSOL"},{"$f":"'[1]87-0-14'!G1390*(1+$E$13)","v":11374.241}]
[{"$f":"'[1]87-0-14'!B1391","v":"A440AMK"},{"$f":"'[1]87-0-14'!D1391","v":"ES AER \"440\" A/Marin"},{"$f":"'[1]87-0-14'!E1391","v":"KUWAIT"},{"$f":"'[1]87-0-14'!F1391","v":"ESMALTE AEROSOL"},{"$f":"'[1]87-0-14'!G1391*(1+$E$13)","v":7939.7510000000002}]
[{"$f":"'[1]87-0-14'!B1392","v":"A440AK"},{"$f":"'[1]87-0-14'!D1392","v":"ES AER \"440\" Amarill"},{"$f":"'[1]87-0-14'!E1392","v":"KUWAIT"},{"$f":"'[1]87-0-14'!F1392","v":"ESMALTE AEROSOL"},{"$f":"'[1]87-0-14'!G1392*(1+$E$13)","v":7939.7510000000002}]
[{"$f":"'[1]87-0-14'!B1393","v":"A440BEIK"},{"$f":"'[1]87-0-14'!D1393","v":"ES AER \"440\" Beige"},{"$f":"'[1]87-0-14'!E1393","v":"KUWAIT"},{"$f":"'[1]87-0-14'!F1393","v":"ESMALTE AEROSOL"},{"$f":"'[1]87-0-14'!G1393*(1+$E$13)","v":7939.7510000000002}]
[{"$f":"'[1]87-0-14'!B1394","v":"A440BEK"},{"$f":"'[1]87-0-14'!D1394","v":"ES AER \"440\" Bermell"},{"$f":"'[1]87-0-14'!E1394","v":"KUWAIT"},{"$f":"'[1]87-0-14'!F1394","v":"ESMALTE AEROSOL"},{"$f":"'[1]87-0-14'!G1394*(1+$E$13)","v":7939.7510000000002}]
[{"$f":"'[1]87-0-14'!B1395","v":"A440BMK"},{"$f":"'[1]87-0-14'!D1395","v":"ES AER \"440\" Bl/Mate"},{"$f":"'[1]87-0-14'!E1395","v":"KUWAIT"},{"$f":"'[1]87-0-14'!F1395","v":"ESMALTE AEROSOL"},{"$f":"'[1]87-0-14'!G1395*(1+$E$13)","v":7939.7510000000002}]
[{"$f":"'[1]87-0-14'!B1396","v":"A440BSK"},{"$f":"'[1]87-0-14'!D1396","v":"ES AER \"440\" Bla/Satinado"},{"$f":"'[1]87-0-14'!E1396","v":"KUWAIT"},{"$f":"'[1]87-0-14'!F1396","v":"ESMALTE AEROSOL"},{"$f":"'[1]87-0-14'!G1396*(1+$E$13)","v":7939.7510000000002}]
[{"$f":"'[1]87-0-14'!B1397","v":"A440BK"},{"$f":"'[1]87-0-14'!D1397","v":"ES AER \"440\" Blanco"},{"$f":"'[1]87-0-14'!E1397","v":"KUWAIT"},{"$f":"'[1]87-0-14'!F1397","v":"ESMALTE AEROSOL"},{"$f":"'[1]87-0-14'!G1397*(1+$E$13)","v":7939.7510000000002}]
[{"$f":"'[1]87-0-14'!B1398","v":"A440EBK"},{"$f":"'[1]87-0-14'!D1398","v":"ES AER \"440\" EPOXI BLANCO"},{"$f":"'[1]87-0-14'!E1398","v":"KUWAIT"},{"$f":"'[1]87-0-14'!F1398","v":"ESMALTE AEROSOL"},{"$f":"'[1]87-0-14'!G1398*(1+$E$13)","v":17998.522500000003}]
[{"$f":"'[1]87-0-14'!B1399","v":"A440ENK"},{"$f":"'[1]87-0-14'!D1399","v":"ES AER \"440\" EPOXI NEGRO"},{"$f":"'[1]87-0-14'!E1399","v":"KUWAIT"},{"$f":"'[1]87-0-14'!F1399","v":"ESMALTE AEROSOL"},{"$f":"'[1]87-0-14'!G1399*(1+$E$13)","v":17998.522500000003}]
[{"$f":"'[1]87-0-14'!B1400","v":"A440GEK"},{"$f":"'[1]87-0-14'!D1400","v":"ES AER \"440\" Gri/Espacial"},{"$f":"'[1]87-0-14'!E1400","v":"KUWAIT"},{"$f":"'[1]87-0-14'!F1400","v":"ESMALTE AEROSOL"},{"$f":"'[1]87-0-14'!G1400*(1+$E$13)","v":7939.7510000000002}]
[{"$f":"'[1]87-0-14'!B1401","v":"A440GOK"},{"$f":"'[1]87-0-14'!D1401","v":"ES AER \"440\" Gris Oscuro"},{"$f":"'[1]87-0-14'!E1401","v":"KUWAIT"},{"$f":"'[1]87-0-14'!F1401","v":"ESMALTE AEROSOL"},{"$f":"'[1]87-0-14'!G1401*(1+$E$13)","v":7939.7510000000002}]
[{"$f":"'[1]87-0-14'!B1402","v":"A440MCRK"},{"$f":"'[1]87-0-14'!D1402","v":"ES AER \"440\" META CROMADO"},{"$f":"'[1]87-0-14'!E1402","v":"KUWAIT"},{"$f":"'[1]87-0-14'!F1402","v":"ESMALTE METALIZAD"},{"$f":"'[1]87-0-14'!G1402*(1+$E$13)","v":11861.932999999999}]
[{"$f":"'[1]87-0-14'!B1403","v":"A440MCOK"},{"$f":"'[1]87-0-14'!D1403","v":"ES AER \"440\" METAL COBRE"},{"$f":"'[1]87-0-14'!E1403","v":"KUWAIT"},{"$f":"'[1]87-0-14'!F1403","v":"ESMALTE AEROSOL"},{"$f":"'[1]87-0-14'!G1403*(1+$E$13)","v":12004.9825}]
[{"$f":"'[1]87-0-14'!B1404","v":"A440NMK"},{"$f":"'[1]87-0-14'!D1404","v":"ES AER \"440\" Ne/Mate"},{"$f":"'[1]87-0-14'!E1404","v":"KUWAIT"},{"$f":"'[1]87-0-14'!F1404","v":"ESMALTE AEROSOL"},{"$f":"'[1]87-0-14'!G1404*(1+$E$13)","v":7939.7510000000002}]
[{"$f":"'[1]87-0-14'!B1405","v":"A440NSK"},{"$f":"'[1]87-0-14'!D1405","v":"ES AER \"440\" Neg/Satinado"},{"$f":"'[1]87-0-14'!E1405","v":"KUWAIT"},{"$f":"'[1]87-0-14'!F1405","v":"ESMALTE AEROSOL"},{"$f":"'[1]87-0-14'!G1405*(1+$E$13)","v":7939.7510000000002}]
[{"$f":"'[1]87-0-14'!B1406","v":"A440RK"},{"$f":"'[1]87-0-14'!D1406","v":"ES AER \"440\" Rosado"},{"$f":"'[1]87-0-14'!E1406","v":"KUWAIT"},{"$f":"'[1]87-0-14'!F1406","v":"ESMALTE AEROSOL"},{"$f":"'[1]87-0-14'!G1406*(1+$E$13)","v":7939.7510000000002}]
[{"$f":"'[1]87-0-14'!B1407","v":"A440VIK"},{"$f":"'[1]87-0-14'!D1407","v":"ES AER \"440\" V/Ingle"},{"$f":"'[1]87-0-14'!E1407","v":"KUWAIT"},{"$f":"'[1]87-0-14'!F1407","v":"ESMALTE AEROSOL"},{"$f":"'[1]87-0-14'!G1407*(1+$E$13)","v":7939.7510000000002}]
[{"$f":"'[1]87-0-14'!B1408","v":"A440RVK"},{"$f":"'[1]87-0-14'!D1408","v":"ES AER\"440\" ROJ VIVO"},{"$f":"'[1]87-0-14'!E1408","v":"KUWAIT"},{"$f":"'[1]87-0-14'!F1408","v":"ESMALTE AEROSOL"},{"$f":"'[1]87-0-14'!G1408*(1+$E$13)","v":7939.7510000000002}]
[{"$f":"'[1]87-0-14'!B1409","v":"EC1200"},{"$f":"'[1]87-0-14'!D1409","v":"ES. CUARZO HORZ 1200"},{"$f":"'[1]87-0-14'!E1409","v":"JETER"},{"$f":"'[1]87-0-14'!F1409","v":"EST. CUARZO"},{"$f":"'[1]87-0-14'!G1409*(1+$E$13)","v":30862.452999999998}]
[{"$f":"'[1]87-0-14'!B1410","v":"ECV1200"},{"$f":"'[1]87-0-14'!D1410","v":"ES. CUARZO VERT 1200"},{"$f":"'[1]87-0-14'!E1410","v":"JETER"},{"$f":"'[1]87-0-14'!F1410","v":"EST. CUARZO"},{"$f":"'[1]87-0-14'!G1410*(1+$E$13)","v":30862.452999999998}]
[{"$f":"'[1]87-0-14'!B1411","v":"ESCPCF"},{"$f":"'[1]87-0-14'!D1411","v":"ESCAR S/CA PALA Y CORAZON"},{"$f":"'[1]87-0-14'!E1411","v":"FERCAS"},{"$f":"'[1]87-0-14'!F1411","v":"ESCARDILLO S/CABO"},{"$f":"'[1]87-0-14'!G1411*(1+$E$13)","v":8844.7960000000003}]
[{"$f":"'[1]87-0-14'!B1412","v":"ESCCPF"},{"$f":"'[1]87-0-14'!D1412","v":"ESCARD S/CA CORAZON Y PUA"},{"$f":"'[1]87-0-14'!E1412","v":"FERCAS"},{"$f":"'[1]87-0-14'!F1412","v":"ESCARDILLO S/CABO"},{"$f":"'[1]87-0-14'!G1412*(1+$E$13)","v":8844.7960000000003}]
[{"$f":"'[1]87-0-14'!B1413","v":"ESCPPF"},{"$f":"'[1]87-0-14'!D1413","v":"ESCARD S/CA PALA Y PUA"},{"$f":"'[1]87-0-14'!E1413","v":"FERCAS"},{"$f":"'[1]87-0-14'!F1413","v":"ESCARDILLO S/CABO"},{"$f":"'[1]87-0-14'!G1413*(1+$E$13)","v":8844.7960000000003}]
[{"$f":"'[1]87-0-14'!B1414","v":"EA30M"},{"$f":"'[1]87-0-14'!D1414","v":"ESCU ALBAN P/EPOX 30"},{"$f":"'[1]87-0-14'!E1414","v":"MAZZUCA"},{"$f":"'[1]87-0-14'!F1414","v":"ESC ALBAÑI P/EPOX"},{"$f":"'[1]87-0-14'!G1414*(1+$E$13)","v":15633.021000000001}]
[{"$f":"'[1]87-0-14'!B1415","v":"EA40M"},{"$f":"'[1]87-0-14'!D1415","v":"ESCU ALBAN P/EPOX 40"},{"$f":"'[1]87-0-14'!E1415","v":"MAZZUCA"},{"$f":"'[1]87-0-14'!F1415","v":"ESC ALBAÑI P/EPOX"},{"$f":"'[1]87-0-14'!G1415*(1+$E$13)","v":17947.6515}]
[{"$f":"'[1]87-0-14'!B1416","v":"EA50M"},{"$f":"'[1]87-0-14'!D1416","v":"ESCU ALBAN P/EPOX 50"},{"$f":"'[1]87-0-14'!E1416","v":"MAZZUCA"},{"$f":"'[1]87-0-14'!F1416","v":"ESC ALBAÑI P/EPOX"},{"$f":"'[1]87-0-14'!G1416*(1+$E$13)","v":19340.001}]
[{"$f":"'[1]87-0-14'!B1417","v":"EA60M"},{"$f":"'[1]87-0-14'!D1417","v":"ESCU ALBAN P/EPOX 60"},{"$f":"'[1]87-0-14'!E1417","v":"MAZZUCA"},{"$f":"'[1]87-0-14'!F1417","v":"ESC ALBAÑI P/EPOX"},{"$f":"'[1]87-0-14'!G1417*(1+$E$13)","v":21456.402000000002}]
[{"$f":"'[1]87-0-14'!B1418","v":"EA70M"},{"$f":"'[1]87-0-14'!D1418","v":"ESCU ALBAN P/EPOX 70"},{"$f":"'[1]87-0-14'!E1418","v":"MAZZUCA"},{"$f":"'[1]87-0-14'!F1418","v":"ESC ALBAÑI P/EPOX"},{"$f":"'[1]87-0-14'!G1418*(1+$E$13)","v":23938.4015}]
[{"$f":"'[1]87-0-14'!B1419","v":"EA30ER"},{"$f":"'[1]87-0-14'!D1419","v":"ESCUA ALBANI META 30"},{"$f":"'[1]87-0-14'!E1419","v":"EL ROBLE"},{"$f":"'[1]87-0-14'!F1419","v":"ESCUADRA"},{"$f":"'[1]87-0-14'!G1419*(1+$E$13)","v":14034.583500000001}]
[{"$f":"'[1]87-0-14'!B1420","v":"EA40ER"},{"$f":"'[1]87-0-14'!D1420","v":"ESCUA ALBANI META 40"},{"$f":"'[1]87-0-14'!E1420","v":"EL ROBLE"},{"$f":"'[1]87-0-14'!F1420","v":"ESCUADRA"},{"$f":"'[1]87-0-14'!G1420*(1+$E$13)","v":16116.435000000001}]
[{"$f":"'[1]87-0-14'!B1421","v":"EA50ER"},{"$f":"'[1]87-0-14'!D1421","v":"ESCUA ALBANI META 50"},{"$f":"'[1]87-0-14'!E1421","v":"EL ROBLE"},{"$f":"'[1]87-0-14'!F1421","v":"ESCUADRA"},{"$f":"'[1]87-0-14'!G1421*(1+$E$13)","v":17358.000499999998}]
[{"$f":"'[1]87-0-14'!B1422","v":"EA60ER"},{"$f":"'[1]87-0-14'!D1422","v":"ESCUA ALBANI META 60"},{"$f":"'[1]87-0-14'!E1422","v":"EL ROBLE"},{"$f":"'[1]87-0-14'!F1422","v":"ESCUADRA"},{"$f":"'[1]87-0-14'!G1422*(1+$E$13)","v":19263.834000000003}]
[{"$f":"'[1]87-0-14'!B1423","v":"EA70ER"},{"$f":"'[1]87-0-14'!D1423","v":"ESCUA ALBANI META 70"},{"$f":"'[1]87-0-14'!E1423","v":"EL ROBLE"},{"$f":"'[1]87-0-14'!F1423","v":"ESCUADRA"},{"$f":"'[1]87-0-14'!G1423*(1+$E$13)","v":21487.076499999999}]
[{"$f":"'[1]87-0-14'!B1424","v":"ECM20SJ"},{"$f":"'[1]87-0-14'!D1424","v":"ESCUAD CARP MILIM 20"},{"$f":"'[1]87-0-14'!E1424","v":"STA. JUANA"},{"$f":"'[1]87-0-14'!F1424","v":"ESCUADRA"},{"$f":"'[1]87-0-14'!G1424*(1+$E$13)","v":11315.1085}]
[{"$f":"'[1]87-0-14'!B1425","v":"ECM25SJ"},{"$f":"'[1]87-0-14'!D1425","v":"ESCUAD CARP MILIM 25"},{"$f":"'[1]87-0-14'!E1425","v":"STA. JUANA"},{"$f":"'[1]87-0-14'!F1425","v":"ESCUADRA"},{"$f":"'[1]87-0-14'!G1425*(1+$E$13)","v":11594.015500000001}]
[{"$f":"'[1]87-0-14'!B1426","v":"ECM30SJ"},{"$f":"'[1]87-0-14'!D1426","v":"ESCUAD CARP MILIM 30"},{"$f":"'[1]87-0-14'!E1426","v":"STA. JUANA"},{"$f":"'[1]87-0-14'!F1426","v":"ESCUADRA"},{"$f":"'[1]87-0-14'!G1426*(1+$E$13)","v":11872.953500000001}]
[{"$f":"'[1]87-0-14'!B1427","v":"ECL20SJ"},{"$f":"'[1]87-0-14'!D1427","v":"ESCUAD. CARP LISA 20"},{"$f":"'[1]87-0-14'!E1427","v":"STA. JUANA"},{"$f":"'[1]87-0-14'!F1427","v":"ESCUADRA"},{"$f":"'[1]87-0-14'!G1427*(1+$E$13)","v":7089.9635000000007}]
[{"$f":"'[1]87-0-14'!B1428","v":"ECL25SJ"},{"$f":"'[1]87-0-14'!D1428","v":"ESCUAD. CARP LISA 25"},{"$f":"'[1]87-0-14'!E1428","v":"STA. JUANA"},{"$f":"'[1]87-0-14'!F1428","v":"ESCUADRA"},{"$f":"'[1]87-0-14'!G1428*(1+$E$13)","v":7709.0334999999995}]
[{"$f":"'[1]87-0-14'!B1429","v":"ECL30SJ"},{"$f":"'[1]87-0-14'!D1429","v":"ESCUAD. CARP LISA 30"},{"$f":"'[1]87-0-14'!E1429","v":"STA. JUANA"},{"$f":"'[1]87-0-14'!F1429","v":"ESCUADRA"},{"$f":"'[1]87-0-14'!G1429*(1+$E$13)","v":8234.6385000000009}]
[{"$f":"'[1]87-0-14'!B1430","v":"ET70SC"},{"$f":"'[1]87-0-14'!D1430","v":"ESCUADRA \"T\"  70x52"},{"$f":"'[1]87-0-14'!E1430","v":"SC"},{"$f":"'[1]87-0-14'!F1430","v":"ESQUINERO"},{"$f":"'[1]87-0-14'!G1430*(1+$E$13)","v":8727.616}]
[{"$f":"'[1]87-0-14'!B1431","v":"ET120SC"},{"$f":"'[1]87-0-14'!D1431","v":"ESCUADRA \"T\" 120x73"},{"$f":"'[1]87-0-14'!E1431","v":"SC"},{"$f":"'[1]87-0-14'!F1431","v":"ESQUINERO"},{"$f":"'[1]87-0-14'!G1431*(1+$E$13)","v":18198.1315}]
[{"$f":"'[1]87-0-14'!B1432","v":"EP25SC"},{"$f":"'[1]87-0-14'!D1432","v":"ESCUADRA PLANA  25mm"},{"$f":"'[1]87-0-14'!E1432","v":"SC"},{"$f":"'[1]87-0-14'!F1432","v":"ESQUINERO"},{"$f":"'[1]87-0-14'!G1432*(1+$E$13)","v":3163.643}]
[{"$f":"'[1]87-0-14'!B1433","v":"EP38SC"},{"$f":"'[1]87-0-14'!D1433","v":"ESCUADRA PLANA  38mm"},{"$f":"'[1]87-0-14'!E1433","v":"SC"},{"$f":"'[1]87-0-14'!F1433","v":"ESQUINERO"},{"$f":"'[1]87-0-14'!G1433*(1+$E$13)","v":3940.9369999999999}]
[{"$f":"'[1]87-0-14'!B1434","v":"EP50SC"},{"$f":"'[1]87-0-14'!D1434","v":"ESCUADRA PLANA  50mm"},{"$f":"'[1]87-0-14'!E1434","v":"SC"},{"$f":"'[1]87-0-14'!F1434","v":"ESQUINERO"},{"$f":"'[1]87-0-14'!G1434*(1+$E$13)","v":4867.9455000000007}]
[{"$f":"'[1]87-0-14'!B1435","v":"EP65SC"},{"$f":"'[1]87-0-14'!D1435","v":"ESCUADRA PLANA  65mm"},{"$f":"'[1]87-0-14'!E1435","v":"SC"},{"$f":"'[1]87-0-14'!F1435","v":"ESQUINERO"},{"$f":"'[1]87-0-14'!G1435*(1+$E$13)","v":6687.4750000000004}]
[{"$f":"'[1]87-0-14'!B1436","v":"EP75SC"},{"$f":"'[1]87-0-14'!D1436","v":"ESCUADRA PLANA  75mm"},{"$f":"'[1]87-0-14'!E1436","v":"SC"},{"$f":"'[1]87-0-14'!F1436","v":"ESQUINERO"},{"$f":"'[1]87-0-14'!G1436*(1+$E$13)","v":8180.1560000000009}]
[{"$f":"'[1]87-0-14'!B1437","v":"EP90SC"},{"$f":"'[1]87-0-14'!D1437","v":"ESCUADRA PLANA  90mm"},{"$f":"'[1]87-0-14'!E1437","v":"SC"},{"$f":"'[1]87-0-14'!F1437","v":"ESQUINERO"},{"$f":"'[1]87-0-14'!G1437*(1+$E$13)","v":11795.0195}]
[{"$f":"'[1]87-0-14'!B1438","v":"EP100SC"},{"$f":"'[1]87-0-14'!D1438","v":"ESCUADRA PLANA 100mm"},{"$f":"'[1]87-0-14'!E1438","v":"SC"},{"$f":"'[1]87-0-14'!F1438","v":"ESQUINERO"},{"$f":"'[1]87-0-14'!G1438*(1+$E$13)","v":14949.099}]
[{"$f":"'[1]87-0-14'!B1439","v":"EP125SC"},{"$f":"'[1]87-0-14'!D1439","v":"ESCUADRA PLANA 125mm"},{"$f":"'[1]87-0-14'!E1439","v":"SC"},{"$f":"'[1]87-0-14'!F1439","v":"ESQUINERO"},{"$f":"'[1]87-0-14'!G1439*(1+$E$13)","v":11605.702500000001}]
[{"$f":"'[1]87-0-14'!B1440","v":"EP150SC"},{"$f":"'[1]87-0-14'!D1440","v":"ESCUADRA PLANA 150mm"},{"$f":"'[1]87-0-14'!E1440","v":"SC"},{"$f":"'[1]87-0-14'!F1440","v":"ESQUINERO"},{"$f":"'[1]87-0-14'!G1440*(1+$E$13)","v":13630.870500000001}]
[{"$f":"'[1]87-0-14'!B1441","v":"ECC100P"},{"$f":"'[1]87-0-14'!D1441","v":"ESLIN C/CAN SEGU 100"},{"$f":"'[1]87-0-14'!E1441","v":"PRIVE"},{"$f":"'[1]87-0-14'!F1441","v":"ESLINGA"},{"$f":"'[1]87-0-14'!G1441*(1+$E$13)","v":41976.216500000002}]
[{"$f":"'[1]87-0-14'!B1442","v":"ECC70P"},{"$f":"'[1]87-0-14'!D1442","v":"ESLIN C/CAND SEGU 70"},{"$f":"'[1]87-0-14'!E1442","v":"PRIVE"},{"$f":"'[1]87-0-14'!F1442","v":"ESLINGA"},{"$f":"'[1]87-0-14'!G1442*(1+$E$13)","v":41364.772499999999}]
[{"$f":"'[1]87-0-14'!B1443","v":"ESC100P"},{"$f":"'[1]87-0-14'!D1443","v":"ESLING SIN CANDA 100"},{"$f":"'[1]87-0-14'!E1443","v":"PRIVE"},{"$f":"'[1]87-0-14'!F1443","v":"ESLINGA"},{"$f":"'[1]87-0-14'!G1443*(1+$E$13)","v":14639.7035}]
[{"$f":"'[1]87-0-14'!B1444","v":"ESC120P"},{"$f":"'[1]87-0-14'!D1444","v":"ESLING SIN CANDA 120"},{"$f":"'[1]87-0-14'!E1444","v":"PRIVE"},{"$f":"'[1]87-0-14'!F1444","v":"ESLINGA"},{"$f":"'[1]87-0-14'!G1444*(1+$E$13)","v":23178.978999999999}]
[{"$f":"'[1]87-0-14'!B1445","v":"ECCOP"},{"$f":"'[1]87-0-14'!D1445","v":"ESLINGA C/COMBINA 95"},{"$f":"'[1]87-0-14'!E1445","v":"PRIVE"},{"$f":"'[1]87-0-14'!F1445","v":"ESLINGA"},{"$f":"'[1]87-0-14'!G1445*(1+$E$13)","v":26258.891000000003}]
[{"$f":"'[1]87-0-14'!B1446","v":"EBS20V"},{"$f":"'[1]87-0-14'!D1446","v":"ESM. BLAN/SATIN 20Lt"},{"$f":"'[1]87-0-14'!E1446","v":"VENIER"},{"$f":"'[1]87-0-14'!F1446","v":"ESMALTE"},{"$f":"'[1]87-0-14'!G1446*(1+$E$13)","v":342613.9375}]
[{"$f":"'[1]87-0-14'!B1447","v":"EFAAK"},{"$f":"'[1]87-0-14'!D1447","v":"ESMA AERO FLUO Amari"},{"$f":"'[1]87-0-14'!E1447","v":"KUWAIT"},{"$f":"'[1]87-0-14'!F1447","v":"ESMALTE AEROSOL"},{"$f":"'[1]87-0-14'!G1447*(1+$E$13)","v":10977.270500000001}]
[{"$f":"'[1]87-0-14'!B1448","v":"EFANK"},{"$f":"'[1]87-0-14'!D1448","v":"ESMA AERO FLUO Naran"},{"$f":"'[1]87-0-14'!E1448","v":"KUWAIT"},{"$f":"'[1]87-0-14'!F1448","v":"ESMALTE AEROSOL"},{"$f":"'[1]87-0-14'!G1448*(1+$E$13)","v":10977.270500000001}]
[{"$f":"'[1]87-0-14'!B1449","v":"EFARK"},{"$f":"'[1]87-0-14'!D1449","v":"ESMA AERO FLUO Rojo"},{"$f":"'[1]87-0-14'!E1449","v":"KUWAIT"},{"$f":"'[1]87-0-14'!F1449","v":"ESMALTE AEROSOL"},{"$f":"'[1]87-0-14'!G1449*(1+$E$13)","v":10977.270500000001}]
[{"$f":"'[1]87-0-14'!B1450","v":"EFAVK"},{"$f":"'[1]87-0-14'!D1450","v":"ESMA AERO FLUO Verde"},{"$f":"'[1]87-0-14'!E1450","v":"KUWAIT"},{"$f":"'[1]87-0-14'!F1450","v":"ESMALTE AEROSOL"},{"$f":"'[1]87-0-14'!G1450*(1+$E$13)","v":10977.270500000001}]
[{"$f":"'[1]87-0-14'!B1451","v":"EMAPK"},{"$f":"'[1]87-0-14'!D1451","v":"ESMA AERO MET PLATA"},{"$f":"'[1]87-0-14'!E1451","v":"KUWAIT"},{"$f":"'[1]87-0-14'!F1451","v":"ESMALTE AEROSOL"},{"$f":"'[1]87-0-14'!G1451*(1+$E$13)","v":8384.1360000000004}]
[{"$f":"'[1]87-0-14'!B1452","v":"EMANK"},{"$f":"'[1]87-0-14'!D1452","v":"ESMA AERO META NEGRO"},{"$f":"'[1]87-0-14'!E1452","v":"KUWAIT"},{"$f":"'[1]87-0-14'!F1452","v":"ESMALTE AEROSOL"},{"$f":"'[1]87-0-14'!G1452*(1+$E$13)","v":13181.122500000001}]
[{"$f":"'[1]87-0-14'!B1453","v":"EMAVK"},{"$f":"'[1]87-0-14'!D1453","v":"ESMA AERO META VERDE"},{"$f":"'[1]87-0-14'!E1453","v":"KUWAIT"},{"$f":"'[1]87-0-14'!F1453","v":"ESMALTE AEROSOL"},{"$f":"'[1]87-0-14'!G1453*(1+$E$13)","v":13181.122500000001}]
[{"$f":"'[1]87-0-14'!B1454","v":"EMACRK"},{"$f":"'[1]87-0-14'!D1454","v":"ESMA AERO METAL #CROMADO#"},{"$f":"'[1]87-0-14'!E1454","v":"KUWAIT"},{"$f":"'[1]87-0-14'!F1454","v":"ESMALTE METALIZAD"},{"$f":"'[1]87-0-14'!G1454*(1+$E$13)","v":8811.75}]
[{"$f":"'[1]87-0-14'!B1455","v":"EMAAZK"},{"$f":"'[1]87-0-14'!D1455","v":"ESMA AERO METAL AZUL"},{"$f":"'[1]87-0-14'!E1455","v":"KUWAIT"},{"$f":"'[1]87-0-14'!F1455","v":"ESMALTE AEROSOL"},{"$f":"'[1]87-0-14'!G1455*(1+$E$13)","v":13181.122500000001}]
[{"$f":"'[1]87-0-14'!B1456","v":"EMARK"},{"$f":"'[1]87-0-14'!D1456","v":"ESMA AERO METAL ROJO"},{"$f":"'[1]87-0-14'!E1456","v":"KUWAIT"},{"$f":"'[1]87-0-14'!F1456","v":"ESMALTE AEROSOL"},{"$f":"'[1]87-0-14'!G1456*(1+$E$13)","v":13181.122500000001}]
[{"$f":"'[1]87-0-14'!B1457","v":"EMACK"},{"$f":"'[1]87-0-14'!D1457","v":"ESMA AERO METALIZ *COBRE*"},{"$f":"'[1]87-0-14'!E1457","v":"KUWAIT"},{"$f":"'[1]87-0-14'!F1457","v":"ESMALTE METALIZAD"},{"$f":"'[1]87-0-14'!G1457*(1+$E$13)","v":9740.2155000000002}]
[{"$f":"'[1]87-0-14'!B1458","v":"ESARVK"},{"$f":"'[1]87-0-14'!D1458","v":"ESMA AEROS ROJO VIVO"},{"$f":"'[1]87-0-14'!E1458","v":"KUWAIT"},{"$f":"'[1]87-0-14'!F1458","v":"ESMALTE AEROSOL"},{"$f":"'[1]87-0-14'!G1458*(1+$E$13)","v":5449.1490000000003}]
[{"$f":"'[1]87-0-14'!B1459","v":"ESAAK"},{"$f":"'[1]87-0-14'!D1459","v":"ESMA AEROSOL Amarill"},{"$f":"'[1]87-0-14'!E1459","v":"KUWAIT"},{"$f":"'[1]87-0-14'!F1459","v":"ESMALTE AEROSOL"},{"$f":"'[1]87-0-14'!G1459*(1+$E$13)","v":5449.1490000000003}]
[{"$f":"'[1]87-0-14'!B1460","v":"ESAAAK"},{"$f":"'[1]87-0-14'!D1460","v":"ESMA AEROSOL Az/Azul"},{"$f":"'[1]87-0-14'!E1460","v":"KUWAIT"},{"$f":"'[1]87-0-14'!F1460","v":"ESMALTE AEROSOL"},{"$f":"'[1]87-0-14'!G1460*(1+$E$13)","v":5449.1490000000003}]
[{"$f":"'[1]87-0-14'!B1461","v":"ESAATK"},{"$f":"'[1]87-0-14'!D1461","v":"ESMA AEROSOL Az/Traf"},{"$f":"'[1]87-0-14'!E1461","v":"KUWAIT"},{"$f":"'[1]87-0-14'!F1461","v":"ESMALTE AEROSOL"},{"$f":"'[1]87-0-14'!G1461*(1+$E$13)","v":5449.1490000000003}]
[{"$f":"'[1]87-0-14'!B1462","v":"ESAAMK"},{"$f":"'[1]87-0-14'!D1462","v":"ESMA AEROSOL Azu/Mar"},{"$f":"'[1]87-0-14'!E1462","v":"KUWAIT"},{"$f":"'[1]87-0-14'!F1462","v":"ESMALTE AEROSOL"},{"$f":"'[1]87-0-14'!G1462*(1+$E$13)","v":5449.1490000000003}]
[{"$f":"'[1]87-0-14'!B1463","v":"ESABMK"},{"$f":"'[1]87-0-14'!D1463","v":"ESMA AEROSOL Bco/Mat"},{"$f":"'[1]87-0-14'!E1463","v":"KUWAIT"},{"$f":"'[1]87-0-14'!F1463","v":"ESMALTE AEROSOL"},{"$f":"'[1]87-0-14'!G1463*(1+$E$13)","v":5449.1490000000003}]
[{"$f":"'[1]87-0-14'!B1464","v":"ESABEIK"},{"$f":"'[1]87-0-14'!D1464","v":"ESMA AEROSOL Beige"},{"$f":"'[1]87-0-14'!E1464","v":"KUWAIT"},{"$f":"'[1]87-0-14'!F1464","v":"ESMALTE AEROSOL"},{"$f":"'[1]87-0-14'!G1464*(1+$E$13)","v":5449.1490000000003}]
[{"$f":"'[1]87-0-14'!B1465","v":"ESABEK"},{"$f":"'[1]87-0-14'!D1465","v":"ESMA AEROSOL Bermell"},{"$f":"'[1]87-0-14'!E1465","v":"KUWAIT"},{"$f":"'[1]87-0-14'!F1465","v":"ESMALTE AEROSOL"},{"$f":"'[1]87-0-14'!G1465*(1+$E$13)","v":5449.1490000000003}]
[{"$f":"'[1]87-0-14'!B1466","v":"ESABSK"},{"$f":"'[1]87-0-14'!D1466","v":"ESMA AEROSOL Bl/Sati"},{"$f":"'[1]87-0-14'!E1466","v":"KUWAIT"},{"$f":"'[1]87-0-14'!F1466","v":"ESMALTE AEROSOL"},{"$f":"'[1]87-0-14'!G1466*(1+$E$13)","v":5449.1490000000003}]
[{"$f":"'[1]87-0-14'!B1467","v":"ESABK"},{"$f":"'[1]87-0-14'!D1467","v":"ESMA AEROSOL Blanco"},{"$f":"'[1]87-0-14'!E1467","v":"KUWAIT"},{"$f":"'[1]87-0-14'!F1467","v":"ESMALTE AEROSOL"},{"$f":"'[1]87-0-14'!G1467*(1+$E$13)","v":5449.1490000000003}]
[{"$f":"'[1]87-0-14'!B1468","v":"ESACK"},{"$f":"'[1]87-0-14'!D1468","v":"ESMA AEROSOL Celeste"},{"$f":"'[1]87-0-14'!E1468","v":"KUWAIT"},{"$f":"'[1]87-0-14'!F1468","v":"ESMALTE AEROSOL"},{"$f":"'[1]87-0-14'!G1468*(1+$E$13)","v":5449.1490000000003}]
[{"$f":"'[1]87-0-14'!B1469","v":"ESACRK"},{"$f":"'[1]87-0-14'!D1469","v":"ESMA AEROSOL Crema"},{"$f":"'[1]87-0-14'!E1469","v":"KUWAIT"},{"$f":"'[1]87-0-14'!F1469","v":"ESMALTE AEROSOL"},{"$f":"'[1]87-0-14'!G1469*(1+$E$13)","v":5449.1490000000003}]
[{"$f":"'[1]87-0-14'!B1470","v":"ESAFK"},{"$f":"'[1]87-0-14'!D1470","v":"ESMA AEROSOL Fucsia"},{"$f":"'[1]87-0-14'!E1470","v":"KUWAIT"},{"$f":"'[1]87-0-14'!F1470","v":"ESMALTE AEROSOL"},{"$f":"'[1]87-0-14'!G1470*(1+$E$13)","v":5449.1490000000003}]
[{"$f":"'[1]87-0-14'!B1471","v":"ESAGEK"},{"$f":"'[1]87-0-14'!D1471","v":"ESMA AEROSOL Gr/Espa"},{"$f":"'[1]87-0-14'!E1471","v":"KUWAIT"},{"$f":"'[1]87-0-14'!F1471","v":"ESMALTE AEROSOL"},{"$f":"'[1]87-0-14'!G1471*(1+$E$13)","v":5449.1490000000003}]
[{"$f":"'[1]87-0-14'!B1472","v":"ESAGOK"},{"$f":"'[1]87-0-14'!D1472","v":"ESMA AEROSOL Gr/Oscu"},{"$f":"'[1]87-0-14'!E1472","v":"KUWAIT"},{"$f":"'[1]87-0-14'!F1472","v":"ESMALTE AEROSOL"},{"$f":"'[1]87-0-14'!G1472*(1+$E$13)","v":5449.1490000000003}]
[{"$f":"'[1]87-0-14'!B1473","v":"ESAGPK"},{"$f":"'[1]87-0-14'!D1473","v":"ESMA AEROSOL Gri/Per"},{"$f":"'[1]87-0-14'!E1473","v":"KUWAIT"},{"$f":"'[1]87-0-14'!F1473","v":"ESMALTE AEROSOL"},{"$f":"'[1]87-0-14'!G1473*(1+$E$13)","v":5449.1490000000003}]
[{"$f":"'[1]87-0-14'!B1474","v":"EMAOK"},{"$f":"'[1]87-0-14'!D1474","v":"ESMA AEROSOL METAL *ORO*"},{"$f":"'[1]87-0-14'!E1474","v":"KUWAIT"},{"$f":"'[1]87-0-14'!F1474","v":"ESMALTE AEROSOL"},{"$f":"'[1]87-0-14'!G1474*(1+$E$13)","v":9740.2464999999993}]
[{"$f":"'[1]87-0-14'!B1475","v":"ESAMAK"},{"$f":"'[1]87-0-14'!D1475","v":"ESMA AEROSOL Marfil"},{"$f":"'[1]87-0-14'!E1475","v":"KUWAIT"},{"$f":"'[1]87-0-14'!F1475","v":"ESMALTE AEROSOL"},{"$f":"'[1]87-0-14'!G1475*(1+$E$13)","v":5449.1490000000003}]
[{"$f":"'[1]87-0-14'!B1476","v":"ESAMK"},{"$f":"'[1]87-0-14'!D1476","v":"ESMA AEROSOL Marron"},{"$f":"'[1]87-0-14'!E1476","v":"KUWAIT"},{"$f":"'[1]87-0-14'!F1476","v":"ESMALTE AEROSOL"},{"$f":"'[1]87-0-14'!G1476*(1+$E$13)","v":5449.1490000000003}]
[{"$f":"'[1]87-0-14'!B1477","v":"ESANAK"},{"$f":"'[1]87-0-14'!D1477","v":"ESMA AEROSOL Naranja"},{"$f":"'[1]87-0-14'!E1477","v":"KUWAIT"},{"$f":"'[1]87-0-14'!F1477","v":"ESMALTE AEROSOL"},{"$f":"'[1]87-0-14'!G1477*(1+$E$13)","v":5449.1490000000003}]
[{"$f":"'[1]87-0-14'!B1478","v":"ESANMK"},{"$f":"'[1]87-0-14'!D1478","v":"ESMA AEROSOL Ne/Mate"},{"$f":"'[1]87-0-14'!E1478","v":"KUWAIT"},{"$f":"'[1]87-0-14'!F1478","v":"ESMALTE AEROSOL"},{"$f":"'[1]87-0-14'!G1478*(1+$E$13)","v":5449.1490000000003}]
[{"$f":"'[1]87-0-14'!B1479","v":"ESANSK"},{"$f":"'[1]87-0-14'!D1479","v":"ESMA AEROSOL Ne/Sati"},{"$f":"'[1]87-0-14'!E1479","v":"KUWAIT"},{"$f":"'[1]87-0-14'!F1479","v":"ESMALTE AEROSOL"},{"$f":"'[1]87-0-14'!G1479*(1+$E$13)","v":5449.1490000000003}]
[{"$f":"'[1]87-0-14'!B1480","v":"ESANK"},{"$f":"'[1]87-0-14'!D1480","v":"ESMA AEROSOL Negro"},{"$f":"'[1]87-0-14'!E1480","v":"KUWAIT"},{"$f":"'[1]87-0-14'!F1480","v":"ESMALTE AEROSOL"},{"$f":"'[1]87-0-14'!G1480*(1+$E$13)","v":5449.1490000000003}]
[{"$f":"'[1]87-0-14'!B1481","v":"ESARK"},{"$f":"'[1]87-0-14'!D1481","v":"ESMA AEROSOL Rosado"},{"$f":"'[1]87-0-14'!E1481","v":"KUWAIT"},{"$f":"'[1]87-0-14'!F1481","v":"ESMALTE AEROSOL"},{"$f":"'[1]87-0-14'!G1481*(1+$E$13)","v":5449.1490000000003}]
[{"$f":"'[1]87-0-14'!B1482","v":"ESATK"},{"$f":"'[1]87-0-14'!D1482","v":"ESMA AEROSOL Tabaco"},{"$f":"'[1]87-0-14'!E1482","v":"KUWAIT"},{"$f":"'[1]87-0-14'!F1482","v":"ESMALTE AEROSOL"},{"$f":"'[1]87-0-14'!G1482*(1+$E$13)","v":5449.1490000000003}]
[{"$f":"'[1]87-0-14'!B1483","v":"ESAVNK"},{"$f":"'[1]87-0-14'!D1483","v":"ESMA AEROSOL Ve/Noch"},{"$f":"'[1]87-0-14'!E1483","v":"KUWAIT"},{"$f":"'[1]87-0-14'!F1483","v":"ESMALTE AEROSOL"},{"$f":"'[1]87-0-14'!G1483*(1+$E$13)","v":5449.1490000000003}]
[{"$f":"'[1]87-0-14'!B1484","v":"ESAVCK"},{"$f":"'[1]87-0-14'!D1484","v":"ESMA AEROSOL Ver/Cla"},{"$f":"'[1]87-0-14'!E1484","v":"KUWAIT"},{"$f":"'[1]87-0-14'!F1484","v":"ESMALTE AEROSOL"},{"$f":"'[1]87-0-14'!G1484*(1+$E$13)","v":5449.1490000000003}]
[{"$f":"'[1]87-0-14'!B1485","v":"ESAVIK"},{"$f":"'[1]87-0-14'!D1485","v":"ESMA AEROSOL Ver/Ing"},{"$f":"'[1]87-0-14'!E1485","v":"KUWAIT"},{"$f":"'[1]87-0-14'!F1485","v":"ESMALTE AEROSOL"},{"$f":"'[1]87-0-14'!G1485*(1+$E$13)","v":5449.1490000000003}]
[{"$f":"'[1]87-0-14'!B1486","v":"ESAVK"},{"$f":"'[1]87-0-14'!D1486","v":"ESMA AEROSOL Violeta"},{"$f":"'[1]87-0-14'!E1486","v":"KUWAIT"},{"$f":"'[1]87-0-14'!F1486","v":"ESMALTE AEROSOL"},{"$f":"'[1]87-0-14'!G1486*(1+$E$13)","v":5449.1490000000003}]
[{"$f":"'[1]87-0-14'!B1487","v":"EBS12V"},{"$f":"'[1]87-0-14'!D1487","v":"ESMA Blan/Satina 1/2"},{"$f":"'[1]87-0-14'!E1487","v":"VENIER"},{"$f":"'[1]87-0-14'!F1487","v":"ESMALTE"},{"$f":"'[1]87-0-14'!G1487*(1+$E$13)","v":13267.194}]
[{"$f":"'[1]87-0-14'!B1488","v":"EBS14V"},{"$f":"'[1]87-0-14'!D1488","v":"ESMA Blan/Satina 1/4"},{"$f":"'[1]87-0-14'!E1488","v":"VENIER"},{"$f":"'[1]87-0-14'!F1488","v":"ESMALTE"},{"$f":"'[1]87-0-14'!G1488*(1+$E$13)","v":8492.6670000000013}]
[{"$f":"'[1]87-0-14'!B1489","v":"EBS1V"},{"$f":"'[1]87-0-14'!D1489","v":"ESMA Blan/Satina 1Lt"},{"$f":"'[1]87-0-14'!E1489","v":"VENIER"},{"$f":"'[1]87-0-14'!F1489","v":"ESMALTE"},{"$f":"'[1]87-0-14'!G1489*(1+$E$13)","v":65917.098000000013}]
[{"$f":"'[1]87-0-14'!B1490","v":"EBS4V"},{"$f":"'[1]87-0-14'!D1490","v":"ESMA Blan/Satina 4Lt"},{"$f":"'[1]87-0-14'!E1490","v":"VENIER"},{"$f":"'[1]87-0-14'!F1490","v":"ESMALTE"},{"$f":"'[1]87-0-14'!G1490*(1+$E$13)","v":247075.45599999998}]
[{"$f":"'[1]87-0-14'!B1491","v":"ENS12V"},{"$f":"'[1]87-0-14'!D1491","v":"ESMA Negr/Satina 1/2"},{"$f":"'[1]87-0-14'!E1491","v":"VENIER"},{"$f":"'[1]87-0-14'!F1491","v":"ESMALTE"},{"$f":"'[1]87-0-14'!G1491*(1+$E$13)","v":36858.8295}]
[{"$f":"'[1]87-0-14'!B1492","v":"ENS14V"},{"$f":"'[1]87-0-14'!D1492","v":"ESMA Negr/Satina 1/4"},{"$f":"'[1]87-0-14'!E1492","v":"VENIER"},{"$f":"'[1]87-0-14'!F1492","v":"ESMALTE"},{"$f":"'[1]87-0-14'!G1492*(1+$E$13)","v":23572.291499999999}]
[{"$f":"'[1]87-0-14'!B1493","v":"ENS1V"},{"$f":"'[1]87-0-14'!D1493","v":"ESMA Negr/Satina 1Lt"},{"$f":"'[1]87-0-14'!E1493","v":"VENIER"},{"$f":"'[1]87-0-14'!F1493","v":"ESMALTE"},{"$f":"'[1]87-0-14'!G1493*(1+$E$13)","v":54587.869000000006}]
[{"$f":"'[1]87-0-14'!B1494","v":"ENS4V"},{"$f":"'[1]87-0-14'!D1494","v":"ESMA Negr/Satina 4Lt"},{"$f":"'[1]87-0-14'!E1494","v":"VENIER"},{"$f":"'[1]87-0-14'!F1494","v":"ESMALTE"},{"$f":"'[1]87-0-14'!G1494*(1+$E$13)","v":189006.34900000002}]
[{"$f":"'[1]87-0-14'!B1495","v":"EBM12P"},{"$f":"'[1]87-0-14'!D1495","v":"ESMAL #BLANCO MATE#  1/2l"},{"$f":"'[1]87-0-14'!E1495","v":"PREMIER"},{"$f":"'[1]87-0-14'!F1495","v":"ESMALTE"},{"$f":"'[1]87-0-14'!G1495*(1+$E$13)","v":10225.040000000001}]
[{"$f":"'[1]87-0-14'!B1496","v":"EBM14P"},{"$f":"'[1]87-0-14'!D1496","v":"ESMAL #BLANCO MATE#  1/4l"},{"$f":"'[1]87-0-14'!E1496","v":"PREMIER"},{"$f":"'[1]87-0-14'!F1496","v":"ESMALTE"},{"$f":"'[1]87-0-14'!G1496*(1+$E$13)","v":6270.6955000000007}]
[{"$f":"'[1]87-0-14'!B1497","v":"EBM1P"},{"$f":"'[1]87-0-14'!D1497","v":"ESMAL #BLANCO MATE#  1lt"},{"$f":"'[1]87-0-14'!E1497","v":"PREMIER"},{"$f":"'[1]87-0-14'!F1497","v":"ESMALTE"},{"$f":"'[1]87-0-14'!G1497*(1+$E$13)","v":17422.248}]
[{"$f":"'[1]87-0-14'!B1498","v":"EBM4P"},{"$f":"'[1]87-0-14'!D1498","v":"ESMAL #BLANCO MATE#  4lts"},{"$f":"'[1]87-0-14'!E1498","v":"PREMIER"},{"$f":"'[1]87-0-14'!F1498","v":"ESMALTE"},{"$f":"'[1]87-0-14'!G1498*(1+$E$13)","v":65754.983500000002}]
[{"$f":"'[1]87-0-14'!B1499","v":"EBM200P"},{"$f":"'[1]87-0-14'!D1499","v":"ESMAL #BLANCO MATE# 200lt"},{"$f":"'[1]87-0-14'!E1499","v":"PREMIER"},{"$f":"'[1]87-0-14'!F1499","v":"ESMALTE"},{"$f":"'[1]87-0-14'!G1499*(1+$E$13)","v":3124352.5925000003}]
[{"$f":"'[1]87-0-14'!B1500","v":"EBM20P"},{"$f":"'[1]87-0-14'!D1500","v":"ESMAL #BLANCO MATE# 20lts"},{"$f":"'[1]87-0-14'!E1500","v":"PREMIER"},{"$f":"'[1]87-0-14'!F1500","v":"ESMALTE"},{"$f":"'[1]87-0-14'!G1500*(1+$E$13)","v":312435.25150000001}]
[{"$f":"'[1]87-0-14'!B1501","v":"EBS12P"},{"$f":"'[1]87-0-14'!D1501","v":"ESMAL #BLANCO SATINA# 1/2"},{"$f":"'[1]87-0-14'!E1501","v":"PREMIER"},{"$f":"'[1]87-0-14'!F1501","v":"ESMALTE"},{"$f":"'[1]87-0-14'!G1501*(1+$E$13)","v":15954.444500000001}]
[{"$f":"'[1]87-0-14'!B1502","v":"EBS14P"},{"$f":"'[1]87-0-14'!D1502","v":"ESMAL #BLANCO SATINA# 1/4"},{"$f":"'[1]87-0-14'!E1502","v":"PREMIER"},{"$f":"'[1]87-0-14'!F1502","v":"ESMALTE"},{"$f":"'[1]87-0-14'!G1502*(1+$E$13)","v":7622.6985000000004}]
[{"$f":"'[1]87-0-14'!B1503","v":"EBS1P"},{"$f":"'[1]87-0-14'!D1503","v":"ESMAL #BLANCO SATINA# 1lt"},{"$f":"'[1]87-0-14'!E1503","v":"PREMIER"},{"$f":"'[1]87-0-14'!F1503","v":"ESMALTE"},{"$f":"'[1]87-0-14'!G1503*(1+$E$13)","v":22668.099000000002}]
[{"$f":"'[1]87-0-14'!B1504","v":"EBS200P"},{"$f":"'[1]87-0-14'!D1504","v":"ESMAL #BLANCO SATINA# 200"},{"$f":"'[1]87-0-14'!E1504","v":"PREMIER"},{"$f":"'[1]87-0-14'!F1504","v":"ESMALTE"},{"$f":"'[1]87-0-14'!G1504*(1+$E$13)","v":4047397.4635000001}]
[{"$f":"'[1]87-0-14'!B1505","v":"EBS20P"},{"$f":"'[1]87-0-14'!D1505","v":"ESMAL #BLANCO SATINA# 20l"},{"$f":"'[1]87-0-14'!E1505","v":"PREMIER"},{"$f":"'[1]87-0-14'!F1505","v":"ESMALTE"},{"$f":"'[1]87-0-14'!G1505*(1+$E$13)","v":404739.75100000005}]
[{"$f":"'[1]87-0-14'!B1506","v":"EBS4P"},{"$f":"'[1]87-0-14'!D1506","v":"ESMAL #BLANCO SATINA# 4lt"},{"$f":"'[1]87-0-14'!E1506","v":"PREMIER"},{"$f":"'[1]87-0-14'!F1506","v":"ESMALTE"},{"$f":"'[1]87-0-14'!G1506*(1+$E$13)","v":84834.460500000001}]
[{"$f":"'[1]87-0-14'!B1507","v":"ENM12P"},{"$f":"'[1]87-0-14'!D1507","v":"ESMAL #NEGRO MATE#  1/2lt"},{"$f":"'[1]87-0-14'!E1507","v":"PREMIER"},{"$f":"'[1]87-0-14'!F1507","v":"ESMALTE"},{"$f":"'[1]87-0-14'!G1507*(1+$E$13)","v":9331.5735000000004}]
[{"$f":"'[1]87-0-14'!B1508","v":"ENM14P"},{"$f":"'[1]87-0-14'!D1508","v":"ESMAL #NEGRO MATE#  1/4lt"},{"$f":"'[1]87-0-14'!E1508","v":"PREMIER"},{"$f":"'[1]87-0-14'!F1508","v":"ESMALTE"},{"$f":"'[1]87-0-14'!G1508*(1+$E$13)","v":5823.97}]
[{"$f":"'[1]87-0-14'!B1509","v":"ENM1P"},{"$f":"'[1]87-0-14'!D1509","v":"ESMAL #NEGRO MATE#  1lt"},{"$f":"'[1]87-0-14'!E1509","v":"PREMIER"},{"$f":"'[1]87-0-14'!F1509","v":"ESMALTE"},{"$f":"'[1]87-0-14'!G1509*(1+$E$13)","v":15699.190500000001}]
[{"$f":"'[1]87-0-14'!B1510","v":"ENM4P"},{"$f":"'[1]87-0-14'!D1510","v":"ESMAL #NEGRO MATE#  4lts"},{"$f":"'[1]87-0-14'!E1510","v":"PREMIER"},{"$f":"'[1]87-0-14'!F1510","v":"ESMALTE"},{"$f":"'[1]87-0-14'!G1510*(1+$E$13)","v":58751.509999999995}]
[{"$f":"'[1]87-0-14'!B1511","v":"ENM200P"},{"$f":"'[1]87-0-14'!D1511","v":"ESMAL #NEGRO MATE# 200lts"},{"$f":"'[1]87-0-14'!E1511","v":"PREMIER"},{"$f":"'[1]87-0-14'!F1511","v":"ESMALTE"},{"$f":"'[1]87-0-14'!G1511*(1+$E$13)","v":2756651.3314999999}]
[{"$f":"'[1]87-0-14'!B1512","v":"ENM20P"},{"$f":"'[1]87-0-14'!D1512","v":"ESMAL #NEGRO MATE# 20lts"},{"$f":"'[1]87-0-14'!E1512","v":"PREMIER"},{"$f":"'[1]87-0-14'!F1512","v":"ESMALTE"},{"$f":"'[1]87-0-14'!G1512*(1+$E$13)","v":275665.12849999999}]
[{"$f":"'[1]87-0-14'!B1513","v":"ENS12P"},{"$f":"'[1]87-0-14'!D1513","v":"ESMAL #NEGRO SATINAD# 1/2"},{"$f":"'[1]87-0-14'!E1513","v":"PREMIER"},{"$f":"'[1]87-0-14'!F1513","v":"ESMALTE"},{"$f":"'[1]87-0-14'!G1513*(1+$E$13)","v":10026.485000000001}]
[{"$f":"'[1]87-0-14'!B1514","v":"ENS14P"},{"$f":"'[1]87-0-14'!D1514","v":"ESMAL #NEGRO SATINAD# 1/4"},{"$f":"'[1]87-0-14'!E1514","v":"PREMIER"},{"$f":"'[1]87-0-14'!F1514","v":"ESMALTE"},{"$f":"'[1]87-0-14'!G1514*(1+$E$13)","v":6171.4335000000001}]
[{"$f":"'[1]87-0-14'!B1515","v":"ENS1P"},{"$f":"'[1]87-0-14'!D1515","v":"ESMAL #NEGRO SATINAD# 1lt"},{"$f":"'[1]87-0-14'!E1515","v":"PREMIER"},{"$f":"'[1]87-0-14'!F1515","v":"ESMALTE"},{"$f":"'[1]87-0-14'!G1515*(1+$E$13)","v":17039.351500000001}]
[{"$f":"'[1]87-0-14'!B1516","v":"ENS200P"},{"$f":"'[1]87-0-14'!D1516","v":"ESMAL #NEGRO SATINAD# 200"},{"$f":"'[1]87-0-14'!E1516","v":"PREMIER"},{"$f":"'[1]87-0-14'!F1516","v":"ESMALTE"},{"$f":"'[1]87-0-14'!G1516*(1+$E$13)","v":3029009.3800000004}]
[{"$f":"'[1]87-0-14'!B1517","v":"ENS20P"},{"$f":"'[1]87-0-14'!D1517","v":"ESMAL #NEGRO SATINAD# 20l"},{"$f":"'[1]87-0-14'!E1517","v":"PREMIER"},{"$f":"'[1]87-0-14'!F1517","v":"ESMALTE"},{"$f":"'[1]87-0-14'!G1517*(1+$E$13)","v":302900.93800000002}]
[{"$f":"'[1]87-0-14'!B1518","v":"ENS4P"},{"$f":"'[1]87-0-14'!D1518","v":"ESMAL #NEGRO SATINAD# 4lt"},{"$f":"'[1]87-0-14'!E1518","v":"PREMIER"},{"$f":"'[1]87-0-14'!F1518","v":"ESMALTE"},{"$f":"'[1]87-0-14'!G1518*(1+$E$13)","v":64198.659500000002}]
[{"$f":"'[1]87-0-14'!B1519","v":"EBM12V"},{"$f":"'[1]87-0-14'!D1519","v":"ESMAL Blanc/Mate 1/2"},{"$f":"'[1]87-0-14'!E1519","v":"VENIER"},{"$f":"'[1]87-0-14'!F1519","v":"ESMALTE"},{"$f":"'[1]87-0-14'!G1519*(1+$E$13)","v":13267.194}]
[{"$f":"'[1]87-0-14'!B1520","v":"EBM14V"},{"$f":"'[1]87-0-14'!D1520","v":"ESMAL Blanc/Mate 1/4"},{"$f":"'[1]87-0-14'!E1520","v":"VENIER"},{"$f":"'[1]87-0-14'!F1520","v":"ESMALTE"},{"$f":"'[1]87-0-14'!G1520*(1+$E$13)","v":8492.6670000000013}]
[{"$f":"'[1]87-0-14'!B1521","v":"EBM1V"},{"$f":"'[1]87-0-14'!D1521","v":"ESMAL Blanc/Mate 1Lt"},{"$f":"'[1]87-0-14'!E1521","v":"VENIER"},{"$f":"'[1]87-0-14'!F1521","v":"ESMALTE"},{"$f":"'[1]87-0-14'!G1521*(1+$E$13)","v":19623.217000000001}]
[{"$f":"'[1]87-0-14'!B1522","v":"EBM4V"},{"$f":"'[1]87-0-14'!D1522","v":"ESMAL Blanc/Mate 4Lt"},{"$f":"'[1]87-0-14'!E1522","v":"VENIER"},{"$f":"'[1]87-0-14'!F1522","v":"ESMALTE"},{"$f":"'[1]87-0-14'!G1522*(1+$E$13)","v":247094.64499999999}]
[{"$f":"'[1]87-0-14'!B1523","v":"EGE12V"},{"$f":"'[1]87-0-14'!D1523","v":"ESMAL G/Espacial 1/2"},{"$f":"'[1]87-0-14'!E1523","v":"VENIER"},{"$f":"'[1]87-0-14'!F1523","v":"ESMALTE"},{"$f":"'[1]87-0-14'!G1523*(1+$E$13)","v":46141.438499999997}]
[{"$f":"'[1]87-0-14'!B1524","v":"EGE14V"},{"$f":"'[1]87-0-14'!D1524","v":"ESMAL G/Espacial 1/4"},{"$f":"'[1]87-0-14'!E1524","v":"VENIER"},{"$f":"'[1]87-0-14'!F1524","v":"ESMALTE"},{"$f":"'[1]87-0-14'!G1524*(1+$E$13)","v":7057.3670000000011}]
[{"$f":"'[1]87-0-14'!B1525","v":"EGE1V"},{"$f":"'[1]87-0-14'!D1525","v":"ESMAL G/Espacial 1Lt"},{"$f":"'[1]87-0-14'!E1525","v":"VENIER"},{"$f":"'[1]87-0-14'!F1525","v":"ESMALTE"},{"$f":"'[1]87-0-14'!G1525*(1+$E$13)","v":23881.6715}]
[{"$f":"'[1]87-0-14'!B1526","v":"EGE4V"},{"$f":"'[1]87-0-14'!D1526","v":"ESMAL G/Espacial 4Lt"},{"$f":"'[1]87-0-14'!E1526","v":"VENIER"},{"$f":"'[1]87-0-14'!F1526","v":"ESMALTE"},{"$f":"'[1]87-0-14'!G1526*(1+$E$13)","v":67083.163}]
[{"$f":"'[1]87-0-14'!B1527","v":"EGH12V"},{"$f":"'[1]87-0-14'!D1527","v":"ESMAL Gris/Hielo 1/2"},{"$f":"'[1]87-0-14'!E1527","v":"VENIER"},{"$f":"'[1]87-0-14'!F1527","v":"ESMALTE"},{"$f":"'[1]87-0-14'!G1527*(1+$E$13)","v":44760.435000000005}]
[{"$f":"'[1]87-0-14'!B1528","v":"EGH14V"},{"$f":"'[1]87-0-14'!D1528","v":"ESMAL Gris/Hielo 1/4"},{"$f":"'[1]87-0-14'!E1528","v":"VENIER"},{"$f":"'[1]87-0-14'!F1528","v":"ESMALTE"},{"$f":"'[1]87-0-14'!G1528*(1+$E$13)","v":8213.7290000000012}]
[{"$f":"'[1]87-0-14'!B1529","v":"EGH1V"},{"$f":"'[1]87-0-14'!D1529","v":"ESMAL Gris/Hielo 1Lt"},{"$f":"'[1]87-0-14'!E1529","v":"VENIER"},{"$f":"'[1]87-0-14'!F1529","v":"ESMALTE"},{"$f":"'[1]87-0-14'!G1529*(1+$E$13)","v":65114.570000000007}]
[{"$f":"'[1]87-0-14'!B1530","v":"EGH4V"},{"$f":"'[1]87-0-14'!D1530","v":"ESMAL Gris/Hielo 4Lt"},{"$f":"'[1]87-0-14'!E1530","v":"VENIER"},{"$f":"'[1]87-0-14'!F1530","v":"ESMALTE"},{"$f":"'[1]87-0-14'!G1530*(1+$E$13)","v":244054.19600000003}]
[{"$f":"'[1]87-0-14'!B1531","v":"EGP12V"},{"$f":"'[1]87-0-14'!D1531","v":"ESMAL Gris/Perla 1/2"},{"$f":"'[1]87-0-14'!E1531","v":"VENIER"},{"$f":"'[1]87-0-14'!F1531","v":"ESMALTE"},{"$f":"'[1]87-0-14'!G1531*(1+$E$13)","v":46141.438499999997}]
[{"$f":"'[1]87-0-14'!B1532","v":"EGP14V"},{"$f":"'[1]87-0-14'!D1532","v":"ESMAL Gris/Perla 1/4"},{"$f":"'[1]87-0-14'!E1532","v":"VENIER"},{"$f":"'[1]87-0-14'!F1532","v":"ESMALTE"},{"$f":"'[1]87-0-14'!G1532*(1+$E$13)","v":23881.6715}]
[{"$f":"'[1]87-0-14'!B1533","v":"EGP1V"},{"$f":"'[1]87-0-14'!D1533","v":"ESMAL Gris/Perla 1Lt"},{"$f":"'[1]87-0-14'!E1533","v":"VENIER"},{"$f":"'[1]87-0-14'!F1533","v":"ESMALTE"},{"$f":"'[1]87-0-14'!G1533*(1+$E$13)","v":67083.163}]
[{"$f":"'[1]87-0-14'!B1534","v":"EGP4V"},{"$f":"'[1]87-0-14'!D1534","v":"ESMAL Gris/Perla 4Lt"},{"$f":"'[1]87-0-14'!E1534","v":"VENIER"},{"$f":"'[1]87-0-14'!F1534","v":"ESMALTE"},{"$f":"'[1]87-0-14'!G1534*(1+$E$13)","v":251425.76350000003}]
[{"$f":"'[1]87-0-14'!B1535","v":"ENM12V"},{"$f":"'[1]87-0-14'!D1535","v":"ESMAL Negro Mate 1/2"},{"$f":"'[1]87-0-14'!E1535","v":"VENIER"},{"$f":"'[1]87-0-14'!F1535","v":"ESMALTE"},{"$f":"'[1]87-0-14'!G1535*(1+$E$13)","v":9331.0155000000013}]
[{"$f":"'[1]87-0-14'!B1536","v":"ENM14V"},{"$f":"'[1]87-0-14'!D1536","v":"ESMAL Negro Mate 1/4"},{"$f":"'[1]87-0-14'!E1536","v":"VENIER"},{"$f":"'[1]87-0-14'!F1536","v":"ESMALTE"},{"$f":"'[1]87-0-14'!G1536*(1+$E$13)","v":5965.3919999999998}]
[{"$f":"'[1]87-0-14'!B1537","v":"ENM1V"},{"$f":"'[1]87-0-14'!D1537","v":"ESMAL Negro Mate 1Lt"},{"$f":"'[1]87-0-14'!E1537","v":"VENIER"},{"$f":"'[1]87-0-14'!F1537","v":"ESMALTE"},{"$f":"'[1]87-0-14'!G1537*(1+$E$13)","v":54587.869000000006}]
[{"$f":"'[1]87-0-14'!B1538","v":"ENM4V"},{"$f":"'[1]87-0-14'!D1538","v":"ESMAL Negro Mate 4Lt"},{"$f":"'[1]87-0-14'!E1538","v":"VENIER"},{"$f":"'[1]87-0-14'!F1538","v":"ESMALTE"},{"$f":"'[1]87-0-14'!G1538*(1+$E$13)","v":48718.298000000003}]
[{"$f":"'[1]87-0-14'!B1539","v":"EAMA1P"},{"$f":"'[1]87-0-14'!D1539","v":"ESMAL SINT #AMARILLO# 1 L"},{"$f":"'[1]87-0-14'!E1539","v":"PREMIER"},{"$f":"'[1]87-0-14'!F1539","v":"ESMALTE"},{"$f":"'[1]87-0-14'!G1539*(1+$E$13)","v":21854.039000000001}]
[{"$f":"'[1]87-0-14'!B1540","v":"EAMA12P"},{"$f":"'[1]87-0-14'!D1540","v":"ESMAL SINT #AMARILLO# 1/2"},{"$f":"'[1]87-0-14'!E1540","v":"PREMIER"},{"$f":"'[1]87-0-14'!F1540","v":"ESMALTE"},{"$f":"'[1]87-0-14'!G1540*(1+$E$13)","v":12539.717000000001}]
[{"$f":"'[1]87-0-14'!B1541","v":"EAMA14P"},{"$f":"'[1]87-0-14'!D1541","v":"ESMAL SINT #AMARILLO# 1/4"},{"$f":"'[1]87-0-14'!E1541","v":"PREMIER"},{"$f":"'[1]87-0-14'!F1541","v":"ESMALTE"},{"$f":"'[1]87-0-14'!G1541*(1+$E$13)","v":7452.8650000000007}]
[{"$f":"'[1]87-0-14'!B1542","v":"EAMA20P"},{"$f":"'[1]87-0-14'!D1542","v":"ESMAL SINT #AMARILLO# 20L"},{"$f":"'[1]87-0-14'!E1542","v":"PREMIER"},{"$f":"'[1]87-0-14'!F1542","v":"ESMALTE"},{"$f":"'[1]87-0-14'!G1542*(1+$E$13)","v":399783.98249999998}]
[{"$f":"'[1]87-0-14'!B1543","v":"ESA4P"},{"$f":"'[1]87-0-14'!D1543","v":"ESMAL SINT #AMARILLO# 4lt"},{"$f":"'[1]87-0-14'!E1543","v":"PREMIER"},{"$f":"'[1]87-0-14'!F1543","v":"ESMALTE"},{"$f":"'[1]87-0-14'!G1543*(1+$E$13)","v":83655.685500000007}]
[{"$f":"'[1]87-0-14'!B1544","v":"ENA1P"},{"$f":"'[1]87-0-14'!D1544","v":"ESMAL SINT #NARANJA# 1 Li"},{"$f":"'[1]87-0-14'!E1544","v":"PREMIER"},{"$f":"'[1]87-0-14'!F1544","v":"ESMALTE"},{"$f":"'[1]87-0-14'!G1544*(1+$E$13)","v":21854.039000000001}]
[{"$f":"'[1]87-0-14'!B1545","v":"ENA12P"},{"$f":"'[1]87-0-14'!D1545","v":"ESMAL SINT #NARANJA# 1/2l"},{"$f":"'[1]87-0-14'!E1545","v":"PREMIER"},{"$f":"'[1]87-0-14'!F1545","v":"ESMALTE"},{"$f":"'[1]87-0-14'!G1545*(1+$E$13)","v":12539.717000000001}]
[{"$f":"'[1]87-0-14'!B1546","v":"ENA14P"},{"$f":"'[1]87-0-14'!D1546","v":"ESMAL SINT #NARANJA# 1/4l"},{"$f":"'[1]87-0-14'!E1546","v":"PREMIER"},{"$f":"'[1]87-0-14'!F1546","v":"ESMALTE"},{"$f":"'[1]87-0-14'!G1546*(1+$E$13)","v":7452.8650000000007}]
[{"$f":"'[1]87-0-14'!B1547","v":"EVI12V"},{"$f":"'[1]87-0-14'!D1547","v":"ESMAL Ver/Ingles 1/2"},{"$f":"'[1]87-0-14'!E1547","v":"VENIER"},{"$f":"'[1]87-0-14'!F1547","v":"ESMALTE"},{"$f":"'[1]87-0-14'!G1547*(1+$E$13)","v":11568.254500000001}]
[{"$f":"'[1]87-0-14'!B1548","v":"EVI14V"},{"$f":"'[1]87-0-14'!D1548","v":"ESMAL Ver/Ingles 1/4"},{"$f":"'[1]87-0-14'!E1548","v":"VENIER"},{"$f":"'[1]87-0-14'!F1548","v":"ESMALTE"},{"$f":"'[1]87-0-14'!G1548*(1+$E$13)","v":23572.291499999999}]
[{"$f":"'[1]87-0-14'!B1549","v":"EVI1V"},{"$f":"'[1]87-0-14'!D1549","v":"ESMAL Ver/Ingles 1Lt"},{"$f":"'[1]87-0-14'!E1549","v":"VENIER"},{"$f":"'[1]87-0-14'!F1549","v":"ESMALTE"},{"$f":"'[1]87-0-14'!G1549*(1+$E$13)","v":67083.163}]
[{"$f":"'[1]87-0-14'!B1550","v":"EVI4V"},{"$f":"'[1]87-0-14'!D1550","v":"ESMAL Ver/Ingles 4Lt"},{"$f":"'[1]87-0-14'!E1550","v":"VENIER"},{"$f":"'[1]87-0-14'!F1550","v":"ESMALTE"},{"$f":"'[1]87-0-14'!G1550*(1+$E$13)","v":64189.840000000004}]
[{"$f":"'[1]87-0-14'!B1551","v":"EVC12V"},{"$f":"'[1]87-0-14'!D1551","v":"ESMAL Verd/Claro 1/2"},{"$f":"'[1]87-0-14'!E1551","v":"VENIER"},{"$f":"'[1]87-0-14'!F1551","v":"ESMALTE"},{"$f":"'[1]87-0-14'!G1551*(1+$E$13)","v":11568.254500000001}]
[{"$f":"'[1]87-0-14'!B1552","v":"EVC14V"},{"$f":"'[1]87-0-14'!D1552","v":"ESMAL Verd/Claro 1/4"},{"$f":"'[1]87-0-14'!E1552","v":"VENIER"},{"$f":"'[1]87-0-14'!F1552","v":"ESMALTE"},{"$f":"'[1]87-0-14'!G1552*(1+$E$13)","v":7404.0865000000003}]
[{"$f":"'[1]87-0-14'!B1553","v":"EVC1V"},{"$f":"'[1]87-0-14'!D1553","v":"ESMAL Verd/Claro 1Lt"},{"$f":"'[1]87-0-14'!E1553","v":"VENIER"},{"$f":"'[1]87-0-14'!F1553","v":"ESMALTE"},{"$f":"'[1]87-0-14'!G1553*(1+$E$13)","v":17126.539000000001}]
[{"$f":"'[1]87-0-14'!B1554","v":"EVC4V"},{"$f":"'[1]87-0-14'!D1554","v":"ESMAL Verd/Claro 4Lt"},{"$f":"'[1]87-0-14'!E1554","v":"VENIER"},{"$f":"'[1]87-0-14'!F1554","v":"ESMALTE"},{"$f":"'[1]87-0-14'!G1554*(1+$E$13)","v":251425.76350000003}]
[{"$f":"'[1]87-0-14'!B1555","v":"EVN12V"},{"$f":"'[1]87-0-14'!D1555","v":"ESMAL Verd/Noche 1/2"},{"$f":"'[1]87-0-14'!E1555","v":"VENIER"},{"$f":"'[1]87-0-14'!F1555","v":"ESMALTE"},{"$f":"'[1]87-0-14'!G1555*(1+$E$13)","v":251425.76350000003}]
[{"$f":"'[1]87-0-14'!B1556","v":"EVN14V"},{"$f":"'[1]87-0-14'!D1556","v":"ESMAL Verd/Noche 1/4"},{"$f":"'[1]87-0-14'!E1556","v":"VENIER"},{"$f":"'[1]87-0-14'!F1556","v":"ESMALTE"},{"$f":"'[1]87-0-14'!G1556*(1+$E$13)","v":7404.0865000000003}]
[{"$f":"'[1]87-0-14'!B1557","v":"EVN1V"},{"$f":"'[1]87-0-14'!D1557","v":"ESMAL Verd/Noche 1Lt"},{"$f":"'[1]87-0-14'!E1557","v":"VENIER"},{"$f":"'[1]87-0-14'!F1557","v":"ESMALTE"},{"$f":"'[1]87-0-14'!G1557*(1+$E$13)","v":17126.539000000001}]
[{"$f":"'[1]87-0-14'!B1558","v":"EVN4V"},{"$f":"'[1]87-0-14'!D1558","v":"ESMAL Verd/Noche 4Lt"},{"$f":"'[1]87-0-14'!E1558","v":"VENIER"},{"$f":"'[1]87-0-14'!F1558","v":"ESMALTE"},{"$f":"'[1]87-0-14'!G1558*(1+$E$13)","v":64189.840000000004}]
[{"$f":"'[1]87-0-14'!B1559","v":"EAA12V"},{"$f":"'[1]87-0-14'!D1559","v":"ESMALT A/Azulejo 1/2"},{"$f":"'[1]87-0-14'!E1559","v":"VENIER"},{"$f":"'[1]87-0-14'!F1559","v":"ESMALTE"},{"$f":"'[1]87-0-14'!G1559*(1+$E$13)","v":44760.435000000005}]
[{"$f":"'[1]87-0-14'!B1560","v":"EAA14V"},{"$f":"'[1]87-0-14'!D1560","v":"ESMALT A/Azulejo 1/4"},{"$f":"'[1]87-0-14'!E1560","v":"VENIER"},{"$f":"'[1]87-0-14'!F1560","v":"ESMALTE"},{"$f":"'[1]87-0-14'!G1560*(1+$E$13)","v":23881.6715}]
[{"$f":"'[1]87-0-14'!B1561","v":"EAA1V"},{"$f":"'[1]87-0-14'!D1561","v":"ESMALT A/Azulejo 1Lt"},{"$f":"'[1]87-0-14'!E1561","v":"VENIER"},{"$f":"'[1]87-0-14'!F1561","v":"ESMALTE"},{"$f":"'[1]87-0-14'!G1561*(1+$E$13)","v":65114.570000000007}]
[{"$f":"'[1]87-0-14'!B1562","v":"EAA4V"},{"$f":"'[1]87-0-14'!D1562","v":"ESMALT A/Azulejo 4Lt"},{"$f":"'[1]87-0-14'!E1562","v":"VENIER"},{"$f":"'[1]87-0-14'!F1562","v":"ESMALTE"},{"$f":"'[1]87-0-14'!G1562*(1+$E$13)","v":244054.19600000003}]
[{"$f":"'[1]87-0-14'!B1563","v":"EBE12V"},{"$f":"'[1]87-0-14'!D1563","v":"ESMALT Bermellon 1/2"},{"$f":"'[1]87-0-14'!E1563","v":"VENIER"},{"$f":"'[1]87-0-14'!F1563","v":"ESMALTE"},{"$f":"'[1]87-0-14'!G1563*(1+$E$13)","v":13422.597}]
[{"$f":"'[1]87-0-14'!B1564","v":"EBE14V"},{"$f":"'[1]87-0-14'!D1564","v":"ESMALT Bermellon 1/4"},{"$f":"'[1]87-0-14'!E1564","v":"VENIER"},{"$f":"'[1]87-0-14'!F1564","v":"ESMALTE"},{"$f":"'[1]87-0-14'!G1564*(1+$E$13)","v":28447.429}]
[{"$f":"'[1]87-0-14'!B1565","v":"EBE1V"},{"$f":"'[1]87-0-14'!D1565","v":"ESMALT Bermellon 1Lt"},{"$f":"'[1]87-0-14'!E1565","v":"VENIER"},{"$f":"'[1]87-0-14'!F1565","v":"ESMALTE"},{"$f":"'[1]87-0-14'!G1565*(1+$E$13)","v":67083.163}]
[{"$f":"'[1]87-0-14'!B1566","v":"EBE4V"},{"$f":"'[1]87-0-14'!D1566","v":"ESMALT Bermellon 4Lt"},{"$f":"'[1]87-0-14'!E1566","v":"VENIER"},{"$f":"'[1]87-0-14'!F1566","v":"ESMALTE"},{"$f":"'[1]87-0-14'!G1566*(1+$E$13)","v":251425.76350000003}]
[{"$f":"'[1]87-0-14'!B1567","v":"EC1P"},{"$f":"'[1]87-0-14'!D1567","v":"ESMALTE # CREMA#       1L"},{"$f":"'[1]87-0-14'!E1567","v":"PREMIER"},{"$f":"'[1]87-0-14'!F1567","v":"ESMALTE"},{"$f":"'[1]87-0-14'!G1567*(1+$E$13)","v":18826.253499999999}]
[{"$f":"'[1]87-0-14'!B1568","v":"EA12P"},{"$f":"'[1]87-0-14'!D1568","v":"ESMALTE #ALUMINIO#  1/2lt"},{"$f":"'[1]87-0-14'!E1568","v":"PREMIER"},{"$f":"'[1]87-0-14'!F1568","v":"ESMALTE"},{"$f":"'[1]87-0-14'!G1568*(1+$E$13)","v":17207.169999999998}]
[{"$f":"'[1]87-0-14'!B1569","v":"EA14P"},{"$f":"'[1]87-0-14'!D1569","v":"ESMALTE #ALUMINIO#  1/4lt"},{"$f":"'[1]87-0-14'!E1569","v":"PREMIER"},{"$f":"'[1]87-0-14'!F1569","v":"ESMALTE"},{"$f":"'[1]87-0-14'!G1569*(1+$E$13)","v":9761.744999999999}]
[{"$f":"'[1]87-0-14'!B1570","v":"EA1P"},{"$f":"'[1]87-0-14'!D1570","v":"ESMALTE #ALUMINIO#  1lt"},{"$f":"'[1]87-0-14'!E1570","v":"PREMIER"},{"$f":"'[1]87-0-14'!F1570","v":"ESMALTE"},{"$f":"'[1]87-0-14'!G1570*(1+$E$13)","v":30887.888499999997}]
[{"$f":"'[1]87-0-14'!B1571","v":"EA4P"},{"$f":"'[1]87-0-14'!D1571","v":"ESMALTE #ALUMINIO#  4lts"},{"$f":"'[1]87-0-14'!E1571","v":"PREMIER"},{"$f":"'[1]87-0-14'!F1571","v":"ESMALTE"},{"$f":"'[1]87-0-14'!G1571*(1+$E$13)","v":120485.9795}]
[{"$f":"'[1]87-0-14'!B1572","v":"EA200P"},{"$f":"'[1]87-0-14'!D1572","v":"ESMALTE #ALUMINIO# 200lts"},{"$f":"'[1]87-0-14'!E1572","v":"PREMIER"},{"$f":"'[1]87-0-14'!F1572","v":"ESMALTE"},{"$f":"'[1]87-0-14'!G1572*(1+$E$13)","v":5843374.6980000008}]
[{"$f":"'[1]87-0-14'!B1573","v":"EA20P"},{"$f":"'[1]87-0-14'!D1573","v":"ESMALTE #ALUMINIO# 20lts"},{"$f":"'[1]87-0-14'!E1573","v":"PREMIER"},{"$f":"'[1]87-0-14'!F1573","v":"ESMALTE"},{"$f":"'[1]87-0-14'!G1573*(1+$E$13)","v":584337.47600000002}]
[{"$f":"'[1]87-0-14'!B1574","v":"EAAZ1P"},{"$f":"'[1]87-0-14'!D1574","v":"ESMALTE #AZUL AZULEJO# 1L"},{"$f":"'[1]87-0-14'!E1574","v":"PREMIER"},{"$f":"'[1]87-0-14'!F1574","v":"ESMALTE"},{"$f":"'[1]87-0-14'!G1574*(1+$E$13)","v":18826.253499999999}]
[{"$f":"'[1]87-0-14'!B1575","v":"EAT1P"},{"$f":"'[1]87-0-14'!D1575","v":"ESMALTE #AZUL TRAFUL#  1L"},{"$f":"'[1]87-0-14'!E1575","v":"PREMIER"},{"$f":"'[1]87-0-14'!F1575","v":"ESMALTE"},{"$f":"'[1]87-0-14'!G1575*(1+$E$13)","v":18826.253499999999}]
[{"$f":"'[1]87-0-14'!B1576","v":"EBEI14P"},{"$f":"'[1]87-0-14'!D1576","v":"ESMALTE #BEIGE#    1/4 LT"},{"$f":"'[1]87-0-14'!E1576","v":"PREMIER"},{"$f":"'[1]87-0-14'!F1576","v":"ESMALTE"},{"$f":"'[1]87-0-14'!G1576*(1+$E$13)","v":6634.6975000000002}]
[{"$f":"'[1]87-0-14'!B1577","v":"EAM12V"},{"$f":"'[1]87-0-14'!D1577","v":"ESMALTE A/Marino 1/2"},{"$f":"'[1]87-0-14'!E1577","v":"VENIER"},{"$f":"'[1]87-0-14'!F1577","v":"ESMALTE"},{"$f":"'[1]87-0-14'!G1577*(1+$E$13)","v":244054.19600000003}]
[{"$f":"'[1]87-0-14'!B1578","v":"EAM14V"},{"$f":"'[1]87-0-14'!D1578","v":"ESMALTE A/Marino 1/4"},{"$f":"'[1]87-0-14'!E1578","v":"VENIER"},{"$f":"'[1]87-0-14'!F1578","v":"ESMALTE"},{"$f":"'[1]87-0-14'!G1578*(1+$E$13)","v":7057.3670000000011}]
[{"$f":"'[1]87-0-14'!B1579","v":"EAM1V"},{"$f":"'[1]87-0-14'!D1579","v":"ESMALTE A/Marino 1Lt"},{"$f":"'[1]87-0-14'!E1579","v":"VENIER"},{"$f":"'[1]87-0-14'!F1579","v":"ESMALTE"},{"$f":"'[1]87-0-14'!G1579*(1+$E$13)","v":16466.905500000001}]
[{"$f":"'[1]87-0-14'!B1580","v":"EAM4V"},{"$f":"'[1]87-0-14'!D1580","v":"ESMALTE A/Marino 4Lt"},{"$f":"'[1]87-0-14'!E1580","v":"VENIER"},{"$f":"'[1]87-0-14'!F1580","v":"ESMALTE"},{"$f":"'[1]87-0-14'!G1580*(1+$E$13)","v":61719.419000000009}]
[{"$f":"'[1]87-0-14'!B1581","v":"EAL12V"},{"$f":"'[1]87-0-14'!D1581","v":"ESMALTE Aluminio 1/2"},{"$f":"'[1]87-0-14'!E1581","v":"VENIER"},{"$f":"'[1]87-0-14'!F1581","v":"ESMALTE"},{"$f":"'[1]87-0-14'!G1581*(1+$E$13)","v":13422.597}]
[{"$f":"'[1]87-0-14'!B1582","v":"EAL14V"},{"$f":"'[1]87-0-14'!D1582","v":"ESMALTE Aluminio 1/4"},{"$f":"'[1]87-0-14'!E1582","v":"VENIER"},{"$f":"'[1]87-0-14'!F1582","v":"ESMALTE"},{"$f":"'[1]87-0-14'!G1582*(1+$E$13)","v":8516.7540000000008}]
[{"$f":"'[1]87-0-14'!B1583","v":"EAL1V"},{"$f":"'[1]87-0-14'!D1583","v":"ESMALTE Aluminio 1Lt"},{"$f":"'[1]87-0-14'!E1583","v":"VENIER"},{"$f":"'[1]87-0-14'!F1583","v":"ESMALTE"},{"$f":"'[1]87-0-14'!G1583*(1+$E$13)","v":80088.221000000005}]
[{"$f":"'[1]87-0-14'!B1584","v":"EAL4V"},{"$f":"'[1]87-0-14'!D1584","v":"ESMALTE Aluminio 4Lt"},{"$f":"'[1]87-0-14'!E1584","v":"VENIER"},{"$f":"'[1]87-0-14'!F1584","v":"ESMALTE"},{"$f":"'[1]87-0-14'!G1584*(1+$E$13)","v":300218.02749999997}]
[{"$f":"'[1]87-0-14'!B1585","v":"EA12V"},{"$f":"'[1]87-0-14'!D1585","v":"ESMALTE Amarillo 1/2"},{"$f":"'[1]87-0-14'!E1585","v":"VENIER"},{"$f":"'[1]87-0-14'!F1585","v":"ESMALTE"},{"$f":"'[1]87-0-14'!G1585*(1+$E$13)","v":54044.655999999995}]
[{"$f":"'[1]87-0-14'!B1586","v":"EA14V"},{"$f":"'[1]87-0-14'!D1586","v":"ESMALTE Amarillo 1/4"},{"$f":"'[1]87-0-14'!E1586","v":"VENIER"},{"$f":"'[1]87-0-14'!F1586","v":"ESMALTE"},{"$f":"'[1]87-0-14'!G1586*(1+$E$13)","v":8516.7540000000008}]
[{"$f":"'[1]87-0-14'!B1587","v":"EA1V"},{"$f":"'[1]87-0-14'!D1587","v":"ESMALTE Amarillo 1Lt"},{"$f":"'[1]87-0-14'!E1587","v":"VENIER"},{"$f":"'[1]87-0-14'!F1587","v":"ESMALTE"},{"$f":"'[1]87-0-14'!G1587*(1+$E$13)","v":20251.865999999998}]
[{"$f":"'[1]87-0-14'!B1588","v":"EA4V"},{"$f":"'[1]87-0-14'!D1588","v":"ESMALTE Amarillo 4Lt"},{"$f":"'[1]87-0-14'!E1588","v":"VENIER"},{"$f":"'[1]87-0-14'!F1588","v":"ESMALTE"},{"$f":"'[1]87-0-14'!G1588*(1+$E$13)","v":75923.758499999996}]
[{"$f":"'[1]87-0-14'!B1589","v":"EBEI12V"},{"$f":"'[1]87-0-14'!D1589","v":"ESMALTE Beige 1/2"},{"$f":"'[1]87-0-14'!E1589","v":"VENIER"},{"$f":"'[1]87-0-14'!F1589","v":"ESMALTE"},{"$f":"'[1]87-0-14'!G1589*(1+$E$13)","v":9172.6365000000005}]
[{"$f":"'[1]87-0-14'!B1590","v":"EBEI14V"},{"$f":"'[1]87-0-14'!D1590","v":"ESMALTE Beige 1/4"},{"$f":"'[1]87-0-14'!E1590","v":"VENIER"},{"$f":"'[1]87-0-14'!F1590","v":"ESMALTE"},{"$f":"'[1]87-0-14'!G1590*(1+$E$13)","v":28447.429}]
[{"$f":"'[1]87-0-14'!B1591","v":"EBEI1V"},{"$f":"'[1]87-0-14'!D1591","v":"ESMALTE Beige 1Lt"},{"$f":"'[1]87-0-14'!E1591","v":"VENIER"},{"$f":"'[1]87-0-14'!F1591","v":"ESMALTE"},{"$f":"'[1]87-0-14'!G1591*(1+$E$13)","v":13579.767}]
[{"$f":"'[1]87-0-14'!B1592","v":"EBEI4V"},{"$f":"'[1]87-0-14'!D1592","v":"ESMALTE Beige 4Lt"},{"$f":"'[1]87-0-14'!E1592","v":"VENIER"},{"$f":"'[1]87-0-14'!F1592","v":"ESMALTE"},{"$f":"'[1]87-0-14'!G1592*(1+$E$13)","v":203162.97950000002}]
[{"$f":"'[1]87-0-14'!B1593","v":"EB12V"},{"$f":"'[1]87-0-14'!D1593","v":"ESMALTE Blanco 1/2"},{"$f":"'[1]87-0-14'!E1593","v":"VENIER"},{"$f":"'[1]87-0-14'!F1593","v":"ESMALTE"},{"$f":"'[1]87-0-14'!G1593*(1+$E$13)","v":11568.254500000001}]
[{"$f":"'[1]87-0-14'!B1594","v":"EB14V"},{"$f":"'[1]87-0-14'!D1594","v":"ESMALTE Blanco 1/4"},{"$f":"'[1]87-0-14'!E1594","v":"VENIER"},{"$f":"'[1]87-0-14'!F1594","v":"ESMALTE"},{"$f":"'[1]87-0-14'!G1594*(1+$E$13)","v":29048.952999999998}]
[{"$f":"'[1]87-0-14'!B1595","v":"EB1V"},{"$f":"'[1]87-0-14'!D1595","v":"ESMALTE Blanco 1Lt"},{"$f":"'[1]87-0-14'!E1595","v":"VENIER"},{"$f":"'[1]87-0-14'!F1595","v":"ESMALTE"},{"$f":"'[1]87-0-14'!G1595*(1+$E$13)","v":65917.098000000013}]
[{"$f":"'[1]87-0-14'!B1596","v":"EB4V"},{"$f":"'[1]87-0-14'!D1596","v":"ESMALTE Blanco 4Lt"},{"$f":"'[1]87-0-14'!E1596","v":"VENIER"},{"$f":"'[1]87-0-14'!F1596","v":"ESMALTE"},{"$f":"'[1]87-0-14'!G1596*(1+$E$13)","v":64189.840000000004}]
[{"$f":"'[1]87-0-14'!B1597","v":"ECA12V"},{"$f":"'[1]87-0-14'!D1597","v":"ESMALTE CastaNo 1/2"},{"$f":"'[1]87-0-14'!E1597","v":"VENIER"},{"$f":"'[1]87-0-14'!F1597","v":"ESMALTE"},{"$f":"'[1]87-0-14'!G1597*(1+$E$13)","v":54045.508500000004}]
[{"$f":"'[1]87-0-14'!B1598","v":"ECA14V"},{"$f":"'[1]87-0-14'!D1598","v":"ESMALTE CastaNo 1/4"},{"$f":"'[1]87-0-14'!E1598","v":"VENIER"},{"$f":"'[1]87-0-14'!F1598","v":"ESMALTE"},{"$f":"'[1]87-0-14'!G1598*(1+$E$13)","v":5875.9260000000004}]
[{"$f":"'[1]87-0-14'!B1599","v":"ECA1V"},{"$f":"'[1]87-0-14'!D1599","v":"ESMALTE CastaNo 1Lt"},{"$f":"'[1]87-0-14'!E1599","v":"VENIER"},{"$f":"'[1]87-0-14'!F1599","v":"ESMALTE"},{"$f":"'[1]87-0-14'!G1599*(1+$E$13)","v":80088.221000000005}]
[{"$f":"'[1]87-0-14'!B1600","v":"ECA4V"},{"$f":"'[1]87-0-14'!D1600","v":"ESMALTE CastaNo 4Lt"},{"$f":"'[1]87-0-14'!E1600","v":"VENIER"},{"$f":"'[1]87-0-14'!F1600","v":"ESMALTE"},{"$f":"'[1]87-0-14'!G1600*(1+$E$13)","v":50892.777500000004}]
[{"$f":"'[1]87-0-14'!B1601","v":"ECE12V"},{"$f":"'[1]87-0-14'!D1601","v":"ESMALTE Cedro 1/2"},{"$f":"'[1]87-0-14'!E1601","v":"VENIER"},{"$f":"'[1]87-0-14'!F1601","v":"ESMALTE"},{"$f":"'[1]87-0-14'!G1601*(1+$E$13)","v":9172.6365000000005}]
[{"$f":"'[1]87-0-14'!B1602","v":"ECE14V"},{"$f":"'[1]87-0-14'!D1602","v":"ESMALTE Cedro 1/4"},{"$f":"'[1]87-0-14'!E1602","v":"VENIER"},{"$f":"'[1]87-0-14'!F1602","v":"ESMALTE"},{"$f":"'[1]87-0-14'!G1602*(1+$E$13)","v":5875.9260000000004}]
[{"$f":"'[1]87-0-14'!B1603","v":"ECE1V"},{"$f":"'[1]87-0-14'!D1603","v":"ESMALTE Cedro 1Lt"},{"$f":"'[1]87-0-14'!E1603","v":"VENIER"},{"$f":"'[1]87-0-14'!F1603","v":"ESMALTE"},{"$f":"'[1]87-0-14'!G1603*(1+$E$13)","v":13579.767}]
[{"$f":"'[1]87-0-14'!B1604","v":"ECE4V"},{"$f":"'[1]87-0-14'!D1604","v":"ESMALTE Cedro 4Lt"},{"$f":"'[1]87-0-14'!E1604","v":"VENIER"},{"$f":"'[1]87-0-14'!F1604","v":"ESMALTE"},{"$f":"'[1]87-0-14'!G1604*(1+$E$13)","v":203162.97950000002}]
[{"$f":"'[1]87-0-14'!B1605","v":"EC12V"},{"$f":"'[1]87-0-14'!D1605","v":"ESMALTE Celeste 1/2"},{"$f":"'[1]87-0-14'!E1605","v":"VENIER"},{"$f":"'[1]87-0-14'!F1605","v":"ESMALTE"},{"$f":"'[1]87-0-14'!G1605*(1+$E$13)","v":44760.435000000005}]
[{"$f":"'[1]87-0-14'!B1606","v":"EC14V"},{"$f":"'[1]87-0-14'!D1606","v":"ESMALTE Celeste 1/4"},{"$f":"'[1]87-0-14'!E1606","v":"VENIER"},{"$f":"'[1]87-0-14'!F1606","v":"ESMALTE"},{"$f":"'[1]87-0-14'!G1606*(1+$E$13)","v":7057.3670000000011}]
[{"$f":"'[1]87-0-14'!B1607","v":"EC1V"},{"$f":"'[1]87-0-14'!D1607","v":"ESMALTE Celeste 1Lt"},{"$f":"'[1]87-0-14'!E1607","v":"VENIER"},{"$f":"'[1]87-0-14'!F1607","v":"ESMALTE"},{"$f":"'[1]87-0-14'!G1607*(1+$E$13)","v":65114.570000000007}]
[{"$f":"'[1]87-0-14'!B1608","v":"EC4V"},{"$f":"'[1]87-0-14'!D1608","v":"ESMALTE Celeste 4Lt"},{"$f":"'[1]87-0-14'!E1608","v":"VENIER"},{"$f":"'[1]87-0-14'!F1608","v":"ESMALTE"},{"$f":"'[1]87-0-14'!G1608*(1+$E$13)","v":244054.19600000003}]
[{"$f":"'[1]87-0-14'!B1609","v":"EG12V"},{"$f":"'[1]87-0-14'!D1609","v":"ESMALTE Gris 1/2"},{"$f":"'[1]87-0-14'!E1609","v":"VENIER"},{"$f":"'[1]87-0-14'!F1609","v":"ESMALTE"},{"$f":"'[1]87-0-14'!G1609*(1+$E$13)","v":46141.438499999997}]
[{"$f":"'[1]87-0-14'!B1610","v":"EG14V"},{"$f":"'[1]87-0-14'!D1610","v":"ESMALTE Gris 1/4"},{"$f":"'[1]87-0-14'!E1610","v":"VENIER"},{"$f":"'[1]87-0-14'!F1610","v":"ESMALTE"},{"$f":"'[1]87-0-14'!G1610*(1+$E$13)","v":67083.163}]
[{"$f":"'[1]87-0-14'!B1611","v":"EG1V"},{"$f":"'[1]87-0-14'!D1611","v":"ESMALTE Gris 1Lt"},{"$f":"'[1]87-0-14'!E1611","v":"VENIER"},{"$f":"'[1]87-0-14'!F1611","v":"ESMALTE"},{"$f":"'[1]87-0-14'!G1611*(1+$E$13)","v":67083.163}]
[{"$f":"'[1]87-0-14'!B1612","v":"EG4V"},{"$f":"'[1]87-0-14'!D1612","v":"ESMALTE Gris 4Lt"},{"$f":"'[1]87-0-14'!E1612","v":"VENIER"},{"$f":"'[1]87-0-14'!F1612","v":"ESMALTE"},{"$f":"'[1]87-0-14'!G1612*(1+$E$13)","v":251425.76350000003}]
[{"$f":"'[1]87-0-14'!B1613","v":"EMA12V"},{"$f":"'[1]87-0-14'!D1613","v":"ESMALTE Marfil 1/2"},{"$f":"'[1]87-0-14'!E1613","v":"VENIER"},{"$f":"'[1]87-0-14'!F1613","v":"ESMALTE"},{"$f":"'[1]87-0-14'!G1613*(1+$E$13)","v":11116.4915}]
[{"$f":"'[1]87-0-14'!B1614","v":"EMA14V"},{"$f":"'[1]87-0-14'!D1614","v":"ESMALTE Marfil 1/4"},{"$f":"'[1]87-0-14'!E1614","v":"VENIER"},{"$f":"'[1]87-0-14'!F1614","v":"ESMALTE"},{"$f":"'[1]87-0-14'!G1614*(1+$E$13)","v":23881.6715}]
[{"$f":"'[1]87-0-14'!B1615","v":"EMA1V"},{"$f":"'[1]87-0-14'!D1615","v":"ESMALTE Marfil 1Lt"},{"$f":"'[1]87-0-14'!E1615","v":"VENIER"},{"$f":"'[1]87-0-14'!F1615","v":"ESMALTE"},{"$f":"'[1]87-0-14'!G1615*(1+$E$13)","v":65114.570000000007}]
[{"$f":"'[1]87-0-14'!B1616","v":"EMA4V"},{"$f":"'[1]87-0-14'!D1616","v":"ESMALTE Marfil 4Lt"},{"$f":"'[1]87-0-14'!E1616","v":"VENIER"},{"$f":"'[1]87-0-14'!F1616","v":"ESMALTE"},{"$f":"'[1]87-0-14'!G1616*(1+$E$13)","v":244054.19600000003}]
[{"$f":"'[1]87-0-14'!B1617","v":"EM12V"},{"$f":"'[1]87-0-14'!D1617","v":"ESMALTE Marron 1/2"},{"$f":"'[1]87-0-14'!E1617","v":"VENIER"},{"$f":"'[1]87-0-14'!F1617","v":"ESMALTE"},{"$f":"'[1]87-0-14'!G1617*(1+$E$13)","v":244054.19600000003}]
[{"$f":"'[1]87-0-14'!B1618","v":"EM14V"},{"$f":"'[1]87-0-14'!D1618","v":"ESMALTE Marron 1/4"},{"$f":"'[1]87-0-14'!E1618","v":"VENIER"},{"$f":"'[1]87-0-14'!F1618","v":"ESMALTE"},{"$f":"'[1]87-0-14'!G1618*(1+$E$13)","v":23881.6715}]
[{"$f":"'[1]87-0-14'!B1619","v":"EM1V"},{"$f":"'[1]87-0-14'!D1619","v":"ESMALTE Marron 1Lt"},{"$f":"'[1]87-0-14'!E1619","v":"VENIER"},{"$f":"'[1]87-0-14'!F1619","v":"ESMALTE"},{"$f":"'[1]87-0-14'!G1619*(1+$E$13)","v":54210.599000000002}]
[{"$f":"'[1]87-0-14'!B1620","v":"EM4V"},{"$f":"'[1]87-0-14'!D1620","v":"ESMALTE Marron 4Lt"},{"$f":"'[1]87-0-14'!E1620","v":"VENIER"},{"$f":"'[1]87-0-14'!F1620","v":"ESMALTE"},{"$f":"'[1]87-0-14'!G1620*(1+$E$13)","v":203162.97950000002}]
[{"$f":"'[1]87-0-14'!B1621","v":"ENA12V"},{"$f":"'[1]87-0-14'!D1621","v":"ESMALTE Naranja 1/2"},{"$f":"'[1]87-0-14'!E1621","v":"VENIER"},{"$f":"'[1]87-0-14'!F1621","v":"ESMALTE"},{"$f":"'[1]87-0-14'!G1621*(1+$E$13)","v":37284.289000000004}]
[{"$f":"'[1]87-0-14'!B1622","v":"ENA14V"},{"$f":"'[1]87-0-14'!D1622","v":"ESMALTE Naranja 1/4"},{"$f":"'[1]87-0-14'!E1622","v":"VENIER"},{"$f":"'[1]87-0-14'!F1622","v":"ESMALTE"},{"$f":"'[1]87-0-14'!G1622*(1+$E$13)","v":23881.6715}]
[{"$f":"'[1]87-0-14'!B1623","v":"ENA1V"},{"$f":"'[1]87-0-14'!D1623","v":"ESMALTE Naranja 1Lt"},{"$f":"'[1]87-0-14'!E1623","v":"VENIER"},{"$f":"'[1]87-0-14'!F1623","v":"ESMALTE"},{"$f":"'[1]87-0-14'!G1623*(1+$E$13)","v":20251.865999999998}]
[{"$f":"'[1]87-0-14'!B1624","v":"ENA4V"},{"$f":"'[1]87-0-14'!D1624","v":"ESMALTE Naranja 4Lt"},{"$f":"'[1]87-0-14'!E1624","v":"VENIER"},{"$f":"'[1]87-0-14'!F1624","v":"ESMALTE"},{"$f":"'[1]87-0-14'!G1624*(1+$E$13)","v":203162.97950000002}]
[{"$f":"'[1]87-0-14'!B1625","v":"EN12V"},{"$f":"'[1]87-0-14'!D1625","v":"ESMALTE Negro 1/2"},{"$f":"'[1]87-0-14'!E1625","v":"VENIER"},{"$f":"'[1]87-0-14'!F1625","v":"ESMALTE"},{"$f":"'[1]87-0-14'!G1625*(1+$E$13)","v":203162.97950000002}]
[{"$f":"'[1]87-0-14'!B1626","v":"EN14V"},{"$f":"'[1]87-0-14'!D1626","v":"ESMALTE Negro 1/4"},{"$f":"'[1]87-0-14'!E1626","v":"VENIER"},{"$f":"'[1]87-0-14'!F1626","v":"ESMALTE"},{"$f":"'[1]87-0-14'!G1626*(1+$E$13)","v":5875.9260000000004}]
[{"$f":"'[1]87-0-14'!B1627","v":"EN1V"},{"$f":"'[1]87-0-14'!D1627","v":"ESMALTE Negro 1Lt"},{"$f":"'[1]87-0-14'!E1627","v":"VENIER"},{"$f":"'[1]87-0-14'!F1627","v":"ESMALTE"},{"$f":"'[1]87-0-14'!G1627*(1+$E$13)","v":13579.767}]
[{"$f":"'[1]87-0-14'!B1628","v":"EN4V"},{"$f":"'[1]87-0-14'!D1628","v":"ESMALTE Negro 4Lt"},{"$f":"'[1]87-0-14'!E1628","v":"VENIER"},{"$f":"'[1]87-0-14'!F1628","v":"ESMALTE"},{"$f":"'[1]87-0-14'!G1628*(1+$E$13)","v":50892.777500000004}]
[{"$f":"'[1]87-0-14'!B1629","v":"EO12V"},{"$f":"'[1]87-0-14'!D1629","v":"ESMALTE Ocre 1/2"},{"$f":"'[1]87-0-14'!E1629","v":"VENIER"},{"$f":"'[1]87-0-14'!F1629","v":"ESMALTE"},{"$f":"'[1]87-0-14'!G1629*(1+$E$13)","v":37284.289000000004}]
[{"$f":"'[1]87-0-14'!B1630","v":"EO14V"},{"$f":"'[1]87-0-14'!D1630","v":"ESMALTE Ocre 1/4"},{"$f":"'[1]87-0-14'!E1630","v":"VENIER"},{"$f":"'[1]87-0-14'!F1630","v":"ESMALTE"},{"$f":"'[1]87-0-14'!G1630*(1+$E$13)","v":23881.6715}]
[{"$f":"'[1]87-0-14'!B1631","v":"EO1V"},{"$f":"'[1]87-0-14'!D1631","v":"ESMALTE Ocre 1Lt"},{"$f":"'[1]87-0-14'!E1631","v":"VENIER"},{"$f":"'[1]87-0-14'!F1631","v":"ESMALTE"},{"$f":"'[1]87-0-14'!G1631*(1+$E$13)","v":54210.599000000002}]
[{"$f":"'[1]87-0-14'!B1632","v":"EO4V"},{"$f":"'[1]87-0-14'!D1632","v":"ESMALTE Ocre 4Lt"},{"$f":"'[1]87-0-14'!E1632","v":"VENIER"},{"$f":"'[1]87-0-14'!F1632","v":"ESMALTE"},{"$f":"'[1]87-0-14'!G1632*(1+$E$13)","v":50892.777500000004}]
[{"$f":"'[1]87-0-14'!B1633","v":"EAM12P"},{"$f":"'[1]87-0-14'!D1633","v":"ESMALTE SINT #A/MARI# 1/2"},{"$f":"'[1]87-0-14'!E1633","v":"PREMIER"},{"$f":"'[1]87-0-14'!F1633","v":"ESMALTE"},{"$f":"'[1]87-0-14'!G1633*(1+$E$13)","v":10953.013000000001}]
[{"$f":"'[1]87-0-14'!B1634","v":"EAM14P"},{"$f":"'[1]87-0-14'!D1634","v":"ESMALTE SINT #A/MARI# 1/4"},{"$f":"'[1]87-0-14'!E1634","v":"PREMIER"},{"$f":"'[1]87-0-14'!F1634","v":"ESMALTE"},{"$f":"'[1]87-0-14'!G1634*(1+$E$13)","v":6634.6975000000002}]
[{"$f":"'[1]87-0-14'!B1635","v":"EAM1P"},{"$f":"'[1]87-0-14'!D1635","v":"ESMALTE SINT #A/MARI# 1lt"},{"$f":"'[1]87-0-14'!E1635","v":"PREMIER"},{"$f":"'[1]87-0-14'!F1635","v":"ESMALTE"},{"$f":"'[1]87-0-14'!G1635*(1+$E$13)","v":18826.253499999999}]
[{"$f":"'[1]87-0-14'!B1636","v":"EAM200P"},{"$f":"'[1]87-0-14'!D1636","v":"ESMALTE SINT #A/MARI# 200"},{"$f":"'[1]87-0-14'!E1636","v":"PREMIER"},{"$f":"'[1]87-0-14'!F1636","v":"ESMALTE"},{"$f":"'[1]87-0-14'!G1636*(1+$E$13)","v":3392153.2069999999}]
[{"$f":"'[1]87-0-14'!B1637","v":"EAM20P"},{"$f":"'[1]87-0-14'!D1637","v":"ESMALTE SINT #A/MARI# 20l"},{"$f":"'[1]87-0-14'!E1637","v":"PREMIER"},{"$f":"'[1]87-0-14'!F1637","v":"ESMALTE"},{"$f":"'[1]87-0-14'!G1637*(1+$E$13)","v":339215.31449999998}]
[{"$f":"'[1]87-0-14'!B1638","v":"EAM4P"},{"$f":"'[1]87-0-14'!D1638","v":"ESMALTE SINT #A/MARI# 4lt"},{"$f":"'[1]87-0-14'!E1638","v":"PREMIER"},{"$f":"'[1]87-0-14'!F1638","v":"ESMALTE"},{"$f":"'[1]87-0-14'!G1638*(1+$E$13)","v":71762.024000000005}]
[{"$f":"'[1]87-0-14'!B1639","v":"EBE12P"},{"$f":"'[1]87-0-14'!D1639","v":"ESMALTE SINT #BERMEL# 1/2"},{"$f":"'[1]87-0-14'!E1639","v":"PREMIER"},{"$f":"'[1]87-0-14'!F1639","v":"ESMALTE"},{"$f":"'[1]87-0-14'!G1639*(1+$E$13)","v":12741.976499999999}]
[{"$f":"'[1]87-0-14'!B1640","v":"EBE14P"},{"$f":"'[1]87-0-14'!D1640","v":"ESMALTE SINT #BERMEL# 1/4"},{"$f":"'[1]87-0-14'!E1640","v":"PREMIER"},{"$f":"'[1]87-0-14'!F1640","v":"ESMALTE"},{"$f":"'[1]87-0-14'!G1640*(1+$E$13)","v":7573.067500000001}]
[{"$f":"'[1]87-0-14'!B1641","v":"EBE1P"},{"$f":"'[1]87-0-14'!D1641","v":"ESMALTE SINT #BERMEL# 1lt"},{"$f":"'[1]87-0-14'!E1641","v":"PREMIER"},{"$f":"'[1]87-0-14'!F1641","v":"ESMALTE"},{"$f":"'[1]87-0-14'!G1641*(1+$E$13)","v":22206.54}]
[{"$f":"'[1]87-0-14'!B1642","v":"EBE200P"},{"$f":"'[1]87-0-14'!D1642","v":"ESMALTE SINT #BERMEL# 200"},{"$f":"'[1]87-0-14'!E1642","v":"PREMIER"},{"$f":"'[1]87-0-14'!F1642","v":"ESMALTE"},{"$f":"'[1]87-0-14'!G1642*(1+$E$13)","v":3997839.8095000004}]
[{"$f":"'[1]87-0-14'!B1643","v":"EBE20P"},{"$f":"'[1]87-0-14'!D1643","v":"ESMALTE SINT #BERMEL# 20l"},{"$f":"'[1]87-0-14'!E1643","v":"PREMIER"},{"$f":"'[1]87-0-14'!F1643","v":"ESMALTE"},{"$f":"'[1]87-0-14'!G1643*(1+$E$13)","v":399783.98249999998}]
[{"$f":"'[1]87-0-14'!B1644","v":"EBE4P"},{"$f":"'[1]87-0-14'!D1644","v":"ESMALTE SINT #BERMEL# 4lt"},{"$f":"'[1]87-0-14'!E1644","v":"PREMIER"},{"$f":"'[1]87-0-14'!F1644","v":"ESMALTE"},{"$f":"'[1]87-0-14'!G1644*(1+$E$13)","v":83655.685500000007}]
[{"$f":"'[1]87-0-14'!B1645","v":"EB12P"},{"$f":"'[1]87-0-14'!D1645","v":"ESMALTE SINT #BLANCO# 1/2"},{"$f":"'[1]87-0-14'!E1645","v":"PREMIER"},{"$f":"'[1]87-0-14'!F1645","v":"ESMALTE"},{"$f":"'[1]87-0-14'!G1645*(1+$E$13)","v":12741.976499999999}]
[{"$f":"'[1]87-0-14'!B1646","v":"EB14P"},{"$f":"'[1]87-0-14'!D1646","v":"ESMALTE SINT #BLANCO# 1/4"},{"$f":"'[1]87-0-14'!E1646","v":"PREMIER"},{"$f":"'[1]87-0-14'!F1646","v":"ESMALTE"},{"$f":"'[1]87-0-14'!G1646*(1+$E$13)","v":7573.067500000001}]
[{"$f":"'[1]87-0-14'!B1647","v":"EB1P"},{"$f":"'[1]87-0-14'!D1647","v":"ESMALTE SINT #BLANCO# 1lt"},{"$f":"'[1]87-0-14'!E1647","v":"PREMIER"},{"$f":"'[1]87-0-14'!F1647","v":"ESMALTE"},{"$f":"'[1]87-0-14'!G1647*(1+$E$13)","v":22206.54}]
[{"$f":"'[1]87-0-14'!B1648","v":"EB200P"},{"$f":"'[1]87-0-14'!D1648","v":"ESMALTE SINT #BLANCO# 200"},{"$f":"'[1]87-0-14'!E1648","v":"PREMIER"},{"$f":"'[1]87-0-14'!F1648","v":"ESMALTE"},{"$f":"'[1]87-0-14'!G1648*(1+$E$13)","v":3997839.8095000004}]
[{"$f":"'[1]87-0-14'!B1649","v":"EB20P"},{"$f":"'[1]87-0-14'!D1649","v":"ESMALTE SINT #BLANCO# 20l"},{"$f":"'[1]87-0-14'!E1649","v":"PREMIER"},{"$f":"'[1]87-0-14'!F1649","v":"ESMALTE"},{"$f":"'[1]87-0-14'!G1649*(1+$E$13)","v":399783.98249999998}]
[{"$f":"'[1]87-0-14'!B1650","v":"EB4P"},{"$f":"'[1]87-0-14'!D1650","v":"ESMALTE SINT #BLANCO# 4lt"},{"$f":"'[1]87-0-14'!E1650","v":"PREMIER"},{"$f":"'[1]87-0-14'!F1650","v":"ESMALTE"},{"$f":"'[1]87-0-14'!G1650*(1+$E$13)","v":83655.685500000007}]
[{"$f":"'[1]87-0-14'!B1651","v":"EG12P"},{"$f":"'[1]87-0-14'!D1651","v":"ESMALTE SINT #GRIS# 1/2lt"},{"$f":"'[1]87-0-14'!E1651","v":"PREMIER"},{"$f":"'[1]87-0-14'!F1651","v":"ESMALTE"},{"$f":"'[1]87-0-14'!G1651*(1+$E$13)","v":11129.681999999999}]
[{"$f":"'[1]87-0-14'!B1652","v":"EG14P"},{"$f":"'[1]87-0-14'!D1652","v":"ESMALTE SINT #GRIS# 1/4lt"},{"$f":"'[1]87-0-14'!E1652","v":"PREMIER"},{"$f":"'[1]87-0-14'!F1652","v":"ESMALTE"},{"$f":"'[1]87-0-14'!G1652*(1+$E$13)","v":6741.7094999999999}]
[{"$f":"'[1]87-0-14'!B1653","v":"EG1P"},{"$f":"'[1]87-0-14'!D1653","v":"ESMALTE SINT #GRIS# 1lt"},{"$f":"'[1]87-0-14'!E1653","v":"PREMIER"},{"$f":"'[1]87-0-14'!F1653","v":"ESMALTE"},{"$f":"'[1]87-0-14'!G1653*(1+$E$13)","v":19129.898500000003}]
[{"$f":"'[1]87-0-14'!B1654","v":"EG200P"},{"$f":"'[1]87-0-14'!D1654","v":"ESMALTE SINT #GRIS# 200lt"},{"$f":"'[1]87-0-14'!E1654","v":"PREMIER"},{"$f":"'[1]87-0-14'!F1654","v":"ESMALTE"},{"$f":"'[1]87-0-14'!G1654*(1+$E$13)","v":3392153.2069999999}]
[{"$f":"'[1]87-0-14'!B1655","v":"EG20P"},{"$f":"'[1]87-0-14'!D1655","v":"ESMALTE SINT #GRIS# 20lts"},{"$f":"'[1]87-0-14'!E1655","v":"PREMIER"},{"$f":"'[1]87-0-14'!F1655","v":"ESMALTE"},{"$f":"'[1]87-0-14'!G1655*(1+$E$13)","v":339215.31449999998}]
[{"$f":"'[1]87-0-14'!B1656","v":"EG4P"},{"$f":"'[1]87-0-14'!D1656","v":"ESMALTE SINT #GRIS# 4lt"},{"$f":"'[1]87-0-14'!E1656","v":"PREMIER"},{"$f":"'[1]87-0-14'!F1656","v":"ESMALTE"},{"$f":"'[1]87-0-14'!G1656*(1+$E$13)","v":71762.024000000005}]
[{"$f":"'[1]87-0-14'!B1657","v":"EM12P"},{"$f":"'[1]87-0-14'!D1657","v":"ESMALTE SINT #MARRON# 1/2"},{"$f":"'[1]87-0-14'!E1657","v":"PREMIER"},{"$f":"'[1]87-0-14'!F1657","v":"ESMALTE"},{"$f":"'[1]87-0-14'!G1657*(1+$E$13)","v":11129.681999999999}]
[{"$f":"'[1]87-0-14'!B1658","v":"EM14P"},{"$f":"'[1]87-0-14'!D1658","v":"ESMALTE SINT #MARRON# 1/4"},{"$f":"'[1]87-0-14'!E1658","v":"PREMIER"},{"$f":"'[1]87-0-14'!F1658","v":"ESMALTE"},{"$f":"'[1]87-0-14'!G1658*(1+$E$13)","v":6741.7094999999999}]
[{"$f":"'[1]87-0-14'!B1659","v":"EM1P"},{"$f":"'[1]87-0-14'!D1659","v":"ESMALTE SINT #MARRON# 1lt"},{"$f":"'[1]87-0-14'!E1659","v":"PREMIER"},{"$f":"'[1]87-0-14'!F1659","v":"ESMALTE"},{"$f":"'[1]87-0-14'!G1659*(1+$E$13)","v":19129.898500000003}]
[{"$f":"'[1]87-0-14'!B1660","v":"EM200P"},{"$f":"'[1]87-0-14'!D1660","v":"ESMALTE SINT #MARRON# 200"},{"$f":"'[1]87-0-14'!E1660","v":"PREMIER"},{"$f":"'[1]87-0-14'!F1660","v":"ESMALTE"},{"$f":"'[1]87-0-14'!G1660*(1+$E$13)","v":3392153.2069999999}]
[{"$f":"'[1]87-0-14'!B1661","v":"EM20P"},{"$f":"'[1]87-0-14'!D1661","v":"ESMALTE SINT #MARRON# 20l"},{"$f":"'[1]87-0-14'!E1661","v":"PREMIER"},{"$f":"'[1]87-0-14'!F1661","v":"ESMALTE"},{"$f":"'[1]87-0-14'!G1661*(1+$E$13)","v":339215.31449999998}]
[{"$f":"'[1]87-0-14'!B1662","v":"EM4P"},{"$f":"'[1]87-0-14'!D1662","v":"ESMALTE SINT #MARRON# 4lt"},{"$f":"'[1]87-0-14'!E1662","v":"PREMIER"},{"$f":"'[1]87-0-14'!F1662","v":"ESMALTE"},{"$f":"'[1]87-0-14'!G1662*(1+$E$13)","v":71762.024000000005}]
[{"$f":"'[1]87-0-14'!B1663","v":"EN12P"},{"$f":"'[1]87-0-14'!D1663","v":"ESMALTE SINT #NEGRO# 1/2l"},{"$f":"'[1]87-0-14'!E1663","v":"PREMIER"},{"$f":"'[1]87-0-14'!F1663","v":"ESMALTE"},{"$f":"'[1]87-0-14'!G1663*(1+$E$13)","v":10953.013000000001}]
[{"$f":"'[1]87-0-14'!B1664","v":"EN14P"},{"$f":"'[1]87-0-14'!D1664","v":"ESMALTE SINT #NEGRO# 1/4l"},{"$f":"'[1]87-0-14'!E1664","v":"PREMIER"},{"$f":"'[1]87-0-14'!F1664","v":"ESMALTE"},{"$f":"'[1]87-0-14'!G1664*(1+$E$13)","v":6634.6975000000002}]
[{"$f":"'[1]87-0-14'!B1665","v":"EN1P"},{"$f":"'[1]87-0-14'!D1665","v":"ESMALTE SINT #NEGRO# 1lt"},{"$f":"'[1]87-0-14'!E1665","v":"PREMIER"},{"$f":"'[1]87-0-14'!F1665","v":"ESMALTE"},{"$f":"'[1]87-0-14'!G1665*(1+$E$13)","v":18826.253499999999}]
[{"$f":"'[1]87-0-14'!B1666","v":"EN200P"},{"$f":"'[1]87-0-14'!D1666","v":"ESMALTE SINT #NEGRO# 200l"},{"$f":"'[1]87-0-14'!E1666","v":"PREMIER"},{"$f":"'[1]87-0-14'!F1666","v":"ESMALTE"},{"$f":"'[1]87-0-14'!G1666*(1+$E$13)","v":3392153.2069999999}]
[{"$f":"'[1]87-0-14'!B1667","v":"EN20P"},{"$f":"'[1]87-0-14'!D1667","v":"ESMALTE SINT #NEGRO# 20lt"},{"$f":"'[1]87-0-14'!E1667","v":"PREMIER"},{"$f":"'[1]87-0-14'!F1667","v":"ESMALTE"},{"$f":"'[1]87-0-14'!G1667*(1+$E$13)","v":339215.31449999998}]
[{"$f":"'[1]87-0-14'!B1668","v":"EN4P"},{"$f":"'[1]87-0-14'!D1668","v":"ESMALTE SINT #NEGRO# 4lt"},{"$f":"'[1]87-0-14'!E1668","v":"PREMIER"},{"$f":"'[1]87-0-14'!F1668","v":"ESMALTE"},{"$f":"'[1]87-0-14'!G1668*(1+$E$13)","v":71762.024000000005}]
[{"$f":"'[1]87-0-14'!B1669","v":"EVI12P"},{"$f":"'[1]87-0-14'!D1669","v":"ESMALTE SINT #V/INGL# 1/2"},{"$f":"'[1]87-0-14'!E1669","v":"PREMIER"},{"$f":"'[1]87-0-14'!F1669","v":"ESMALTE"},{"$f":"'[1]87-0-14'!G1669*(1+$E$13)","v":10953.013000000001}]
[{"$f":"'[1]87-0-14'!B1670","v":"EVI14P"},{"$f":"'[1]87-0-14'!D1670","v":"ESMALTE SINT #V/INGL# 1/4"},{"$f":"'[1]87-0-14'!E1670","v":"PREMIER"},{"$f":"'[1]87-0-14'!F1670","v":"ESMALTE"},{"$f":"'[1]87-0-14'!G1670*(1+$E$13)","v":6634.6975000000002}]
[{"$f":"'[1]87-0-14'!B1671","v":"EVI1P"},{"$f":"'[1]87-0-14'!D1671","v":"ESMALTE SINT #V/INGL# 1lt"},{"$f":"'[1]87-0-14'!E1671","v":"PREMIER"},{"$f":"'[1]87-0-14'!F1671","v":"ESMALTE"},{"$f":"'[1]87-0-14'!G1671*(1+$E$13)","v":18826.253499999999}]
[{"$f":"'[1]87-0-14'!B1672","v":"EVI200P"},{"$f":"'[1]87-0-14'!D1672","v":"ESMALTE SINT #V/INGL# 200"},{"$f":"'[1]87-0-14'!E1672","v":"PREMIER"},{"$f":"'[1]87-0-14'!F1672","v":"ESMALTE"},{"$f":"'[1]87-0-14'!G1672*(1+$E$13)","v":3392153.2069999999}]
[{"$f":"'[1]87-0-14'!B1673","v":"EVI20P"},{"$f":"'[1]87-0-14'!D1673","v":"ESMALTE SINT #V/INGL# 20l"},{"$f":"'[1]87-0-14'!E1673","v":"PREMIER"},{"$f":"'[1]87-0-14'!F1673","v":"ESMALTE"},{"$f":"'[1]87-0-14'!G1673*(1+$E$13)","v":339215.31449999998}]
[{"$f":"'[1]87-0-14'!B1674","v":"EVI4P"},{"$f":"'[1]87-0-14'!D1674","v":"ESMALTE SINT #V/INGL# 4lt"},{"$f":"'[1]87-0-14'!E1674","v":"PREMIER"},{"$f":"'[1]87-0-14'!F1674","v":"ESMALTE"},{"$f":"'[1]87-0-14'!G1674*(1+$E$13)","v":71762.024000000005}]
[{"$f":"'[1]87-0-14'!B1675","v":"ET12V"},{"$f":"'[1]87-0-14'!D1675","v":"ESMALTE Traful 1/2"},{"$f":"'[1]87-0-14'!E1675","v":"VENIER"},{"$f":"'[1]87-0-14'!F1675","v":"ESMALTE"},{"$f":"'[1]87-0-14'!G1675*(1+$E$13)","v":11116.4915}]
[{"$f":"'[1]87-0-14'!B1676","v":"ET14V"},{"$f":"'[1]87-0-14'!D1676","v":"ESMALTE Traful 1/4"},{"$f":"'[1]87-0-14'!E1676","v":"VENIER"},{"$f":"'[1]87-0-14'!F1676","v":"ESMALTE"},{"$f":"'[1]87-0-14'!G1676*(1+$E$13)","v":7057.3670000000011}]
[{"$f":"'[1]87-0-14'!B1677","v":"ET1V"},{"$f":"'[1]87-0-14'!D1677","v":"ESMALTE Traful 1Lt"},{"$f":"'[1]87-0-14'!E1677","v":"VENIER"},{"$f":"'[1]87-0-14'!F1677","v":"ESMALTE"},{"$f":"'[1]87-0-14'!G1677*(1+$E$13)","v":65114.570000000007}]
[{"$f":"'[1]87-0-14'!B1678","v":"ET4V"},{"$f":"'[1]87-0-14'!D1678","v":"ESMALTE Traful 4Lt"},{"$f":"'[1]87-0-14'!E1678","v":"VENIER"},{"$f":"'[1]87-0-14'!F1678","v":"ESMALTE"},{"$f":"'[1]87-0-14'!G1678*(1+$E$13)","v":244054.19600000003}]
[{"$f":"'[1]87-0-14'!B1679","v":"E3F"},{"$f":"'[1]87-0-14'!D1679","v":"ESPATULA FORJADA  30mm"},{"$f":"'[1]87-0-14'!E1679","v":"FERCAS"},{"$f":"'[1]87-0-14'!F1679","v":"ESPATULA"},{"$f":"'[1]87-0-14'!G1679*(1+$E$13)","v":4467.8594999999996}]
[{"$f":"'[1]87-0-14'!B1680","v":"E4F"},{"$f":"'[1]87-0-14'!D1680","v":"ESPATULA FORJADA  40mm"},{"$f":"'[1]87-0-14'!E1680","v":"FERCAS"},{"$f":"'[1]87-0-14'!F1680","v":"ESPATULA"},{"$f":"'[1]87-0-14'!G1680*(1+$E$13)","v":4757.1205}]
[{"$f":"'[1]87-0-14'!B1681","v":"E5F"},{"$f":"'[1]87-0-14'!D1681","v":"ESPATULA FORJADA  50mm"},{"$f":"'[1]87-0-14'!E1681","v":"FERCAS"},{"$f":"'[1]87-0-14'!F1681","v":"ESPATULA"},{"$f":"'[1]87-0-14'!G1681*(1+$E$13)","v":5007.8175000000001}]
[{"$f":"'[1]87-0-14'!B1682","v":"E6F"},{"$f":"'[1]87-0-14'!D1682","v":"ESPATULA FORJADA  60mm"},{"$f":"'[1]87-0-14'!E1682","v":"FERCAS"},{"$f":"'[1]87-0-14'!F1682","v":"ESPATULA"},{"$f":"'[1]87-0-14'!G1682*(1+$E$13)","v":5261.5680000000002}]
[{"$f":"'[1]87-0-14'!B1683","v":"E7F"},{"$f":"'[1]87-0-14'!D1683","v":"ESPATULA FORJADA  70mm"},{"$f":"'[1]87-0-14'!E1683","v":"FERCAS"},{"$f":"'[1]87-0-14'!F1683","v":"ESPATULA"},{"$f":"'[1]87-0-14'!G1683*(1+$E$13)","v":5522.402}]
[{"$f":"'[1]87-0-14'!B1684","v":"E8F"},{"$f":"'[1]87-0-14'!D1684","v":"ESPATULA FORJADA  80mm"},{"$f":"'[1]87-0-14'!E1684","v":"FERCAS"},{"$f":"'[1]87-0-14'!F1684","v":"ESPATULA"},{"$f":"'[1]87-0-14'!G1684*(1+$E$13)","v":5799.4955}]
[{"$f":"'[1]87-0-14'!B1685","v":"E9F"},{"$f":"'[1]87-0-14'!D1685","v":"ESPATULA FORJADA  90mm"},{"$f":"'[1]87-0-14'!E1685","v":"FERCAS"},{"$f":"'[1]87-0-14'!F1685","v":"ESPATULA"},{"$f":"'[1]87-0-14'!G1685*(1+$E$13)","v":6037.0020000000004}]
[{"$f":"'[1]87-0-14'!B1686","v":"E12F"},{"$f":"'[1]87-0-14'!D1686","v":"ESPATULA FORJADA 120mm"},{"$f":"'[1]87-0-14'!E1686","v":"FERCAS"},{"$f":"'[1]87-0-14'!F1686","v":"ESPATULA"},{"$f":"'[1]87-0-14'!G1686*(1+$E$13)","v":6626.6685000000007}]
[{"$f":"'[1]87-0-14'!B1687","v":"E3SJ"},{"$f":"'[1]87-0-14'!D1687","v":"ESPATULA N  3"},{"$f":"'[1]87-0-14'!E1687","v":"STA. JUANA"},{"$f":"'[1]87-0-14'!F1687","v":"ESPATULA"},{"$f":"'[1]87-0-14'!G1687*(1+$E$13)","v":3142.7954999999997}]
[{"$f":"'[1]87-0-14'!B1688","v":"E4SJ"},{"$f":"'[1]87-0-14'!D1688","v":"ESPATULA N  4"},{"$f":"'[1]87-0-14'!E1688","v":"STA. JUANA"},{"$f":"'[1]87-0-14'!F1688","v":"ESPATULA"},{"$f":"'[1]87-0-14'!G1688*(1+$E$13)","v":3214.4985000000001}]
[{"$f":"'[1]87-0-14'!B1689","v":"E5SJ"},{"$f":"'[1]87-0-14'!D1689","v":"ESPATULA N  5"},{"$f":"'[1]87-0-14'!E1689","v":"STA. JUANA"},{"$f":"'[1]87-0-14'!F1689","v":"ESPATULA"},{"$f":"'[1]87-0-14'!G1689*(1+$E$13)","v":3310.1025000000004}]
[{"$f":"'[1]87-0-14'!B1690","v":"E6SJ"},{"$f":"'[1]87-0-14'!D1690","v":"ESPATULA N  6"},{"$f":"'[1]87-0-14'!E1690","v":"STA. JUANA"},{"$f":"'[1]87-0-14'!F1690","v":"ESPATULA"},{"$f":"'[1]87-0-14'!G1690*(1+$E$13)","v":3378.2094999999999}]
[{"$f":"'[1]87-0-14'!B1691","v":"E7SJ"},{"$f":"'[1]87-0-14'!D1691","v":"ESPATULA N  7"},{"$f":"'[1]87-0-14'!E1691","v":"STA. JUANA"},{"$f":"'[1]87-0-14'!F1691","v":"ESPATULA"},{"$f":"'[1]87-0-14'!G1691*(1+$E$13)","v":3443.9450000000002}]
[{"$f":"'[1]87-0-14'!B1692","v":"E8SJ"},{"$f":"'[1]87-0-14'!D1692","v":"ESPATULA N  8"},{"$f":"'[1]87-0-14'!E1692","v":"STA. JUANA"},{"$f":"'[1]87-0-14'!F1692","v":"ESPATULA"},{"$f":"'[1]87-0-14'!G1692*(1+$E$13)","v":3562.241}]
[{"$f":"'[1]87-0-14'!B1693","v":"E9SJ"},{"$f":"'[1]87-0-14'!D1693","v":"ESPATULA N  9"},{"$f":"'[1]87-0-14'!E1693","v":"STA. JUANA"},{"$f":"'[1]87-0-14'!F1693","v":"ESPATULA"},{"$f":"'[1]87-0-14'!G1693*(1+$E$13)","v":3654.2489999999998}]
[{"$f":"'[1]87-0-14'!B1694","v":"E10SJ"},{"$f":"'[1]87-0-14'!D1694","v":"ESPATULA N 10"},{"$f":"'[1]87-0-14'!E1694","v":"STA. JUANA"},{"$f":"'[1]87-0-14'!F1694","v":"ESPATULA"},{"$f":"'[1]87-0-14'!G1694*(1+$E$13)","v":5491.433}]
[{"$f":"'[1]87-0-14'!B1695","v":"E12SJ"},{"$f":"'[1]87-0-14'!D1695","v":"ESPATULA N 12"},{"$f":"'[1]87-0-14'!E1695","v":"STA. JUANA"},{"$f":"'[1]87-0-14'!F1695","v":"ESPATULA"},{"$f":"'[1]87-0-14'!G1695*(1+$E$13)","v":5577.5355}]
[{"$f":"'[1]87-0-14'!B1696","v":"E14SJ"},{"$f":"'[1]87-0-14'!D1696","v":"ESPATULA N 14"},{"$f":"'[1]87-0-14'!E1696","v":"STA. JUANA"},{"$f":"'[1]87-0-14'!F1696","v":"ESPATULA"},{"$f":"'[1]87-0-14'!G1696*(1+$E$13)","v":5918.2719999999999}]
[{"$f":"'[1]87-0-14'!B1697","v":"E16SJ"},{"$f":"'[1]87-0-14'!D1697","v":"ESPATULA N 16"},{"$f":"'[1]87-0-14'!E1697","v":"STA. JUANA"},{"$f":"'[1]87-0-14'!F1697","v":"ESPATULA"},{"$f":"'[1]87-0-14'!G1697*(1+$E$13)","v":6398.9115000000002}]
[{"$f":"'[1]87-0-14'!B1698","v":"E18SJ"},{"$f":"'[1]87-0-14'!D1698","v":"ESPATULA N 18"},{"$f":"'[1]87-0-14'!E1698","v":"STA. JUANA"},{"$f":"'[1]87-0-14'!F1698","v":"ESPATULA"},{"$f":"'[1]87-0-14'!G1698*(1+$E$13)","v":7177.2595000000001}]
[{"$f":"'[1]87-0-14'!B1699","v":"E20SJ"},{"$f":"'[1]87-0-14'!D1699","v":"ESPATULA N 20"},{"$f":"'[1]87-0-14'!E1699","v":"STA. JUANA"},{"$f":"'[1]87-0-14'!F1699","v":"ESPATULA"},{"$f":"'[1]87-0-14'!G1699*(1+$E$13)","v":7825.2680000000009}]
[{"$f":"'[1]87-0-14'!B1700","v":"E22SJ"},{"$f":"'[1]87-0-14'!D1700","v":"ESPATULA N 22"},{"$f":"'[1]87-0-14'!E1700","v":"STA. JUANA"},{"$f":"'[1]87-0-14'!F1700","v":"ESPATULA"},{"$f":"'[1]87-0-14'!G1700*(1+$E$13)","v":8527.2474999999995}]
[{"$f":"'[1]87-0-14'!B1701","v":"E24SJ"},{"$f":"'[1]87-0-14'!D1701","v":"ESPATULA N 24"},{"$f":"'[1]87-0-14'!E1701","v":"STA. JUANA"},{"$f":"'[1]87-0-14'!F1701","v":"ESPATULA"},{"$f":"'[1]87-0-14'!G1701*(1+$E$13)","v":9296.1869999999999}]
[{"$f":"'[1]87-0-14'!B1702","v":"E300A"},{"$f":"'[1]87-0-14'!D1702","v":"ESPUMA POLIUR EXPANDI 300"},{"$f":"'[1]87-0-14'!E1702","v":"ADHEMATIC"},{"$f":"'[1]87-0-14'!F1702","v":"ESPUMA"},{"$f":"'[1]87-0-14'!G1702*(1+$E$13)","v":8325.8560000000016}]
[{"$f":"'[1]87-0-14'!B1703","v":"E500A"},{"$f":"'[1]87-0-14'!D1703","v":"ESPUMA POLIUR EXPANDI 500"},{"$f":"'[1]87-0-14'!E1703","v":"ADHEMATIC"},{"$f":"'[1]87-0-14'!F1703","v":"ESPUMA"},{"$f":"'[1]87-0-14'!G1703*(1+$E$13)","v":12516.730500000001}]
[{"$f":"'[1]87-0-14'!B1704","v":"ED35SC"},{"$f":"'[1]87-0-14'!D1704","v":"ESQUINERO \"DOBLE\" 35"},{"$f":"'[1]87-0-14'!E1704","v":"SC"},{"$f":"'[1]87-0-14'!F1704","v":"ESQUINERO"},{"$f":"'[1]87-0-14'!G1704*(1+$E$13)","v":8416.3760000000002}]
[{"$f":"'[1]87-0-14'!B1705","v":"ED50SC"},{"$f":"'[1]87-0-14'!D1705","v":"ESQUINERO \"DOBLE\" 50"},{"$f":"'[1]87-0-14'!E1705","v":"SC"},{"$f":"'[1]87-0-14'!F1705","v":"ESQUINERO"},{"$f":"'[1]87-0-14'!G1705*(1+$E$13)","v":11830.3595}]
[{"$f":"'[1]87-0-14'!B1706","v":"ED65SC"},{"$f":"'[1]87-0-14'!D1706","v":"ESQUINERO \"DOBLE\" 65"},{"$f":"'[1]87-0-14'!E1706","v":"SC"},{"$f":"'[1]87-0-14'!F1706","v":"ESQUINERO"},{"$f":"'[1]87-0-14'!G1706*(1+$E$13)","v":15138.989500000001}]
[{"$f":"'[1]87-0-14'!B1707","v":"E25SC"},{"$f":"'[1]87-0-14'!D1707","v":"ESQUINERO ANGULO  25"},{"$f":"'[1]87-0-14'!E1707","v":"SC"},{"$f":"'[1]87-0-14'!F1707","v":"ESQUINERO"},{"$f":"'[1]87-0-14'!G1707*(1+$E$13)","v":2618.7714999999998}]
[{"$f":"'[1]87-0-14'!B1708","v":"E38SC"},{"$f":"'[1]87-0-14'!D1708","v":"ESQUINERO ANGULO  38"},{"$f":"'[1]87-0-14'!E1708","v":"SC"},{"$f":"'[1]87-0-14'!F1708","v":"ESQUINERO"},{"$f":"'[1]87-0-14'!G1708*(1+$E$13)","v":4184.1785}]
[{"$f":"'[1]87-0-14'!B1709","v":"E50SC"},{"$f":"'[1]87-0-14'!D1709","v":"ESQUINERO ANGULO  50"},{"$f":"'[1]87-0-14'!E1709","v":"SC"},{"$f":"'[1]87-0-14'!F1709","v":"ESQUINERO"},{"$f":"'[1]87-0-14'!G1709*(1+$E$13)","v":6799.0285000000003}]
[{"$f":"'[1]87-0-14'!B1710","v":"E64SC"},{"$f":"'[1]87-0-14'!D1710","v":"ESQUINERO ANGULO  64"},{"$f":"'[1]87-0-14'!E1710","v":"SC"},{"$f":"'[1]87-0-14'!F1710","v":"ESQUINERO"},{"$f":"'[1]87-0-14'!G1710*(1+$E$13)","v":8934.634}]
[{"$f":"'[1]87-0-14'!B1711","v":"E76SC"},{"$f":"'[1]87-0-14'!D1711","v":"ESQUINERO ANGULO  76"},{"$f":"'[1]87-0-14'!E1711","v":"SC"},{"$f":"'[1]87-0-14'!F1711","v":"ESQUINERO"},{"$f":"'[1]87-0-14'!G1711*(1+$E$13)","v":6943.6125000000002}]
[{"$f":"'[1]87-0-14'!B1712","v":"E90SC"},{"$f":"'[1]87-0-14'!D1712","v":"ESQUINERO ANGULO  90"},{"$f":"'[1]87-0-14'!E1712","v":"SC"},{"$f":"'[1]87-0-14'!F1712","v":"ESQUINERO"},{"$f":"'[1]87-0-14'!G1712*(1+$E$13)","v":8845.1525000000001}]
[{"$f":"'[1]87-0-14'!B1713","v":"E100SC"},{"$f":"'[1]87-0-14'!D1713","v":"ESQUINERO ANGULO 100"},{"$f":"'[1]87-0-14'!E1713","v":"SC"},{"$f":"'[1]87-0-14'!F1713","v":"ESQUINERO"},{"$f":"'[1]87-0-14'!G1713*(1+$E$13)","v":10063.4215}]
[{"$f":"'[1]87-0-14'!B1714","v":"E125SC"},{"$f":"'[1]87-0-14'!D1714","v":"ESQUINERO ANGULO 125"},{"$f":"'[1]87-0-14'!E1714","v":"SC"},{"$f":"'[1]87-0-14'!F1714","v":"ESQUINERO"},{"$f":"'[1]87-0-14'!G1714*(1+$E$13)","v":15727.2145}]
[{"$f":"'[1]87-0-14'!B1715","v":"E150SC"},{"$f":"'[1]87-0-14'!D1715","v":"ESQUINERO ANGULO 150"},{"$f":"'[1]87-0-14'!E1715","v":"SC"},{"$f":"'[1]87-0-14'!F1715","v":"ESQUINERO"},{"$f":"'[1]87-0-14'!G1715*(1+$E$13)","v":18744.336000000003}]
[{"$f":"'[1]87-0-14'!B1716","v":"ECMHV"},{"$f":"'[1]87-0-14'!D1716","v":"EST CUAR -METAL- HORIZONT"},{"$f":"'[1]87-0-14'!E1716","v":"VITAL GAS"},{"$f":"'[1]87-0-14'!F1716","v":"ESTUFA CUARZO"},{"$f":"'[1]87-0-14'!G1716*(1+$E$13)","v":31161.339500000002}]
[{"$f":"'[1]87-0-14'!B1717","v":"ECMVV"},{"$f":"'[1]87-0-14'!D1717","v":"EST CUAR -METAL- VERTICAL"},{"$f":"'[1]87-0-14'!E1717","v":"VITAL GAS"},{"$f":"'[1]87-0-14'!F1717","v":"ESTUFA CUARZO"},{"$f":"'[1]87-0-14'!G1717*(1+$E$13)","v":28328.497500000001}]
[{"$f":"'[1]87-0-14'!B1718","v":"EFB60SC"},{"$f":"'[1]87-0-14'!D1718","v":"EST FLOTANTE BLANCO 60x25"},{"$f":"'[1]87-0-14'!E1718","v":"SC"},{"$f":"'[1]87-0-14'!F1718","v":"ESTANTE"},{"$f":"'[1]87-0-14'!G1718*(1+$E$13)","v":39325.701000000001}]
[{"$f":"'[1]87-0-14'!B1719","v":"EFB80SC"},{"$f":"'[1]87-0-14'!D1719","v":"EST FLOTANTE BLANCO 80x25"},{"$f":"'[1]87-0-14'!E1719","v":"SC"},{"$f":"'[1]87-0-14'!F1719","v":"ESTANTE"},{"$f":"'[1]87-0-14'!G1719*(1+$E$13)","v":45997.505500000007}]
[{"$f":"'[1]87-0-14'!B1720","v":"EFN60SC"},{"$f":"'[1]87-0-14'!D1720","v":"EST FLOTANTE NEGRO  60x25"},{"$f":"'[1]87-0-14'!E1720","v":"SC"},{"$f":"'[1]87-0-14'!F1720","v":"ESTANTE"},{"$f":"'[1]87-0-14'!G1720*(1+$E$13)","v":39325.701000000001}]
[{"$f":"'[1]87-0-14'!B1721","v":"EFN80SC"},{"$f":"'[1]87-0-14'!D1721","v":"EST FLOTANTE NEGRO  80x25"},{"$f":"'[1]87-0-14'!E1721","v":"SC"},{"$f":"'[1]87-0-14'!F1721","v":"ESTANTE"},{"$f":"'[1]87-0-14'!G1721*(1+$E$13)","v":45997.505500000007}]
[{"$f":"'[1]87-0-14'!B1722","v":"EFW60SC"},{"$f":"'[1]87-0-14'!D1722","v":"EST FLOTANTE WENGUE 60x25"},{"$f":"'[1]87-0-14'!E1722","v":"SC"},{"$f":"'[1]87-0-14'!F1722","v":"ESTANTE"},{"$f":"'[1]87-0-14'!G1722*(1+$E$13)","v":39325.701000000001}]
[{"$f":"'[1]87-0-14'!B1723","v":"EFW80SC"},{"$f":"'[1]87-0-14'!D1723","v":"EST FLOTANTE WENGUE 80x25"},{"$f":"'[1]87-0-14'!E1723","v":"SC"},{"$f":"'[1]87-0-14'!F1723","v":"ESTANTE"},{"$f":"'[1]87-0-14'!G1723*(1+$E$13)","v":45997.505500000007}]
[{"$f":"'[1]87-0-14'!B1724","v":"E300P"},{"$f":"'[1]87-0-14'!D1724","v":"ESTOPA DE LUSTRE 300grs"},{"$f":"'[1]87-0-14'!E1724","v":"PAINTROLER"},{"$f":"'[1]87-0-14'!F1724","v":"ESTOPA"},{"$f":"'[1]87-0-14'!G1724*(1+$E$13)","v":1766.5505000000001}]
[{"$f":"'[1]87-0-14'!B1725","v":"ECME"},{"$f":"'[1]87-0-14'!D1725","v":"EXHIBI CHIC MECHA de 1a10"},{"$f":"'[1]87-0-14'!E1725","v":"EZETA"},{"$f":"'[1]87-0-14'!F1725","v":"EXHIBIDOR MECHAS"},{"$f":"'[1]87-0-14'!G1725*(1+$E$13)","v":209000.66700000002}]
[{"$f":"'[1]87-0-14'!B1726","v":"EAK"},{"$f":"'[1]87-0-14'!D1726","v":"EXHIBIDOR AEROSOL 365 un."},{"$f":"'[1]87-0-14'!E1726","v":"KUWAIT"},{"$f":"'[1]87-0-14'!F1726","v":"EXHIBIDORES"},{"$f":"'[1]87-0-14'!G1726*(1+$E$13)","v":272826.64449999999}]
[{"$f":"'[1]87-0-14'!B1727","v":"ECSC"},{"$f":"'[1]87-0-14'!D1727","v":"EXHIBIDOR CONECTORES"},{"$f":"'[1]87-0-14'!E1727","v":"SC"},{"$f":"'[1]87-0-14'!F1727","v":"EXHIBIDOR"},{"$f":"'[1]87-0-14'!G1727*(1+$E$13)","v":80496.243000000002}]
[{"$f":"'[1]87-0-14'!B1728","v":"EHSC"},{"$f":"'[1]87-0-14'!D1728","v":"EXHIBIDOR HERRAJES"},{"$f":"'[1]87-0-14'!E1728","v":"SC"},{"$f":"'[1]87-0-14'!F1728","v":"EXHIBIDOR"},{"$f":"'[1]87-0-14'!G1728*(1+$E$13)","v":145087.05250000002}]
[{"$f":"'[1]87-0-14'!B1729","v":"EIV"},{"$f":"'[1]87-0-14'!D1729","v":"EXHIBIDOR INYECTORES"},{"$f":"'[1]87-0-14'!E1729","v":"VITAL GAS"},{"$f":"'[1]87-0-14'!F1729","v":"EXHIBIDOR"},{"$f":"'[1]87-0-14'!G1729*(1+$E$13)","v":23586.210500000001}]
[{"$f":"'[1]87-0-14'!B1730","v":"EM"},{"$f":"'[1]87-0-14'!D1730","v":"EXHIBIDOR MECHAS de 1a13"},{"$f":"'[1]87-0-14'!E1730","v":"EZETA"},{"$f":"'[1]87-0-14'!F1730","v":"EXHIBIDOR MECHAS"},{"$f":"'[1]87-0-14'!G1730*(1+$E$13)","v":209000.66700000002}]
[{"$f":"'[1]87-0-14'!B1731","v":"EMK"},{"$f":"'[1]87-0-14'!D1731","v":"EXHIBIDOR MEDIANO"},{"$f":"'[1]87-0-14'!E1731","v":"KUWAIT"},{"$f":"'[1]87-0-14'!F1731","v":"EXHIBIDORES"},{"$f":"'[1]87-0-14'!G1731*(1+$E$13)","v":128770.18699999999}]
[{"$f":"'[1]87-0-14'!B1732","v":"ESSC"},{"$f":"'[1]87-0-14'!D1732","v":"EXHIBIDOR SOPORTES"},{"$f":"'[1]87-0-14'!E1732","v":"SC"},{"$f":"'[1]87-0-14'!F1732","v":"EXHIBIDOR"},{"$f":"'[1]87-0-14'!G1732*(1+$E$13)","v":113626.2375}]
[{"$f":"'[1]87-0-14'!B1733","v":"FG"},{"$f":"'[1]87-0-14'!D1733","v":"FAROL A GAS"},{"$f":"'[1]87-0-14'!E1733","v":"ALIGAS"},{"$f":"'[1]87-0-14'!F1733","v":"FAROL A GAS"},{"$f":"'[1]87-0-14'!G1733*(1+$E$13)","v":33360.944499999998}]
[{"$f":"'[1]87-0-14'!B1734","v":"FCV"},{"$f":"'[1]87-0-14'!D1734","v":"FICHA PARA CALEFON"},{"$f":"'[1]87-0-14'!E1734","v":"VITAL GAS"},{"$f":"'[1]87-0-14'!F1734","v":"REPUESTO CALEFON"},{"$f":"'[1]87-0-14'!G1734*(1+$E$13)","v":1086.3485000000001}]
[{"$f":"'[1]87-0-14'!B1735","v":"FAK"},{"$f":"'[1]87-0-14'!D1735","v":"FIJADOR AEROSOL"},{"$f":"'[1]87-0-14'!E1735","v":"KUWAIT"},{"$f":"'[1]87-0-14'!F1735","v":"FIJADOR AEROSOL"},{"$f":"'[1]87-0-14'!G1735*(1+$E$13)","v":6630.0474999999997}]
[{"$f":"'[1]87-0-14'!B1736","v":"F1P"},{"$f":"'[1]87-0-14'!D1736","v":"FIJADOR CON AL AGUA  1 Lt"},{"$f":"'[1]87-0-14'!E1736","v":"PREMIER"},{"$f":"'[1]87-0-14'!F1736","v":"FIJADOR"},{"$f":"'[1]87-0-14'!G1736*(1+$E$13)","v":6365.0285000000003}]
[{"$f":"'[1]87-0-14'!B1737","v":"F4P"},{"$f":"'[1]87-0-14'!D1737","v":"FIJADOR CON AL AGUA  4 Lt"},{"$f":"'[1]87-0-14'!E1737","v":"PREMIER"},{"$f":"'[1]87-0-14'!F1737","v":"FIJADOR"},{"$f":"'[1]87-0-14'!G1737*(1+$E$13)","v":20509.3675}]
[{"$f":"'[1]87-0-14'!B1738","v":"F10P"},{"$f":"'[1]87-0-14'!D1738","v":"FIJADOR CON AL AGUA 10 Lt"},{"$f":"'[1]87-0-14'!E1738","v":"PREMIER"},{"$f":"'[1]87-0-14'!F1738","v":"FIJADOR"},{"$f":"'[1]87-0-14'!G1738*(1+$E$13)","v":45042.968999999997}]
[{"$f":"'[1]87-0-14'!B1739","v":"F20P"},{"$f":"'[1]87-0-14'!D1739","v":"FIJADOR CON AL AGUA 20 Lt"},{"$f":"'[1]87-0-14'!E1739","v":"PREMIER"},{"$f":"'[1]87-0-14'!F1739","v":"FIJADOR"},{"$f":"'[1]87-0-14'!G1739*(1+$E$13)","v":82405.440000000002}]
[{"$f":"'[1]87-0-14'!B1740","v":"F1V"},{"$f":"'[1]87-0-14'!D1740","v":"FIJADOR SELLADOR  1L"},{"$f":"'[1]87-0-14'!E1740","v":"VENIER"},{"$f":"'[1]87-0-14'!F1740","v":"FIJADOR"},{"$f":"'[1]87-0-14'!G1740*(1+$E$13)","v":6950.1689999999999}]
[{"$f":"'[1]87-0-14'!B1741","v":"F4V"},{"$f":"'[1]87-0-14'!D1741","v":"FIJADOR SELLADOR  4L"},{"$f":"'[1]87-0-14'!E1741","v":"VENIER"},{"$f":"'[1]87-0-14'!F1741","v":"FIJADOR"},{"$f":"'[1]87-0-14'!G1741*(1+$E$13)","v":20306.921999999999}]
[{"$f":"'[1]87-0-14'!B1742","v":"F10V"},{"$f":"'[1]87-0-14'!D1742","v":"FIJADOR SELLADOR 10L"},{"$f":"'[1]87-0-14'!E1742","v":"VENIER"},{"$f":"'[1]87-0-14'!F1742","v":"FIJADOR"},{"$f":"'[1]87-0-14'!G1742*(1+$E$13)","v":45866.592499999999}]
[{"$f":"'[1]87-0-14'!B1743","v":"F20V"},{"$f":"'[1]87-0-14'!D1743","v":"FIJADOR SELLADOR 20L"},{"$f":"'[1]87-0-14'!E1743","v":"VENIER"},{"$f":"'[1]87-0-14'!F1743","v":"FIJADOR"},{"$f":"'[1]87-0-14'!G1743*(1+$E$13)","v":85333.886000000013}]
[{"$f":"'[1]87-0-14'!B1744","v":"FC1220D"},{"$f":"'[1]87-0-14'!D1744","v":"FLE COBR CROM 1/2x20"},{"$f":"'[1]87-0-14'!E1744","v":"DUKE."},{"$f":"'[1]87-0-14'!F1744","v":"FLEXIBLE COBRE"},{"$f":"'[1]87-0-14'!G1744*(1+$E$13)","v":10240.478000000001}]
[{"$f":"'[1]87-0-14'!B1745","v":"FC1225D"},{"$f":"'[1]87-0-14'!D1745","v":"FLE COBR CROM 1/2x25"},{"$f":"'[1]87-0-14'!E1745","v":"DUKE."},{"$f":"'[1]87-0-14'!F1745","v":"FLEXIBLE COBRE"},{"$f":"'[1]87-0-14'!G1745*(1+$E$13)","v":12342.2315}]
[{"$f":"'[1]87-0-14'!B1746","v":"FC1230D"},{"$f":"'[1]87-0-14'!D1746","v":"FLE COBR CROM 1/2x30"},{"$f":"'[1]87-0-14'!E1746","v":"DUKE."},{"$f":"'[1]87-0-14'!F1746","v":"FLEXIBLE COBRE"},{"$f":"'[1]87-0-14'!G1746*(1+$E$13)","v":12699.987000000001}]
[{"$f":"'[1]87-0-14'!B1747","v":"FC1235D"},{"$f":"'[1]87-0-14'!D1747","v":"FLE COBR CROM 1/2x35"},{"$f":"'[1]87-0-14'!E1747","v":"DUKE."},{"$f":"'[1]87-0-14'!F1747","v":"FLEXIBLE COBRE"},{"$f":"'[1]87-0-14'!G1747*(1+$E$13)","v":14667.603499999999}]
[{"$f":"'[1]87-0-14'!B1748","v":"FC1240D"},{"$f":"'[1]87-0-14'!D1748","v":"FLE COBR CROM 1/2x40"},{"$f":"'[1]87-0-14'!E1748","v":"DUKE."},{"$f":"'[1]87-0-14'!F1748","v":"FLEXIBLE COBRE"},{"$f":"'[1]87-0-14'!G1748*(1+$E$13)","v":16545.754000000001}]
[{"$f":"'[1]87-0-14'!B1749","v":"FC1250D"},{"$f":"'[1]87-0-14'!D1749","v":"FLE COBR CROM 1/2x50"},{"$f":"'[1]87-0-14'!E1749","v":"DUKE."},{"$f":"'[1]87-0-14'!F1749","v":"FLEXIBLE COBRE"},{"$f":"'[1]87-0-14'!G1749*(1+$E$13)","v":20749.2765}]
[{"$f":"'[1]87-0-14'!B1750","v":"FC3420D"},{"$f":"'[1]87-0-14'!D1750","v":"FLE COBR CROM 3/4x20"},{"$f":"'[1]87-0-14'!E1750","v":"DUKE."},{"$f":"'[1]87-0-14'!F1750","v":"FLEXIBLE COBRE"},{"$f":"'[1]87-0-14'!G1750*(1+$E$13)","v":27089.861500000003}]
[{"$f":"'[1]87-0-14'!B1751","v":"FC3425D"},{"$f":"'[1]87-0-14'!D1751","v":"FLE COBR CROM 3/4x25"},{"$f":"'[1]87-0-14'!E1751","v":"DUKE."},{"$f":"'[1]87-0-14'!F1751","v":"FLEXIBLE COBRE"},{"$f":"'[1]87-0-14'!G1751*(1+$E$13)","v":28826.791500000003}]
[{"$f":"'[1]87-0-14'!B1752","v":"FC3430D"},{"$f":"'[1]87-0-14'!D1752","v":"FLE COBR CROM 3/4x30"},{"$f":"'[1]87-0-14'!E1752","v":"DUKE."},{"$f":"'[1]87-0-14'!F1752","v":"FLEXIBLE COBRE"},{"$f":"'[1]87-0-14'!G1752*(1+$E$13)","v":31123.906999999999}]
[{"$f":"'[1]87-0-14'!B1753","v":"FC3435D"},{"$f":"'[1]87-0-14'!D1753","v":"FLE COBR CROM 3/4x35"},{"$f":"'[1]87-0-14'!E1753","v":"DUKE."},{"$f":"'[1]87-0-14'!F1753","v":"FLEXIBLE COBRE"},{"$f":"'[1]87-0-14'!G1753*(1+$E$13)","v":33576.347999999998}]
[{"$f":"'[1]87-0-14'!B1754","v":"FC3440D"},{"$f":"'[1]87-0-14'!D1754","v":"FLE COBR CROM 3/4x40"},{"$f":"'[1]87-0-14'!E1754","v":"DUKE."},{"$f":"'[1]87-0-14'!F1754","v":"FLEXIBLE COBRE"},{"$f":"'[1]87-0-14'!G1754*(1+$E$13)","v":36565.414499999999}]
[{"$f":"'[1]87-0-14'!B1755","v":"FC3450D"},{"$f":"'[1]87-0-14'!D1755","v":"FLE COBR CROM 3/4x50"},{"$f":"'[1]87-0-14'!E1755","v":"DUKE."},{"$f":"'[1]87-0-14'!F1755","v":"FLEXIBLE COBRE"},{"$f":"'[1]87-0-14'!G1755*(1+$E$13)","v":48681.702499999999}]
[{"$f":"'[1]87-0-14'!B1756","v":"FMM1220D"},{"$f":"'[1]87-0-14'!D1756","v":"FLE META MALL 1/2x20"},{"$f":"'[1]87-0-14'!E1756","v":"DUKE."},{"$f":"'[1]87-0-14'!F1756","v":"FLEXIBLE MET MALL"},{"$f":"'[1]87-0-14'!G1756*(1+$E$13)","v":8866.4495000000006}]
[{"$f":"'[1]87-0-14'!B1757","v":"FMM1225D"},{"$f":"'[1]87-0-14'!D1757","v":"FLE META MALL 1/2x25"},{"$f":"'[1]87-0-14'!E1757","v":"DUKE."},{"$f":"'[1]87-0-14'!F1757","v":"FLEXIBLE MET MALL"},{"$f":"'[1]87-0-14'!G1757*(1+$E$13)","v":9433.2070000000003}]
[{"$f":"'[1]87-0-14'!B1758","v":"FMM1230D"},{"$f":"'[1]87-0-14'!D1758","v":"FLE META MALL 1/2x30"},{"$f":"'[1]87-0-14'!E1758","v":"DUKE."},{"$f":"'[1]87-0-14'!F1758","v":"FLEXIBLE MET MALL"},{"$f":"'[1]87-0-14'!G1758*(1+$E$13)","v":9999.9490000000005}]
[{"$f":"'[1]87-0-14'!B1759","v":"FMM1235D"},{"$f":"'[1]87-0-14'!D1759","v":"FLE META MALL 1/2x35"},{"$f":"'[1]87-0-14'!E1759","v":"DUKE."},{"$f":"'[1]87-0-14'!F1759","v":"FLEXIBLE MET MALL"},{"$f":"'[1]87-0-14'!G1759*(1+$E$13)","v":10564.800000000001}]
[{"$f":"'[1]87-0-14'!B1760","v":"FMM1240D"},{"$f":"'[1]87-0-14'!D1760","v":"FLE META MALL 1/2x40"},{"$f":"'[1]87-0-14'!E1760","v":"DUKE."},{"$f":"'[1]87-0-14'!F1760","v":"FLEXIBLE MET MALL"},{"$f":"'[1]87-0-14'!G1760*(1+$E$13)","v":11159.782999999999}]
[{"$f":"'[1]87-0-14'!B1761","v":"FMM1250D"},{"$f":"'[1]87-0-14'!D1761","v":"FLE META MALL 1/2x50"},{"$f":"'[1]87-0-14'!E1761","v":"DUKE."},{"$f":"'[1]87-0-14'!F1761","v":"FLEXIBLE MET MALL"},{"$f":"'[1]87-0-14'!G1761*(1+$E$13)","v":12372.379000000001}]
[{"$f":"'[1]87-0-14'!B1762","v":"FMM3420D"},{"$f":"'[1]87-0-14'!D1762","v":"FLE META MALL 3/4x20"},{"$f":"'[1]87-0-14'!E1762","v":"DUKE."},{"$f":"'[1]87-0-14'!F1762","v":"FLEXIBLE MET MALL"},{"$f":"'[1]87-0-14'!G1762*(1+$E$13)","v":22952.229500000001}]
[{"$f":"'[1]87-0-14'!B1763","v":"FMM3430D"},{"$f":"'[1]87-0-14'!D1763","v":"FLE META MALL 3/4x30"},{"$f":"'[1]87-0-14'!E1763","v":"DUKE."},{"$f":"'[1]87-0-14'!F1763","v":"FLEXIBLE MET MALL"},{"$f":"'[1]87-0-14'!G1763*(1+$E$13)","v":24929.254499999999}]
[{"$f":"'[1]87-0-14'!B1764","v":"FMM3440D"},{"$f":"'[1]87-0-14'!D1764","v":"FLE META MALL 3/4x40"},{"$f":"'[1]87-0-14'!E1764","v":"DUKE."},{"$f":"'[1]87-0-14'!F1764","v":"FLEXIBLE MET MALL"},{"$f":"'[1]87-0-14'!G1764*(1+$E$13)","v":26878.023000000001}]
[{"$f":"'[1]87-0-14'!B1765","v":"FMM3450D"},{"$f":"'[1]87-0-14'!D1765","v":"FLE META MALL 3/4x50"},{"$f":"'[1]87-0-14'!E1765","v":"DUKE."},{"$f":"'[1]87-0-14'!F1765","v":"FLEXIBLE MET MALL"},{"$f":"'[1]87-0-14'!G1765*(1+$E$13)","v":28826.791500000003}]
[{"$f":"'[1]87-0-14'!B1766","v":"FMCC30C"},{"$f":"'[1]87-0-14'!D1766","v":"FLEX MONOCOMANDO CORTO 30"},{"$f":"'[1]87-0-14'!E1766","v":"VITAL GAS"},{"$f":"'[1]87-0-14'!F1766","v":"FLEXIBLE"},{"$f":"'[1]87-0-14'!G1766*(1+$E$13)","v":6188.5765000000001}]
[{"$f":"'[1]87-0-14'!B1767","v":"FMCC40C"},{"$f":"'[1]87-0-14'!D1767","v":"FLEX MONOCOMANDO CORTO 40"},{"$f":"'[1]87-0-14'!E1767","v":"VITAL GAS"},{"$f":"'[1]87-0-14'!F1767","v":"FLEXIBLE"},{"$f":"'[1]87-0-14'!G1767*(1+$E$13)","v":6444.9465}]
[{"$f":"'[1]87-0-14'!B1768","v":"FMCC50C"},{"$f":"'[1]87-0-14'!D1768","v":"FLEX MONOCOMANDO CORTO 50"},{"$f":"'[1]87-0-14'!E1768","v":"VITAL GAS"},{"$f":"'[1]87-0-14'!F1768","v":"FLEXIBLE"},{"$f":"'[1]87-0-14'!G1768*(1+$E$13)","v":7095.1560000000009}]
[{"$f":"'[1]87-0-14'!B1769","v":"FMCL30C"},{"$f":"'[1]87-0-14'!D1769","v":"FLEX MONOCOMANDO LARGO 30"},{"$f":"'[1]87-0-14'!E1769","v":"VITAL GAS"},{"$f":"'[1]87-0-14'!F1769","v":"FLEXIBLE"},{"$f":"'[1]87-0-14'!G1769*(1+$E$13)","v":6188.5765000000001}]
[{"$f":"'[1]87-0-14'!B1770","v":"FMCL40C"},{"$f":"'[1]87-0-14'!D1770","v":"FLEX MONOCOMANDO LARGO 40"},{"$f":"'[1]87-0-14'!E1770","v":"VITAL GAS"},{"$f":"'[1]87-0-14'!F1770","v":"FLEXIBLE"},{"$f":"'[1]87-0-14'!G1770*(1+$E$13)","v":6444.9465}]
[{"$f":"'[1]87-0-14'!B1771","v":"FMCL50C"},{"$f":"'[1]87-0-14'!D1771","v":"FLEX MONOCOMANDO LARGO 50"},{"$f":"'[1]87-0-14'!E1771","v":"VITAL GAS"},{"$f":"'[1]87-0-14'!F1771","v":"FLEXIBLE"},{"$f":"'[1]87-0-14'!G1771*(1+$E$13)","v":7095.1560000000009}]
[{"$f":"'[1]87-0-14'!B1772","v":"FPM20D"},{"$f":"'[1]87-0-14'!D1772","v":"FLEX PLAST MALLAD 20"},{"$f":"'[1]87-0-14'!E1772","v":"DUKE."},{"$f":"'[1]87-0-14'!F1772","v":"FLEXIBLE PLAS MAL"},{"$f":"'[1]87-0-14'!G1772*(1+$E$13)","v":16818.771000000001}]
[{"$f":"'[1]87-0-14'!B1773","v":"FPM30D"},{"$f":"'[1]87-0-14'!D1773","v":"FLEX PLAST MALLAD 30"},{"$f":"'[1]87-0-14'!E1773","v":"DUKE."},{"$f":"'[1]87-0-14'!F1773","v":"FLEXIBLE PLAS MAL"},{"$f":"'[1]87-0-14'!G1773*(1+$E$13)","v":18447.464500000002}]
[{"$f":"'[1]87-0-14'!B1774","v":"FPM40D"},{"$f":"'[1]87-0-14'!D1774","v":"FLEX PLAST MALLAD 40"},{"$f":"'[1]87-0-14'!E1774","v":"DUKE."},{"$f":"'[1]87-0-14'!F1774","v":"FLEXIBLE PLAS MAL"},{"$f":"'[1]87-0-14'!G1774*(1+$E$13)","v":19125.294999999998}]
[{"$f":"'[1]87-0-14'!B1775","v":"FPM50D"},{"$f":"'[1]87-0-14'!D1775","v":"FLEX PLAST MALLAD 50"},{"$f":"'[1]87-0-14'!E1775","v":"DUKE."},{"$f":"'[1]87-0-14'!F1775","v":"FLEXIBLE PLAS MAL"},{"$f":"'[1]87-0-14'!G1775*(1+$E$13)","v":19807.837500000001}]
[{"$f":"'[1]87-0-14'!B1776","v":"FPB20D"},{"$f":"'[1]87-0-14'!D1776","v":"FLEXI PLAS BLANCO 20"},{"$f":"'[1]87-0-14'!E1776","v":"DUKE"},{"$f":"'[1]87-0-14'!F1776","v":"FLEXIBLE PLAS BLA"},{"$f":"'[1]87-0-14'!G1776*(1+$E$13)","v":2765.665}]
[{"$f":"'[1]87-0-14'!B1777","v":"FPB30D"},{"$f":"'[1]87-0-14'!D1777","v":"FLEXI PLAS BLANCO 30"},{"$f":"'[1]87-0-14'!E1777","v":"DUKE"},{"$f":"'[1]87-0-14'!F1777","v":"FLEXIBLE PLAS BLA"},{"$f":"'[1]87-0-14'!G1777*(1+$E$13)","v":2838.174}]
[{"$f":"'[1]87-0-14'!B1778","v":"FPB40D"},{"$f":"'[1]87-0-14'!D1778","v":"FLEXI PLAS BLANCO 40"},{"$f":"'[1]87-0-14'!E1778","v":"DUKE"},{"$f":"'[1]87-0-14'!F1778","v":"FLEXIBLE PLAS BLA"},{"$f":"'[1]87-0-14'!G1778*(1+$E$13)","v":3163.9375}]
[{"$f":"'[1]87-0-14'!B1779","v":"FPB50D"},{"$f":"'[1]87-0-14'!D1779","v":"FLEXI PLAS BLANCO 50"},{"$f":"'[1]87-0-14'!E1779","v":"DUKE"},{"$f":"'[1]87-0-14'!F1779","v":"FLEXIBLE PLAS BLA"},{"$f":"'[1]87-0-14'!G1779*(1+$E$13)","v":3538.3865000000001}]
[{"$f":"'[1]87-0-14'!B1780","v":"FMG12100"},{"$f":"'[1]87-0-14'!D1780","v":"FLEXIB MALL *GAS* 1/2x100"},{"$f":"'[1]87-0-14'!E1780","v":"VITAL GAS"},{"$f":"'[1]87-0-14'!F1780","v":"FLEXIBLE"},{"$f":"'[1]87-0-14'!G1780*(1+$E$13)","v":9451.9775000000009}]
[{"$f":"'[1]87-0-14'!B1781","v":"FMG12120"},{"$f":"'[1]87-0-14'!D1781","v":"FLEXIB MALL *GAS* 1/2x120"},{"$f":"'[1]87-0-14'!E1781","v":"VITAL GAS"},{"$f":"'[1]87-0-14'!F1781","v":"FLEXIBLE"},{"$f":"'[1]87-0-14'!G1781*(1+$E$13)","v":10451.216}]
[{"$f":"'[1]87-0-14'!B1782","v":"FMG12150"},{"$f":"'[1]87-0-14'!D1782","v":"FLEXIB MALL *GAS* 1/2x150"},{"$f":"'[1]87-0-14'!E1782","v":"VITAL GAS"},{"$f":"'[1]87-0-14'!F1782","v":"FLEXIBLE"},{"$f":"'[1]87-0-14'!G1782*(1+$E$13)","v":12207.2575}]
[{"$f":"'[1]87-0-14'!B1783","v":"FMG1230C"},{"$f":"'[1]87-0-14'!D1783","v":"FLEXIB MALLA *GAS* 1/2x30"},{"$f":"'[1]87-0-14'!E1783","v":"VITAL GAS"},{"$f":"'[1]87-0-14'!F1783","v":"FLEXIBLE"},{"$f":"'[1]87-0-14'!G1783*(1+$E$13)","v":5549.1705000000002}]
[{"$f":"'[1]87-0-14'!B1784","v":"FMG1240C"},{"$f":"'[1]87-0-14'!D1784","v":"FLEXIB MALLA *GAS* 1/2x40"},{"$f":"'[1]87-0-14'!E1784","v":"VITAL GAS"},{"$f":"'[1]87-0-14'!F1784","v":"FLEXIBLE"},{"$f":"'[1]87-0-14'!G1784*(1+$E$13)","v":6029.4844999999996}]
[{"$f":"'[1]87-0-14'!B1785","v":"FMG1250C"},{"$f":"'[1]87-0-14'!D1785","v":"FLEXIB MALLA *GAS* 1/2x50"},{"$f":"'[1]87-0-14'!E1785","v":"VITAL GAS"},{"$f":"'[1]87-0-14'!F1785","v":"FLEXIBLE"},{"$f":"'[1]87-0-14'!G1785*(1+$E$13)","v":6579.3160000000007}]
[{"$f":"'[1]87-0-14'!B1786","v":"FMG1260C"},{"$f":"'[1]87-0-14'!D1786","v":"FLEXIB MALLA *GAS* 1/2x60"},{"$f":"'[1]87-0-14'!E1786","v":"VITAL GAS"},{"$f":"'[1]87-0-14'!F1786","v":"FLEXIBLE"},{"$f":"'[1]87-0-14'!G1786*(1+$E$13)","v":7011.7660000000005}]
[{"$f":"'[1]87-0-14'!B1787","v":"FMG1280C"},{"$f":"'[1]87-0-14'!D1787","v":"FLEXIB MALLA *GAS* 1/2x80"},{"$f":"'[1]87-0-14'!E1787","v":"VITAL GAS"},{"$f":"'[1]87-0-14'!F1787","v":"FLEXIBLE"},{"$f":"'[1]87-0-14'!G1787*(1+$E$13)","v":8253.4865000000009}]
[{"$f":"'[1]87-0-14'!B1788","v":"FMA1220C"},{"$f":"'[1]87-0-14'!D1788","v":"FLEXIB MALLAD AGUA 1/2x20"},{"$f":"'[1]87-0-14'!E1788","v":"VITAL GAS"},{"$f":"'[1]87-0-14'!F1788","v":"FLEXIBLE"},{"$f":"'[1]87-0-14'!G1788*(1+$E$13)","v":5297.4349999999995}]
[{"$f":"'[1]87-0-14'!B1789","v":"FMA1225C"},{"$f":"'[1]87-0-14'!D1789","v":"FLEXIB MALLAD AGUA 1/2x25"},{"$f":"'[1]87-0-14'!E1789","v":"VITAL GAS"},{"$f":"'[1]87-0-14'!F1789","v":"FLEXIBLE"},{"$f":"'[1]87-0-14'!G1789*(1+$E$13)","v":5559.9895000000006}]
[{"$f":"'[1]87-0-14'!B1790","v":"FMA1230C"},{"$f":"'[1]87-0-14'!D1790","v":"FLEXIB MALLAD AGUA 1/2x30"},{"$f":"'[1]87-0-14'!E1790","v":"VITAL GAS"},{"$f":"'[1]87-0-14'!F1790","v":"FLEXIBLE"},{"$f":"'[1]87-0-14'!G1790*(1+$E$13)","v":5808.6405000000004}]
[{"$f":"'[1]87-0-14'!B1791","v":"FMA1235C"},{"$f":"'[1]87-0-14'!D1791","v":"FLEXIB MALLAD AGUA 1/2x35"},{"$f":"'[1]87-0-14'!E1791","v":"VITAL GAS"},{"$f":"'[1]87-0-14'!F1791","v":"FLEXIBLE"},{"$f":"'[1]87-0-14'!G1791*(1+$E$13)","v":6046.4724999999999}]
[{"$f":"'[1]87-0-14'!B1792","v":"FMA1240C"},{"$f":"'[1]87-0-14'!D1792","v":"FLEXIB MALLAD AGUA 1/2x40"},{"$f":"'[1]87-0-14'!E1792","v":"VITAL GAS"},{"$f":"'[1]87-0-14'!F1792","v":"FLEXIBLE"},{"$f":"'[1]87-0-14'!G1792*(1+$E$13)","v":6295.1390000000001}]
[{"$f":"'[1]87-0-14'!B1793","v":"FMA1250C"},{"$f":"'[1]87-0-14'!D1793","v":"FLEXIB MALLAD AGUA 1/2x50"},{"$f":"'[1]87-0-14'!E1793","v":"VITAL GAS"},{"$f":"'[1]87-0-14'!F1793","v":"FLEXIBLE"},{"$f":"'[1]87-0-14'!G1793*(1+$E$13)","v":6826.4170000000004}]
[{"$f":"'[1]87-0-14'!B1794","v":"FMA3420C"},{"$f":"'[1]87-0-14'!D1794","v":"FLEXIB MALLAD AGUA 3/4x20"},{"$f":"'[1]87-0-14'!E1794","v":"VITAL GAS"},{"$f":"'[1]87-0-14'!F1794","v":"FLEXIBLE"},{"$f":"'[1]87-0-14'!G1794*(1+$E$13)","v":13008.824500000002}]
[{"$f":"'[1]87-0-14'!B1795","v":"FMA3425C"},{"$f":"'[1]87-0-14'!D1795","v":"FLEXIB MALLAD AGUA 3/4x25"},{"$f":"'[1]87-0-14'!E1795","v":"VITAL GAS"},{"$f":"'[1]87-0-14'!F1795","v":"FLEXIBLE"},{"$f":"'[1]87-0-14'!G1795*(1+$E$13)","v":13008.824500000002}]
[{"$f":"'[1]87-0-14'!B1796","v":"FMA3430C"},{"$f":"'[1]87-0-14'!D1796","v":"FLEXIB MALLAD AGUA 3/4x30"},{"$f":"'[1]87-0-14'!E1796","v":"VITAL GAS"},{"$f":"'[1]87-0-14'!F1796","v":"FLEXIBLE"},{"$f":"'[1]87-0-14'!G1796*(1+$E$13)","v":13008.824500000002}]
[{"$f":"'[1]87-0-14'!B1797","v":"FMA3435C"},{"$f":"'[1]87-0-14'!D1797","v":"FLEXIB MALLAD AGUA 3/4x35"},{"$f":"'[1]87-0-14'!E1797","v":"VITAL GAS"},{"$f":"'[1]87-0-14'!F1797","v":"FLEXIBLE"},{"$f":"'[1]87-0-14'!G1797*(1+$E$13)","v":14000.343999999999}]
[{"$f":"'[1]87-0-14'!B1798","v":"FMA3440C"},{"$f":"'[1]87-0-14'!D1798","v":"FLEXIB MALLAD AGUA 3/4x40"},{"$f":"'[1]87-0-14'!E1798","v":"VITAL GAS"},{"$f":"'[1]87-0-14'!F1798","v":"FLEXIBLE"},{"$f":"'[1]87-0-14'!G1798*(1+$E$13)","v":14000.343999999999}]
[{"$f":"'[1]87-0-14'!B1799","v":"FMA3450C"},{"$f":"'[1]87-0-14'!D1799","v":"FLEXIB MALLAD AGUA 3/4x50"},{"$f":"'[1]87-0-14'!E1799","v":"VITAL GAS"},{"$f":"'[1]87-0-14'!F1799","v":"FLEXIBLE"},{"$f":"'[1]87-0-14'!G1799*(1+$E$13)","v":15115.445}]
[{"$f":"'[1]87-0-14'!B1800","v":"FP20V"},{"$f":"'[1]87-0-14'!D1800","v":"FLEXIB PLAST REGUL 1/2x20"},{"$f":"'[1]87-0-14'!E1800","v":"VITAL GAS"},{"$f":"'[1]87-0-14'!F1800","v":"FLEXIBLE"},{"$f":"'[1]87-0-14'!G1800*(1+$E$13)","v":1275.123}]
[{"$f":"'[1]87-0-14'!B1801","v":"FP30V"},{"$f":"'[1]87-0-14'!D1801","v":"FLEXIB PLAST REGUL 1/2x30"},{"$f":"'[1]87-0-14'!E1801","v":"VITAL GAS"},{"$f":"'[1]87-0-14'!F1801","v":"FLEXIBLE"},{"$f":"'[1]87-0-14'!G1801*(1+$E$13)","v":1454.365}]
[{"$f":"'[1]87-0-14'!B1802","v":"FP40V"},{"$f":"'[1]87-0-14'!D1802","v":"FLEXIB PLAST REGUL 1/2x40"},{"$f":"'[1]87-0-14'!E1802","v":"VITAL GAS"},{"$f":"'[1]87-0-14'!F1802","v":"FLEXIBLE"},{"$f":"'[1]87-0-14'!G1802*(1+$E$13)","v":1634.971}]
[{"$f":"'[1]87-0-14'!B1803","v":"FP50V"},{"$f":"'[1]87-0-14'!D1803","v":"FLEXIB PLAST REGUL 1/2x50"},{"$f":"'[1]87-0-14'!E1803","v":"VITAL GAS"},{"$f":"'[1]87-0-14'!F1803","v":"FLEXIBLE"},{"$f":"'[1]87-0-14'!G1803*(1+$E$13)","v":2047.7825000000003}]
[{"$f":"'[1]87-0-14'!B1804","v":"FSGP"},{"$f":"'[1]87-0-14'!D1804","v":"FLEXIBLE SUPER-GAS"},{"$f":"'[1]87-0-14'!E1804","v":"PAZ"},{"$f":"'[1]87-0-14'!F1804","v":"REGULADOR SUPER"},{"$f":"'[1]87-0-14'!G1804*(1+$E$13)","v":18028.096500000003}]
[{"$f":"'[1]87-0-14'!B1805","v":"FB1P"},{"$f":"'[1]87-0-14'!D1805","v":"FONDO BLANCO    1 lt"},{"$f":"'[1]87-0-14'!E1805","v":"PREMIER"},{"$f":"'[1]87-0-14'!F1805","v":"FONDO BLANCO"},{"$f":"'[1]87-0-14'!G1805*(1+$E$13)","v":20232.289500000003}]
[{"$f":"'[1]87-0-14'!B1806","v":"FB4P"},{"$f":"'[1]87-0-14'!D1806","v":"FONDO BLANCO    4 lt"},{"$f":"'[1]87-0-14'!E1806","v":"PREMIER"},{"$f":"'[1]87-0-14'!F1806","v":"FONDO BLANCO"},{"$f":"'[1]87-0-14'!G1806*(1+$E$13)","v":75871.151499999993}]
[{"$f":"'[1]87-0-14'!B1807","v":"FB20P"},{"$f":"'[1]87-0-14'!D1807","v":"FONDO BLANCO   20 lt"},{"$f":"'[1]87-0-14'!E1807","v":"PREMIER"},{"$f":"'[1]87-0-14'!F1807","v":"FONDO BLANCO"},{"$f":"'[1]87-0-14'!G1807*(1+$E$13)","v":361263.33600000001}]
[{"$f":"'[1]87-0-14'!B1808","v":"FB12P"},{"$f":"'[1]87-0-14'!D1808","v":"FONDO BLANCO  1/2 lt"},{"$f":"'[1]87-0-14'!E1808","v":"PREMIER"},{"$f":"'[1]87-0-14'!F1808","v":"FONDO BLANCO"},{"$f":"'[1]87-0-14'!G1808*(1+$E$13)","v":11701.291000000001}]
[{"$f":"'[1]87-0-14'!B1809","v":"FB1V"},{"$f":"'[1]87-0-14'!D1809","v":"FONDO BLANCO MAD 1 L"},{"$f":"'[1]87-0-14'!E1809","v":"VENIER"},{"$f":"'[1]87-0-14'!F1809","v":"ESMALTE"},{"$f":"'[1]87-0-14'!G1809*(1+$E$13)","v":51148.930499999995}]
[{"$f":"'[1]87-0-14'!B1810","v":"FB12V"},{"$f":"'[1]87-0-14'!D1810","v":"FONDO BLANCO MAD 1/2"},{"$f":"'[1]87-0-14'!E1810","v":"VENIER"},{"$f":"'[1]87-0-14'!F1810","v":"ESMALTE"},{"$f":"'[1]87-0-14'!G1810*(1+$E$13)","v":9262.8000000000011}]
[{"$f":"'[1]87-0-14'!B1811","v":"FB20V"},{"$f":"'[1]87-0-14'!D1811","v":"FONDO BLANCO MAD 20L"},{"$f":"'[1]87-0-14'!E1811","v":"VENIER"},{"$f":"'[1]87-0-14'!F1811","v":"ESMALTE"},{"$f":"'[1]87-0-14'!G1811*(1+$E$13)","v":237389.69200000004}]
[{"$f":"'[1]87-0-14'!B1812","v":"FB4V"},{"$f":"'[1]87-0-14'!D1812","v":"FONDO BLANCO MAD 4 L"},{"$f":"'[1]87-0-14'!E1812","v":"VENIER"},{"$f":"'[1]87-0-14'!F1812","v":"ESMALTE"},{"$f":"'[1]87-0-14'!G1812*(1+$E$13)","v":51583.736500000006}]
[{"$f":"'[1]87-0-14'!B1813","v":"F6G"},{"$f":"'[1]87-0-14'!D1813","v":"FORMON N   6"},{"$f":"'[1]87-0-14'!E1813","v":"GHERARDI"},{"$f":"'[1]87-0-14'!F1813","v":"FORMON"},{"$f":"'[1]87-0-14'!G1813*(1+$E$13)","v":13177.774500000001}]
[{"$f":"'[1]87-0-14'!B1814","v":"F10G"},{"$f":"'[1]87-0-14'!D1814","v":"FORMON N  10"},{"$f":"'[1]87-0-14'!E1814","v":"GHERARDI"},{"$f":"'[1]87-0-14'!F1814","v":"FORMON"},{"$f":"'[1]87-0-14'!G1814*(1+$E$13)","v":13177.774500000001}]
[{"$f":"'[1]87-0-14'!B1815","v":"F12G"},{"$f":"'[1]87-0-14'!D1815","v":"FORMON N  12"},{"$f":"'[1]87-0-14'!E1815","v":"GHERARDI"},{"$f":"'[1]87-0-14'!F1815","v":"FORMON"},{"$f":"'[1]87-0-14'!G1815*(1+$E$13)","v":14289.295}]
[{"$f":"'[1]87-0-14'!B1816","v":"F16G"},{"$f":"'[1]87-0-14'!D1816","v":"FORMON N  16"},{"$f":"'[1]87-0-14'!E1816","v":"GHERARDI"},{"$f":"'[1]87-0-14'!F1816","v":"FORMON"},{"$f":"'[1]87-0-14'!G1816*(1+$E$13)","v":14926.903}]
[{"$f":"'[1]87-0-14'!B1817","v":"F20G"},{"$f":"'[1]87-0-14'!D1817","v":"FORMON N  20"},{"$f":"'[1]87-0-14'!E1817","v":"GHERARDI"},{"$f":"'[1]87-0-14'!F1817","v":"FORMON"},{"$f":"'[1]87-0-14'!G1817*(1+$E$13)","v":15044.532499999999}]
[{"$f":"'[1]87-0-14'!B1818","v":"F22G"},{"$f":"'[1]87-0-14'!D1818","v":"FORMON N  22"},{"$f":"'[1]87-0-14'!E1818","v":"GHERARDI"},{"$f":"'[1]87-0-14'!F1818","v":"FORMON"},{"$f":"'[1]87-0-14'!G1818*(1+$E$13)","v":15044.532499999999}]
[{"$f":"'[1]87-0-14'!B1819","v":"F26G"},{"$f":"'[1]87-0-14'!D1819","v":"FORMON N  26"},{"$f":"'[1]87-0-14'!E1819","v":"GHERARDI"},{"$f":"'[1]87-0-14'!F1819","v":"FORMON"},{"$f":"'[1]87-0-14'!G1819*(1+$E$13)","v":15244.963}]
[{"$f":"'[1]87-0-14'!B1820","v":"F30G"},{"$f":"'[1]87-0-14'!D1820","v":"FORMON N  30"},{"$f":"'[1]87-0-14'!E1820","v":"GHERARDI"},{"$f":"'[1]87-0-14'!F1820","v":"FORMON"},{"$f":"'[1]87-0-14'!G1820*(1+$E$13)","v":16616.713}]
[{"$f":"'[1]87-0-14'!B1821","v":"F40G"},{"$f":"'[1]87-0-14'!D1821","v":"FORMON N  40"},{"$f":"'[1]87-0-14'!E1821","v":"GHERARDI"},{"$f":"'[1]87-0-14'!F1821","v":"FORMON"},{"$f":"'[1]87-0-14'!G1821*(1+$E$13)","v":20179.4035}]
[{"$f":"'[1]87-0-14'!B1822","v":"FMF20L"},{"$f":"'[1]87-0-14'!D1822","v":"FRATACH MADE C/FIELTRO 20"},{"$f":"'[1]87-0-14'!E1822","v":"LAVASOLA."},{"$f":"'[1]87-0-14'!F1822","v":"FRATACHO"},{"$f":"'[1]87-0-14'!G1822*(1+$E$13)","v":6645.5010000000002}]
[{"$f":"'[1]87-0-14'!B1823","v":"FMF25L"},{"$f":"'[1]87-0-14'!D1823","v":"FRATACH MADE C/FIELTRO 25"},{"$f":"'[1]87-0-14'!E1823","v":"LAVASOLA."},{"$f":"'[1]87-0-14'!F1823","v":"FRATACHO"},{"$f":"'[1]87-0-14'!G1823*(1+$E$13)","v":7412.1775000000007}]
[{"$f":"'[1]87-0-14'!B1824","v":"FMF30L"},{"$f":"'[1]87-0-14'!D1824","v":"FRATACH MADE C/FIELTRO 30"},{"$f":"'[1]87-0-14'!E1824","v":"LAVASOLA."},{"$f":"'[1]87-0-14'!F1824","v":"FRATACHO"},{"$f":"'[1]87-0-14'!G1824*(1+$E$13)","v":8259.4540000000015}]
[{"$f":"'[1]87-0-14'!B1825","v":"FPE30B"},{"$f":"'[1]87-0-14'!D1825","v":"FRATACH PLAS EURO 30"},{"$f":"'[1]87-0-14'!E1825","v":"BAIHAM"},{"$f":"'[1]87-0-14'!F1825","v":"FRATACHO EURO"},{"$f":"'[1]87-0-14'!G1825*(1+$E$13)","v":1914.1105000000002}]
[{"$f":"'[1]87-0-14'!B1826","v":"FPE40B"},{"$f":"'[1]87-0-14'!D1826","v":"FRATACH PLAS EURO 40"},{"$f":"'[1]87-0-14'!E1826","v":"BAIHAM"},{"$f":"'[1]87-0-14'!F1826","v":"FRATACHO EURO"},{"$f":"'[1]87-0-14'!G1826*(1+$E$13)","v":2178.9899999999998}]
[{"$f":"'[1]87-0-14'!B1827","v":"FA25L"},{"$f":"'[1]87-0-14'!D1827","v":"FRATACHO #ALGARROBO# 25"},{"$f":"'[1]87-0-14'!E1827","v":"LAPACHO"},{"$f":"'[1]87-0-14'!F1827","v":"FRATACHO"},{"$f":"'[1]87-0-14'!G1827*(1+$E$13)","v":4345.4250000000002}]
[{"$f":"'[1]87-0-14'!B1828","v":"FA30L"},{"$f":"'[1]87-0-14'!D1828","v":"FRATACHO #ALGARROBO# 30"},{"$f":"'[1]87-0-14'!E1828","v":"LAPACHO"},{"$f":"'[1]87-0-14'!F1828","v":"FRATACHO"},{"$f":"'[1]87-0-14'!G1828*(1+$E$13)","v":4869.3249999999998}]
[{"$f":"'[1]87-0-14'!B1829","v":"FA35L"},{"$f":"'[1]87-0-14'!D1829","v":"FRATACHO #ALGARROBO# 35"},{"$f":"'[1]87-0-14'!E1829","v":"LAPACHO"},{"$f":"'[1]87-0-14'!F1829","v":"FRATACHO"},{"$f":"'[1]87-0-14'!G1829*(1+$E$13)","v":5242.317}]
[{"$f":"'[1]87-0-14'!B1830","v":"FA40L"},{"$f":"'[1]87-0-14'!D1830","v":"FRATACHO #ALGARROBO# 40"},{"$f":"'[1]87-0-14'!E1830","v":"LAPACHO"},{"$f":"'[1]87-0-14'!F1830","v":"FRATACHO"},{"$f":"'[1]87-0-14'!G1830*(1+$E$13)","v":5622.6405000000004}]
[{"$f":"'[1]87-0-14'!B1831","v":"FP20L"},{"$f":"'[1]87-0-14'!D1831","v":"FRATACHO #PINO# 20cm"},{"$f":"'[1]87-0-14'!E1831","v":"LAVASOLA."},{"$f":"'[1]87-0-14'!F1831","v":"FRATACHO"},{"$f":"'[1]87-0-14'!G1831*(1+$E$13)","v":1751.6859999999999}]
[{"$f":"'[1]87-0-14'!B1832","v":"FP25L"},{"$f":"'[1]87-0-14'!D1832","v":"FRATACHO #PINO# 25cm"},{"$f":"'[1]87-0-14'!E1832","v":"LAVASOLA."},{"$f":"'[1]87-0-14'!F1832","v":"FRATACHO"},{"$f":"'[1]87-0-14'!G1832*(1+$E$13)","v":2474.203}]
[{"$f":"'[1]87-0-14'!B1833","v":"FP30L"},{"$f":"'[1]87-0-14'!D1833","v":"FRATACHO #PINO# 30cm"},{"$f":"'[1]87-0-14'!E1833","v":"LAVASOLA."},{"$f":"'[1]87-0-14'!F1833","v":"FRATACHO"},{"$f":"'[1]87-0-14'!G1833*(1+$E$13)","v":2697.6975000000002}]
[{"$f":"'[1]87-0-14'!B1834","v":"FP35L"},{"$f":"'[1]87-0-14'!D1834","v":"FRATACHO #PINO# 35cm"},{"$f":"'[1]87-0-14'!E1834","v":"LAVASOLA."},{"$f":"'[1]87-0-14'!F1834","v":"FRATACHO"},{"$f":"'[1]87-0-14'!G1834*(1+$E$13)","v":2921.2075000000004}]
[{"$f":"'[1]87-0-14'!B1835","v":"FP40L"},{"$f":"'[1]87-0-14'!D1835","v":"FRATACHO #PINO# 40cm"},{"$f":"'[1]87-0-14'!E1835","v":"LAVASOLA."},{"$f":"'[1]87-0-14'!F1835","v":"FRATACHO"},{"$f":"'[1]87-0-14'!G1835*(1+$E$13)","v":3084.9495000000002}]
[{"$f":"'[1]87-0-14'!B1836","v":"FAFB"},{"$f":"'[1]87-0-14'!D1836","v":"FRATACHO ABRASIVO FINO"},{"$f":"'[1]87-0-14'!E1836","v":"CORTAMAX."},{"$f":"'[1]87-0-14'!F1836","v":"FRATACHO ABRASIVO"},{"$f":"'[1]87-0-14'!G1836*(1+$E$13)","v":3378.6280000000006}]
[{"$f":"'[1]87-0-14'!B1837","v":"FAGB"},{"$f":"'[1]87-0-14'!D1837","v":"FRATACHO ABRASIVO GRUESO"},{"$f":"'[1]87-0-14'!E1837","v":"CORTAMAX."},{"$f":"'[1]87-0-14'!F1837","v":"FRATACHO ABRASIVO"},{"$f":"'[1]87-0-14'!G1837*(1+$E$13)","v":3378.6280000000006}]
[{"$f":"'[1]87-0-14'!B1838","v":"FAMB"},{"$f":"'[1]87-0-14'!D1838","v":"FRATACHO ABRASIVO MEDIANO"},{"$f":"'[1]87-0-14'!E1838","v":"CORTAMAX."},{"$f":"'[1]87-0-14'!F1838","v":"FRATACHO ABRASIVO"},{"$f":"'[1]87-0-14'!G1838*(1+$E$13)","v":3378.6280000000006}]
[{"$f":"'[1]87-0-14'!B1839","v":"FA20CM"},{"$f":"'[1]87-0-14'!D1839","v":"FRATACHO ALGARR.  20"},{"$f":"'[1]87-0-14'!E1839","v":"ANEMI"},{"$f":"'[1]87-0-14'!F1839","v":"FRATACHO ALGARROB"},{"$f":"'[1]87-0-14'!G1839*(1+$E$13)","v":5970.7240000000002}]
[{"$f":"'[1]87-0-14'!B1840","v":"FA25CM"},{"$f":"'[1]87-0-14'!D1840","v":"FRATACHO ALGARR.  25"},{"$f":"'[1]87-0-14'!E1840","v":"ANEMI"},{"$f":"'[1]87-0-14'!F1840","v":"FRATACHO ALGARROB"},{"$f":"'[1]87-0-14'!G1840*(1+$E$13)","v":9400.8585000000003}]
[{"$f":"'[1]87-0-14'!B1841","v":"FA30CM"},{"$f":"'[1]87-0-14'!D1841","v":"FRATACHO ALGARR.  30"},{"$f":"'[1]87-0-14'!E1841","v":"ANEMI"},{"$f":"'[1]87-0-14'!F1841","v":"FRATACHO ALGARROB"},{"$f":"'[1]87-0-14'!G1841*(1+$E$13)","v":10534.1875}]
[{"$f":"'[1]87-0-14'!B1842","v":"FA35CM"},{"$f":"'[1]87-0-14'!D1842","v":"FRATACHO ALGARR.  35"},{"$f":"'[1]87-0-14'!E1842","v":"ANEMI"},{"$f":"'[1]87-0-14'!F1842","v":"FRATACHO ALGARROB"},{"$f":"'[1]87-0-14'!G1842*(1+$E$13)","v":11341.148499999999}]
[{"$f":"'[1]87-0-14'!B1843","v":"FA40CM"},{"$f":"'[1]87-0-14'!D1843","v":"FRATACHO ALGARR.  40"},{"$f":"'[1]87-0-14'!E1843","v":"ANEMI"},{"$f":"'[1]87-0-14'!F1843","v":"FRATACHO ALGARROB"},{"$f":"'[1]87-0-14'!G1843*(1+$E$13)","v":12163.966}]
[{"$f":"'[1]87-0-14'!B1844","v":"FA45CM"},{"$f":"'[1]87-0-14'!D1844","v":"FRATACHO ALGARR.  45"},{"$f":"'[1]87-0-14'!E1844","v":"ANEMI"},{"$f":"'[1]87-0-14'!F1844","v":"FRATACHO ALGARROB"},{"$f":"'[1]87-0-14'!G1844*(1+$E$13)","v":13091.579000000002}]
[{"$f":"'[1]87-0-14'!B1845","v":"FLSJ"},{"$f":"'[1]87-0-14'!D1845","v":"FRATACHO LIJADOR C/PLAST"},{"$f":"'[1]87-0-14'!E1845","v":"STA. JUANA"},{"$f":"'[1]87-0-14'!F1845","v":"FRATACHO LIJADOR"},{"$f":"'[1]87-0-14'!G1845*(1+$E$13)","v":17220.995999999999}]
[{"$f":"'[1]87-0-14'!B1846","v":"FM20CM"},{"$f":"'[1]87-0-14'!D1846","v":"FRATACHO MADERA N 20"},{"$f":"'[1]87-0-14'!E1846","v":"ANEMI"},{"$f":"'[1]87-0-14'!F1846","v":"FRATACHO MADERA"},{"$f":"'[1]87-0-14'!G1846*(1+$E$13)","v":2273.9429999999998}]
[{"$f":"'[1]87-0-14'!B1847","v":"FM25CM"},{"$f":"'[1]87-0-14'!D1847","v":"FRATACHO MADERA N 25"},{"$f":"'[1]87-0-14'!E1847","v":"ANEMI"},{"$f":"'[1]87-0-14'!F1847","v":"FRATACHO MADERA"},{"$f":"'[1]87-0-14'!G1847*(1+$E$13)","v":2776.6855}]
[{"$f":"'[1]87-0-14'!B1848","v":"FM30CM"},{"$f":"'[1]87-0-14'!D1848","v":"FRATACHO MADERA N 30"},{"$f":"'[1]87-0-14'!E1848","v":"ANEMI"},{"$f":"'[1]87-0-14'!F1848","v":"FRATACHO MADERA"},{"$f":"'[1]87-0-14'!G1848*(1+$E$13)","v":2978.7280000000001}]
[{"$f":"'[1]87-0-14'!B1849","v":"FM35CM"},{"$f":"'[1]87-0-14'!D1849","v":"FRATACHO MADERA N 35"},{"$f":"'[1]87-0-14'!E1849","v":"ANEMI"},{"$f":"'[1]87-0-14'!F1849","v":"FRATACHO MADERA"},{"$f":"'[1]87-0-14'!G1849*(1+$E$13)","v":3102.9605000000001}]
[{"$f":"'[1]87-0-14'!B1850","v":"FM40CM"},{"$f":"'[1]87-0-14'!D1850","v":"FRATACHO MADERA N 40"},{"$f":"'[1]87-0-14'!E1850","v":"ANEMI"},{"$f":"'[1]87-0-14'!F1850","v":"FRATACHO MADERA"},{"$f":"'[1]87-0-14'!G1850*(1+$E$13)","v":3401.9090000000006}]
[{"$f":"'[1]87-0-14'!B1851","v":"FM45CM"},{"$f":"'[1]87-0-14'!D1851","v":"FRATACHO MADERA N 45"},{"$f":"'[1]87-0-14'!E1851","v":"ANEMI"},{"$f":"'[1]87-0-14'!F1851","v":"FRATACHO MADERA"},{"$f":"'[1]87-0-14'!G1851*(1+$E$13)","v":3568.4719999999998}]
[{"$f":"'[1]87-0-14'!B1852","v":"FM50CM"},{"$f":"'[1]87-0-14'!D1852","v":"FRATACHO MADERA N 50"},{"$f":"'[1]87-0-14'!E1852","v":"ANEMI"},{"$f":"'[1]87-0-14'!F1852","v":"FRATACHO MADERA"},{"$f":"'[1]87-0-14'!G1852*(1+$E$13)","v":3800.538}]
[{"$f":"'[1]87-0-14'!B1853","v":"FP20A"},{"$f":"'[1]87-0-14'!D1853","v":"FRATACHO PLASTICO 20"},{"$f":"'[1]87-0-14'!E1853","v":"BAIHAM"},{"$f":"'[1]87-0-14'!F1853","v":"FRATACHO"},{"$f":"'[1]87-0-14'!G1853*(1+$E$13)","v":1292.886}]
[{"$f":"'[1]87-0-14'!B1854","v":"FP25A"},{"$f":"'[1]87-0-14'!D1854","v":"FRATACHO PLASTICO 25"},{"$f":"'[1]87-0-14'!E1854","v":"BAIHAM"},{"$f":"'[1]87-0-14'!F1854","v":"FRATACHO"},{"$f":"'[1]87-0-14'!G1854*(1+$E$13)","v":1491.5495000000001}]
[{"$f":"'[1]87-0-14'!B1855","v":"FP30A"},{"$f":"'[1]87-0-14'!D1855","v":"FRATACHO PLASTICO 30"},{"$f":"'[1]87-0-14'!E1855","v":"BAIHAM"},{"$f":"'[1]87-0-14'!F1855","v":"FRATACHO"},{"$f":"'[1]87-0-14'!G1855*(1+$E$13)","v":1646.0690000000002}]
[{"$f":"'[1]87-0-14'!B1856","v":"F4FPP3E"},{"$f":"'[1]87-0-14'!D1856","v":"FRESA 4 FILOS P/PLANA 3mm"},{"$f":"'[1]87-0-14'!E1856","v":"EZETA"},{"$f":"'[1]87-0-14'!F1856","v":"FRESA 4C"},{"$f":"'[1]87-0-14'!G1856*(1+$E$13)","v":31372.743999999999}]
[{"$f":"'[1]87-0-14'!B1857","v":"F10E"},{"$f":"'[1]87-0-14'!D1857","v":"FRESA 4C 10,00"},{"$f":"'[1]87-0-14'!E1857","v":"EZETA"},{"$f":"'[1]87-0-14'!F1857","v":"FRESA 4C"},{"$f":"'[1]87-0-14'!G1857*(1+$E$13)","v":104561.3725}]
[{"$f":"'[1]87-0-14'!B1858","v":"F12E"},{"$f":"'[1]87-0-14'!D1858","v":"FRESA 4C 12,00"},{"$f":"'[1]87-0-14'!E1858","v":"EZETA"},{"$f":"'[1]87-0-14'!F1858","v":"FRESA 4C"},{"$f":"'[1]87-0-14'!G1858*(1+$E$13)","v":128078.71649999999}]
[{"$f":"'[1]87-0-14'!B1859","v":"F4E"},{"$f":"'[1]87-0-14'!D1859","v":"FRESA DIN 844  4,00"},{"$f":"'[1]87-0-14'!E1859","v":"EZETA"},{"$f":"'[1]87-0-14'!F1859","v":"FRESA 4C"},{"$f":"'[1]87-0-14'!G1859*(1+$E$13)","v":19707.878000000001}]
[{"$f":"'[1]87-0-14'!B1860","v":"F5E"},{"$f":"'[1]87-0-14'!D1860","v":"FRESA DIN 844  5,00"},{"$f":"'[1]87-0-14'!E1860","v":"EZETA"},{"$f":"'[1]87-0-14'!F1860","v":"FRESA 4C"},{"$f":"'[1]87-0-14'!G1860*(1+$E$13)","v":19729.190500000001}]
[{"$f":"'[1]87-0-14'!B1861","v":"F6E"},{"$f":"'[1]87-0-14'!D1861","v":"FRESA DIN 844  6,00"},{"$f":"'[1]87-0-14'!E1861","v":"EZETA"},{"$f":"'[1]87-0-14'!F1861","v":"FRESA 4C"},{"$f":"'[1]87-0-14'!G1861*(1+$E$13)","v":21896.075000000001}]
[{"$f":"'[1]87-0-14'!B1862","v":"F7E"},{"$f":"'[1]87-0-14'!D1862","v":"FRESA DIN 844  7,00"},{"$f":"'[1]87-0-14'!E1862","v":"EZETA"},{"$f":"'[1]87-0-14'!F1862","v":"FRESA 4C"},{"$f":"'[1]87-0-14'!G1862*(1+$E$13)","v":23629.378000000001}]
[{"$f":"'[1]87-0-14'!B1863","v":"F8E"},{"$f":"'[1]87-0-14'!D1863","v":"FRESA DIN 844  8,00"},{"$f":"'[1]87-0-14'!E1863","v":"EZETA"},{"$f":"'[1]87-0-14'!F1863","v":"FRESA 4C"},{"$f":"'[1]87-0-14'!G1863*(1+$E$13)","v":25172.0465}]
[{"$f":"'[1]87-0-14'!B1864","v":"GHA1EE"},{"$f":"'[1]87-0-14'!D1864","v":"GAN HAMAC C/ARGOL N 1 (6)"},{"$f":"'[1]87-0-14'!E1864","v":"ELESCUERZO"},{"$f":"'[1]87-0-14'!F1864","v":"GANCHO"},{"$f":"'[1]87-0-14'!G1864*(1+$E$13)","v":19487.731500000002}]
[{"$f":"'[1]87-0-14'!B1865","v":"GHA2EE"},{"$f":"'[1]87-0-14'!D1865","v":"GAN HAMAC C/ARGOL N 2 (10"},{"$f":"'[1]87-0-14'!E1865","v":"ELESCUERZO"},{"$f":"'[1]87-0-14'!F1865","v":"GANCHO"},{"$f":"'[1]87-0-14'!G1865*(1+$E$13)","v":32504.693500000001}]
[{"$f":"'[1]87-0-14'!B1866","v":"GBGEE"},{"$f":"'[1]87-0-14'!D1866","v":"GANCH BICICLET GRANDE (12"},{"$f":"'[1]87-0-14'!E1866","v":"ELESCUERZO"},{"$f":"'[1]87-0-14'!F1866","v":"GANCHO"},{"$f":"'[1]87-0-14'!G1866*(1+$E$13)","v":15881.6875}]
[{"$f":"'[1]87-0-14'!B1867","v":"GBCEE"},{"$f":"'[1]87-0-14'!D1867","v":"GANCH BICICLETA CHICA (12"},{"$f":"'[1]87-0-14'!E1867","v":"ELESCUERZO"},{"$f":"'[1]87-0-14'!F1867","v":"GANCHO"},{"$f":"'[1]87-0-14'!G1867*(1+$E$13)","v":6332.5715000000009}]
[{"$f":"'[1]87-0-14'!B1868","v":"GCV21100"},{"$f":"'[1]87-0-14'!D1868","v":"GANCH C/VIENT 21-100 (25)"},{"$f":"'[1]87-0-14'!E1868","v":"ELESCUERZO"},{"$f":"'[1]87-0-14'!F1868","v":"GANCHO"},{"$f":"'[1]87-0-14'!G1868*(1+$E$13)","v":17791.504499999999}]
[{"$f":"'[1]87-0-14'!B1869","v":"GCV23120"},{"$f":"'[1]87-0-14'!D1869","v":"GANCH C/VIENT 23-120 (25)"},{"$f":"'[1]87-0-14'!E1869","v":"ELESCUERZO"},{"$f":"'[1]87-0-14'!F1869","v":"GANCHO"},{"$f":"'[1]87-0-14'!G1869*(1+$E$13)","v":21510.636500000001}]
[{"$f":"'[1]87-0-14'!B1870","v":"GCV23140"},{"$f":"'[1]87-0-14'!D1870","v":"GANCH C/VIENT 23-140 (15)"},{"$f":"'[1]87-0-14'!E1870","v":"ELESCUERZO"},{"$f":"'[1]87-0-14'!F1870","v":"GANCHO"},{"$f":"'[1]87-0-14'!G1870*(1+$E$13)","v":18093.072500000002}]
[{"$f":"'[1]87-0-14'!B1871","v":"GCV1830E"},{"$f":"'[1]87-0-14'!D1871","v":"GANCH C/VIENTO 18-30 (50)"},{"$f":"'[1]87-0-14'!E1871","v":"ELESCUERZO"},{"$f":"'[1]87-0-14'!F1871","v":"GANCHO"},{"$f":"'[1]87-0-14'!G1871*(1+$E$13)","v":14072.387999999999}]
[{"$f":"'[1]87-0-14'!B1872","v":"GCV1840E"},{"$f":"'[1]87-0-14'!D1872","v":"GANCH C/VIENTO 18-40 (50)"},{"$f":"'[1]87-0-14'!E1872","v":"ELESCUERZO"},{"$f":"'[1]87-0-14'!F1872","v":"GANCHO"},{"$f":"'[1]87-0-14'!G1872*(1+$E$13)","v":14876.528}]
[{"$f":"'[1]87-0-14'!B1873","v":"GCV1950E"},{"$f":"'[1]87-0-14'!D1873","v":"GANCH C/VIENTO 19-50 (50)"},{"$f":"'[1]87-0-14'!E1873","v":"ELESCUERZO"},{"$f":"'[1]87-0-14'!F1873","v":"GANCHO"},{"$f":"'[1]87-0-14'!G1873*(1+$E$13)","v":19299.267}]
[{"$f":"'[1]87-0-14'!B1874","v":"GCV1960E"},{"$f":"'[1]87-0-14'!D1874","v":"GANCH C/VIENTO 19-60 (50)"},{"$f":"'[1]87-0-14'!E1874","v":"ELESCUERZO"},{"$f":"'[1]87-0-14'!F1874","v":"GANCHO"},{"$f":"'[1]87-0-14'!G1874*(1+$E$13)","v":20706.496500000001}]
[{"$f":"'[1]87-0-14'!B1875","v":"GCV1970E"},{"$f":"'[1]87-0-14'!D1875","v":"GANCH C/VIENTO 19-70 (50)"},{"$f":"'[1]87-0-14'!E1875","v":"ELESCUERZO"},{"$f":"'[1]87-0-14'!F1875","v":"GANCHO"},{"$f":"'[1]87-0-14'!G1875*(1+$E$13)","v":25229.784000000003}]
[{"$f":"'[1]87-0-14'!B1876","v":"GCV2180E"},{"$f":"'[1]87-0-14'!D1876","v":"GANCH C/VIENTO 21-80 (50)"},{"$f":"'[1]87-0-14'!E1876","v":"ELESCUERZO"},{"$f":"'[1]87-0-14'!F1876","v":"GANCHO"},{"$f":"'[1]87-0-14'!G1876*(1+$E$13)","v":26637.013499999997}]
[{"$f":"'[1]87-0-14'!B1877","v":"GCV2190E"},{"$f":"'[1]87-0-14'!D1877","v":"GANCH C/VIENTO 21-90 (25)"},{"$f":"'[1]87-0-14'!E1877","v":"ELESCUERZO"},{"$f":"'[1]87-0-14'!F1877","v":"GANCHO"},{"$f":"'[1]87-0-14'!G1877*(1+$E$13)","v":16283.7575}]
[{"$f":"'[1]87-0-14'!B1878","v":"GECEE"},{"$f":"'[1]87-0-14'!D1878","v":"GANCH ESCALERA CHICO (12)"},{"$f":"'[1]87-0-14'!E1878","v":"ELESCUERZO"},{"$f":"'[1]87-0-14'!F1878","v":"GANCHO"},{"$f":"'[1]87-0-14'!G1878*(1+$E$13)","v":14876.528}]
[{"$f":"'[1]87-0-14'!B1879","v":"GEGEE"},{"$f":"'[1]87-0-14'!D1879","v":"GANCH ESCALERA GRANDE (12"},{"$f":"'[1]87-0-14'!E1879","v":"ELESCUERZO"},{"$f":"'[1]87-0-14'!F1879","v":"GANCHO"},{"$f":"'[1]87-0-14'!G1879*(1+$E$13)","v":18394.609499999999}]
[{"$f":"'[1]87-0-14'!B1880","v":"GSET"},{"$f":"'[1]87-0-14'!D1880","v":"GANCH PLAS P/SOG ELASTICA"},{"$f":"'[1]87-0-14'!E1880","v":"TENSIL"},{"$f":"'[1]87-0-14'!F1880","v":"GANCHO SOGA ELAST"},{"$f":"'[1]87-0-14'!G1880*(1+$E$13)","v":391.84000000000003}]
[{"$f":"'[1]87-0-14'!B1881","v":"GHOEE"},{"$f":"'[1]87-0-14'!D1881","v":"GANCHO #HORQUILLA#  (6)"},{"$f":"'[1]87-0-14'!E1881","v":"ELESCUERZO"},{"$f":"'[1]87-0-14'!F1881","v":"GANCHO"},{"$f":"'[1]87-0-14'!G1881*(1+$E$13)","v":9750.1509999999998}]
[{"$f":"'[1]87-0-14'!B1882","v":"GMEE"},{"$f":"'[1]87-0-14'!D1882","v":"GANCHO #MANGUERA#  (6)"},{"$f":"'[1]87-0-14'!E1882","v":"ELESCUERZO"},{"$f":"'[1]87-0-14'!F1882","v":"GANCHO"},{"$f":"'[1]87-0-14'!G1882*(1+$E$13)","v":9247.5790000000015}]
[{"$f":"'[1]87-0-14'!B1883","v":"GTEE"},{"$f":"'[1]87-0-14'!D1883","v":"GANCHO #TECHO#  (6)"},{"$f":"'[1]87-0-14'!E1883","v":"ELESCUERZO"},{"$f":"'[1]87-0-14'!F1883","v":"GANCHO"},{"$f":"'[1]87-0-14'!G1883*(1+$E$13)","v":9247.5790000000015}]
[{"$f":"'[1]87-0-14'!B1884","v":"GCB"},{"$f":"'[1]87-0-14'!D1884","v":"GANCHO CORTINA BANO"},{"$f":"'[1]87-0-14'!E1884","v":"SABELCORT"},{"$f":"'[1]87-0-14'!F1884","v":"GANCHO"},{"$f":"'[1]87-0-14'!G1884*(1+$E$13)","v":2602.5740000000001}]
[{"$f":"'[1]87-0-14'!B1885","v":"GH1SC"},{"$f":"'[1]87-0-14'!D1885","v":"GANCHO HAMAC N  1 C/BASE"},{"$f":"'[1]87-0-14'!E1885","v":"SC"},{"$f":"'[1]87-0-14'!F1885","v":"GANCHO HAMACA"},{"$f":"'[1]87-0-14'!G1885*(1+$E$13)","v":3380.7359999999999}]
[{"$f":"'[1]87-0-14'!B1886","v":"GH2SC"},{"$f":"'[1]87-0-14'!D1886","v":"GANCHO HAMAC N  2 C/PITON"},{"$f":"'[1]87-0-14'!E1886","v":"SC"},{"$f":"'[1]87-0-14'!F1886","v":"GANCHO HAMACA"},{"$f":"'[1]87-0-14'!G1886*(1+$E$13)","v":3786.3865000000001}]
[{"$f":"'[1]87-0-14'!B1887","v":"GH3SC"},{"$f":"'[1]87-0-14'!D1887","v":"GANCHO HAMAC N  3 C/ARGOL"},{"$f":"'[1]87-0-14'!E1887","v":"SC"},{"$f":"'[1]87-0-14'!F1887","v":"GANCHO HAMACA"},{"$f":"'[1]87-0-14'!G1887*(1+$E$13)","v":3181.6385}]
[{"$f":"'[1]87-0-14'!B1888","v":"GH1EE"},{"$f":"'[1]87-0-14'!D1888","v":"GANCHO HAMACA N  1  (6)"},{"$f":"'[1]87-0-14'!E1888","v":"ELESCUERZO"},{"$f":"'[1]87-0-14'!F1888","v":"GANCHO"},{"$f":"'[1]87-0-14'!G1888*(1+$E$13)","v":19123.373}]
[{"$f":"'[1]87-0-14'!B1889","v":"GH2EE"},{"$f":"'[1]87-0-14'!D1889","v":"GANCHO HAMACA N  2  (10)"},{"$f":"'[1]87-0-14'!E1889","v":"ELESCUERZO"},{"$f":"'[1]87-0-14'!F1889","v":"GANCHO"},{"$f":"'[1]87-0-14'!G1889*(1+$E$13)","v":32504.693500000001}]
[{"$f":"'[1]87-0-14'!B1890","v":"G2"},{"$f":"'[1]87-0-14'!D1890","v":"GARRAFA 2 KG."},{"$f":"'[1]87-0-14'!E1890","v":"VITAL GAS"},{"$f":"'[1]87-0-14'!F1890","v":"MICROGARRAFA"},{"$f":"'[1]87-0-14'!G1890*(1+$E$13)","v":151139.663}]
[{"$f":"'[1]87-0-14'!B1891","v":"G3"},{"$f":"'[1]87-0-14'!D1891","v":"GARRAFA 3 KG."},{"$f":"'[1]87-0-14'!E1891","v":"VITAL GAS"},{"$f":"'[1]87-0-14'!F1891","v":"MICROGARRAFA"},{"$f":"'[1]87-0-14'!G1891*(1+$E$13)","v":176804.90399999998}]
[{"$f":"'[1]87-0-14'!B1892","v":"GG30T"},{"$f":"'[1]87-0-14'!D1892","v":"GRA GRAFITADA  30GRS"},{"$f":"'[1]87-0-14'!E1892","v":"TF3"},{"$f":"'[1]87-0-14'!F1892","v":"GRASA GRAFITADA"},{"$f":"'[1]87-0-14'!G1892*(1+$E$13)","v":1547.9075}]
[{"$f":"'[1]87-0-14'!B1893","v":"GG100T"},{"$f":"'[1]87-0-14'!D1893","v":"GRA GRAFITADA 100GRS"},{"$f":"'[1]87-0-14'!E1893","v":"TF3"},{"$f":"'[1]87-0-14'!F1893","v":"GRASA GRAFITADA"},{"$f":"'[1]87-0-14'!G1893*(1+$E$13)","v":2400.0200000000004}]
[{"$f":"'[1]87-0-14'!B1894","v":"GG250T"},{"$f":"'[1]87-0-14'!D1894","v":"GRA GRAFITADA 250GRS"},{"$f":"'[1]87-0-14'!E1894","v":"TF3"},{"$f":"'[1]87-0-14'!F1894","v":"GRASA GRAFITADA"},{"$f":"'[1]87-0-14'!G1894*(1+$E$13)","v":4480.0114999999996}]
[{"$f":"'[1]87-0-14'!B1895","v":"GL240K"},{"$f":"'[1]87-0-14'!D1895","v":"GRAFITO LLANTA AERO #240#"},{"$f":"'[1]87-0-14'!E1895","v":"KUWAIT"},{"$f":"'[1]87-0-14'!F1895","v":"GRAFITO AEROSOL"},{"$f":"'[1]87-0-14'!G1895*(1+$E$13)","v":8383.6710000000003}]
[{"$f":"'[1]87-0-14'!B1896","v":"GLAK"},{"$f":"'[1]87-0-14'!D1896","v":"GRAFITO LLANTA AEROS 440"},{"$f":"'[1]87-0-14'!E1896","v":"KUWAIT"},{"$f":"'[1]87-0-14'!F1896","v":"GRAFITO AEROSOL"},{"$f":"'[1]87-0-14'!G1896*(1+$E$13)","v":11374.241}]
[{"$f":"'[1]87-0-14'!B1897","v":"GP60T"},{"$f":"'[1]87-0-14'!D1897","v":"GRAFITO POLVO 50 GRS"},{"$f":"'[1]87-0-14'!E1897","v":"TF3"},{"$f":"'[1]87-0-14'!F1897","v":"GRAFITO POLVO"},{"$f":"'[1]87-0-14'!G1897*(1+$E$13)","v":2089.7874999999999}]
[{"$f":"'[1]87-0-14'!B1898","v":"GUC9H"},{"$f":"'[1]87-0-14'!D1898","v":"GRAMPA \"U\" COBREAD 9"},{"$f":"'[1]87-0-14'!E1898","v":"EGA"},{"$f":"'[1]87-0-14'!F1898","v":"GRAMPA \"U\""},{"$f":"'[1]87-0-14'!G1898*(1+$E$13)","v":51.863}]
[{"$f":"'[1]87-0-14'!B1899","v":"GGR"},{"$f":"'[1]87-0-14'!D1899","v":"GRAMPA GIRATORIA"},{"$f":"'[1]87-0-14'!E1899","v":"SIRA"},{"$f":"'[1]87-0-14'!F1899","v":"GRAMPA GIRATORIA"},{"$f":"'[1]87-0-14'!G1899*(1+$E$13)","v":2922.1220000000003}]
[{"$f":"'[1]87-0-14'!B1900","v":"GMO12SC"},{"$f":"'[1]87-0-14'!D1900","v":"GRAMPA MEDIA OMEGA  1/2\""},{"$f":"'[1]87-0-14'!E1900","v":"SC"},{"$f":"'[1]87-0-14'!F1900","v":"GRAMPA OMEGA"},{"$f":"'[1]87-0-14'!G1900*(1+$E$13)","v":6472.9550000000008}]
[{"$f":"'[1]87-0-14'!B1901","v":"GMO34SC"},{"$f":"'[1]87-0-14'!D1901","v":"GRAMPA MEDIA OMEGA  3/4\""},{"$f":"'[1]87-0-14'!E1901","v":"SC"},{"$f":"'[1]87-0-14'!F1901","v":"GRAMPA OMEGA"},{"$f":"'[1]87-0-14'!G1901*(1+$E$13)","v":8091.4030000000002}]
[{"$f":"'[1]87-0-14'!B1902","v":"GMO112SC"},{"$f":"'[1]87-0-14'!D1902","v":"GRAMPA MEDIA OMEGA 1 1/2\""},{"$f":"'[1]87-0-14'!E1902","v":"SC"},{"$f":"'[1]87-0-14'!F1902","v":"GRAMPA OMEGA"},{"$f":"'[1]87-0-14'!G1902*(1+$E$13)","v":13795.821500000002}]
[{"$f":"'[1]87-0-14'!B1903","v":"GMO114SC"},{"$f":"'[1]87-0-14'!D1903","v":"GRAMPA MEDIA OMEGA 1 1/4\""},{"$f":"'[1]87-0-14'!E1903","v":"SC"},{"$f":"'[1]87-0-14'!F1903","v":"GRAMPA OMEGA"},{"$f":"'[1]87-0-14'!G1903*(1+$E$13)","v":11383.324000000001}]
[{"$f":"'[1]87-0-14'!B1904","v":"GMO1SC"},{"$f":"'[1]87-0-14'!D1904","v":"GRAMPA MEDIA OMEGA 1\""},{"$f":"'[1]87-0-14'!E1904","v":"SC"},{"$f":"'[1]87-0-14'!F1904","v":"GRAMPA OMEGA"},{"$f":"'[1]87-0-14'!G1904*(1+$E$13)","v":9898.1605}]
[{"$f":"'[1]87-0-14'!B1905","v":"GMO212SC"},{"$f":"'[1]87-0-14'!D1905","v":"GRAMPA MEDIA OMEGA 2 1/2\""},{"$f":"'[1]87-0-14'!E1905","v":"SC"},{"$f":"'[1]87-0-14'!F1905","v":"GRAMPA OMEGA"},{"$f":"'[1]87-0-14'!G1905*(1+$E$13)","v":28573.227000000003}]
[{"$f":"'[1]87-0-14'!B1906","v":"GMO2SC"},{"$f":"'[1]87-0-14'!D1906","v":"GRAMPA MEDIA OMEGA 2\""},{"$f":"'[1]87-0-14'!E1906","v":"SC"},{"$f":"'[1]87-0-14'!F1906","v":"GRAMPA OMEGA"},{"$f":"'[1]87-0-14'!G1906*(1+$E$13)","v":17256.150000000001}]
[{"$f":"'[1]87-0-14'!B1907","v":"GO12SC"},{"$f":"'[1]87-0-14'!D1907","v":"GRAMPA OMEGA  1/2\""},{"$f":"'[1]87-0-14'!E1907","v":"SC"},{"$f":"'[1]87-0-14'!F1907","v":"GRAMPA OMEGA"},{"$f":"'[1]87-0-14'!G1907*(1+$E$13)","v":9204.6594999999998}]
[{"$f":"'[1]87-0-14'!B1908","v":"GO34SC"},{"$f":"'[1]87-0-14'!D1908","v":"GRAMPA OMEGA  3/4\""},{"$f":"'[1]87-0-14'!E1908","v":"SC"},{"$f":"'[1]87-0-14'!F1908","v":"GRAMPA OMEGA"},{"$f":"'[1]87-0-14'!G1908*(1+$E$13)","v":10499.886}]
[{"$f":"'[1]87-0-14'!B1909","v":"GO112SC"},{"$f":"'[1]87-0-14'!D1909","v":"GRAMPA OMEGA 1 1/2\""},{"$f":"'[1]87-0-14'!E1909","v":"SC"},{"$f":"'[1]87-0-14'!F1909","v":"GRAMPA OMEGA"},{"$f":"'[1]87-0-14'!G1909*(1+$E$13)","v":16561.037}]
[{"$f":"'[1]87-0-14'!B1910","v":"GO114SC"},{"$f":"'[1]87-0-14'!D1910","v":"GRAMPA OMEGA 1 1/4\""},{"$f":"'[1]87-0-14'!E1910","v":"SC"},{"$f":"'[1]87-0-14'!F1910","v":"GRAMPA OMEGA"},{"$f":"'[1]87-0-14'!G1910*(1+$E$13)","v":13791.822500000002}]
[{"$f":"'[1]87-0-14'!B1911","v":"GO1SC"},{"$f":"'[1]87-0-14'!D1911","v":"GRAMPA OMEGA 1\""},{"$f":"'[1]87-0-14'!E1911","v":"SC"},{"$f":"'[1]87-0-14'!F1911","v":"GRAMPA OMEGA"},{"$f":"'[1]87-0-14'!G1911*(1+$E$13)","v":13010.545}]
[{"$f":"'[1]87-0-14'!B1912","v":"GO212SC"},{"$f":"'[1]87-0-14'!D1912","v":"GRAMPA OMEGA 2 1/2\""},{"$f":"'[1]87-0-14'!E1912","v":"SC"},{"$f":"'[1]87-0-14'!F1912","v":"GRAMPA OMEGA"},{"$f":"'[1]87-0-14'!G1912*(1+$E$13)","v":23169.663500000002}]
[{"$f":"'[1]87-0-14'!B1913","v":"GO2SC"},{"$f":"'[1]87-0-14'!D1913","v":"GRAMPA OMEGA 2\""},{"$f":"'[1]87-0-14'!E1913","v":"SC"},{"$f":"'[1]87-0-14'!F1913","v":"GRAMPA OMEGA"},{"$f":"'[1]87-0-14'!G1913*(1+$E$13)","v":20637.459500000001}]
[{"$f":"'[1]87-0-14'!B1914","v":"GO3SC"},{"$f":"'[1]87-0-14'!D1914","v":"GRAMPA OMEGA 3\""},{"$f":"'[1]87-0-14'!E1914","v":"SC"},{"$f":"'[1]87-0-14'!F1914","v":"GRAMPA OMEGA"},{"$f":"'[1]87-0-14'!G1914*(1+$E$13)","v":26740.925500000001}]
[{"$f":"'[1]87-0-14'!B1915","v":"GO4SC"},{"$f":"'[1]87-0-14'!D1915","v":"GRAMPA OMEGA 4\""},{"$f":"'[1]87-0-14'!E1915","v":"SC"},{"$f":"'[1]87-0-14'!F1915","v":"GRAMPA OMEGA"},{"$f":"'[1]87-0-14'!G1915*(1+$E$13)","v":34170.726500000004}]
[{"$f":"'[1]87-0-14'!B1916","v":"GA100T"},{"$f":"'[1]87-0-14'!D1916","v":"GRAS AMARILLA 100GRS"},{"$f":"'[1]87-0-14'!E1916","v":"TF3"},{"$f":"'[1]87-0-14'!F1916","v":"GRASA AMARILLA"},{"$f":"'[1]87-0-14'!G1916*(1+$E$13)","v":2099.0565000000001}]
[{"$f":"'[1]87-0-14'!B1917","v":"GA250T"},{"$f":"'[1]87-0-14'!D1917","v":"GRAS AMARILLA 250GRS"},{"$f":"'[1]87-0-14'!E1917","v":"TF3"},{"$f":"'[1]87-0-14'!F1917","v":"GRASA AMARILLA"},{"$f":"'[1]87-0-14'!G1917*(1+$E$13)","v":3905.5969999999998}]
[{"$f":"'[1]87-0-14'!B1918","v":"GA450T"},{"$f":"'[1]87-0-14'!D1918","v":"GRAS AMARILLA 450GRS"},{"$f":"'[1]87-0-14'!E1918","v":"TF3"},{"$f":"'[1]87-0-14'!F1918","v":"GRASA AMARILLA"},{"$f":"'[1]87-0-14'!G1918*(1+$E$13)","v":6612.4550000000008}]
[{"$f":"'[1]87-0-14'!B1919","v":"GL100T"},{"$f":"'[1]87-0-14'!D1919","v":"GRASA LITIO 100 GRS"},{"$f":"'[1]87-0-14'!E1919","v":"TF3"},{"$f":"'[1]87-0-14'!F1919","v":"GRASA LITIO"},{"$f":"'[1]87-0-14'!G1919*(1+$E$13)","v":2099.0565000000001}]
[{"$f":"'[1]87-0-14'!B1920","v":"GL250T"},{"$f":"'[1]87-0-14'!D1920","v":"GRASA LITIO 250 GRS"},{"$f":"'[1]87-0-14'!E1920","v":"TF3"},{"$f":"'[1]87-0-14'!F1920","v":"GRASA LITIO"},{"$f":"'[1]87-0-14'!G1920*(1+$E$13)","v":3905.5969999999998}]
[{"$f":"'[1]87-0-14'!B1921","v":"GL450T"},{"$f":"'[1]87-0-14'!D1921","v":"GRASA LITIO 450 GRS"},{"$f":"'[1]87-0-14'!E1921","v":"TF3"},{"$f":"'[1]87-0-14'!F1921","v":"GRASA LITIO"},{"$f":"'[1]87-0-14'!G1921*(1+$E$13)","v":6612.4550000000008}]
[{"$f":"'[1]87-0-14'!B1922","v":"GL900T"},{"$f":"'[1]87-0-14'!D1922","v":"GRASA LITIO 900 GRS"},{"$f":"'[1]87-0-14'!E1922","v":"TF3"},{"$f":"'[1]87-0-14'!F1922","v":"GRASA LITIO"},{"$f":"'[1]87-0-14'!G1922*(1+$E$13)","v":11036.666500000001}]
[{"$f":"'[1]87-0-14'!B1923","v":"GBA"},{"$f":"'[1]87-0-14'!D1923","v":"GRIFO DE BRONCE"},{"$f":"'[1]87-0-14'!E1923","v":"ALIGAS"},{"$f":"'[1]87-0-14'!F1923","v":"GRIFO DE BRONCE"},{"$f":"'[1]87-0-14'!G1923*(1+$E$13)","v":10483.084000000001}]
[{"$f":"'[1]87-0-14'!B1924","v":"GCV"},{"$f":"'[1]87-0-14'!D1924","v":"GRIFO PVC PARA CALEFON"},{"$f":"'[1]87-0-14'!E1924","v":"VITAL GAS"},{"$f":"'[1]87-0-14'!F1924","v":"REPUESTO CALEFON"},{"$f":"'[1]87-0-14'!G1924*(1+$E$13)","v":977.72449999999992}]
[{"$f":"'[1]87-0-14'!B1925","v":"G6"},{"$f":"'[1]87-0-14'!D1925","v":"GRINFA N   6"},{"$f":"'[1]87-0-14'!E1925","v":"EL ROBLE"},{"$f":"'[1]87-0-14'!F1925","v":"GRINFA"},{"$f":"'[1]87-0-14'!G1925*(1+$E$13)","v":10182.26}]
[{"$f":"'[1]87-0-14'!B1926","v":"G8"},{"$f":"'[1]87-0-14'!D1926","v":"GRINFA N   8"},{"$f":"'[1]87-0-14'!E1926","v":"EL ROBLE"},{"$f":"'[1]87-0-14'!F1926","v":"GRINFA"},{"$f":"'[1]87-0-14'!G1926*(1+$E$13)","v":11622.690500000001}]
[{"$f":"'[1]87-0-14'!B1927","v":"G10"},{"$f":"'[1]87-0-14'!D1927","v":"GRINFA N  10"},{"$f":"'[1]87-0-14'!E1927","v":"EL ROBLE"},{"$f":"'[1]87-0-14'!F1927","v":"GRINFA"},{"$f":"'[1]87-0-14'!G1927*(1+$E$13)","v":13406.012000000002}]
[{"$f":"'[1]87-0-14'!B1928","v":"G12"},{"$f":"'[1]87-0-14'!D1928","v":"GRINFA N  12"},{"$f":"'[1]87-0-14'!E1928","v":"EL ROBLE"},{"$f":"'[1]87-0-14'!F1928","v":"GRINFA"},{"$f":"'[1]87-0-14'!G1928*(1+$E$13)","v":18088.004000000001}]
[{"$f":"'[1]87-0-14'!B1929","v":"G14"},{"$f":"'[1]87-0-14'!D1929","v":"GRINFA N  14"},{"$f":"'[1]87-0-14'!E1929","v":"EL ROBLE"},{"$f":"'[1]87-0-14'!F1929","v":"GRINFA"},{"$f":"'[1]87-0-14'!G1929*(1+$E$13)","v":19352.8815}]
[{"$f":"'[1]87-0-14'!B1930","v":"G16"},{"$f":"'[1]87-0-14'!D1930","v":"GRINFA N  16"},{"$f":"'[1]87-0-14'!E1930","v":"EL ROBLE"},{"$f":"'[1]87-0-14'!F1930","v":"GRINFA"},{"$f":"'[1]87-0-14'!G1930*(1+$E$13)","v":22444.124}]
[{"$f":"'[1]87-0-14'!B1931","v":"G18"},{"$f":"'[1]87-0-14'!D1931","v":"GRINFA N  18"},{"$f":"'[1]87-0-14'!E1931","v":"EL ROBLE"},{"$f":"'[1]87-0-14'!F1931","v":"GRINFA"},{"$f":"'[1]87-0-14'!G1931*(1+$E$13)","v":32176.481000000003}]
[{"$f":"'[1]87-0-14'!B1932","v":"G20"},{"$f":"'[1]87-0-14'!D1932","v":"GRINFA N  20"},{"$f":"'[1]87-0-14'!E1932","v":"EL ROBLE"},{"$f":"'[1]87-0-14'!F1932","v":"GRINFA"},{"$f":"'[1]87-0-14'!G1932*(1+$E$13)","v":43834.868000000002}]
[{"$f":"'[1]87-0-14'!B1933","v":"G6M"},{"$f":"'[1]87-0-14'!D1933","v":"GRINFA N  6"},{"$f":"'[1]87-0-14'!E1933","v":"MAZZUCA"},{"$f":"'[1]87-0-14'!F1933","v":"GRINFA"},{"$f":"'[1]87-0-14'!G1933*(1+$E$13)","v":14494.453000000001}]
[{"$f":"'[1]87-0-14'!B1934","v":"G8M"},{"$f":"'[1]87-0-14'!D1934","v":"GRINFA N  8"},{"$f":"'[1]87-0-14'!E1934","v":"MAZZUCA"},{"$f":"'[1]87-0-14'!F1934","v":"GRINFA"},{"$f":"'[1]87-0-14'!G1934*(1+$E$13)","v":15497.954000000002}]
[{"$f":"'[1]87-0-14'!B1935","v":"G10M"},{"$f":"'[1]87-0-14'!D1935","v":"GRINFA N 10"},{"$f":"'[1]87-0-14'!E1935","v":"MAZZUCA"},{"$f":"'[1]87-0-14'!F1935","v":"GRINFA"},{"$f":"'[1]87-0-14'!G1935*(1+$E$13)","v":17784.498500000002}]
[{"$f":"'[1]87-0-14'!B1936","v":"G12M"},{"$f":"'[1]87-0-14'!D1936","v":"GRINFA N 12"},{"$f":"'[1]87-0-14'!E1936","v":"MAZZUCA"},{"$f":"'[1]87-0-14'!F1936","v":"GRINFA"},{"$f":"'[1]87-0-14'!G1936*(1+$E$13)","v":24130.0435}]
[{"$f":"'[1]87-0-14'!B1937","v":"G14M"},{"$f":"'[1]87-0-14'!D1937","v":"GRINFA N 14"},{"$f":"'[1]87-0-14'!E1937","v":"MAZZUCA"},{"$f":"'[1]87-0-14'!F1937","v":"GRINFA"},{"$f":"'[1]87-0-14'!G1937*(1+$E$13)","v":25852.233}]
[{"$f":"'[1]87-0-14'!B1938","v":"G16M"},{"$f":"'[1]87-0-14'!D1938","v":"GRINFA N 16"},{"$f":"'[1]87-0-14'!E1938","v":"MAZZUCA"},{"$f":"'[1]87-0-14'!F1938","v":"GRINFA"},{"$f":"'[1]87-0-14'!G1938*(1+$E$13)","v":30000.156999999999}]
[{"$f":"'[1]87-0-14'!B1939","v":"G18M"},{"$f":"'[1]87-0-14'!D1939","v":"GRINFA N 18"},{"$f":"'[1]87-0-14'!E1939","v":"MAZZUCA"},{"$f":"'[1]87-0-14'!F1939","v":"GRINFA"},{"$f":"'[1]87-0-14'!G1939*(1+$E$13)","v":42983.065499999997}]
[{"$f":"'[1]87-0-14'!B1940","v":"G20M"},{"$f":"'[1]87-0-14'!D1940","v":"GRINFA N 20"},{"$f":"'[1]87-0-14'!E1940","v":"MAZZUCA"},{"$f":"'[1]87-0-14'!F1940","v":"GRINFA"},{"$f":"'[1]87-0-14'!G1940*(1+$E$13)","v":58626.238999999994}]
[{"$f":"'[1]87-0-14'!B1941","v":"GMPK"},{"$f":"'[1]87-0-14'!D1941","v":"GUANT BCO MOTEAD #PESADO#"},{"$f":"'[1]87-0-14'!E1941","v":"KUBIS"},{"$f":"'[1]87-0-14'!F1941","v":"GUANTE MOTEADO"},{"$f":"'[1]87-0-14'!G1941*(1+$E$13)","v":1150.6425000000002}]
[{"$f":"'[1]87-0-14'!B1942","v":"GCCT"},{"$f":"'[1]87-0-14'!D1942","v":"GUANT COM/DOMES CHIC"},{"$f":"'[1]87-0-14'!E1942","v":"TA-CO"},{"$f":"'[1]87-0-14'!F1942","v":"GUANTE DOMESTICO"},{"$f":"'[1]87-0-14'!G1942*(1+$E$13)","v":5721.8715000000002}]
[{"$f":"'[1]87-0-14'!B1943","v":"GCGT"},{"$f":"'[1]87-0-14'!D1943","v":"GUANT COM/DOMES GRAN"},{"$f":"'[1]87-0-14'!E1943","v":"TA-CO"},{"$f":"'[1]87-0-14'!F1943","v":"GUANTE DOMESTICO"},{"$f":"'[1]87-0-14'!G1943*(1+$E$13)","v":5721.8715000000002}]
[{"$f":"'[1]87-0-14'!B1944","v":"GCMT"},{"$f":"'[1]87-0-14'!D1944","v":"GUANT COM/DOMES MEDI"},{"$f":"'[1]87-0-14'!E1944","v":"TA-CO"},{"$f":"'[1]87-0-14'!F1944","v":"GUANTE DOMESTICO"},{"$f":"'[1]87-0-14'!G1944*(1+$E$13)","v":5721.8715000000002}]
[{"$f":"'[1]87-0-14'!B1945","v":"GACT"},{"$f":"'[1]87-0-14'!D1945","v":"GUANT DOM/AFELP CHIC"},{"$f":"'[1]87-0-14'!E1945","v":"TA-CO"},{"$f":"'[1]87-0-14'!F1945","v":"GUANTE AFELPADO"},{"$f":"'[1]87-0-14'!G1945*(1+$E$13)","v":60527.577500000007}]
[{"$f":"'[1]87-0-14'!B1946","v":"GAGT"},{"$f":"'[1]87-0-14'!D1946","v":"GUANT DOM/AFELP GRAN"},{"$f":"'[1]87-0-14'!E1946","v":"TA-CO"},{"$f":"'[1]87-0-14'!F1946","v":"GUANTE AFELPADO"},{"$f":"'[1]87-0-14'!G1946*(1+$E$13)","v":60527.577500000007}]
[{"$f":"'[1]87-0-14'!B1947","v":"GAMT"},{"$f":"'[1]87-0-14'!D1947","v":"GUANT DOM/AFELP MEDI"},{"$f":"'[1]87-0-14'!E1947","v":"TA-CO"},{"$f":"'[1]87-0-14'!F1947","v":"GUANTE AFELPADO"},{"$f":"'[1]87-0-14'!G1947*(1+$E$13)","v":60527.577500000007}]
[{"$f":"'[1]87-0-14'!B1948","v":"GNMK"},{"$f":"'[1]87-0-14'!D1948","v":"GUANTE #NEGRO# MOTEADO"},{"$f":"'[1]87-0-14'!E1948","v":"KUBIS"},{"$f":"'[1]87-0-14'!F1948","v":"GUANTE MOTEADO"},{"$f":"'[1]87-0-14'!G1948*(1+$E$13)","v":1168.4985000000001}]
[{"$f":"'[1]87-0-14'!B1949","v":"GMCK"},{"$f":"'[1]87-0-14'!D1949","v":"GUANTE BLANCO MOTEADO CO"},{"$f":"'[1]87-0-14'!E1949","v":"KUBIS"},{"$f":"'[1]87-0-14'!F1949","v":"GUANTE MOTEADO"},{"$f":"'[1]87-0-14'!G1949*(1+$E$13)","v":1043.4755}]
[{"$f":"'[1]87-0-14'!B1950","v":"GCTK"},{"$f":"'[1]87-0-14'!D1950","v":"GUANTE COMBINA CUERO/TELA"},{"$f":"'[1]87-0-14'!E1950","v":"KUBIS"},{"$f":"'[1]87-0-14'!F1950","v":"GUANTE"},{"$f":"'[1]87-0-14'!G1950*(1+$E$13)","v":3010.5340000000001}]
[{"$f":"'[1]87-0-14'!B1951","v":"GL8"},{"$f":"'[1]87-0-14'!D1951","v":"GUANTE LIV. 8"},{"$f":"'[1]87-0-14'!E1951","v":"TA-CO"},{"$f":"'[1]87-0-14'!F1951","v":"GUANTE LIV"},{"$f":"'[1]87-0-14'!G1951*(1+$E$13)","v":7497.3344999999999}]
[{"$f":"'[1]87-0-14'!B1952","v":"GL812"},{"$f":"'[1]87-0-14'!D1952","v":"GUANTE LIV. 8 1/2"},{"$f":"'[1]87-0-14'!E1952","v":"TA-CO"},{"$f":"'[1]87-0-14'!F1952","v":"GUANTE LIV"},{"$f":"'[1]87-0-14'!G1952*(1+$E$13)","v":7497.3344999999999}]
[{"$f":"'[1]87-0-14'!B1953","v":"GL9"},{"$f":"'[1]87-0-14'!D1953","v":"GUANTE LIV. 9"},{"$f":"'[1]87-0-14'!E1953","v":"TA-CO"},{"$f":"'[1]87-0-14'!F1953","v":"GUANTE LIV"},{"$f":"'[1]87-0-14'!G1953*(1+$E$13)","v":7497.3344999999999}]
[{"$f":"'[1]87-0-14'!B1954","v":"GL912"},{"$f":"'[1]87-0-14'!D1954","v":"GUANTE LIV. 9 1/2"},{"$f":"'[1]87-0-14'!E1954","v":"TA-CO"},{"$f":"'[1]87-0-14'!F1954","v":"GUANTE LIV"},{"$f":"'[1]87-0-14'!G1954*(1+$E$13)","v":7497.3344999999999}]
[{"$f":"'[1]87-0-14'!B1955","v":"GL10"},{"$f":"'[1]87-0-14'!D1955","v":"GUANTE LIV.10"},{"$f":"'[1]87-0-14'!E1955","v":"TA-CO"},{"$f":"'[1]87-0-14'!F1955","v":"GUANTE LIV"},{"$f":"'[1]87-0-14'!G1955*(1+$E$13)","v":7497.3344999999999}]
[{"$f":"'[1]87-0-14'!B1956","v":"GL1012"},{"$f":"'[1]87-0-14'!D1956","v":"GUANTE LIV.10 1/2"},{"$f":"'[1]87-0-14'!E1956","v":"TA-CO"},{"$f":"'[1]87-0-14'!F1956","v":"GUANTE LIV"},{"$f":"'[1]87-0-14'!G1956*(1+$E$13)","v":7497.3344999999999}]
[{"$f":"'[1]87-0-14'!B1957","v":"GL11"},{"$f":"'[1]87-0-14'!D1957","v":"GUANTE LIV.11"},{"$f":"'[1]87-0-14'!E1957","v":"TA-CO"},{"$f":"'[1]87-0-14'!F1957","v":"GUANTE LIV"},{"$f":"'[1]87-0-14'!G1957*(1+$E$13)","v":7497.3344999999999}]
[{"$f":"'[1]87-0-14'!B1958","v":"GNR"},{"$f":"'[1]87-0-14'!D1958","v":"GUANTE MULTIUSO NITRILO"},{"$f":"'[1]87-0-14'!E1958","v":"TA-CO"},{"$f":"'[1]87-0-14'!F1958","v":"GUANTE NITRILO"},{"$f":"'[1]87-0-14'!G1958*(1+$E$13)","v":30172.377499999999}]
[{"$f":"'[1]87-0-14'!B1959","v":"GP8"},{"$f":"'[1]87-0-14'!D1959","v":"GUANTE PES. 8"},{"$f":"'[1]87-0-14'!E1959","v":"TA-CO"},{"$f":"'[1]87-0-14'!F1959","v":"GUANTE PES"},{"$f":"'[1]87-0-14'!G1959*(1+$E$13)","v":11878.487000000001}]
[{"$f":"'[1]87-0-14'!B1960","v":"GP812"},{"$f":"'[1]87-0-14'!D1960","v":"GUANTE PES. 8 1/2"},{"$f":"'[1]87-0-14'!E1960","v":"TA-CO"},{"$f":"'[1]87-0-14'!F1960","v":"GUANTE PES"},{"$f":"'[1]87-0-14'!G1960*(1+$E$13)","v":11878.487000000001}]
[{"$f":"'[1]87-0-14'!B1961","v":"GP9T"},{"$f":"'[1]87-0-14'!D1961","v":"GUANTE PES. 9"},{"$f":"'[1]87-0-14'!E1961","v":"TA-CO"},{"$f":"'[1]87-0-14'!F1961","v":"GUANTE PES"},{"$f":"'[1]87-0-14'!G1961*(1+$E$13)","v":11878.487000000001}]
[{"$f":"'[1]87-0-14'!B1962","v":"GP912"},{"$f":"'[1]87-0-14'!D1962","v":"GUANTE PES. 9 1/2"},{"$f":"'[1]87-0-14'!E1962","v":"TA-CO"},{"$f":"'[1]87-0-14'!F1962","v":"GUANTE PES"},{"$f":"'[1]87-0-14'!G1962*(1+$E$13)","v":11878.487000000001}]
[{"$f":"'[1]87-0-14'!B1963","v":"GP10"},{"$f":"'[1]87-0-14'!D1963","v":"GUANTE PES.10"},{"$f":"'[1]87-0-14'!E1963","v":"TA-CO"},{"$f":"'[1]87-0-14'!F1963","v":"GUANTE PES"},{"$f":"'[1]87-0-14'!G1963*(1+$E$13)","v":11878.487000000001}]
[{"$f":"'[1]87-0-14'!B1964","v":"GP1012"},{"$f":"'[1]87-0-14'!D1964","v":"GUANTE PES.10 1/2"},{"$f":"'[1]87-0-14'!E1964","v":"TA-CO"},{"$f":"'[1]87-0-14'!F1964","v":"GUANTE PES"},{"$f":"'[1]87-0-14'!G1964*(1+$E$13)","v":11878.487000000001}]
[{"$f":"'[1]87-0-14'!B1965","v":"GP11"},{"$f":"'[1]87-0-14'!D1965","v":"GUANTE PES.11"},{"$f":"'[1]87-0-14'!E1965","v":"TA-CO"},{"$f":"'[1]87-0-14'!F1965","v":"GUANTE PES"},{"$f":"'[1]87-0-14'!G1965*(1+$E$13)","v":11878.487000000001}]
[{"$f":"'[1]87-0-14'!B1966","v":"GR1012T"},{"$f":"'[1]87-0-14'!D1966","v":"GUANTE PVC ROJO/VER 101/2"},{"$f":"'[1]87-0-14'!E1966","v":"TA-CO"},{"$f":"'[1]87-0-14'!F1966","v":"GUANTE ROJO"},{"$f":"'[1]87-0-14'!G1966*(1+$E$13)","v":18736.322500000002}]
[{"$f":"'[1]87-0-14'!B1967","v":"GR912T"},{"$f":"'[1]87-0-14'!D1967","v":"GUANTE PVC ROJO/VERD 91/2"},{"$f":"'[1]87-0-14'!E1967","v":"TA-CO"},{"$f":"'[1]87-0-14'!F1967","v":"GUANTE ROJO"},{"$f":"'[1]87-0-14'!G1967*(1+$E$13)","v":18736.322500000002}]
[{"$f":"'[1]87-0-14'!B1968","v":"HCCV"},{"$f":"'[1]87-0-14'!D1968","v":"HACHA TUMBA *CON CABO*"},{"$f":"'[1]87-0-14'!E1968","v":"VIRGA"},{"$f":"'[1]87-0-14'!F1968","v":"HACHA"},{"$f":"'[1]87-0-14'!G1968*(1+$E$13)","v":72960.71650000001}]
[{"$f":"'[1]87-0-14'!B1969","v":"HTCCG"},{"$f":"'[1]87-0-14'!D1969","v":"HACHA TUMBA CON CABO"},{"$f":"'[1]87-0-14'!E1969","v":"GHERARDI"},{"$f":"'[1]87-0-14'!F1969","v":"HACHA"},{"$f":"'[1]87-0-14'!G1969*(1+$E$13)","v":101690.38499999999}]
[{"$f":"'[1]87-0-14'!B1970","v":"HTSCG"},{"$f":"'[1]87-0-14'!D1970","v":"HACHA TUMBA SIN CABO"},{"$f":"'[1]87-0-14'!E1970","v":"GHERARDI"},{"$f":"'[1]87-0-14'!F1970","v":"HACHA"},{"$f":"'[1]87-0-14'!G1970*(1+$E$13)","v":78935.625499999995}]
[{"$f":"'[1]87-0-14'!B1971","v":"HVM"},{"$f":"'[1]87-0-14'!D1971","v":"HACHITA VIZCAINA"},{"$f":"'[1]87-0-14'!E1971","v":"VIRGA"},{"$f":"'[1]87-0-14'!F1971","v":"HACHITA"},{"$f":"'[1]87-0-14'!G1971*(1+$E$13)","v":24866.216}]
[{"$f":"'[1]87-0-14'!B1972","v":"HV600G"},{"$f":"'[1]87-0-14'!D1972","v":"HACHITA VIZCAINA 600gr"},{"$f":"'[1]87-0-14'!E1972","v":"GHERARDI"},{"$f":"'[1]87-0-14'!F1972","v":"HACHITA"},{"$f":"'[1]87-0-14'!G1972*(1+$E$13)","v":54402.75250000001}]
[{"$f":"'[1]87-0-14'!B1973","v":"HAM"},{"$f":"'[1]87-0-14'!D1973","v":"HACHUELA ALBANIL"},{"$f":"'[1]87-0-14'!E1973","v":"MAZZUCA"},{"$f":"'[1]87-0-14'!F1973","v":"HACHUELA ALBAÑIL"},{"$f":"'[1]87-0-14'!G1973*(1+$E$13)","v":21817.505499999999}]
[{"$f":"'[1]87-0-14'!B1974","v":"HA"},{"$f":"'[1]87-0-14'!D1974","v":"HACHUELA ALBANIL"},{"$f":"'[1]87-0-14'!E1974","v":"EL ROBLE"},{"$f":"'[1]87-0-14'!F1974","v":"HACHUELA ALBAÑIL"},{"$f":"'[1]87-0-14'!G1974*(1+$E$13)","v":15174.918500000002}]
[{"$f":"'[1]87-0-14'!B1975","v":"HAZ"},{"$f":"'[1]87-0-14'!D1975","v":"HACHUELA AZULEJISTA"},{"$f":"'[1]87-0-14'!E1975","v":"EL ROBLE"},{"$f":"'[1]87-0-14'!F1975","v":"HACHUELA AZULEJIS"},{"$f":"'[1]87-0-14'!G1975*(1+$E$13)","v":14878.217500000001}]
[{"$f":"'[1]87-0-14'!B1976","v":"HAZM"},{"$f":"'[1]87-0-14'!D1976","v":"HACHUELA AZULEJISTA"},{"$f":"'[1]87-0-14'!E1976","v":"MAZZUCA"},{"$f":"'[1]87-0-14'!F1976","v":"HACHUELA AZULEJIS"},{"$f":"'[1]87-0-14'!G1976*(1+$E$13)","v":22237.261000000002}]
[{"$f":"'[1]87-0-14'!B1977","v":"HC42A"},{"$f":"'[1]87-0-14'!D1977","v":"HIERRO CEPILLO N  42"},{"$f":"'[1]87-0-14'!E1977","v":"ANEMI"},{"$f":"'[1]87-0-14'!F1977","v":"HIERRO CEPILLO"},{"$f":"'[1]87-0-14'!G1977*(1+$E$13)","v":54667.755999999994}]
[{"$f":"'[1]87-0-14'!B1978","v":"HC44A"},{"$f":"'[1]87-0-14'!D1978","v":"HIERRO CEPILLO N  44"},{"$f":"'[1]87-0-14'!E1978","v":"ANEMI"},{"$f":"'[1]87-0-14'!F1978","v":"HIERRO CEPILLO"},{"$f":"'[1]87-0-14'!G1978*(1+$E$13)","v":54667.755999999994}]
[{"$f":"'[1]87-0-14'!B1979","v":"HC46A"},{"$f":"'[1]87-0-14'!D1979","v":"HIERRO CEPILLO N  46"},{"$f":"'[1]87-0-14'!E1979","v":"ANEMI"},{"$f":"'[1]87-0-14'!F1979","v":"HIERRO CEPILLO"},{"$f":"'[1]87-0-14'!G1979*(1+$E$13)","v":54667.755999999994}]
[{"$f":"'[1]87-0-14'!B1980","v":"HC48A"},{"$f":"'[1]87-0-14'!D1980","v":"HIERRO CEPILLO N  48"},{"$f":"'[1]87-0-14'!E1980","v":"ANEMI"},{"$f":"'[1]87-0-14'!F1980","v":"HIERRO CEPILLO"},{"$f":"'[1]87-0-14'!G1980*(1+$E$13)","v":54667.755999999994}]
[{"$f":"'[1]87-0-14'!B1981","v":"HC50A"},{"$f":"'[1]87-0-14'!D1981","v":"HIERRO CEPILLO N  50"},{"$f":"'[1]87-0-14'!E1981","v":"ANEMI"},{"$f":"'[1]87-0-14'!F1981","v":"HIERRO CEPILLO"},{"$f":"'[1]87-0-14'!G1981*(1+$E$13)","v":54667.755999999994}]
[{"$f":"'[1]87-0-14'!B1982","v":"HA50BR"},{"$f":"'[1]87-0-14'!D1982","v":"HILO ALGODON  50 Gr."},{"$f":"'[1]87-0-14'!E1982","v":"SELSA"},{"$f":"'[1]87-0-14'!F1982","v":"HILO ALGODON"},{"$f":"'[1]87-0-14'!G1982*(1+$E$13)","v":8284.5174999999999}]
[{"$f":"'[1]87-0-14'!B1983","v":"HA100BR"},{"$f":"'[1]87-0-14'!D1983","v":"HILO ALGODON 100 Gr."},{"$f":"'[1]87-0-14'!E1983","v":"SELSA"},{"$f":"'[1]87-0-14'!F1983","v":"HILO ALGODON"},{"$f":"'[1]87-0-14'!G1983*(1+$E$13)","v":16569.035}]
[{"$f":"'[1]87-0-14'!B1984","v":"HA300BR"},{"$f":"'[1]87-0-14'!D1984","v":"HILO ALGODON 300 Gr."},{"$f":"'[1]87-0-14'!E1984","v":"SELSA"},{"$f":"'[1]87-0-14'!F1984","v":"HILO ALGODON"},{"$f":"'[1]87-0-14'!G1984*(1+$E$13)","v":4162.6335000000008}]
[{"$f":"'[1]87-0-14'!B1985","v":"HC50BR"},{"$f":"'[1]87-0-14'!D1985","v":"HILO CHORICERO  50 G"},{"$f":"'[1]87-0-14'!E1985","v":"SELSA"},{"$f":"'[1]87-0-14'!F1985","v":"HILO CHORICERO"},{"$f":"'[1]87-0-14'!G1985*(1+$E$13)","v":10266.301000000001}]
[{"$f":"'[1]87-0-14'!B1986","v":"HC100BR"},{"$f":"'[1]87-0-14'!D1986","v":"HILO CHORICERO 100 G"},{"$f":"'[1]87-0-14'!E1986","v":"SELSA"},{"$f":"'[1]87-0-14'!F1986","v":"HILO CHORICERO"},{"$f":"'[1]87-0-14'!G1986*(1+$E$13)","v":20532.633000000002}]
[{"$f":"'[1]87-0-14'!B1987","v":"HSF"},{"$f":"'[1]87-0-14'!D1987","v":"HILO SISAL FINO"},{"$f":"'[1]87-0-14'!E1987","v":"SELSA"},{"$f":"'[1]87-0-14'!F1987","v":"HILO SISAL"},{"$f":"'[1]87-0-14'!G1987*(1+$E$13)","v":280446.86300000001}]
[{"$f":"'[1]87-0-14'!B1988","v":"HSG"},{"$f":"'[1]87-0-14'!D1988","v":"HILO SISAL GRUESO"},{"$f":"'[1]87-0-14'!E1988","v":"SELSA"},{"$f":"'[1]87-0-14'!F1988","v":"HILO SISAL"},{"$f":"'[1]87-0-14'!G1988*(1+$E$13)","v":658116.28250000009}]
[{"$f":"'[1]87-0-14'!B1989","v":"HSM"},{"$f":"'[1]87-0-14'!D1989","v":"HILO SISAL MEDIANO"},{"$f":"'[1]87-0-14'!E1989","v":"SELSA"},{"$f":"'[1]87-0-14'!F1989","v":"HILO SISAL"},{"$f":"'[1]87-0-14'!G1989*(1+$E$13)","v":411322.67849999998}]
[{"$f":"'[1]87-0-14'!B1990","v":"HC5014S"},{"$f":"'[1]87-0-14'!D1990","v":"HO CALA C/CUR MULT  50x14"},{"$f":"'[1]87-0-14'!E1990","v":"SIN-PAR"},{"$f":"'[1]87-0-14'!F1990","v":"HOJA CALADORA"},{"$f":"'[1]87-0-14'!G1990*(1+$E$13)","v":56117.843000000001}]
[{"$f":"'[1]87-0-14'!B1991","v":"HC5018S"},{"$f":"'[1]87-0-14'!D1991","v":"HO CALA C/CUR MULT  50x18"},{"$f":"'[1]87-0-14'!E1991","v":"SIN-PAR"},{"$f":"'[1]87-0-14'!F1991","v":"HOJA CALADORA"},{"$f":"'[1]87-0-14'!G1991*(1+$E$13)","v":56119.269000000008}]
[{"$f":"'[1]87-0-14'!B1992","v":"HC10018S"},{"$f":"'[1]87-0-14'!D1992","v":"HO CALA C/REC MULT 100x18"},{"$f":"'[1]87-0-14'!E1992","v":"SIN-PAR"},{"$f":"'[1]87-0-14'!F1992","v":"HOJA CALADORA"},{"$f":"'[1]87-0-14'!G1992*(1+$E$13)","v":85424.049500000008}]
[{"$f":"'[1]87-0-14'!B1993","v":"HC1006S"},{"$f":"'[1]87-0-14'!D1993","v":"HO CALA C/RECT MADE 100X6"},{"$f":"'[1]87-0-14'!E1993","v":"SIN-PAR"},{"$f":"'[1]87-0-14'!F1993","v":"HOJA CALADORA"},{"$f":"'[1]87-0-14'!G1993*(1+$E$13)","v":97272.544000000009}]
[{"$f":"'[1]87-0-14'!B1994","v":"HC758S"},{"$f":"'[1]87-0-14'!D1994","v":"HO CALAD C/CUR MADE  75x8"},{"$f":"'[1]87-0-14'!E1994","v":"SIN-PAR"},{"$f":"'[1]87-0-14'!F1994","v":"HOJA CALADORA"},{"$f":"'[1]87-0-14'!G1994*(1+$E$13)","v":80138.720000000001}]
[{"$f":"'[1]87-0-14'!B1995","v":"H3002510"},{"$f":"'[1]87-0-14'!D1995","v":"HO SER/MEC 300x25x10"},{"$f":"'[1]87-0-14'!E1995","v":"SIN-PAR"},{"$f":"'[1]87-0-14'!F1995","v":"HOJA SERRUCHO"},{"$f":"'[1]87-0-14'!G1995*(1+$E$13)","v":64417.333500000001}]
[{"$f":"'[1]87-0-14'!B1996","v":"H3002514"},{"$f":"'[1]87-0-14'!D1996","v":"HO SER/MEC 300x25x14"},{"$f":"'[1]87-0-14'!E1996","v":"SIN-PAR"},{"$f":"'[1]87-0-14'!F1996","v":"HOJA SERRUCHO"},{"$f":"'[1]87-0-14'!G1996*(1+$E$13)","v":64417.333500000001}]
[{"$f":"'[1]87-0-14'!B1997","v":"H3502510"},{"$f":"'[1]87-0-14'!D1997","v":"HO SER/MEC 350x25x10"},{"$f":"'[1]87-0-14'!E1997","v":"SIN-PAR"},{"$f":"'[1]87-0-14'!F1997","v":"HOJA SERRUCHO"},{"$f":"'[1]87-0-14'!G1997*(1+$E$13)","v":75789.233999999997}]
[{"$f":"'[1]87-0-14'!B1998","v":"H3502514"},{"$f":"'[1]87-0-14'!D1998","v":"HO SER/MEC 350x25x14"},{"$f":"'[1]87-0-14'!E1998","v":"SIN-PAR"},{"$f":"'[1]87-0-14'!F1998","v":"HOJA SERRUCHO"},{"$f":"'[1]87-0-14'!G1998*(1+$E$13)","v":75789.233999999997}]
[{"$f":"'[1]87-0-14'!B1999","v":"H3503210"},{"$f":"'[1]87-0-14'!D1999","v":"HO SER/MEC 350x32x10"},{"$f":"'[1]87-0-14'!E1999","v":"SIN-PAR"},{"$f":"'[1]87-0-14'!F1999","v":"HOJA SERRUCHO"},{"$f":"'[1]87-0-14'!G1999*(1+$E$13)","v":117212.86}]
[{"$f":"'[1]87-0-14'!B2000","v":"H350326S"},{"$f":"'[1]87-0-14'!D2000","v":"HO SER/MEC 350x32x6"},{"$f":"'[1]87-0-14'!E2000","v":"SIN-PAR"},{"$f":"'[1]87-0-14'!F2000","v":"HOJA SERRUCHO"},{"$f":"'[1]87-0-14'!G2000*(1+$E$13)","v":117212.86}]
[{"$f":"'[1]87-0-14'!B2001","v":"H4003210"},{"$f":"'[1]87-0-14'!D2001","v":"HO SER/MEC 400x32x10"},{"$f":"'[1]87-0-14'!E2001","v":"SIN-PAR"},{"$f":"'[1]87-0-14'!F2001","v":"HOJA SERRUCHO"},{"$f":"'[1]87-0-14'!G2001*(1+$E$13)","v":140135.43800000002}]
[{"$f":"'[1]87-0-14'!B2002","v":"H400326S"},{"$f":"'[1]87-0-14'!D2002","v":"HO SER/MEC 400x32x6"},{"$f":"'[1]87-0-14'!E2002","v":"SIN-PAR"},{"$f":"'[1]87-0-14'!F2002","v":"HOJA SERRUCHO"},{"$f":"'[1]87-0-14'!G2002*(1+$E$13)","v":140135.43800000002}]
[{"$f":"'[1]87-0-14'!B2003","v":"H450324S"},{"$f":"'[1]87-0-14'!D2003","v":"HO SER/MEC 450x32x 4"},{"$f":"'[1]87-0-14'!E2003","v":"SIN-PAR"},{"$f":"'[1]87-0-14'!F2003","v":"HOJA SERRUCHO"},{"$f":"'[1]87-0-14'!G2003*(1+$E$13)","v":154996.41950000002}]
[{"$f":"'[1]87-0-14'!B2004","v":"H450326S"},{"$f":"'[1]87-0-14'!D2004","v":"HO SER/MEC 450x32x 6"},{"$f":"'[1]87-0-14'!E2004","v":"SIN-PAR"},{"$f":"'[1]87-0-14'!F2004","v":"HOJA SERRUCHO"},{"$f":"'[1]87-0-14'!G2004*(1+$E$13)","v":154996.41950000002}]
[{"$f":"'[1]87-0-14'!B2005","v":"H4503210"},{"$f":"'[1]87-0-14'!D2005","v":"HO SER/MEC 450x32x10"},{"$f":"'[1]87-0-14'!E2005","v":"SIN-PAR"},{"$f":"'[1]87-0-14'!F2005","v":"HOJA SERRUCHO"},{"$f":"'[1]87-0-14'!G2005*(1+$E$13)","v":154996.41950000002}]
[{"$f":"'[1]87-0-14'!B2006","v":"H525386S"},{"$f":"'[1]87-0-14'!D2006","v":"HO SER/MEC 525X38X 6"},{"$f":"'[1]87-0-14'!E2006","v":"SIN-PAR"},{"$f":"'[1]87-0-14'!F2006","v":"HOJA SERRUCHO"},{"$f":"'[1]87-0-14'!G2006*(1+$E$13)","v":258504.59800000003}]
[{"$f":"'[1]87-0-14'!B2007","v":"HSAC18S"},{"$f":"'[1]87-0-14'!D2007","v":"HOJA SIER A/CARBO 18"},{"$f":"'[1]87-0-14'!E2007","v":"SIN-PAR"},{"$f":"'[1]87-0-14'!F2007","v":"HOJA DE SIERRA"},{"$f":"'[1]87-0-14'!G2007*(1+$E$13)","v":2688.94}]
[{"$f":"'[1]87-0-14'!B2008","v":"HSAC24S"},{"$f":"'[1]87-0-14'!D2008","v":"HOJA SIER A/CARBO 24"},{"$f":"'[1]87-0-14'!E2008","v":"SIN-PAR"},{"$f":"'[1]87-0-14'!F2008","v":"HOJA DE SIERRA"},{"$f":"'[1]87-0-14'!G2008*(1+$E$13)","v":2688.94}]
[{"$f":"'[1]87-0-14'!B2009","v":"HSAC32S"},{"$f":"'[1]87-0-14'!D2009","v":"HOJA SIER A/CARBO 32"},{"$f":"'[1]87-0-14'!E2009","v":"SIN-PAR"},{"$f":"'[1]87-0-14'!F2009","v":"HOJA DE SIERRA"},{"$f":"'[1]87-0-14'!G2009*(1+$E$13)","v":2688.94}]
[{"$f":"'[1]87-0-14'!B2010","v":"HSAR18S"},{"$f":"'[1]87-0-14'!D2010","v":"HOJA SIER A/RAPID 18"},{"$f":"'[1]87-0-14'!E2010","v":"SIN-PAR"},{"$f":"'[1]87-0-14'!F2010","v":"HOJA DE SIERRA"},{"$f":"'[1]87-0-14'!G2010*(1+$E$13)","v":3339.9555}]
[{"$f":"'[1]87-0-14'!B2011","v":"HSAR24S"},{"$f":"'[1]87-0-14'!D2011","v":"HOJA SIER A/RAPID 24"},{"$f":"'[1]87-0-14'!E2011","v":"SIN-PAR"},{"$f":"'[1]87-0-14'!F2011","v":"HOJA DE SIERRA"},{"$f":"'[1]87-0-14'!G2011*(1+$E$13)","v":3339.9555}]
[{"$f":"'[1]87-0-14'!B2012","v":"HSAR32S"},{"$f":"'[1]87-0-14'!D2012","v":"HOJA SIER A/RAPID 32"},{"$f":"'[1]87-0-14'!E2012","v":"SIN-PAR"},{"$f":"'[1]87-0-14'!F2012","v":"HOJA DE SIERRA"},{"$f":"'[1]87-0-14'!G2012*(1+$E$13)","v":3339.9555}]
[{"$f":"'[1]87-0-14'!B2013","v":"HSB18S"},{"$f":"'[1]87-0-14'!D2013","v":"HOJA SIER BIMETAL 18"},{"$f":"'[1]87-0-14'!E2013","v":"SIN-PAR"},{"$f":"'[1]87-0-14'!F2013","v":"HOJA DE SIERRA"},{"$f":"'[1]87-0-14'!G2013*(1+$E$13)","v":2858.7734999999998}]
[{"$f":"'[1]87-0-14'!B2014","v":"HSB24S"},{"$f":"'[1]87-0-14'!D2014","v":"HOJA SIER BIMETAL 24"},{"$f":"'[1]87-0-14'!E2014","v":"SIN-PAR"},{"$f":"'[1]87-0-14'!F2014","v":"HOJA DE SIERRA"},{"$f":"'[1]87-0-14'!G2014*(1+$E$13)","v":2858.7734999999998}]
[{"$f":"'[1]87-0-14'!B2015","v":"HSB32S"},{"$f":"'[1]87-0-14'!D2015","v":"HOJA SIER BIMETAL 32"},{"$f":"'[1]87-0-14'!E2015","v":"SIN-PAR"},{"$f":"'[1]87-0-14'!F2015","v":"HOJA DE SIERRA"},{"$f":"'[1]87-0-14'!G2015*(1+$E$13)","v":2858.7734999999998}]
[{"$f":"'[1]87-0-14'!B2016","v":"HSF18S"},{"$f":"'[1]87-0-14'!D2016","v":"HOJA SIERRA #A/R FLEX# 18"},{"$f":"'[1]87-0-14'!E2016","v":"SIN-PAR"},{"$f":"'[1]87-0-14'!F2016","v":"HOJA DE SIERRA"},{"$f":"'[1]87-0-14'!G2016*(1+$E$13)","v":2858.7734999999998}]
[{"$f":"'[1]87-0-14'!B2017","v":"HSF24S"},{"$f":"'[1]87-0-14'!D2017","v":"HOJA SIERRA #A/R FLEX# 24"},{"$f":"'[1]87-0-14'!E2017","v":"SIN-PAR"},{"$f":"'[1]87-0-14'!F2017","v":"HOJA DE SIERRA"},{"$f":"'[1]87-0-14'!G2017*(1+$E$13)","v":2858.7734999999998}]
[{"$f":"'[1]87-0-14'!B2018","v":"HSF32S"},{"$f":"'[1]87-0-14'!D2018","v":"HOJA SIERRA #A/R FLEX# 32"},{"$f":"'[1]87-0-14'!E2018","v":"SIN-PAR"},{"$f":"'[1]87-0-14'!F2018","v":"HOJA DE SIERRA"},{"$f":"'[1]87-0-14'!G2018*(1+$E$13)","v":2858.7734999999998}]
[{"$f":"'[1]87-0-14'!B2019","v":"HSJS"},{"$f":"'[1]87-0-14'!D2019","v":"HOJA SIERRA JUNIOR"},{"$f":"'[1]87-0-14'!E2019","v":"SIN-PAR"},{"$f":"'[1]87-0-14'!F2019","v":"HOJA DE SIERRA"},{"$f":"'[1]87-0-14'!G2019*(1+$E$13)","v":1698.2730000000001}]
[{"$f":"'[1]87-0-14'!B2020","v":"HED"},{"$f":"'[1]87-0-14'!D2020","v":"HORMIG 400lt M/EXPLOSION"},{"$f":"'[1]87-0-14'!E2020","v":"DUROLL"},{"$f":"'[1]87-0-14'!F2020","v":"HORMIGONERA"},{"$f":"'[1]87-0-14'!G2020*(1+$E$13)","v":5871913.6855000006}]
[{"$f":"'[1]87-0-14'!B2021","v":"HMD"},{"$f":"'[1]87-0-14'!D2021","v":"HORMIG 400lt M/MONOFASICO"},{"$f":"'[1]87-0-14'!E2021","v":"DUROLL"},{"$f":"'[1]87-0-14'!F2021","v":"HORMIGONERA"},{"$f":"'[1]87-0-14'!G2021*(1+$E$13)","v":5866004.4654999999}]
[{"$f":"'[1]87-0-14'!B2022","v":"HTD"},{"$f":"'[1]87-0-14'!D2022","v":"HORMIG 400lt M/TRIFASICO"},{"$f":"'[1]87-0-14'!E2022","v":"DUROLL"},{"$f":"'[1]87-0-14'!F2022","v":"HORMIGONERA"},{"$f":"'[1]87-0-14'!G2022*(1+$E$13)","v":5663974.0089999996}]
[{"$f":"'[1]87-0-14'!B2023","v":"HM130D"},{"$f":"'[1]87-0-14'!D2023","v":"HORMIGONERA R/MACIZA 130l"},{"$f":"'[1]87-0-14'!E2023","v":"DUROLL"},{"$f":"'[1]87-0-14'!F2023","v":"HORMIGONERA"},{"$f":"'[1]87-0-14'!G2023*(1+$E$13)","v":878580.03649999993}]
[{"$f":"'[1]87-0-14'!B2024","v":"HM150D"},{"$f":"'[1]87-0-14'!D2024","v":"HORMIGONERA R/MACIZA 150l"},{"$f":"'[1]87-0-14'!E2024","v":"DUROLL"},{"$f":"'[1]87-0-14'!F2024","v":"HORMIGONERA"},{"$f":"'[1]87-0-14'!G2024*(1+$E$13)","v":1118004.925}]
[{"$f":"'[1]87-0-14'!B2025","v":"HN130D"},{"$f":"'[1]87-0-14'!D2025","v":"HORMIGONERA R/NEUMATI 130"},{"$f":"'[1]87-0-14'!E2025","v":"DUROLL"},{"$f":"'[1]87-0-14'!F2025","v":"HORMIGONERA"},{"$f":"'[1]87-0-14'!G2025*(1+$E$13)","v":981064.44000000006}]
[{"$f":"'[1]87-0-14'!B2026","v":"HN150D"},{"$f":"'[1]87-0-14'!D2026","v":"HORMIGONERA R/NEUMATI 150"},{"$f":"'[1]87-0-14'!E2026","v":"DUROLL"},{"$f":"'[1]87-0-14'!F2026","v":"HORMIGONERA"},{"$f":"'[1]87-0-14'!G2026*(1+$E$13)","v":1239535.372}]
[{"$f":"'[1]87-0-14'!B2027","v":"HCC4G"},{"$f":"'[1]87-0-14'!D2027","v":"HORQUILLA 4 PUAS C/CORTO"},{"$f":"'[1]87-0-14'!E2027","v":"GHERARDI"},{"$f":"'[1]87-0-14'!F2027","v":"HORQUILLA"},{"$f":"'[1]87-0-14'!G2027*(1+$E$13)","v":107623.80050000001}]
[{"$f":"'[1]87-0-14'!B2028","v":"HCL4G"},{"$f":"'[1]87-0-14'!D2028","v":"HORQUILLA 4 PUAS C/LARGO"},{"$f":"'[1]87-0-14'!E2028","v":"GHERARDI"},{"$f":"'[1]87-0-14'!F2028","v":"HORQUILLA"},{"$f":"'[1]87-0-14'!G2028*(1+$E$13)","v":114902.337}]
[{"$f":"'[1]87-0-14'!B2029","v":"HCC5G"},{"$f":"'[1]87-0-14'!D2029","v":"HORQUILLA 5 PUAS C/CORTO"},{"$f":"'[1]87-0-14'!E2029","v":"GHERARDI"},{"$f":"'[1]87-0-14'!F2029","v":"HORQUILLA"},{"$f":"'[1]87-0-14'!G2029*(1+$E$13)","v":117659.75600000001}]
[{"$f":"'[1]87-0-14'!B2030","v":"HCL5G"},{"$f":"'[1]87-0-14'!D2030","v":"HORQUILLA 5 PUAS C/LARGO"},{"$f":"'[1]87-0-14'!E2030","v":"GHERARDI"},{"$f":"'[1]87-0-14'!F2030","v":"HORQUILLA"},{"$f":"'[1]87-0-14'!G2030*(1+$E$13)","v":124938.12200000002}]
[{"$f":"'[1]87-0-14'!B2031","v":"HCC6G"},{"$f":"'[1]87-0-14'!D2031","v":"HORQUILLA 6 PUAS C/CORTO"},{"$f":"'[1]87-0-14'!E2031","v":"GHERARDI"},{"$f":"'[1]87-0-14'!F2031","v":"HORQUILLA"},{"$f":"'[1]87-0-14'!G2031*(1+$E$13)","v":130471.34299999999}]
[{"$f":"'[1]87-0-14'!B2032","v":"HCL6G"},{"$f":"'[1]87-0-14'!D2032","v":"HORQUILLA 6 PUAS C/LARGO"},{"$f":"'[1]87-0-14'!E2032","v":"GHERARDI"},{"$f":"'[1]87-0-14'!F2032","v":"HORQUILLA"},{"$f":"'[1]87-0-14'!G2032*(1+$E$13)","v":137748.01949999999}]
[{"$f":"'[1]87-0-14'!B2033","v":"IAC1P"},{"$f":"'[1]87-0-14'!D2033","v":"IMPERM ACR P/LA CERAMI  1"},{"$f":"'[1]87-0-14'!E2033","v":"PREMIER"},{"$f":"'[1]87-0-14'!F2033","v":"IMPERM ACRIL LADR"},{"$f":"'[1]87-0-14'!G2033*(1+$E$13)","v":7594.8915000000006}]
[{"$f":"'[1]87-0-14'!B2034","v":"IAC4P"},{"$f":"'[1]87-0-14'!D2034","v":"IMPERM ACR P/LA CERAMI  4"},{"$f":"'[1]87-0-14'!E2034","v":"PREMIER"},{"$f":"'[1]87-0-14'!F2034","v":"IMPERM ACRIL LADR"},{"$f":"'[1]87-0-14'!G2034*(1+$E$13)","v":25178.727000000003}]
[{"$f":"'[1]87-0-14'!B2035","v":"IAC10P"},{"$f":"'[1]87-0-14'!D2035","v":"IMPERM ACR P/LA CERAMI 10"},{"$f":"'[1]87-0-14'!E2035","v":"PREMIER"},{"$f":"'[1]87-0-14'!F2035","v":"IMPERM ACRIL LADR"},{"$f":"'[1]87-0-14'!G2035*(1+$E$13)","v":58949.119500000008}]
[{"$f":"'[1]87-0-14'!B2036","v":"IAC20P"},{"$f":"'[1]87-0-14'!D2036","v":"IMPERM ACR P/LA CERAMI 20"},{"$f":"'[1]87-0-14'!E2036","v":"PREMIER"},{"$f":"'[1]87-0-14'!F2036","v":"IMPERM ACRIL LADR"},{"$f":"'[1]87-0-14'!G2036*(1+$E$13)","v":110070.9405}]
[{"$f":"'[1]87-0-14'!B2037","v":"IAT1P"},{"$f":"'[1]87-0-14'!D2037","v":"IMPERM ACR P/LA Transp  1"},{"$f":"'[1]87-0-14'!E2037","v":"PREMIER"},{"$f":"'[1]87-0-14'!F2037","v":"IMPERM ACRIL LADR"},{"$f":"'[1]87-0-14'!G2037*(1+$E$13)","v":7594.8915000000006}]
[{"$f":"'[1]87-0-14'!B2038","v":"IAT4P"},{"$f":"'[1]87-0-14'!D2038","v":"IMPERM ACR P/LA Transp  4"},{"$f":"'[1]87-0-14'!E2038","v":"PREMIER"},{"$f":"'[1]87-0-14'!F2038","v":"IMPERM ACRIL LADR"},{"$f":"'[1]87-0-14'!G2038*(1+$E$13)","v":25178.727000000003}]
[{"$f":"'[1]87-0-14'!B2039","v":"ICOCV"},{"$f":"'[1]87-0-14'!D2039","v":"INYECT P/C ORBIS CONVECTA"},{"$f":"'[1]87-0-14'!E2039","v":"VITAL GAS"},{"$f":"'[1]87-0-14'!F2039","v":"INYECTOR"},{"$f":"'[1]87-0-14'!G2039*(1+$E$13)","v":974.99649999999997}]
[{"$f":"'[1]87-0-14'!B2040","v":"IAV"},{"$f":"'[1]87-0-14'!D2040","v":"INYECTOR P/ANAFE UNIVERSA"},{"$f":"'[1]87-0-14'!E2040","v":"VITAL GAS"},{"$f":"'[1]87-0-14'!F2040","v":"INYECTOR"},{"$f":"'[1]87-0-14'!G2040*(1+$E$13)","v":871.79750000000013}]
[{"$f":"'[1]87-0-14'!B2041","v":"ICV"},{"$f":"'[1]87-0-14'!D2041","v":"INYECTOR P/CALENTADOR UNI"},{"$f":"'[1]87-0-14'!E2041","v":"VITAL GAS"},{"$f":"'[1]87-0-14'!F2041","v":"INYECTOR"},{"$f":"'[1]87-0-14'!G2041*(1+$E$13)","v":974.99649999999997}]
[{"$f":"'[1]87-0-14'!B2042","v":"ICOAV"},{"$f":"'[1]87-0-14'!D2042","v":"INYECTOR P/COCIN ORO AZUL"},{"$f":"'[1]87-0-14'!E2042","v":"VITAL GAS"},{"$f":"'[1]87-0-14'!F2042","v":"INYECTOR"},{"$f":"'[1]87-0-14'!G2042*(1+$E$13)","v":1170.5445000000002}]
[{"$f":"'[1]87-0-14'!B2043","v":"ICSV"},{"$f":"'[1]87-0-14'!D2043","v":"INYECTOR P/COCINA STANDAR"},{"$f":"'[1]87-0-14'!E2043","v":"VITAL GAS"},{"$f":"'[1]87-0-14'!F2043","v":"INYECTOR"},{"$f":"'[1]87-0-14'!G2043*(1+$E$13)","v":871.79750000000013}]
[{"$f":"'[1]87-0-14'!B2044","v":"IFV"},{"$f":"'[1]87-0-14'!D2044","v":"INYECTOR P/FAROL UNIVERSA"},{"$f":"'[1]87-0-14'!E2044","v":"VITAL GAS"},{"$f":"'[1]87-0-14'!F2044","v":"INYECTOR"},{"$f":"'[1]87-0-14'!G2044*(1+$E$13)","v":919.33600000000001}]
[{"$f":"'[1]87-0-14'!B2045","v":"LRV"},{"$f":"'[1]87-0-14'!D2045","v":"LANZA RIEGO C/CONEC RAPID"},{"$f":"'[1]87-0-14'!E2045","v":"VITAL GAS"},{"$f":"'[1]87-0-14'!F2045","v":"RIEGO"},{"$f":"'[1]87-0-14'!G2045*(1+$E$13)","v":2776.9025000000001}]
[{"$f":"'[1]87-0-14'!B2046","v":"LR18S"},{"$f":"'[1]87-0-14'!D2046","v":"LAPIZ CARPINT #ROJO# 18cm"},{"$f":"'[1]87-0-14'!E2046","v":"SOLA"},{"$f":"'[1]87-0-14'!F2046","v":"LAPIZ"},{"$f":"'[1]87-0-14'!G2046*(1+$E$13)","v":5029.223}]
[{"$f":"'[1]87-0-14'!B2047","v":"LR24S"},{"$f":"'[1]87-0-14'!D2047","v":"LAPIZ CARPINT #ROJO# 24cm"},{"$f":"'[1]87-0-14'!E2047","v":"SOLA"},{"$f":"'[1]87-0-14'!F2047","v":"LAPIZ"},{"$f":"'[1]87-0-14'!G2047*(1+$E$13)","v":6377.8469999999998}]
[{"$f":"'[1]87-0-14'!B2048","v":"LR30S"},{"$f":"'[1]87-0-14'!D2048","v":"LAPIZ CARPINT #ROJO# 30cm"},{"$f":"'[1]87-0-14'!E2048","v":"SOLA"},{"$f":"'[1]87-0-14'!F2048","v":"LAPIZ"},{"$f":"'[1]87-0-14'!G2048*(1+$E$13)","v":7024.0420000000004}]
[{"$f":"'[1]87-0-14'!B2049","v":"LV24S"},{"$f":"'[1]87-0-14'!D2049","v":"LAPIZ CONSTR *VERDE* 24cm"},{"$f":"'[1]87-0-14'!E2049","v":"SOLA"},{"$f":"'[1]87-0-14'!F2049","v":"LAPIZ"},{"$f":"'[1]87-0-14'!G2049*(1+$E$13)","v":6743.0889999999999}]
[{"$f":"'[1]87-0-14'!B2050","v":"LWN"},{"$f":"'[1]87-0-14'!D2050","v":"LAPIZ WIDIA"},{"$f":"'[1]87-0-14'!E2050","v":"NEIKE"},{"$f":"'[1]87-0-14'!F2050","v":"LAPIZ WIDIA"},{"$f":"'[1]87-0-14'!G2050*(1+$E$13)","v":2938.6915000000004}]
[{"$f":"'[1]87-0-14'!B2051","v":"LCA1P"},{"$f":"'[1]87-0-14'!D2051","v":"LASUR #CAOBA#  1 lt"},{"$f":"'[1]87-0-14'!E2051","v":"PREMIER"},{"$f":"'[1]87-0-14'!F2051","v":"LASUR"},{"$f":"'[1]87-0-14'!G2051*(1+$E$13)","v":22048.021500000003}]
[{"$f":"'[1]87-0-14'!B2052","v":"LCA4P"},{"$f":"'[1]87-0-14'!D2052","v":"LASUR #CAOBA#  4 lts"},{"$f":"'[1]87-0-14'!E2052","v":"PREMIER"},{"$f":"'[1]87-0-14'!F2052","v":"LASUR"},{"$f":"'[1]87-0-14'!G2052*(1+$E$13)","v":83134.001999999993}]
[{"$f":"'[1]87-0-14'!B2053","v":"LCA20P"},{"$f":"'[1]87-0-14'!D2053","v":"LASUR #CAOBA# 20 lts"},{"$f":"'[1]87-0-14'!E2053","v":"PREMIER"},{"$f":"'[1]87-0-14'!F2053","v":"LASUR"},{"$f":"'[1]87-0-14'!G2053*(1+$E$13)","v":397577.74349999998}]
[{"$f":"'[1]87-0-14'!B2054","v":"LCE20P"},{"$f":"'[1]87-0-14'!D2054","v":"LASUR #CEDRO\" 20 lts"},{"$f":"'[1]87-0-14'!E2054","v":"PREMIER"},{"$f":"'[1]87-0-14'!F2054","v":"LASUR"},{"$f":"'[1]87-0-14'!G2054*(1+$E$13)","v":397577.74349999998}]
[{"$f":"'[1]87-0-14'!B2055","v":"LCE1P"},{"$f":"'[1]87-0-14'!D2055","v":"LASUR #CEDRO#  1 lt"},{"$f":"'[1]87-0-14'!E2055","v":"PREMIER"},{"$f":"'[1]87-0-14'!F2055","v":"LASUR"},{"$f":"'[1]87-0-14'!G2055*(1+$E$13)","v":22048.021500000003}]
[{"$f":"'[1]87-0-14'!B2056","v":"LCE4P"},{"$f":"'[1]87-0-14'!D2056","v":"LASUR #CEDRO#  4 lts"},{"$f":"'[1]87-0-14'!E2056","v":"PREMIER"},{"$f":"'[1]87-0-14'!F2056","v":"LASUR"},{"$f":"'[1]87-0-14'!G2056*(1+$E$13)","v":83134.001999999993}]
[{"$f":"'[1]87-0-14'!B2057","v":"LCR1P"},{"$f":"'[1]87-0-14'!D2057","v":"LASUR #CRISTAL#  1 lt"},{"$f":"'[1]87-0-14'!E2057","v":"PREMIER"},{"$f":"'[1]87-0-14'!F2057","v":"LASUR"},{"$f":"'[1]87-0-14'!G2057*(1+$E$13)","v":22050.129499999999}]
[{"$f":"'[1]87-0-14'!B2058","v":"LCR4P"},{"$f":"'[1]87-0-14'!D2058","v":"LASUR #CRISTAL#  4 lts"},{"$f":"'[1]87-0-14'!E2058","v":"PREMIER"},{"$f":"'[1]87-0-14'!F2058","v":"LASUR"},{"$f":"'[1]87-0-14'!G2058*(1+$E$13)","v":83134.001999999993}]
[{"$f":"'[1]87-0-14'!B2059","v":"LCR20P"},{"$f":"'[1]87-0-14'!D2059","v":"LASUR #CRISTAL# 20 lts"},{"$f":"'[1]87-0-14'!E2059","v":"PREMIER"},{"$f":"'[1]87-0-14'!F2059","v":"LASUR"},{"$f":"'[1]87-0-14'!G2059*(1+$E$13)","v":397577.74349999998}]
[{"$f":"'[1]87-0-14'!B2060","v":"LNA1P"},{"$f":"'[1]87-0-14'!D2060","v":"LASUR #NATURAL#  1 lt"},{"$f":"'[1]87-0-14'!E2060","v":"PREMIER"},{"$f":"'[1]87-0-14'!F2060","v":"LASUR"},{"$f":"'[1]87-0-14'!G2060*(1+$E$13)","v":22048.021500000003}]
[{"$f":"'[1]87-0-14'!B2061","v":"LNA4P"},{"$f":"'[1]87-0-14'!D2061","v":"LASUR #NATURAL#  4 lt"},{"$f":"'[1]87-0-14'!E2061","v":"PREMIER"},{"$f":"'[1]87-0-14'!F2061","v":"LASUR"},{"$f":"'[1]87-0-14'!G2061*(1+$E$13)","v":83134.001999999993}]
[{"$f":"'[1]87-0-14'!B2062","v":"LNA20P"},{"$f":"'[1]87-0-14'!D2062","v":"LASUR #NATURAL# 20 lts"},{"$f":"'[1]87-0-14'!E2062","v":"PREMIER"},{"$f":"'[1]87-0-14'!F2062","v":"LASUR"},{"$f":"'[1]87-0-14'!G2062*(1+$E$13)","v":397577.74349999998}]
[{"$f":"'[1]87-0-14'!B2063","v":"LNO1P"},{"$f":"'[1]87-0-14'!D2063","v":"LASUR #NOGAL#  1 lt"},{"$f":"'[1]87-0-14'!E2063","v":"PREMIER"},{"$f":"'[1]87-0-14'!F2063","v":"LASUR"},{"$f":"'[1]87-0-14'!G2063*(1+$E$13)","v":22048.021500000003}]
[{"$f":"'[1]87-0-14'!B2064","v":"LNO4P"},{"$f":"'[1]87-0-14'!D2064","v":"LASUR #NOGAL#  4 ltS"},{"$f":"'[1]87-0-14'!E2064","v":"PREMIER"},{"$f":"'[1]87-0-14'!F2064","v":"LASUR"},{"$f":"'[1]87-0-14'!G2064*(1+$E$13)","v":83134.001999999993}]
[{"$f":"'[1]87-0-14'!B2065","v":"LNO20P"},{"$f":"'[1]87-0-14'!D2065","v":"LASUR #NOGAL# 20 ltS"},{"$f":"'[1]87-0-14'!E2065","v":"PREMIER"},{"$f":"'[1]87-0-14'!F2065","v":"LASUR"},{"$f":"'[1]87-0-14'!G2065*(1+$E$13)","v":397577.74349999998}]
[{"$f":"'[1]87-0-14'!B2066","v":"LRO1P"},{"$f":"'[1]87-0-14'!D2066","v":"LASUR #ROBLE#  1 lt"},{"$f":"'[1]87-0-14'!E2066","v":"PREMIER"},{"$f":"'[1]87-0-14'!F2066","v":"LASUR"},{"$f":"'[1]87-0-14'!G2066*(1+$E$13)","v":22048.021500000003}]
[{"$f":"'[1]87-0-14'!B2067","v":"LRO4P"},{"$f":"'[1]87-0-14'!D2067","v":"LASUR #ROBLE#  4 ltS"},{"$f":"'[1]87-0-14'!E2067","v":"PREMIER"},{"$f":"'[1]87-0-14'!F2067","v":"LASUR"},{"$f":"'[1]87-0-14'!G2067*(1+$E$13)","v":83134.001999999993}]
[{"$f":"'[1]87-0-14'!B2068","v":"LRO20P"},{"$f":"'[1]87-0-14'!D2068","v":"LASUR #ROBLE# 20 lts"},{"$f":"'[1]87-0-14'!E2068","v":"PREMIER"},{"$f":"'[1]87-0-14'!F2068","v":"LASUR"},{"$f":"'[1]87-0-14'!G2068*(1+$E$13)","v":397577.74349999998}]
[{"$f":"'[1]87-0-14'!B2069","v":"LRC1V"},{"$f":"'[1]87-0-14'!D2069","v":"LASUR Roble Claro  1"},{"$f":"'[1]87-0-14'!E2069","v":"VENIER"},{"$f":"'[1]87-0-14'!F2069","v":"lasur"},{"$f":"'[1]87-0-14'!G2069*(1+$E$13)","v":13803.773000000001}]
[{"$f":"'[1]87-0-14'!B2070","v":"LPIE24P"},{"$f":"'[1]87-0-14'!D2070","v":"LAT PROF LAVAB INT/EXT 24"},{"$f":"'[1]87-0-14'!E2070","v":"PREMIER"},{"$f":"'[1]87-0-14'!F2070","v":"LATEX"},{"$f":"'[1]87-0-14'!G2070*(1+$E$13)","v":153109.66649999999}]
[{"$f":"'[1]87-0-14'!B2071","v":"LFSAE1P"},{"$f":"'[1]87-0-14'!D2071","v":"LAT SILI FREN A/ELECT  1L"},{"$f":"'[1]87-0-14'!E2071","v":"PREMIER"},{"$f":"'[1]87-0-14'!F2071","v":"LATEX"},{"$f":"'[1]87-0-14'!G2071*(1+$E$13)","v":13456.1855}]
[{"$f":"'[1]87-0-14'!B2072","v":"LFSAE4P"},{"$f":"'[1]87-0-14'!D2072","v":"LAT SILI FREN A/ELECT  4L"},{"$f":"'[1]87-0-14'!E2072","v":"PREMIER"},{"$f":"'[1]87-0-14'!F2072","v":"LATEX"},{"$f":"'[1]87-0-14'!G2072*(1+$E$13)","v":47123.1}]
[{"$f":"'[1]87-0-14'!B2073","v":"LFSA10P"},{"$f":"'[1]87-0-14'!D2073","v":"LAT SILI FREN AMARILLO 10"},{"$f":"'[1]87-0-14'!E2073","v":"PREMIER"},{"$f":"'[1]87-0-14'!F2073","v":"LATEX"},{"$f":"'[1]87-0-14'!G2073*(1+$E$13)","v":110996.368}]
[{"$f":"'[1]87-0-14'!B2074","v":"LFSA1P"},{"$f":"'[1]87-0-14'!D2074","v":"LAT SILI FREN AMARILLO 1L"},{"$f":"'[1]87-0-14'!E2074","v":"PREMIER"},{"$f":"'[1]87-0-14'!F2074","v":"LATEX"},{"$f":"'[1]87-0-14'!G2074*(1+$E$13)","v":13456.1855}]
[{"$f":"'[1]87-0-14'!B2075","v":"LFSA20P"},{"$f":"'[1]87-0-14'!D2075","v":"LAT SILI FREN AMARILLO 20"},{"$f":"'[1]87-0-14'!E2075","v":"PREMIER"},{"$f":"'[1]87-0-14'!F2075","v":"LATEX"},{"$f":"'[1]87-0-14'!G2075*(1+$E$13)","v":211733.70450000002}]
[{"$f":"'[1]87-0-14'!B2076","v":"LFSBE1P"},{"$f":"'[1]87-0-14'!D2076","v":"LAT SILI FREN BERMELL  1l"},{"$f":"'[1]87-0-14'!E2076","v":"PREMIER"},{"$f":"'[1]87-0-14'!F2076","v":"LATEX"},{"$f":"'[1]87-0-14'!G2076*(1+$E$13)","v":13456.1855}]
[{"$f":"'[1]87-0-14'!B2077","v":"LFSBE4P"},{"$f":"'[1]87-0-14'!D2077","v":"LAT SILI FREN BERMELL  4L"},{"$f":"'[1]87-0-14'!E2077","v":"PREMIER"},{"$f":"'[1]87-0-14'!F2077","v":"LATEX"},{"$f":"'[1]87-0-14'!G2077*(1+$E$13)","v":47123.1}]
[{"$f":"'[1]87-0-14'!B2078","v":"LFSBO1P"},{"$f":"'[1]87-0-14'!D2078","v":"LAT SILI FREN BORGONA  1l"},{"$f":"'[1]87-0-14'!E2078","v":"PREMIER"},{"$f":"'[1]87-0-14'!F2078","v":"LATEX"},{"$f":"'[1]87-0-14'!G2078*(1+$E$13)","v":11650.203000000001}]
[{"$f":"'[1]87-0-14'!B2079","v":"LFSBO4P"},{"$f":"'[1]87-0-14'!D2079","v":"LAT SILI FREN BORGONA  4L"},{"$f":"'[1]87-0-14'!E2079","v":"PREMIER"},{"$f":"'[1]87-0-14'!F2079","v":"LATEX"},{"$f":"'[1]87-0-14'!G2079*(1+$E$13)","v":40145.356500000002}]
[{"$f":"'[1]87-0-14'!B2080","v":"LFSCH4P"},{"$f":"'[1]87-0-14'!D2080","v":"LAT SILI FREN CHOCOLA  4L"},{"$f":"'[1]87-0-14'!E2080","v":"PREMIER"},{"$f":"'[1]87-0-14'!F2080","v":"LATEX"},{"$f":"'[1]87-0-14'!G2080*(1+$E$13)","v":47123.1}]
[{"$f":"'[1]87-0-14'!B2081","v":"LFSCH1P"},{"$f":"'[1]87-0-14'!D2081","v":"LAT SILI FREN CHOCOLAT 1L"},{"$f":"'[1]87-0-14'!E2081","v":"PREMIER"},{"$f":"'[1]87-0-14'!F2081","v":"LATEX"},{"$f":"'[1]87-0-14'!G2081*(1+$E$13)","v":13456.1855}]
[{"$f":"'[1]87-0-14'!B2082","v":"LFSFA1P"},{"$f":"'[1]87-0-14'!D2082","v":"LAT SILI FREN F/AMAZON 1L"},{"$f":"'[1]87-0-14'!E2082","v":"PREMIER"},{"$f":"'[1]87-0-14'!F2082","v":"LATEX"},{"$f":"'[1]87-0-14'!G2082*(1+$E$13)","v":11650.203000000001}]
[{"$f":"'[1]87-0-14'!B2083","v":"LFSFA4P"},{"$f":"'[1]87-0-14'!D2083","v":"LAT SILI FREN F/AMAZON 4L"},{"$f":"'[1]87-0-14'!E2083","v":"PREMIER"},{"$f":"'[1]87-0-14'!F2083","v":"LATEX"},{"$f":"'[1]87-0-14'!G2083*(1+$E$13)","v":40145.356500000002}]
[{"$f":"'[1]87-0-14'!B2084","v":"LFSGC1P"},{"$f":"'[1]87-0-14'!D2084","v":"LAT SILI FREN G/CEMEN  1l"},{"$f":"'[1]87-0-14'!E2084","v":"PREMIER"},{"$f":"'[1]87-0-14'!F2084","v":"LATEX"},{"$f":"'[1]87-0-14'!G2084*(1+$E$13)","v":11650.203000000001}]
[{"$f":"'[1]87-0-14'!B2085","v":"LFSGC4P"},{"$f":"'[1]87-0-14'!D2085","v":"LAT SILI FREN G/CEMEN  4l"},{"$f":"'[1]87-0-14'!E2085","v":"PREMIER"},{"$f":"'[1]87-0-14'!F2085","v":"LATEX"},{"$f":"'[1]87-0-14'!G2085*(1+$E$13)","v":40145.356500000002}]
[{"$f":"'[1]87-0-14'!B2086","v":"LFSMA1P"},{"$f":"'[1]87-0-14'!D2086","v":"LAT SILI FREN M/AFRICA 1L"},{"$f":"'[1]87-0-14'!E2086","v":"PREMIER"},{"$f":"'[1]87-0-14'!F2086","v":"LATEX"},{"$f":"'[1]87-0-14'!G2086*(1+$E$13)","v":11650.203000000001}]
[{"$f":"'[1]87-0-14'!B2087","v":"LFSNA4P"},{"$f":"'[1]87-0-14'!D2087","v":"LAT SILI FREN NARANJA  4L"},{"$f":"'[1]87-0-14'!E2087","v":"PREMIER"},{"$f":"'[1]87-0-14'!F2087","v":"LATEX"},{"$f":"'[1]87-0-14'!G2087*(1+$E$13)","v":47123.1}]
[{"$f":"'[1]87-0-14'!B2088","v":"LFSRC4P"},{"$f":"'[1]87-0-14'!D2088","v":"LAT SILI FREN R/CHICL  4L"},{"$f":"'[1]87-0-14'!E2088","v":"PREMIER"},{"$f":"'[1]87-0-14'!F2088","v":"LATEX"},{"$f":"'[1]87-0-14'!G2088*(1+$E$13)","v":47123.1}]
[{"$f":"'[1]87-0-14'!B2089","v":"LFSRC1P"},{"$f":"'[1]87-0-14'!D2089","v":"LAT SILI FREN R/CHICLE 1L"},{"$f":"'[1]87-0-14'!E2089","v":"PREMIER"},{"$f":"'[1]87-0-14'!F2089","v":"LATEX"},{"$f":"'[1]87-0-14'!G2089*(1+$E$13)","v":13456.1855}]
[{"$f":"'[1]87-0-14'!B2090","v":"LFSRT4P"},{"$f":"'[1]87-0-14'!D2090","v":"LAT SILI FREN RO/TEJA  4L"},{"$f":"'[1]87-0-14'!E2090","v":"PREMIER"},{"$f":"'[1]87-0-14'!F2090","v":"LATEX"},{"$f":"'[1]87-0-14'!G2090*(1+$E$13)","v":40145.356500000002}]
[{"$f":"'[1]87-0-14'!B2091","v":"LFST1P"},{"$f":"'[1]87-0-14'!D2091","v":"LAT SILI FREN TURQUESA 1L"},{"$f":"'[1]87-0-14'!E2091","v":"PREMIER"},{"$f":"'[1]87-0-14'!F2091","v":"LATEX"},{"$f":"'[1]87-0-14'!G2091*(1+$E$13)","v":13456.1855}]
[{"$f":"'[1]87-0-14'!B2092","v":"LFSVE4P"},{"$f":"'[1]87-0-14'!D2092","v":"LAT SILI FREN V/ESMER  4L"},{"$f":"'[1]87-0-14'!E2092","v":"PREMIER"},{"$f":"'[1]87-0-14'!F2092","v":"LATEX"},{"$f":"'[1]87-0-14'!G2092*(1+$E$13)","v":47123.1}]
[{"$f":"'[1]87-0-14'!B2093","v":"LFSVM4P"},{"$f":"'[1]87-0-14'!D2093","v":"LAT SILI FREN V/MANZA  4L"},{"$f":"'[1]87-0-14'!E2093","v":"PREMIER"},{"$f":"'[1]87-0-14'!F2093","v":"LATEX"},{"$f":"'[1]87-0-14'!G2093*(1+$E$13)","v":47123.1}]
[{"$f":"'[1]87-0-14'!B2094","v":"LFSVZ4P"},{"$f":"'[1]87-0-14'!D2094","v":"LAT SILI FREN V/ZAFAR  4L"},{"$f":"'[1]87-0-14'!E2094","v":"PREMIER"},{"$f":"'[1]87-0-14'!F2094","v":"LATEX"},{"$f":"'[1]87-0-14'!G2094*(1+$E$13)","v":40145.356500000002}]
[{"$f":"'[1]87-0-14'!B2095","v":"LFSVZ1P"},{"$f":"'[1]87-0-14'!D2095","v":"LAT SILI FREN V/ZAFARI 1L"},{"$f":"'[1]87-0-14'!E2095","v":"PREMIER"},{"$f":"'[1]87-0-14'!F2095","v":"LATEX"},{"$f":"'[1]87-0-14'!G2095*(1+$E$13)","v":11650.203000000001}]
[{"$f":"'[1]87-0-14'!B2096","v":"LFSA4P"},{"$f":"'[1]87-0-14'!D2096","v":"LAT SILI FRENT AMARILLO 4"},{"$f":"'[1]87-0-14'!E2096","v":"PREMIER"},{"$f":"'[1]87-0-14'!F2096","v":"LATEX"},{"$f":"'[1]87-0-14'!G2096*(1+$E$13)","v":47123.1}]
[{"$f":"'[1]87-0-14'!B2097","v":"LFSNA1P"},{"$f":"'[1]87-0-14'!D2097","v":"LAT SILI FRENT NARANJA 1L"},{"$f":"'[1]87-0-14'!E2097","v":"PREMIER"},{"$f":"'[1]87-0-14'!F2097","v":"LATEX"},{"$f":"'[1]87-0-14'!G2097*(1+$E$13)","v":13456.1855}]
[{"$f":"'[1]87-0-14'!B2098","v":"LFSV1P"},{"$f":"'[1]87-0-14'!D2098","v":"LAT SILI FRENT VIOLETA 1L"},{"$f":"'[1]87-0-14'!E2098","v":"PREMIER"},{"$f":"'[1]87-0-14'!F2098","v":"LATEX"},{"$f":"'[1]87-0-14'!G2098*(1+$E$13)","v":14431.523000000001}]
[{"$f":"'[1]87-0-14'!B2099","v":"LFSV4P"},{"$f":"'[1]87-0-14'!D2099","v":"LAT SILI FRENT VIOLETA 4l"},{"$f":"'[1]87-0-14'!E2099","v":"PREMIER"},{"$f":"'[1]87-0-14'!F2099","v":"LATEX"},{"$f":"'[1]87-0-14'!G2099*(1+$E$13)","v":50946.020000000004}]
[{"$f":"'[1]87-0-14'!B2100","v":"LFSTR4P"},{"$f":"'[1]87-0-14'!D2100","v":"LAT SILI FRENTE TRAFUL 4L"},{"$f":"'[1]87-0-14'!E2100","v":"PREMIER"},{"$f":"'[1]87-0-14'!F2100","v":"LATEX"},{"$f":"'[1]87-0-14'!G2100*(1+$E$13)","v":40145.356500000002}]
[{"$f":"'[1]87-0-14'!B2101","v":"LFSVM1P"},{"$f":"'[1]87-0-14'!D2101","v":"LAT SILI FRENTE V/MANZ 1L"},{"$f":"'[1]87-0-14'!E2101","v":"PREMIER"},{"$f":"'[1]87-0-14'!F2101","v":"LATEX"},{"$f":"'[1]87-0-14'!G2101*(1+$E$13)","v":13456.1855}]
[{"$f":"'[1]87-0-14'!B2102","v":"LISP4P"},{"$f":"'[1]87-0-14'!D2102","v":"LAT SILIC DECO PISTACHO 4"},{"$f":"'[1]87-0-14'!E2102","v":"PREMIER"},{"$f":"'[1]87-0-14'!F2102","v":"LATEX"},{"$f":"'[1]87-0-14'!G2102*(1+$E$13)","v":47123.1}]
[{"$f":"'[1]87-0-14'!B2103","v":"LFSC1P"},{"$f":"'[1]87-0-14'!D2103","v":"LAT SILIC FRENT CORAL  1L"},{"$f":"'[1]87-0-14'!E2103","v":"PREMIER"},{"$f":"'[1]87-0-14'!F2103","v":"LATEX"},{"$f":"'[1]87-0-14'!G2103*(1+$E$13)","v":13456.1855}]
[{"$f":"'[1]87-0-14'!B2104","v":"LFSC4P"},{"$f":"'[1]87-0-14'!D2104","v":"LAT SILIC FRENT CORAL  4L"},{"$f":"'[1]87-0-14'!E2104","v":"PREMIER"},{"$f":"'[1]87-0-14'!F2104","v":"LATEX"},{"$f":"'[1]87-0-14'!G2104*(1+$E$13)","v":47123.1}]
[{"$f":"'[1]87-0-14'!B2105","v":"LISF1P"},{"$f":"'[1]87-0-14'!D2105","v":"LAT SILICE DECO FUCSIA  1"},{"$f":"'[1]87-0-14'!E2105","v":"PREMIER"},{"$f":"'[1]87-0-14'!F2105","v":"LATEX"},{"$f":"'[1]87-0-14'!G2105*(1+$E$13)","v":13456.1855}]
[{"$f":"'[1]87-0-14'!B2106","v":"LISF4P"},{"$f":"'[1]87-0-14'!D2106","v":"LAT SILICE DECO FUCSIA  4"},{"$f":"'[1]87-0-14'!E2106","v":"PREMIER"},{"$f":"'[1]87-0-14'!F2106","v":"LATEX"},{"$f":"'[1]87-0-14'!G2106*(1+$E$13)","v":47123.1}]
[{"$f":"'[1]87-0-14'!B2107","v":"LISF10P"},{"$f":"'[1]87-0-14'!D2107","v":"LAT SILICE DECO FUCSIA 10"},{"$f":"'[1]87-0-14'!E2107","v":"PREMIER"},{"$f":"'[1]87-0-14'!F2107","v":"LATEX"},{"$f":"'[1]87-0-14'!G2107*(1+$E$13)","v":110996.368}]
[{"$f":"'[1]87-0-14'!B2108","v":"LISCA4P"},{"$f":"'[1]87-0-14'!D2108","v":"LAT SILICE DECOR CANELA 4"},{"$f":"'[1]87-0-14'!E2108","v":"PREMIER"},{"$f":"'[1]87-0-14'!F2108","v":"LATEX"},{"$f":"'[1]87-0-14'!G2108*(1+$E$13)","v":47123.1}]
[{"$f":"'[1]87-0-14'!B2109","v":"LISC1P"},{"$f":"'[1]87-0-14'!D2109","v":"LAT SILICE DECOR CIBOU  1"},{"$f":"'[1]87-0-14'!E2109","v":"PREMIER"},{"$f":"'[1]87-0-14'!F2109","v":"LATEX"},{"$f":"'[1]87-0-14'!G2109*(1+$E$13)","v":13456.1855}]
[{"$f":"'[1]87-0-14'!B2110","v":"LISC4P"},{"$f":"'[1]87-0-14'!D2110","v":"LAT SILICE DECOR CIBOU  4"},{"$f":"'[1]87-0-14'!E2110","v":"PREMIER"},{"$f":"'[1]87-0-14'!F2110","v":"LATEX"},{"$f":"'[1]87-0-14'!G2110*(1+$E$13)","v":47123.1}]
[{"$f":"'[1]87-0-14'!B2111","v":"LISC10P"},{"$f":"'[1]87-0-14'!D2111","v":"LAT SILICE DECOR CIBOU 10"},{"$f":"'[1]87-0-14'!E2111","v":"PREMIER"},{"$f":"'[1]87-0-14'!F2111","v":"LATEX"},{"$f":"'[1]87-0-14'!G2111*(1+$E$13)","v":110996.368}]
[{"$f":"'[1]87-0-14'!B2112","v":"LISMA1P"},{"$f":"'[1]87-0-14'!D2112","v":"LAT SILICE DECOR MANDA  1"},{"$f":"'[1]87-0-14'!E2112","v":"PREMIER"},{"$f":"'[1]87-0-14'!F2112","v":"LATEX"},{"$f":"'[1]87-0-14'!G2112*(1+$E$13)","v":13456.1855}]
[{"$f":"'[1]87-0-14'!B2113","v":"LISMA4P"},{"$f":"'[1]87-0-14'!D2113","v":"LAT SILICE DECOR MANDA  4"},{"$f":"'[1]87-0-14'!E2113","v":"PREMIER"},{"$f":"'[1]87-0-14'!F2113","v":"LATEX"},{"$f":"'[1]87-0-14'!G2113*(1+$E$13)","v":47123.1}]
[{"$f":"'[1]87-0-14'!B2114","v":"LISMA10P"},{"$f":"'[1]87-0-14'!D2114","v":"LAT SILICE DECOR MANDA 10"},{"$f":"'[1]87-0-14'!E2114","v":"PREMIER"},{"$f":"'[1]87-0-14'!F2114","v":"LATEX"},{"$f":"'[1]87-0-14'!G2114*(1+$E$13)","v":110996.368}]
[{"$f":"'[1]87-0-14'!B2115","v":"LISA1P"},{"$f":"'[1]87-0-14'!D2115","v":"LAT SILICE DECORA ARNO  1"},{"$f":"'[1]87-0-14'!E2115","v":"PREMIER"},{"$f":"'[1]87-0-14'!F2115","v":"LATEX"},{"$f":"'[1]87-0-14'!G2115*(1+$E$13)","v":13456.1855}]
[{"$f":"'[1]87-0-14'!B2116","v":"LISA4P"},{"$f":"'[1]87-0-14'!D2116","v":"LAT SILICE DECORA ARNO  4"},{"$f":"'[1]87-0-14'!E2116","v":"PREMIER"},{"$f":"'[1]87-0-14'!F2116","v":"LATEX"},{"$f":"'[1]87-0-14'!G2116*(1+$E$13)","v":47123.1}]
[{"$f":"'[1]87-0-14'!B2117","v":"LISA10P"},{"$f":"'[1]87-0-14'!D2117","v":"LAT SILICE DECORA ARNO 10"},{"$f":"'[1]87-0-14'!E2117","v":"PREMIER"},{"$f":"'[1]87-0-14'!F2117","v":"LATEX"},{"$f":"'[1]87-0-14'!G2117*(1+$E$13)","v":110996.368}]
[{"$f":"'[1]87-0-14'!B2118","v":"LISCE10P"},{"$f":"'[1]87-0-14'!D2118","v":"LAT SILICE DECORA CEIB 10"},{"$f":"'[1]87-0-14'!E2118","v":"PREMIER"},{"$f":"'[1]87-0-14'!F2118","v":"LATEX"},{"$f":"'[1]87-0-14'!G2118*(1+$E$13)","v":110996.368}]
[{"$f":"'[1]87-0-14'!B2119","v":"LISCE1P"},{"$f":"'[1]87-0-14'!D2119","v":"LAT SILICE DECORA CEIBO 1"},{"$f":"'[1]87-0-14'!E2119","v":"PREMIER"},{"$f":"'[1]87-0-14'!F2119","v":"LATEX"},{"$f":"'[1]87-0-14'!G2119*(1+$E$13)","v":13456.1855}]
[{"$f":"'[1]87-0-14'!B2120","v":"LISCE4P"},{"$f":"'[1]87-0-14'!D2120","v":"LAT SILICE DECORA CEIBO 4"},{"$f":"'[1]87-0-14'!E2120","v":"PREMIER"},{"$f":"'[1]87-0-14'!F2120","v":"LATEX"},{"$f":"'[1]87-0-14'!G2120*(1+$E$13)","v":47122.464500000002}]
[{"$f":"'[1]87-0-14'!B2121","v":"LISL1P"},{"$f":"'[1]87-0-14'!D2121","v":"LAT SILICE DECORA LILA  1"},{"$f":"'[1]87-0-14'!E2121","v":"PREMIER"},{"$f":"'[1]87-0-14'!F2121","v":"LATEX"},{"$f":"'[1]87-0-14'!G2121*(1+$E$13)","v":13456.1855}]
[{"$f":"'[1]87-0-14'!B2122","v":"LISL4P"},{"$f":"'[1]87-0-14'!D2122","v":"LAT SILICE DECORA LILA  4"},{"$f":"'[1]87-0-14'!E2122","v":"PREMIER"},{"$f":"'[1]87-0-14'!F2122","v":"LATEX"},{"$f":"'[1]87-0-14'!G2122*(1+$E$13)","v":47123.1}]
[{"$f":"'[1]87-0-14'!B2123","v":"LISL10P"},{"$f":"'[1]87-0-14'!D2123","v":"LAT SILICE DECORA LILA 10"},{"$f":"'[1]87-0-14'!E2123","v":"PREMIER"},{"$f":"'[1]87-0-14'!F2123","v":"LATEX"},{"$f":"'[1]87-0-14'!G2123*(1+$E$13)","v":110996.368}]
[{"$f":"'[1]87-0-14'!B2124","v":"LISM1P"},{"$f":"'[1]87-0-14'!D2124","v":"LAT SILICE DECORA Maiz  1"},{"$f":"'[1]87-0-14'!E2124","v":"PREMIER"},{"$f":"'[1]87-0-14'!F2124","v":"LATEX"},{"$f":"'[1]87-0-14'!G2124*(1+$E$13)","v":13456.1855}]
[{"$f":"'[1]87-0-14'!B2125","v":"LISM4P"},{"$f":"'[1]87-0-14'!D2125","v":"LAT SILICE DECORA Maiz  4"},{"$f":"'[1]87-0-14'!E2125","v":"PREMIER"},{"$f":"'[1]87-0-14'!F2125","v":"LATEX"},{"$f":"'[1]87-0-14'!G2125*(1+$E$13)","v":47123.1}]
[{"$f":"'[1]87-0-14'!B2126","v":"LISM10P"},{"$f":"'[1]87-0-14'!D2126","v":"LAT SILICE DECORA Maiz 10"},{"$f":"'[1]87-0-14'!E2126","v":"PREMIER"},{"$f":"'[1]87-0-14'!F2126","v":"LATEX"},{"$f":"'[1]87-0-14'!G2126*(1+$E$13)","v":110996.368}]
[{"$f":"'[1]87-0-14'!B2127","v":"LISM20P"},{"$f":"'[1]87-0-14'!D2127","v":"LAT SILICE DECORA Maiz 20"},{"$f":"'[1]87-0-14'!E2127","v":"PREMIER"},{"$f":"'[1]87-0-14'!F2127","v":"LATEX"},{"$f":"'[1]87-0-14'!G2127*(1+$E$13)","v":211733.70450000002}]
[{"$f":"'[1]87-0-14'!B2128","v":"LFSBEI1P"},{"$f":"'[1]87-0-14'!D2128","v":"LAT SILICE FREN BEIGE  1L"},{"$f":"'[1]87-0-14'!E2128","v":"PREMIER"},{"$f":"'[1]87-0-14'!F2128","v":"LATEX"},{"$f":"'[1]87-0-14'!G2128*(1+$E$13)","v":11650.203000000001}]
[{"$f":"'[1]87-0-14'!B2129","v":"LFSM1P"},{"$f":"'[1]87-0-14'!D2129","v":"LAT SILICE FREN Marfil  1"},{"$f":"'[1]87-0-14'!E2129","v":"PREMIER"},{"$f":"'[1]87-0-14'!F2129","v":"LATEX"},{"$f":"'[1]87-0-14'!G2129*(1+$E$13)","v":13456.1855}]
[{"$f":"'[1]87-0-14'!B2130","v":"LFSM4P"},{"$f":"'[1]87-0-14'!D2130","v":"LAT SILICE FREN Marfil  4"},{"$f":"'[1]87-0-14'!E2130","v":"PREMIER"},{"$f":"'[1]87-0-14'!F2130","v":"LATEX"},{"$f":"'[1]87-0-14'!G2130*(1+$E$13)","v":47123.1}]
[{"$f":"'[1]87-0-14'!B2131","v":"LFSM10P"},{"$f":"'[1]87-0-14'!D2131","v":"LAT SILICE FREN Marfil 10"},{"$f":"'[1]87-0-14'!E2131","v":"PREMIER"},{"$f":"'[1]87-0-14'!F2131","v":"LATEX"},{"$f":"'[1]87-0-14'!G2131*(1+$E$13)","v":110996.368}]
[{"$f":"'[1]87-0-14'!B2132","v":"LFSM20P"},{"$f":"'[1]87-0-14'!D2132","v":"LAT SILICE FREN Marfil 20"},{"$f":"'[1]87-0-14'!E2132","v":"PREMIER"},{"$f":"'[1]87-0-14'!F2132","v":"LATEX"},{"$f":"'[1]87-0-14'!G2132*(1+$E$13)","v":211733.70450000002}]
[{"$f":"'[1]87-0-14'!B2133","v":"LFSBEI4P"},{"$f":"'[1]87-0-14'!D2133","v":"LAT SILICE FRENT BEIGE  4"},{"$f":"'[1]87-0-14'!E2133","v":"PREMIER"},{"$f":"'[1]87-0-14'!F2133","v":"LATEX"},{"$f":"'[1]87-0-14'!G2133*(1+$E$13)","v":40145.356500000002}]
[{"$f":"'[1]87-0-14'!B2134","v":"LFSBEI10"},{"$f":"'[1]87-0-14'!D2134","v":"LAT SILICE FRENT BEIGE 10"},{"$f":"'[1]87-0-14'!E2134","v":"PREMIER"},{"$f":"'[1]87-0-14'!F2134","v":"LATEX"},{"$f":"'[1]87-0-14'!G2134*(1+$E$13)","v":94107.087500000009}]
[{"$f":"'[1]87-0-14'!B2135","v":"LFSBEI20"},{"$f":"'[1]87-0-14'!D2135","v":"LAT SILICE FRENT BEIGE 20"},{"$f":"'[1]87-0-14'!E2135","v":"PREMIER"},{"$f":"'[1]87-0-14'!F2135","v":"LATEX"},{"$f":"'[1]87-0-14'!G2135*(1+$E$13)","v":180827.21600000001}]
[{"$f":"'[1]87-0-14'!B2136","v":"LFSB1P"},{"$f":"'[1]87-0-14'!D2136","v":"LAT SILICE FRENT BLANC  1"},{"$f":"'[1]87-0-14'!E2136","v":"PREMIER"},{"$f":"'[1]87-0-14'!F2136","v":"LATEX"},{"$f":"'[1]87-0-14'!G2136*(1+$E$13)","v":12474.710000000001}]
[{"$f":"'[1]87-0-14'!B2137","v":"LFSB4P"},{"$f":"'[1]87-0-14'!D2137","v":"LAT SILICE FRENT BLANC  4"},{"$f":"'[1]87-0-14'!E2137","v":"PREMIER"},{"$f":"'[1]87-0-14'!F2137","v":"LATEX"},{"$f":"'[1]87-0-14'!G2137*(1+$E$13)","v":43363.358}]
[{"$f":"'[1]87-0-14'!B2138","v":"LFSB10P"},{"$f":"'[1]87-0-14'!D2138","v":"LAT SILICE FRENT BLANC 10"},{"$f":"'[1]87-0-14'!E2138","v":"PREMIER"},{"$f":"'[1]87-0-14'!F2138","v":"LATEX"},{"$f":"'[1]87-0-14'!G2138*(1+$E$13)","v":101892.0555}]
[{"$f":"'[1]87-0-14'!B2139","v":"LFSB20P"},{"$f":"'[1]87-0-14'!D2139","v":"LAT SILICE FRENT BLANC 20"},{"$f":"'[1]87-0-14'!E2139","v":"PREMIER"},{"$f":"'[1]87-0-14'!F2139","v":"LATEX"},{"$f":"'[1]87-0-14'!G2139*(1+$E$13)","v":199137.10250000001}]
[{"$f":"'[1]87-0-14'!B2140","v":"LFSN1P"},{"$f":"'[1]87-0-14'!D2140","v":"LAT SILICE FRENT Negro  1"},{"$f":"'[1]87-0-14'!E2140","v":"PREMIER"},{"$f":"'[1]87-0-14'!F2140","v":"LATEX"},{"$f":"'[1]87-0-14'!G2140*(1+$E$13)","v":11650.203000000001}]
[{"$f":"'[1]87-0-14'!B2141","v":"LFSN4P"},{"$f":"'[1]87-0-14'!D2141","v":"LAT SILICE FRENT Negro  4"},{"$f":"'[1]87-0-14'!E2141","v":"PREMIER"},{"$f":"'[1]87-0-14'!F2141","v":"LATEX"},{"$f":"'[1]87-0-14'!G2141*(1+$E$13)","v":40145.356500000002}]
[{"$f":"'[1]87-0-14'!B2142","v":"LFSN10P"},{"$f":"'[1]87-0-14'!D2142","v":"LAT SILICE FRENT Negro 10"},{"$f":"'[1]87-0-14'!E2142","v":"PREMIER"},{"$f":"'[1]87-0-14'!F2142","v":"LATEX"},{"$f":"'[1]87-0-14'!G2142*(1+$E$13)","v":94107.087500000009}]
[{"$f":"'[1]87-0-14'!B2143","v":"LFSN20P"},{"$f":"'[1]87-0-14'!D2143","v":"LAT SILICE FRENT Negro 20"},{"$f":"'[1]87-0-14'!E2143","v":"PREMIER"},{"$f":"'[1]87-0-14'!F2143","v":"LATEX"},{"$f":"'[1]87-0-14'!G2143*(1+$E$13)","v":180827.21600000001}]
[{"$f":"'[1]87-0-14'!B2144","v":"LFSO4P"},{"$f":"'[1]87-0-14'!D2144","v":"LAT SILICE FRENT OCRE  4L"},{"$f":"'[1]87-0-14'!E2144","v":"PREMIER"},{"$f":"'[1]87-0-14'!F2144","v":"LATEX"},{"$f":"'[1]87-0-14'!G2144*(1+$E$13)","v":40145.356500000002}]
[{"$f":"'[1]87-0-14'!B2145","v":"LISB1P"},{"$f":"'[1]87-0-14'!D2145","v":"LAT SILICE S/LAV BLANC  1"},{"$f":"'[1]87-0-14'!E2145","v":"PREMIER"},{"$f":"'[1]87-0-14'!F2145","v":"LATEX"},{"$f":"'[1]87-0-14'!G2145*(1+$E$13)","v":12800.845500000001}]
[{"$f":"'[1]87-0-14'!B2146","v":"LISB4P"},{"$f":"'[1]87-0-14'!D2146","v":"LAT SILICE S/LAV BLANC  4"},{"$f":"'[1]87-0-14'!E2146","v":"PREMIER"},{"$f":"'[1]87-0-14'!F2146","v":"LATEX"},{"$f":"'[1]87-0-14'!G2146*(1+$E$13)","v":44627.135000000002}]
[{"$f":"'[1]87-0-14'!B2147","v":"LISB10P"},{"$f":"'[1]87-0-14'!D2147","v":"LAT SILICE S/LAV BLANC 10"},{"$f":"'[1]87-0-14'!E2147","v":"PREMIER"},{"$f":"'[1]87-0-14'!F2147","v":"LATEX"},{"$f":"'[1]87-0-14'!G2147*(1+$E$13)","v":104949.601}]
[{"$f":"'[1]87-0-14'!B2148","v":"LISB20P"},{"$f":"'[1]87-0-14'!D2148","v":"LAT SILICE S/LAV BLANC 20"},{"$f":"'[1]87-0-14'!E2148","v":"PREMIER"},{"$f":"'[1]87-0-14'!F2148","v":"LATEX"},{"$f":"'[1]87-0-14'!G2148*(1+$E$13)","v":202561.13}]
[{"$f":"'[1]87-0-14'!B2149","v":"LFSRT20P"},{"$f":"'[1]87-0-14'!D2149","v":"LAT.SILI FREN RO/TEJA 20L"},{"$f":"'[1]87-0-14'!E2149","v":"PREMIER"},{"$f":"'[1]87-0-14'!F2149","v":"LATEX"},{"$f":"'[1]87-0-14'!G2149*(1+$E$13)","v":180827.21600000001}]
[{"$f":"'[1]87-0-14'!B2150","v":"LS"},{"$f":"'[1]87-0-14'!D2150","v":"LATAS SIN PAR"},{"$f":"'[1]87-0-14'!E2150","v":"SIN-PAR"},{"$f":"'[1]87-0-14'!F2150","v":"LATAS SIN PAR"},{"$f":"'[1]87-0-14'!G2150*(1+$E$13)","v":0.23249999999999998}]
[{"$f":"'[1]87-0-14'!B2151","v":"LR12V"},{"$f":"'[1]87-0-14'!D2151","v":"LATE \"ROSA\" IN/EX 12"},{"$f":"'[1]87-0-14'!E2151","v":"VENIER"},{"$f":"'[1]87-0-14'!F2151","v":"LATEX"},{"$f":"'[1]87-0-14'!G2151*(1+$E$13)","v":79503.545500000007}]
[{"$f":"'[1]87-0-14'!B2152","v":"LR25V"},{"$f":"'[1]87-0-14'!D2152","v":"LATE \"ROSA\" IN/EX 25"},{"$f":"'[1]87-0-14'!E2152","v":"VENIER"},{"$f":"'[1]87-0-14'!F2152","v":"LATEX"},{"$f":"'[1]87-0-14'!G2152*(1+$E$13)","v":152962.35450000002}]
[{"$f":"'[1]87-0-14'!B2153","v":"LD6V"},{"$f":"'[1]87-0-14'!D2153","v":"LATE DESSUTOL I/E  6"},{"$f":"'[1]87-0-14'!E2153","v":"VENIER"},{"$f":"'[1]87-0-14'!F2153","v":"LATEX"},{"$f":"'[1]87-0-14'!G2153*(1+$E$13)","v":35588.961000000003}]
[{"$f":"'[1]87-0-14'!B2154","v":"LFST4P"},{"$f":"'[1]87-0-14'!D2154","v":"LATE FREN SILI TURQUESA 4"},{"$f":"'[1]87-0-14'!E2154","v":"PREMIER"},{"$f":"'[1]87-0-14'!F2154","v":"LATEX"},{"$f":"'[1]87-0-14'!G2154*(1+$E$13)","v":47123.1}]
[{"$f":"'[1]87-0-14'!B2155","v":"LPCNEV"},{"$f":"'[1]87-0-14'!D2155","v":"LATE PREMIU COLOR NAR ENE"},{"$f":"'[1]87-0-14'!E2155","v":"VENIER"},{"$f":"'[1]87-0-14'!F2155","v":"LATEX"},{"$f":"'[1]87-0-14'!G2155*(1+$E$13)","v":55783.709499999997}]
[{"$f":"'[1]87-0-14'!B2156","v":"LR125V"},{"$f":"'[1]87-0-14'!D2156","v":"LATE ROSA IN/EX 1,25"},{"$f":"'[1]87-0-14'!E2156","v":"VENIER"},{"$f":"'[1]87-0-14'!F2156","v":"LATEX"},{"$f":"'[1]87-0-14'!G2156*(1+$E$13)","v":10878.396000000001}]
[{"$f":"'[1]87-0-14'!B2157","v":"LFSVE1P"},{"$f":"'[1]87-0-14'!D2157","v":"LATE SILI FREN V/ESMER 1L"},{"$f":"'[1]87-0-14'!E2157","v":"PREMIER"},{"$f":"'[1]87-0-14'!F2157","v":"LATEX"},{"$f":"'[1]87-0-14'!G2157*(1+$E$13)","v":13456.1855}]
[{"$f":"'[1]87-0-14'!B2158","v":"LR5V"},{"$f":"'[1]87-0-14'!D2158","v":"LATEX \"ROSA\" IN/EX 5"},{"$f":"'[1]87-0-14'!E2158","v":"VENIER"},{"$f":"'[1]87-0-14'!F2158","v":"LATEX"},{"$f":"'[1]87-0-14'!G2158*(1+$E$13)","v":35051.622500000005}]
[{"$f":"'[1]87-0-14'!B2159","v":"LAIE4P"},{"$f":"'[1]87-0-14'!D2159","v":"LATEX ACRILICO INT/EXT  4"},{"$f":"'[1]87-0-14'!E2159","v":"PREMIER"},{"$f":"'[1]87-0-14'!F2159","v":"LATEX"},{"$f":"'[1]87-0-14'!G2159*(1+$E$13)","v":34738.6155}]
[{"$f":"'[1]87-0-14'!B2160","v":"LAIE10P"},{"$f":"'[1]87-0-14'!D2160","v":"LATEX ACRILICO INT/EXT 10"},{"$f":"'[1]87-0-14'!E2160","v":"PREMIER"},{"$f":"'[1]87-0-14'!F2160","v":"LATEX"},{"$f":"'[1]87-0-14'!G2160*(1+$E$13)","v":80970.945999999996}]
[{"$f":"'[1]87-0-14'!B2161","v":"LAIE20P"},{"$f":"'[1]87-0-14'!D2161","v":"LATEX ACRILICO INT/EXT 20"},{"$f":"'[1]87-0-14'!E2161","v":"PREMIER"},{"$f":"'[1]87-0-14'!F2161","v":"LATEX"},{"$f":"'[1]87-0-14'!G2161*(1+$E$13)","v":153870.019}]
[{"$f":"'[1]87-0-14'!B2162","v":"LC125V"},{"$f":"'[1]87-0-14'!D2162","v":"LATEX CERTIFICA 1,25"},{"$f":"'[1]87-0-14'!E2162","v":"VENIER"},{"$f":"'[1]87-0-14'!F2162","v":"LATEX"},{"$f":"'[1]87-0-14'!G2162*(1+$E$13)","v":12439.292500000001}]
[{"$f":"'[1]87-0-14'!B2163","v":"LC5V"},{"$f":"'[1]87-0-14'!D2163","v":"LATEX CERTIFICADO  5"},{"$f":"'[1]87-0-14'!E2163","v":"VENIER"},{"$f":"'[1]87-0-14'!F2163","v":"LATEX"},{"$f":"'[1]87-0-14'!G2163*(1+$E$13)","v":40959.866000000002}]
[{"$f":"'[1]87-0-14'!B2164","v":"LC12V"},{"$f":"'[1]87-0-14'!D2164","v":"LATEX CERTIFICADO 12"},{"$f":"'[1]87-0-14'!E2164","v":"VENIER"},{"$f":"'[1]87-0-14'!F2164","v":"LATEX"},{"$f":"'[1]87-0-14'!G2164*(1+$E$13)","v":91728.333500000008}]
[{"$f":"'[1]87-0-14'!B2165","v":"LC25V"},{"$f":"'[1]87-0-14'!D2165","v":"LATEX CERTIFICADO 25"},{"$f":"'[1]87-0-14'!E2165","v":"VENIER"},{"$f":"'[1]87-0-14'!F2165","v":"LATEX"},{"$f":"'[1]87-0-14'!G2165*(1+$E$13)","v":180672.63450000001}]
[{"$f":"'[1]87-0-14'!B2166","v":"LC1P"},{"$f":"'[1]87-0-14'!D2166","v":"LATEX CIELORRASO  1 lt"},{"$f":"'[1]87-0-14'!E2166","v":"PREMIER"},{"$f":"'[1]87-0-14'!F2166","v":"LATEX"},{"$f":"'[1]87-0-14'!G2166*(1+$E$13)","v":8640.5524999999998}]
[{"$f":"'[1]87-0-14'!B2167","v":"LC4P"},{"$f":"'[1]87-0-14'!D2167","v":"LATEX CIELORRASO  4 lt"},{"$f":"'[1]87-0-14'!E2167","v":"PREMIER"},{"$f":"'[1]87-0-14'!F2167","v":"LATEX"},{"$f":"'[1]87-0-14'!G2167*(1+$E$13)","v":29521.9355}]
[{"$f":"'[1]87-0-14'!B2168","v":"LC10P"},{"$f":"'[1]87-0-14'!D2168","v":"LATEX CIELORRASO 10 lt"},{"$f":"'[1]87-0-14'!E2168","v":"PREMIER"},{"$f":"'[1]87-0-14'!F2168","v":"LATEX"},{"$f":"'[1]87-0-14'!G2168*(1+$E$13)","v":68394.834999999992}]
[{"$f":"'[1]87-0-14'!B2169","v":"LC20P"},{"$f":"'[1]87-0-14'!D2169","v":"LATEX CIELORRASO 20 lt"},{"$f":"'[1]87-0-14'!E2169","v":"PREMIER"},{"$f":"'[1]87-0-14'!F2169","v":"LATEX"},{"$f":"'[1]87-0-14'!G2169*(1+$E$13)","v":129354.39750000001}]
[{"$f":"'[1]87-0-14'!B2170","v":"LD145V"},{"$f":"'[1]87-0-14'!D2170","v":"LATEX DESSUTOL  14,5"},{"$f":"'[1]87-0-14'!E2170","v":"VENIER"},{"$f":"'[1]87-0-14'!F2170","v":"LATEX"},{"$f":"'[1]87-0-14'!G2170*(1+$E$13)","v":77462.660500000013}]
[{"$f":"'[1]87-0-14'!B2171","v":"LD30V"},{"$f":"'[1]87-0-14'!D2171","v":"LATEX DESSUTOL  30Kg"},{"$f":"'[1]87-0-14'!E2171","v":"VENIER"},{"$f":"'[1]87-0-14'!F2171","v":"LATEX"},{"$f":"'[1]87-0-14'!G2171*(1+$E$13)","v":142520.00450000001}]
[{"$f":"'[1]87-0-14'!B2172","v":"LDJE4P"},{"$f":"'[1]87-0-14'!D2172","v":"LATEX DON JUAN EXTERIO  4"},{"$f":"'[1]87-0-14'!E2172","v":"PREMIER"},{"$f":"'[1]87-0-14'!F2172","v":"LATEX"},{"$f":"'[1]87-0-14'!G2172*(1+$E$13)","v":18352.821500000002}]
[{"$f":"'[1]87-0-14'!B2173","v":"LDJE10P"},{"$f":"'[1]87-0-14'!D2173","v":"LATEX DON JUAN EXTERIO 10"},{"$f":"'[1]87-0-14'!E2173","v":"PREMIER"},{"$f":"'[1]87-0-14'!F2173","v":"LATEX"},{"$f":"'[1]87-0-14'!G2173*(1+$E$13)","v":42923.095999999998}]
[{"$f":"'[1]87-0-14'!B2174","v":"LDJE20P"},{"$f":"'[1]87-0-14'!D2174","v":"LATEX DON JUAN EXTERIO 20"},{"$f":"'[1]87-0-14'!E2174","v":"PREMIER"},{"$f":"'[1]87-0-14'!F2174","v":"LATEX"},{"$f":"'[1]87-0-14'!G2174*(1+$E$13)","v":77156.675000000003}]
[{"$f":"'[1]87-0-14'!B2175","v":"LDJI4P"},{"$f":"'[1]87-0-14'!D2175","v":"LATEX DON JUAN INTERIO  4"},{"$f":"'[1]87-0-14'!E2175","v":"PREMIER"},{"$f":"'[1]87-0-14'!F2175","v":"LATEX"},{"$f":"'[1]87-0-14'!G2175*(1+$E$13)","v":17456.007000000001}]
[{"$f":"'[1]87-0-14'!B2176","v":"LDJI10P"},{"$f":"'[1]87-0-14'!D2176","v":"LATEX DON JUAN INTERIO 10"},{"$f":"'[1]87-0-14'!E2176","v":"PREMIER"},{"$f":"'[1]87-0-14'!F2176","v":"LATEX"},{"$f":"'[1]87-0-14'!G2176*(1+$E$13)","v":40675.813000000002}]
[{"$f":"'[1]87-0-14'!B2177","v":"LDJI20P"},{"$f":"'[1]87-0-14'!D2177","v":"LATEX DON JUAN INTERIO 20"},{"$f":"'[1]87-0-14'!E2177","v":"PREMIER"},{"$f":"'[1]87-0-14'!F2177","v":"LATEX"},{"$f":"'[1]87-0-14'!G2177*(1+$E$13)","v":72662.124500000005}]
[{"$f":"'[1]87-0-14'!B2178","v":"L20024V"},{"$f":"'[1]87-0-14'!D2178","v":"LATEX INTE \"2022\"  4"},{"$f":"'[1]87-0-14'!E2178","v":"VENIER"},{"$f":"'[1]87-0-14'!F2178","v":"LATEX"},{"$f":"'[1]87-0-14'!G2178*(1+$E$13)","v":23290.920000000002}]
[{"$f":"'[1]87-0-14'!B2179","v":"L200210V"},{"$f":"'[1]87-0-14'!D2179","v":"LATEX INTE \"2022\" 10"},{"$f":"'[1]87-0-14'!E2179","v":"VENIER"},{"$f":"'[1]87-0-14'!F2179","v":"LATEX"},{"$f":"'[1]87-0-14'!G2179*(1+$E$13)","v":51987.046499999997}]
[{"$f":"'[1]87-0-14'!B2180","v":"L200220V"},{"$f":"'[1]87-0-14'!D2180","v":"LATEX INTE \"2022\" 20"},{"$f":"'[1]87-0-14'!E2180","v":"VENIER"},{"$f":"'[1]87-0-14'!F2180","v":"LATEX"},{"$f":"'[1]87-0-14'!G2180*(1+$E$13)","v":94542.994000000006}]
[{"$f":"'[1]87-0-14'!B2181","v":"LL5V"},{"$f":"'[1]87-0-14'!D2181","v":"LATEX LAVABLE  5kgs"},{"$f":"'[1]87-0-14'!E2181","v":"VENIER"},{"$f":"'[1]87-0-14'!F2181","v":"LATEX"},{"$f":"'[1]87-0-14'!G2181*(1+$E$13)","v":38292.703500000003}]
[{"$f":"'[1]87-0-14'!B2182","v":"LL12V"},{"$f":"'[1]87-0-14'!D2182","v":"LATEX LAVABLE 12kgs"},{"$f":"'[1]87-0-14'!E2182","v":"VENIER"},{"$f":"'[1]87-0-14'!F2182","v":"LATEX"},{"$f":"'[1]87-0-14'!G2182*(1+$E$13)","v":87223.816500000001}]
[{"$f":"'[1]87-0-14'!B2183","v":"LL25V"},{"$f":"'[1]87-0-14'!D2183","v":"LATEX LAVABLE 25kgs"},{"$f":"'[1]87-0-14'!E2183","v":"VENIER"},{"$f":"'[1]87-0-14'!F2183","v":"LATEX"},{"$f":"'[1]87-0-14'!G2183*(1+$E$13)","v":167620.39449999999}]
[{"$f":"'[1]87-0-14'!B2184","v":"LPI1P"},{"$f":"'[1]87-0-14'!D2184","v":"LATEX PROFESIONAL INT. 1"},{"$f":"'[1]87-0-14'!E2184","v":"PREMIER"},{"$f":"'[1]87-0-14'!F2184","v":"LATEX"},{"$f":"'[1]87-0-14'!G2184*(1+$E$13)","v":7120.4829999999993}]
[{"$f":"'[1]87-0-14'!B2185","v":"LPI10P"},{"$f":"'[1]87-0-14'!D2185","v":"LATEX PROFESIONAL INT. 10"},{"$f":"'[1]87-0-14'!E2185","v":"PREMIER"},{"$f":"'[1]87-0-14'!F2185","v":"LATEX"},{"$f":"'[1]87-0-14'!G2185*(1+$E$13)","v":53677.941500000001}]
[{"$f":"'[1]87-0-14'!B2186","v":"LPI20P"},{"$f":"'[1]87-0-14'!D2186","v":"LATEX PROFESIONAL INT. 20"},{"$f":"'[1]87-0-14'!E2186","v":"PREMIER"},{"$f":"'[1]87-0-14'!F2186","v":"LATEX"},{"$f":"'[1]87-0-14'!G2186*(1+$E$13)","v":99919.959499999997}]
[{"$f":"'[1]87-0-14'!B2187","v":"LPI4P"},{"$f":"'[1]87-0-14'!D2187","v":"LATEX PROFESIONAL INT. 4"},{"$f":"'[1]87-0-14'!E2187","v":"PREMIER"},{"$f":"'[1]87-0-14'!F2187","v":"LATEX"},{"$f":"'[1]87-0-14'!G2187*(1+$E$13)","v":23441.533500000001}]
[{"$f":"'[1]87-0-14'!B2188","v":"LS10V"},{"$f":"'[1]87-0-14'!D2188","v":"LATEX SATINADO 10Lts"},{"$f":"'[1]87-0-14'!E2188","v":"VENIER"},{"$f":"'[1]87-0-14'!F2188","v":"LATEX SATINADO"},{"$f":"'[1]87-0-14'!G2188*(1+$E$13)","v":139716.48850000001}]
[{"$f":"'[1]87-0-14'!B2189","v":"LS20V"},{"$f":"'[1]87-0-14'!D2189","v":"LATEX SATINADO 20Lts"},{"$f":"'[1]87-0-14'!E2189","v":"VENIER"},{"$f":"'[1]87-0-14'!F2189","v":"LATEX SATINADO"},{"$f":"'[1]87-0-14'!G2189*(1+$E$13)","v":263007.99900000001}]
[{"$f":"'[1]87-0-14'!B2190","v":"LFSRT1P"},{"$f":"'[1]87-0-14'!D2190","v":"LATEX SILI FREN R/TEJA 1L"},{"$f":"'[1]87-0-14'!E2190","v":"PREMIER"},{"$f":"'[1]87-0-14'!F2190","v":"LATEX"},{"$f":"'[1]87-0-14'!G2190*(1+$E$13)","v":11650.203000000001}]
[{"$f":"'[1]87-0-14'!B2191","v":"LFSO1P"},{"$f":"'[1]87-0-14'!D2191","v":"LATEX SILI FRENTE OCRE 1L"},{"$f":"'[1]87-0-14'!E2191","v":"PREMIER"},{"$f":"'[1]87-0-14'!F2191","v":"LATEX"},{"$f":"'[1]87-0-14'!G2191*(1+$E$13)","v":11650.203000000001}]
[{"$f":"'[1]87-0-14'!B2192","v":"LE200P"},{"$f":"'[1]87-0-14'!D2192","v":"LATEX SUPERIOR EXTERI 200"},{"$f":"'[1]87-0-14'!E2192","v":"PREMIER"},{"$f":"'[1]87-0-14'!F2192","v":"LATEX"},{"$f":"'[1]87-0-14'!G2192*(1+$E$13)","v":1107639.827}]
[{"$f":"'[1]87-0-14'!B2193","v":"LE4P"},{"$f":"'[1]87-0-14'!D2193","v":"LATEX SUPERIOR EXTERIO  4"},{"$f":"'[1]87-0-14'!E2193","v":"PREMIER"},{"$f":"'[1]87-0-14'!F2193","v":"LATEX"},{"$f":"'[1]87-0-14'!G2193*(1+$E$13)","v":25681.702000000001}]
[{"$f":"'[1]87-0-14'!B2194","v":"LE10P"},{"$f":"'[1]87-0-14'!D2194","v":"LATEX SUPERIOR EXTERIO 10"},{"$f":"'[1]87-0-14'!E2194","v":"PREMIER"},{"$f":"'[1]87-0-14'!F2194","v":"LATEX"},{"$f":"'[1]87-0-14'!G2194*(1+$E$13)","v":59099.950000000004}]
[{"$f":"'[1]87-0-14'!B2195","v":"LE20P"},{"$f":"'[1]87-0-14'!D2195","v":"LATEX SUPERIOR EXTERIO 20"},{"$f":"'[1]87-0-14'!E2195","v":"PREMIER"},{"$f":"'[1]87-0-14'!F2195","v":"LATEX"},{"$f":"'[1]87-0-14'!G2195*(1+$E$13)","v":110763.9765}]
[{"$f":"'[1]87-0-14'!B2196","v":"LI200P"},{"$f":"'[1]87-0-14'!D2196","v":"LATEX SUPERIOR INTERI 200"},{"$f":"'[1]87-0-14'!E2196","v":"PREMIER"},{"$f":"'[1]87-0-14'!F2196","v":"LATEX"},{"$f":"'[1]87-0-14'!G2196*(1+$E$13)","v":927653.4084999999}]
[{"$f":"'[1]87-0-14'!B2197","v":"LI4P"},{"$f":"'[1]87-0-14'!D2197","v":"LATEX SUPERIOR INTERIO  4"},{"$f":"'[1]87-0-14'!E2197","v":"PREMIER"},{"$f":"'[1]87-0-14'!F2197","v":"LATEX"},{"$f":"'[1]87-0-14'!G2197*(1+$E$13)","v":21908.691999999999}]
[{"$f":"'[1]87-0-14'!B2198","v":"LI10P"},{"$f":"'[1]87-0-14'!D2198","v":"LATEX SUPERIOR INTERIO 10"},{"$f":"'[1]87-0-14'!E2198","v":"PREMIER"},{"$f":"'[1]87-0-14'!F2198","v":"LATEX"},{"$f":"'[1]87-0-14'!G2198*(1+$E$13)","v":50002.783000000003}]
[{"$f":"'[1]87-0-14'!B2199","v":"LI20P"},{"$f":"'[1]87-0-14'!D2199","v":"LATEX SUPERIOR INTERIO 20"},{"$f":"'[1]87-0-14'!E2199","v":"PREMIER"},{"$f":"'[1]87-0-14'!F2199","v":"LATEX"},{"$f":"'[1]87-0-14'!G2199*(1+$E$13)","v":92765.33}]
[{"$f":"'[1]87-0-14'!B2200","v":"LA60H"},{"$f":"'[1]87-0-14'!D2200","v":"LIJA AL AGUA Grano  60"},{"$f":"'[1]87-0-14'!E2200","v":"HUNTER"},{"$f":"'[1]87-0-14'!F2200","v":"LIJA AL AGUA"},{"$f":"'[1]87-0-14'!G2200*(1+$E$13)","v":56.249499999999998}]
[{"$f":"'[1]87-0-14'!B2201","v":"LA80H"},{"$f":"'[1]87-0-14'!D2201","v":"LIJA AL AGUA Grano  80"},{"$f":"'[1]87-0-14'!E2201","v":"HUNTER"},{"$f":"'[1]87-0-14'!F2201","v":"LIJA AL AGUA"},{"$f":"'[1]87-0-14'!G2201*(1+$E$13)","v":56.249499999999998}]
[{"$f":"'[1]87-0-14'!B2202","v":"LA100H"},{"$f":"'[1]87-0-14'!D2202","v":"LIJA AL AGUA Grano 100"},{"$f":"'[1]87-0-14'!E2202","v":"HUNTER"},{"$f":"'[1]87-0-14'!F2202","v":"LIJA AL AGUA"},{"$f":"'[1]87-0-14'!G2202*(1+$E$13)","v":56.249499999999998}]
[{"$f":"'[1]87-0-14'!B2203","v":"LA120H"},{"$f":"'[1]87-0-14'!D2203","v":"LIJA AL AGUA Grano 120"},{"$f":"'[1]87-0-14'!E2203","v":"HUNTER"},{"$f":"'[1]87-0-14'!F2203","v":"LIJA AL AGUA"},{"$f":"'[1]87-0-14'!G2203*(1+$E$13)","v":56.249499999999998}]
[{"$f":"'[1]87-0-14'!B2204","v":"LA150H"},{"$f":"'[1]87-0-14'!D2204","v":"LIJA AL AGUA Grano 150"},{"$f":"'[1]87-0-14'!E2204","v":"HUNTER"},{"$f":"'[1]87-0-14'!F2204","v":"LIJA AL AGUA"},{"$f":"'[1]87-0-14'!G2204*(1+$E$13)","v":56.249499999999998}]
[{"$f":"'[1]87-0-14'!B2205","v":"LA180H"},{"$f":"'[1]87-0-14'!D2205","v":"LIJA AL AGUA Grano 180"},{"$f":"'[1]87-0-14'!E2205","v":"HUNTER"},{"$f":"'[1]87-0-14'!F2205","v":"LIJA AL AGUA"},{"$f":"'[1]87-0-14'!G2205*(1+$E$13)","v":56.249499999999998}]
[{"$f":"'[1]87-0-14'!B2206","v":"LA220H"},{"$f":"'[1]87-0-14'!D2206","v":"LIJA AL AGUA Grano 220"},{"$f":"'[1]87-0-14'!E2206","v":"HUNTER"},{"$f":"'[1]87-0-14'!F2206","v":"LIJA AL AGUA"},{"$f":"'[1]87-0-14'!G2206*(1+$E$13)","v":56.249499999999998}]
[{"$f":"'[1]87-0-14'!B2207","v":"LA240H"},{"$f":"'[1]87-0-14'!D2207","v":"LIJA AL AGUA Grano 240"},{"$f":"'[1]87-0-14'!E2207","v":"HUNTER"},{"$f":"'[1]87-0-14'!F2207","v":"LIJA AL AGUA"},{"$f":"'[1]87-0-14'!G2207*(1+$E$13)","v":56.249499999999998}]
[{"$f":"'[1]87-0-14'!B2208","v":"LA280H"},{"$f":"'[1]87-0-14'!D2208","v":"LIJA AL AGUA Grano 280"},{"$f":"'[1]87-0-14'!E2208","v":"HUNTER"},{"$f":"'[1]87-0-14'!F2208","v":"LIJA AL AGUA"},{"$f":"'[1]87-0-14'!G2208*(1+$E$13)","v":56.249499999999998}]
[{"$f":"'[1]87-0-14'!B2209","v":"LA320H"},{"$f":"'[1]87-0-14'!D2209","v":"LIJA AL AGUA Grano 320"},{"$f":"'[1]87-0-14'!E2209","v":"HUNTER"},{"$f":"'[1]87-0-14'!F2209","v":"LIJA AL AGUA"},{"$f":"'[1]87-0-14'!G2209*(1+$E$13)","v":56.249499999999998}]
[{"$f":"'[1]87-0-14'!B2210","v":"LA360H"},{"$f":"'[1]87-0-14'!D2210","v":"LIJA AL AGUA Grano 360"},{"$f":"'[1]87-0-14'!E2210","v":"HUNTER"},{"$f":"'[1]87-0-14'!F2210","v":"LIJA AL AGUA"},{"$f":"'[1]87-0-14'!G2210*(1+$E$13)","v":56.249499999999998}]
[{"$f":"'[1]87-0-14'!B2211","v":"LA400H"},{"$f":"'[1]87-0-14'!D2211","v":"LIJA AL AGUA Grano 400"},{"$f":"'[1]87-0-14'!E2211","v":"HUNTER"},{"$f":"'[1]87-0-14'!F2211","v":"LIJA AL AGUA"},{"$f":"'[1]87-0-14'!G2211*(1+$E$13)","v":56.249499999999998}]
[{"$f":"'[1]87-0-14'!B2212","v":"LA500H"},{"$f":"'[1]87-0-14'!D2212","v":"LIJA AL AGUA Grano 500"},{"$f":"'[1]87-0-14'!E2212","v":"HUNTER"},{"$f":"'[1]87-0-14'!F2212","v":"LIJA AL AGUA"},{"$f":"'[1]87-0-14'!G2212*(1+$E$13)","v":56.249499999999998}]
[{"$f":"'[1]87-0-14'!B2213","v":"LA600H"},{"$f":"'[1]87-0-14'!D2213","v":"LIJA AL AGUA Grano 600"},{"$f":"'[1]87-0-14'!E2213","v":"HUNTER"},{"$f":"'[1]87-0-14'!F2213","v":"LIJA AL AGUA"},{"$f":"'[1]87-0-14'!G2213*(1+$E$13)","v":56.249499999999998}]
[{"$f":"'[1]87-0-14'!B2214","v":"LA60D"},{"$f":"'[1]87-0-14'!D2214","v":"LIJA AL AGUA N   60"},{"$f":"'[1]87-0-14'!E2214","v":"DOBLE A"},{"$f":"'[1]87-0-14'!F2214","v":"LIJA AL AGUA"},{"$f":"'[1]87-0-14'!G2214*(1+$E$13)","v":1461.5415}]
[{"$f":"'[1]87-0-14'!B2215","v":"LA80D"},{"$f":"'[1]87-0-14'!D2215","v":"LIJA AL AGUA N   80"},{"$f":"'[1]87-0-14'!E2215","v":"DOBLE A"},{"$f":"'[1]87-0-14'!F2215","v":"LIJA AL AGUA"},{"$f":"'[1]87-0-14'!G2215*(1+$E$13)","v":1461.5415}]
[{"$f":"'[1]87-0-14'!B2216","v":"LA100D"},{"$f":"'[1]87-0-14'!D2216","v":"LIJA AL AGUA N  100"},{"$f":"'[1]87-0-14'!E2216","v":"DOBLE A"},{"$f":"'[1]87-0-14'!F2216","v":"LIJA AL AGUA"},{"$f":"'[1]87-0-14'!G2216*(1+$E$13)","v":1461.5415}]
[{"$f":"'[1]87-0-14'!B2217","v":"LA120D"},{"$f":"'[1]87-0-14'!D2217","v":"LIJA AL AGUA N  120"},{"$f":"'[1]87-0-14'!E2217","v":"DOBLE A"},{"$f":"'[1]87-0-14'!F2217","v":"LIJA AL AGUA"},{"$f":"'[1]87-0-14'!G2217*(1+$E$13)","v":1461.5415}]
[{"$f":"'[1]87-0-14'!B2218","v":"LA150D"},{"$f":"'[1]87-0-14'!D2218","v":"LIJA AL AGUA N  150"},{"$f":"'[1]87-0-14'!E2218","v":"DOBLE A"},{"$f":"'[1]87-0-14'!F2218","v":"LIJA AL AGUA"},{"$f":"'[1]87-0-14'!G2218*(1+$E$13)","v":1461.5415}]
[{"$f":"'[1]87-0-14'!B2219","v":"LA180D"},{"$f":"'[1]87-0-14'!D2219","v":"LIJA AL AGUA N  180"},{"$f":"'[1]87-0-14'!E2219","v":"DOBLE A"},{"$f":"'[1]87-0-14'!F2219","v":"LIJA AL AGUA"},{"$f":"'[1]87-0-14'!G2219*(1+$E$13)","v":1461.5415}]
[{"$f":"'[1]87-0-14'!B2220","v":"LA220D"},{"$f":"'[1]87-0-14'!D2220","v":"LIJA AL AGUA N  220"},{"$f":"'[1]87-0-14'!E2220","v":"DOBLE A"},{"$f":"'[1]87-0-14'!F2220","v":"LIJA AL AGUA"},{"$f":"'[1]87-0-14'!G2220*(1+$E$13)","v":1461.5415}]
[{"$f":"'[1]87-0-14'!B2221","v":"LA240D"},{"$f":"'[1]87-0-14'!D2221","v":"LIJA AL AGUA N  240"},{"$f":"'[1]87-0-14'!E2221","v":"DOBLE A"},{"$f":"'[1]87-0-14'!F2221","v":"LIJA AL AGUA"},{"$f":"'[1]87-0-14'!G2221*(1+$E$13)","v":1461.5415}]
[{"$f":"'[1]87-0-14'!B2222","v":"LA280D"},{"$f":"'[1]87-0-14'!D2222","v":"LIJA AL AGUA N  280"},{"$f":"'[1]87-0-14'!E2222","v":"DOBLE A"},{"$f":"'[1]87-0-14'!F2222","v":"LIJA AL AGUA"},{"$f":"'[1]87-0-14'!G2222*(1+$E$13)","v":1461.5415}]
[{"$f":"'[1]87-0-14'!B2223","v":"LA320D"},{"$f":"'[1]87-0-14'!D2223","v":"LIJA AL AGUA N  320"},{"$f":"'[1]87-0-14'!E2223","v":"DOBLE A"},{"$f":"'[1]87-0-14'!F2223","v":"LIJA AL AGUA"},{"$f":"'[1]87-0-14'!G2223*(1+$E$13)","v":1461.5415}]
[{"$f":"'[1]87-0-14'!B2224","v":"LA360D"},{"$f":"'[1]87-0-14'!D2224","v":"LIJA AL AGUA N  360"},{"$f":"'[1]87-0-14'!E2224","v":"DOBLE A"},{"$f":"'[1]87-0-14'!F2224","v":"LIJA AL AGUA"},{"$f":"'[1]87-0-14'!G2224*(1+$E$13)","v":1461.5415}]
[{"$f":"'[1]87-0-14'!B2225","v":"LA400D"},{"$f":"'[1]87-0-14'!D2225","v":"LIJA AL AGUA N  400"},{"$f":"'[1]87-0-14'!E2225","v":"DOBLE A"},{"$f":"'[1]87-0-14'!F2225","v":"LIJA AL AGUA"},{"$f":"'[1]87-0-14'!G2225*(1+$E$13)","v":1461.5415}]
[{"$f":"'[1]87-0-14'!B2226","v":"LA500D"},{"$f":"'[1]87-0-14'!D2226","v":"LIJA AL AGUA N  500"},{"$f":"'[1]87-0-14'!E2226","v":"DOBLE A"},{"$f":"'[1]87-0-14'!F2226","v":"LIJA AL AGUA"},{"$f":"'[1]87-0-14'!G2226*(1+$E$13)","v":1461.5415}]
[{"$f":"'[1]87-0-14'!B2227","v":"LA600D"},{"$f":"'[1]87-0-14'!D2227","v":"LIJA AL AGUA N  600"},{"$f":"'[1]87-0-14'!E2227","v":"DOBLE A"},{"$f":"'[1]87-0-14'!F2227","v":"LIJA AL AGUA"},{"$f":"'[1]87-0-14'!G2227*(1+$E$13)","v":1461.5415}]
[{"$f":"'[1]87-0-14'!B2228","v":"LA1000D"},{"$f":"'[1]87-0-14'!D2228","v":"LIJA AL AGUA N 1000"},{"$f":"'[1]87-0-14'!E2228","v":"DOBLE A"},{"$f":"'[1]87-0-14'!F2228","v":"LIJA AL AGUA"},{"$f":"'[1]87-0-14'!G2228*(1+$E$13)","v":2279.6315}]
[{"$f":"'[1]87-0-14'!B2229","v":"LA1200D"},{"$f":"'[1]87-0-14'!D2229","v":"LIJA AL AGUA N 1200"},{"$f":"'[1]87-0-14'!E2229","v":"DOBLE A"},{"$f":"'[1]87-0-14'!F2229","v":"LIJA AL AGUA"},{"$f":"'[1]87-0-14'!G2229*(1+$E$13)","v":2279.6315}]
[{"$f":"'[1]87-0-14'!B2230","v":"LA1500D"},{"$f":"'[1]87-0-14'!D2230","v":"LIJA AL AGUA N 1500"},{"$f":"'[1]87-0-14'!E2230","v":"DOBLE A"},{"$f":"'[1]87-0-14'!F2230","v":"LIJA AL AGUA"},{"$f":"'[1]87-0-14'!G2230*(1+$E$13)","v":2279.6315}]
[{"$f":"'[1]87-0-14'!B2231","v":"LA2000D"},{"$f":"'[1]87-0-14'!D2231","v":"LIJA AL AGUA N 2000"},{"$f":"'[1]87-0-14'!E2231","v":"DOBLE A"},{"$f":"'[1]87-0-14'!F2231","v":"LIJA AL AGUA"},{"$f":"'[1]87-0-14'!G2231*(1+$E$13)","v":3359.2685000000001}]
[{"$f":"'[1]87-0-14'!B2232","v":"LA60EG"},{"$f":"'[1]87-0-14'!D2232","v":"LIJA AL AGUA grano   60"},{"$f":"'[1]87-0-14'!E2232","v":"EL GALGO"},{"$f":"'[1]87-0-14'!F2232","v":"LIJA"},{"$f":"'[1]87-0-14'!G2232*(1+$E$13)","v":858.63800000000003}]
[{"$f":"'[1]87-0-14'!B2233","v":"LA80EG"},{"$f":"'[1]87-0-14'!D2233","v":"LIJA AL AGUA grano   80"},{"$f":"'[1]87-0-14'!E2233","v":"EL GALGO"},{"$f":"'[1]87-0-14'!F2233","v":"LIJA"},{"$f":"'[1]87-0-14'!G2233*(1+$E$13)","v":858.68450000000007}]
[{"$f":"'[1]87-0-14'!B2234","v":"LA100EG"},{"$f":"'[1]87-0-14'!D2234","v":"LIJA AL AGUA grano  100"},{"$f":"'[1]87-0-14'!E2234","v":"EL GALGO"},{"$f":"'[1]87-0-14'!F2234","v":"LIJA"},{"$f":"'[1]87-0-14'!G2234*(1+$E$13)","v":858.68450000000007}]
[{"$f":"'[1]87-0-14'!B2235","v":"LA120EG"},{"$f":"'[1]87-0-14'!D2235","v":"LIJA AL AGUA grano  120"},{"$f":"'[1]87-0-14'!E2235","v":"EL GALGO"},{"$f":"'[1]87-0-14'!F2235","v":"LIJA"},{"$f":"'[1]87-0-14'!G2235*(1+$E$13)","v":858.68450000000007}]
[{"$f":"'[1]87-0-14'!B2236","v":"LA150EG"},{"$f":"'[1]87-0-14'!D2236","v":"LIJA AL AGUA grano  150"},{"$f":"'[1]87-0-14'!E2236","v":"EL GALGO"},{"$f":"'[1]87-0-14'!F2236","v":"LIJA"},{"$f":"'[1]87-0-14'!G2236*(1+$E$13)","v":858.68450000000007}]
[{"$f":"'[1]87-0-14'!B2237","v":"LA180EG"},{"$f":"'[1]87-0-14'!D2237","v":"LIJA AL AGUA grano  180"},{"$f":"'[1]87-0-14'!E2237","v":"EL GALGO"},{"$f":"'[1]87-0-14'!F2237","v":"LIJA"},{"$f":"'[1]87-0-14'!G2237*(1+$E$13)","v":858.68450000000007}]
[{"$f":"'[1]87-0-14'!B2238","v":"LA220EG"},{"$f":"'[1]87-0-14'!D2238","v":"LIJA AL AGUA grano  220"},{"$f":"'[1]87-0-14'!E2238","v":"EL GALGO"},{"$f":"'[1]87-0-14'!F2238","v":"LIJA"},{"$f":"'[1]87-0-14'!G2238*(1+$E$13)","v":858.68450000000007}]
[{"$f":"'[1]87-0-14'!B2239","v":"LA240EG"},{"$f":"'[1]87-0-14'!D2239","v":"LIJA AL AGUA grano  240"},{"$f":"'[1]87-0-14'!E2239","v":"EL GALGO"},{"$f":"'[1]87-0-14'!F2239","v":"LIJA"},{"$f":"'[1]87-0-14'!G2239*(1+$E$13)","v":858.68450000000007}]
[{"$f":"'[1]87-0-14'!B2240","v":"LA280EG"},{"$f":"'[1]87-0-14'!D2240","v":"LIJA AL AGUA grano  280"},{"$f":"'[1]87-0-14'!E2240","v":"EL GALGO"},{"$f":"'[1]87-0-14'!F2240","v":"LIJA"},{"$f":"'[1]87-0-14'!G2240*(1+$E$13)","v":858.68450000000007}]
[{"$f":"'[1]87-0-14'!B2241","v":"LA320EG"},{"$f":"'[1]87-0-14'!D2241","v":"LIJA AL AGUA grano  320"},{"$f":"'[1]87-0-14'!E2241","v":"EL GALGO"},{"$f":"'[1]87-0-14'!F2241","v":"LIJA"},{"$f":"'[1]87-0-14'!G2241*(1+$E$13)","v":858.68450000000007}]
[{"$f":"'[1]87-0-14'!B2242","v":"LA360EG"},{"$f":"'[1]87-0-14'!D2242","v":"LIJA AL AGUA grano  360"},{"$f":"'[1]87-0-14'!E2242","v":"EL GALGO"},{"$f":"'[1]87-0-14'!F2242","v":"LIJA"},{"$f":"'[1]87-0-14'!G2242*(1+$E$13)","v":858.68450000000007}]
[{"$f":"'[1]87-0-14'!B2243","v":"LA400EG"},{"$f":"'[1]87-0-14'!D2243","v":"LIJA AL AGUA grano  400"},{"$f":"'[1]87-0-14'!E2243","v":"EL GALGO"},{"$f":"'[1]87-0-14'!F2243","v":"LIJA"},{"$f":"'[1]87-0-14'!G2243*(1+$E$13)","v":858.68450000000007}]
[{"$f":"'[1]87-0-14'!B2244","v":"LA500EG"},{"$f":"'[1]87-0-14'!D2244","v":"LIJA AL AGUA grano  500"},{"$f":"'[1]87-0-14'!E2244","v":"EL GALGO"},{"$f":"'[1]87-0-14'!F2244","v":"LIJA"},{"$f":"'[1]87-0-14'!G2244*(1+$E$13)","v":858.68450000000007}]
[{"$f":"'[1]87-0-14'!B2245","v":"LA600EG"},{"$f":"'[1]87-0-14'!D2245","v":"LIJA AL AGUA grano  600"},{"$f":"'[1]87-0-14'!E2245","v":"EL GALGO"},{"$f":"'[1]87-0-14'!F2245","v":"LIJA"},{"$f":"'[1]87-0-14'!G2245*(1+$E$13)","v":858.68450000000007}]
[{"$f":"'[1]87-0-14'!B2246","v":"LAE80EG"},{"$f":"'[1]87-0-14'!D2246","v":"LIJA ANTIEMPASTE   80"},{"$f":"'[1]87-0-14'!E2246","v":"EL GALGO"},{"$f":"'[1]87-0-14'!F2246","v":"LIJA"},{"$f":"'[1]87-0-14'!G2246*(1+$E$13)","v":1159.5550000000001}]
[{"$f":"'[1]87-0-14'!B2247","v":"LAE100EG"},{"$f":"'[1]87-0-14'!D2247","v":"LIJA ANTIEMPASTE  100"},{"$f":"'[1]87-0-14'!E2247","v":"EL GALGO"},{"$f":"'[1]87-0-14'!F2247","v":"LIJA"},{"$f":"'[1]87-0-14'!G2247*(1+$E$13)","v":1159.5550000000001}]
[{"$f":"'[1]87-0-14'!B2248","v":"LAE120EG"},{"$f":"'[1]87-0-14'!D2248","v":"LIJA ANTIEMPASTE  120"},{"$f":"'[1]87-0-14'!E2248","v":"EL GALGO"},{"$f":"'[1]87-0-14'!F2248","v":"LIJA"},{"$f":"'[1]87-0-14'!G2248*(1+$E$13)","v":1159.5550000000001}]
[{"$f":"'[1]87-0-14'!B2249","v":"LAE150EG"},{"$f":"'[1]87-0-14'!D2249","v":"LIJA ANTIEMPASTE  150"},{"$f":"'[1]87-0-14'!E2249","v":"EL GALGO"},{"$f":"'[1]87-0-14'!F2249","v":"LIJA"},{"$f":"'[1]87-0-14'!G2249*(1+$E$13)","v":1159.5550000000001}]
[{"$f":"'[1]87-0-14'!B2250","v":"LAE180EG"},{"$f":"'[1]87-0-14'!D2250","v":"LIJA ANTIEMPASTE  180"},{"$f":"'[1]87-0-14'!E2250","v":"EL GALGO"},{"$f":"'[1]87-0-14'!F2250","v":"LIJA"},{"$f":"'[1]87-0-14'!G2250*(1+$E$13)","v":1159.5550000000001}]
[{"$f":"'[1]87-0-14'!B2251","v":"LAE220EG"},{"$f":"'[1]87-0-14'!D2251","v":"LIJA ANTIEMPASTE  220"},{"$f":"'[1]87-0-14'!E2251","v":"EL GALGO"},{"$f":"'[1]87-0-14'!F2251","v":"LIJA"},{"$f":"'[1]87-0-14'!G2251*(1+$E$13)","v":1159.5550000000001}]
[{"$f":"'[1]87-0-14'!B2252","v":"LAE360EG"},{"$f":"'[1]87-0-14'!D2252","v":"LIJA ANTIEMPASTE  360"},{"$f":"'[1]87-0-14'!E2252","v":"EL GALGO"},{"$f":"'[1]87-0-14'!F2252","v":"LIJA"},{"$f":"'[1]87-0-14'!G2252*(1+$E$13)","v":1159.5550000000001}]
[{"$f":"'[1]87-0-14'!B2253","v":"LM40D"},{"$f":"'[1]87-0-14'!D2253","v":"LIJA MADERA    40"},{"$f":"'[1]87-0-14'!E2253","v":"DOBLE A"},{"$f":"'[1]87-0-14'!F2253","v":"LIJA MADERA"},{"$f":"'[1]87-0-14'!G2253*(1+$E$13)","v":847.447}]
[{"$f":"'[1]87-0-14'!B2254","v":"LM60D"},{"$f":"'[1]87-0-14'!D2254","v":"LIJA MADERA    60"},{"$f":"'[1]87-0-14'!E2254","v":"DOBLE A"},{"$f":"'[1]87-0-14'!F2254","v":"LIJA MADERA"},{"$f":"'[1]87-0-14'!G2254*(1+$E$13)","v":847.447}]
[{"$f":"'[1]87-0-14'!B2255","v":"LM80D"},{"$f":"'[1]87-0-14'!D2255","v":"LIJA MADERA    80"},{"$f":"'[1]87-0-14'!E2255","v":"DOBLE A"},{"$f":"'[1]87-0-14'!F2255","v":"LIJA MADERA"},{"$f":"'[1]87-0-14'!G2255*(1+$E$13)","v":847.447}]
[{"$f":"'[1]87-0-14'!B2256","v":"LM100D"},{"$f":"'[1]87-0-14'!D2256","v":"LIJA MADERA   100"},{"$f":"'[1]87-0-14'!E2256","v":"DOBLE A"},{"$f":"'[1]87-0-14'!F2256","v":"LIJA MADERA"},{"$f":"'[1]87-0-14'!G2256*(1+$E$13)","v":847.447}]
[{"$f":"'[1]87-0-14'!B2257","v":"LM120D"},{"$f":"'[1]87-0-14'!D2257","v":"LIJA MADERA   120"},{"$f":"'[1]87-0-14'!E2257","v":"DOBLE A"},{"$f":"'[1]87-0-14'!F2257","v":"LIJA MADERA"},{"$f":"'[1]87-0-14'!G2257*(1+$E$13)","v":847.447}]
[{"$f":"'[1]87-0-14'!B2258","v":"LM150D"},{"$f":"'[1]87-0-14'!D2258","v":"LIJA MADERA   150"},{"$f":"'[1]87-0-14'!E2258","v":"DOBLE A"},{"$f":"'[1]87-0-14'!F2258","v":"LIJA MADERA"},{"$f":"'[1]87-0-14'!G2258*(1+$E$13)","v":847.447}]
[{"$f":"'[1]87-0-14'!B2259","v":"LM180D"},{"$f":"'[1]87-0-14'!D2259","v":"LIJA MADERA   180"},{"$f":"'[1]87-0-14'!E2259","v":"DOBLE A"},{"$f":"'[1]87-0-14'!F2259","v":"LIJA MADERA"},{"$f":"'[1]87-0-14'!G2259*(1+$E$13)","v":847.447}]
[{"$f":"'[1]87-0-14'!B2260","v":"LM220D"},{"$f":"'[1]87-0-14'!D2260","v":"LIJA MADERA   220"},{"$f":"'[1]87-0-14'!E2260","v":"DOBLE A"},{"$f":"'[1]87-0-14'!F2260","v":"LIJA MADERA"},{"$f":"'[1]87-0-14'!G2260*(1+$E$13)","v":847.447}]
[{"$f":"'[1]87-0-14'!B2261","v":"LM50EG"},{"$f":"'[1]87-0-14'!D2261","v":"LIJA MADERA/UNIVERSAL  50"},{"$f":"'[1]87-0-14'!E2261","v":"EL GALGO"},{"$f":"'[1]87-0-14'!F2261","v":"LIJA"},{"$f":"'[1]87-0-14'!G2261*(1+$E$13)","v":561.27050000000008}]
[{"$f":"'[1]87-0-14'!B2262","v":"LM80EG"},{"$f":"'[1]87-0-14'!D2262","v":"LIJA MADERA/UNIVERSAL  80"},{"$f":"'[1]87-0-14'!E2262","v":"EL GALGO"},{"$f":"'[1]87-0-14'!F2262","v":"LIJA"},{"$f":"'[1]87-0-14'!G2262*(1+$E$13)","v":561.27050000000008}]
[{"$f":"'[1]87-0-14'!B2263","v":"LM120EG"},{"$f":"'[1]87-0-14'!D2263","v":"LIJA MADERA/UNIVERSAL 120"},{"$f":"'[1]87-0-14'!E2263","v":"EL GALGO"},{"$f":"'[1]87-0-14'!F2263","v":"LIJA"},{"$f":"'[1]87-0-14'!G2263*(1+$E$13)","v":561.27050000000008}]
[{"$f":"'[1]87-0-14'!B2264","v":"LM180EG"},{"$f":"'[1]87-0-14'!D2264","v":"LIJA MADERA/UNIVERSAL 180"},{"$f":"'[1]87-0-14'!E2264","v":"EL GALGO"},{"$f":"'[1]87-0-14'!F2264","v":"LIJA"},{"$f":"'[1]87-0-14'!G2264*(1+$E$13)","v":561.27050000000008}]
[{"$f":"'[1]87-0-14'!B2265","v":"LNP80D"},{"$f":"'[1]87-0-14'!D2265","v":"LIJA NO PAST  80"},{"$f":"'[1]87-0-14'!E2265","v":"DOBLE A"},{"$f":"'[1]87-0-14'!F2265","v":"LIJA NO PAST"},{"$f":"'[1]87-0-14'!G2265*(1+$E$13)","v":2291.8145}]
[{"$f":"'[1]87-0-14'!B2266","v":"LNP100D"},{"$f":"'[1]87-0-14'!D2266","v":"LIJA NO PAST 100"},{"$f":"'[1]87-0-14'!E2266","v":"DOBLE A"},{"$f":"'[1]87-0-14'!F2266","v":"LIJA NO PAST"},{"$f":"'[1]87-0-14'!G2266*(1+$E$13)","v":2291.8145}]
[{"$f":"'[1]87-0-14'!B2267","v":"LNP120D"},{"$f":"'[1]87-0-14'!D2267","v":"LIJA NO PAST 120"},{"$f":"'[1]87-0-14'!E2267","v":"DOBLE A"},{"$f":"'[1]87-0-14'!F2267","v":"LIJA NO PAST"},{"$f":"'[1]87-0-14'!G2267*(1+$E$13)","v":2291.8145}]
[{"$f":"'[1]87-0-14'!B2268","v":"LNP150D"},{"$f":"'[1]87-0-14'!D2268","v":"LIJA NO PAST 150"},{"$f":"'[1]87-0-14'!E2268","v":"DOBLE A"},{"$f":"'[1]87-0-14'!F2268","v":"LIJA NO PAST"},{"$f":"'[1]87-0-14'!G2268*(1+$E$13)","v":2291.8145}]
[{"$f":"'[1]87-0-14'!B2269","v":"LNP180D"},{"$f":"'[1]87-0-14'!D2269","v":"LIJA NO PAST 180"},{"$f":"'[1]87-0-14'!E2269","v":"DOBLE A"},{"$f":"'[1]87-0-14'!F2269","v":"LIJA NO PAST"},{"$f":"'[1]87-0-14'!G2269*(1+$E$13)","v":2291.8145}]
[{"$f":"'[1]87-0-14'!B2270","v":"LNP220D"},{"$f":"'[1]87-0-14'!D2270","v":"LIJA NO PAST 220"},{"$f":"'[1]87-0-14'!E2270","v":"DOBLE A"},{"$f":"'[1]87-0-14'!F2270","v":"LIJA NO PAST"},{"$f":"'[1]87-0-14'!G2270*(1+$E$13)","v":2291.8145}]
[{"$f":"'[1]87-0-14'!B2271","v":"LNP240D"},{"$f":"'[1]87-0-14'!D2271","v":"LIJA NO PAST 240"},{"$f":"'[1]87-0-14'!E2271","v":"DOBLE A"},{"$f":"'[1]87-0-14'!F2271","v":"LIJA NO PAST"},{"$f":"'[1]87-0-14'!G2271*(1+$E$13)","v":2291.8145}]
[{"$f":"'[1]87-0-14'!B2272","v":"LNP280D"},{"$f":"'[1]87-0-14'!D2272","v":"LIJA NO PAST 280"},{"$f":"'[1]87-0-14'!E2272","v":"DOBLE A"},{"$f":"'[1]87-0-14'!F2272","v":"LIJA NO PAST"},{"$f":"'[1]87-0-14'!G2272*(1+$E$13)","v":2291.8145}]
[{"$f":"'[1]87-0-14'!B2273","v":"LNP320D"},{"$f":"'[1]87-0-14'!D2273","v":"LIJA NO PAST 320"},{"$f":"'[1]87-0-14'!E2273","v":"DOBLE A"},{"$f":"'[1]87-0-14'!F2273","v":"LIJA NO PAST"},{"$f":"'[1]87-0-14'!G2273*(1+$E$13)","v":2291.8145}]
[{"$f":"'[1]87-0-14'!B2274","v":"LNP360D"},{"$f":"'[1]87-0-14'!D2274","v":"LIJA NO PAST 360"},{"$f":"'[1]87-0-14'!E2274","v":"DOBLE A"},{"$f":"'[1]87-0-14'!F2274","v":"LIJA NO PAST"},{"$f":"'[1]87-0-14'!G2274*(1+$E$13)","v":2291.8145}]
[{"$f":"'[1]87-0-14'!B2275","v":"LNP400D"},{"$f":"'[1]87-0-14'!D2275","v":"LIJA NO PAST 400"},{"$f":"'[1]87-0-14'!E2275","v":"DOBLE A"},{"$f":"'[1]87-0-14'!F2275","v":"LIJA NO PAST"},{"$f":"'[1]87-0-14'!G2275*(1+$E$13)","v":2291.8145}]
[{"$f":"'[1]87-0-14'!B2276","v":"LNP600D"},{"$f":"'[1]87-0-14'!D2276","v":"LIJA NO PAST 600"},{"$f":"'[1]87-0-14'!E2276","v":"DOBLE A"},{"$f":"'[1]87-0-14'!F2276","v":"LIJA NO PAST"},{"$f":"'[1]87-0-14'!G2276*(1+$E$13)","v":2291.8145}]
[{"$f":"'[1]87-0-14'!B2277","v":"LAK"},{"$f":"'[1]87-0-14'!D2277","v":"LIMPIADOR ACERO 460ml"},{"$f":"'[1]87-0-14'!E2277","v":"KUWAIT"},{"$f":"'[1]87-0-14'!F2277","v":"ESMALTE AEROSOL"},{"$f":"'[1]87-0-14'!G2277*(1+$E$13)","v":18903.707000000002}]
[{"$f":"'[1]87-0-14'!B2278","v":"LF1225SJ"},{"$f":"'[1]87-0-14'!D2278","v":"LLA FREN (DURA 12x25"},{"$f":"'[1]87-0-14'!E2278","v":"STA. JUANA"},{"$f":"'[1]87-0-14'!F2278","v":"LLANA"},{"$f":"'[1]87-0-14'!G2278*(1+$E$13)","v":7461.607}]
[{"$f":"'[1]87-0-14'!B2279","v":"LF1230SJ"},{"$f":"'[1]87-0-14'!D2279","v":"LLA FREN (DURA 12x30"},{"$f":"'[1]87-0-14'!E2279","v":"STA. JUANA"},{"$f":"'[1]87-0-14'!F2279","v":"LLANA"},{"$f":"'[1]87-0-14'!G2279*(1+$E$13)","v":8418.8714999999993}]
[{"$f":"'[1]87-0-14'!B2280","v":"LD6EG"},{"$f":"'[1]87-0-14'!D2280","v":"LLANA DENT PROFESIO  6x6"},{"$f":"'[1]87-0-14'!E2280","v":"EL GALGO"},{"$f":"'[1]87-0-14'!F2280","v":"LLANA"},{"$f":"'[1]87-0-14'!G2280*(1+$E$13)","v":13566.266500000002}]
[{"$f":"'[1]87-0-14'!B2281","v":"LD8EG"},{"$f":"'[1]87-0-14'!D2281","v":"LLANA DENT PROFESIO  8x8"},{"$f":"'[1]87-0-14'!E2281","v":"EL GALGO"},{"$f":"'[1]87-0-14'!F2281","v":"LLANA"},{"$f":"'[1]87-0-14'!G2281*(1+$E$13)","v":13566.266500000002}]
[{"$f":"'[1]87-0-14'!B2282","v":"LD10EG"},{"$f":"'[1]87-0-14'!D2282","v":"LLANA DENT PROFESIO 10x10"},{"$f":"'[1]87-0-14'!E2282","v":"EL GALGO"},{"$f":"'[1]87-0-14'!F2282","v":"LLANA"},{"$f":"'[1]87-0-14'!G2282*(1+$E$13)","v":13566.266500000002}]
[{"$f":"'[1]87-0-14'!B2283","v":"LD12EG"},{"$f":"'[1]87-0-14'!D2283","v":"LLANA DENT PROFESIO 12x12"},{"$f":"'[1]87-0-14'!E2283","v":"EL GALGO"},{"$f":"'[1]87-0-14'!F2283","v":"LLANA"},{"$f":"'[1]87-0-14'!G2283*(1+$E$13)","v":13566.266500000002}]
[{"$f":"'[1]87-0-14'!B2284","v":"LD4SJ"},{"$f":"'[1]87-0-14'!D2284","v":"LLANA DENTADA  4x4"},{"$f":"'[1]87-0-14'!E2284","v":"STA. JUANA"},{"$f":"'[1]87-0-14'!F2284","v":"LLANA"},{"$f":"'[1]87-0-14'!G2284*(1+$E$13)","v":8849.4925000000003}]
[{"$f":"'[1]87-0-14'!B2285","v":"LD4N"},{"$f":"'[1]87-0-14'!D2285","v":"LLANA DENTADA  4x4"},{"$f":"'[1]87-0-14'!E2285","v":"NEIKE"},{"$f":"'[1]87-0-14'!F2285","v":"LLANA DENTADA"},{"$f":"'[1]87-0-14'!G2285*(1+$E$13)","v":10746.15}]
[{"$f":"'[1]87-0-14'!B2286","v":"LD6SJ"},{"$f":"'[1]87-0-14'!D2286","v":"LLANA DENTADA  6x6"},{"$f":"'[1]87-0-14'!E2286","v":"STA. JUANA"},{"$f":"'[1]87-0-14'!F2286","v":"LLANA"},{"$f":"'[1]87-0-14'!G2286*(1+$E$13)","v":8849.4925000000003}]
[{"$f":"'[1]87-0-14'!B2287","v":"LD6N"},{"$f":"'[1]87-0-14'!D2287","v":"LLANA DENTADA  6x6"},{"$f":"'[1]87-0-14'!E2287","v":"NEIKE"},{"$f":"'[1]87-0-14'!F2287","v":"LLANA DENTADA"},{"$f":"'[1]87-0-14'!G2287*(1+$E$13)","v":10746.15}]
[{"$f":"'[1]87-0-14'!B2288","v":"LD8SJ"},{"$f":"'[1]87-0-14'!D2288","v":"LLANA DENTADA  8x8"},{"$f":"'[1]87-0-14'!E2288","v":"STA. JUANA"},{"$f":"'[1]87-0-14'!F2288","v":"LLANA"},{"$f":"'[1]87-0-14'!G2288*(1+$E$13)","v":8849.4925000000003}]
[{"$f":"'[1]87-0-14'!B2289","v":"LD8N"},{"$f":"'[1]87-0-14'!D2289","v":"LLANA DENTADA  8x8"},{"$f":"'[1]87-0-14'!E2289","v":"NEIKE"},{"$f":"'[1]87-0-14'!F2289","v":"LLANA DENTADA"},{"$f":"'[1]87-0-14'!G2289*(1+$E$13)","v":10746.15}]
[{"$f":"'[1]87-0-14'!B2290","v":"LD10ER"},{"$f":"'[1]87-0-14'!D2290","v":"LLANA DENTADA 10x10"},{"$f":"'[1]87-0-14'!E2290","v":"EL ROBLE"},{"$f":"'[1]87-0-14'!F2290","v":"LLANA DENTADA"},{"$f":"'[1]87-0-14'!G2290*(1+$E$13)","v":8615.8145000000004}]
[{"$f":"'[1]87-0-14'!B2291","v":"LD10SJ"},{"$f":"'[1]87-0-14'!D2291","v":"LLANA DENTADA 10x10"},{"$f":"'[1]87-0-14'!E2291","v":"STA. JUANA"},{"$f":"'[1]87-0-14'!F2291","v":"LLANA"},{"$f":"'[1]87-0-14'!G2291*(1+$E$13)","v":8849.4925000000003}]
[{"$f":"'[1]87-0-14'!B2292","v":"LD10N"},{"$f":"'[1]87-0-14'!D2292","v":"LLANA DENTADA 10x10"},{"$f":"'[1]87-0-14'!E2292","v":"NEIKE"},{"$f":"'[1]87-0-14'!F2292","v":"LLANA DENTADA"},{"$f":"'[1]87-0-14'!G2292*(1+$E$13)","v":10746.15}]
[{"$f":"'[1]87-0-14'!B2293","v":"LD12N"},{"$f":"'[1]87-0-14'!D2293","v":"LLANA DENTADA 12x12"},{"$f":"'[1]87-0-14'!E2293","v":"NEIKE"},{"$f":"'[1]87-0-14'!F2293","v":"LLANA DENTADA"},{"$f":"'[1]87-0-14'!G2293*(1+$E$13)","v":10746.15}]
[{"$f":"'[1]87-0-14'!B2294","v":"LD12ER"},{"$f":"'[1]87-0-14'!D2294","v":"LLANA DENTADA 12x12"},{"$f":"'[1]87-0-14'!E2294","v":"EL ROBLE"},{"$f":"'[1]87-0-14'!F2294","v":"LLANA DENTADA"},{"$f":"'[1]87-0-14'!G2294*(1+$E$13)","v":8615.8145000000004}]
[{"$f":"'[1]87-0-14'!B2295","v":"LD12SJ"},{"$f":"'[1]87-0-14'!D2295","v":"LLANA DENTADA 12x12"},{"$f":"'[1]87-0-14'!E2295","v":"STA. JUANA"},{"$f":"'[1]87-0-14'!F2295","v":"LLANA"},{"$f":"'[1]87-0-14'!G2295*(1+$E$13)","v":8849.4925000000003}]
[{"$f":"'[1]87-0-14'!B2296","v":"LD4ER"},{"$f":"'[1]87-0-14'!D2296","v":"LLANA DENTADA 4x4"},{"$f":"'[1]87-0-14'!E2296","v":"EL ROBLE"},{"$f":"'[1]87-0-14'!F2296","v":"LLANA DENTADA"},{"$f":"'[1]87-0-14'!G2296*(1+$E$13)","v":8615.8145000000004}]
[{"$f":"'[1]87-0-14'!B2297","v":"LD6ER"},{"$f":"'[1]87-0-14'!D2297","v":"LLANA DENTADA 6x6"},{"$f":"'[1]87-0-14'!E2297","v":"EL ROBLE"},{"$f":"'[1]87-0-14'!F2297","v":"LLANA DENTADA"},{"$f":"'[1]87-0-14'!G2297*(1+$E$13)","v":8615.8145000000004}]
[{"$f":"'[1]87-0-14'!B2298","v":"LD8ER"},{"$f":"'[1]87-0-14'!D2298","v":"LLANA DENTADA 8x8"},{"$f":"'[1]87-0-14'!E2298","v":"EL ROBLE"},{"$f":"'[1]87-0-14'!F2298","v":"LLANA DENTADA"},{"$f":"'[1]87-0-14'!G2298*(1+$E$13)","v":8615.8145000000004}]
[{"$f":"'[1]87-0-14'!B2299","v":"LP1225SJ"},{"$f":"'[1]87-0-14'!D2299","v":"LLANA PLASTICA 12x25"},{"$f":"'[1]87-0-14'!E2299","v":"STA. JUANA"},{"$f":"'[1]87-0-14'!F2299","v":"LLANA"},{"$f":"'[1]87-0-14'!G2299*(1+$E$13)","v":11312.551000000001}]
[{"$f":"'[1]87-0-14'!B2300","v":"LP1230SJ"},{"$f":"'[1]87-0-14'!D2300","v":"LLANA PLASTICA 12x30"},{"$f":"'[1]87-0-14'!E2300","v":"STA. JUANA"},{"$f":"'[1]87-0-14'!F2300","v":"LLANA"},{"$f":"'[1]87-0-14'!G2300*(1+$E$13)","v":11714.620999999999}]
[{"$f":"'[1]87-0-14'!B2301","v":"LY1330N"},{"$f":"'[1]87-0-14'!D2301","v":"LLANA YESERO  13x30"},{"$f":"'[1]87-0-14'!E2301","v":"NEIKE"},{"$f":"'[1]87-0-14'!F2301","v":"LLANA YESERO"},{"$f":"'[1]87-0-14'!G2301*(1+$E$13)","v":9203.4660000000003}]
[{"$f":"'[1]87-0-14'!B2302","v":"LY1225ER"},{"$f":"'[1]87-0-14'!D2302","v":"LLANA YESERO 12x25"},{"$f":"'[1]87-0-14'!E2302","v":"EL ROBLE"},{"$f":"'[1]87-0-14'!F2302","v":"LLANA YESERO"},{"$f":"'[1]87-0-14'!G2302*(1+$E$13)","v":7038.9219999999996}]
[{"$f":"'[1]87-0-14'!B2303","v":"LY1225SJ"},{"$f":"'[1]87-0-14'!D2303","v":"LLANA YESERO 12x25"},{"$f":"'[1]87-0-14'!E2303","v":"STA. JUANA"},{"$f":"'[1]87-0-14'!F2303","v":"LLANA"},{"$f":"'[1]87-0-14'!G2303*(1+$E$13)","v":8754.3069999999989}]
[{"$f":"'[1]87-0-14'!B2304","v":"LY1230SJ"},{"$f":"'[1]87-0-14'!D2304","v":"LLANA YESERO 12x30"},{"$f":"'[1]87-0-14'!E2304","v":"STA. JUANA"},{"$f":"'[1]87-0-14'!F2304","v":"LLANA"},{"$f":"'[1]87-0-14'!G2304*(1+$E$13)","v":9359.0084999999999}]
[{"$f":"'[1]87-0-14'!B2305","v":"LY1230ER"},{"$f":"'[1]87-0-14'!D2305","v":"LLANA YESERO 12x30"},{"$f":"'[1]87-0-14'!E2305","v":"EL ROBLE"},{"$f":"'[1]87-0-14'!F2305","v":"LLANA YESERO"},{"$f":"'[1]87-0-14'!G2305*(1+$E$13)","v":7793.4930000000004}]
[{"$f":"'[1]87-0-14'!B2306","v":"LA6M"},{"$f":"'[1]87-0-14'!D2306","v":"LLAVE AJUSTABLE   6\""},{"$f":"'[1]87-0-14'!E2306","v":"METZ"},{"$f":"'[1]87-0-14'!F2306","v":"LLAVE AJUSTABLE"},{"$f":"'[1]87-0-14'!G2306*(1+$E$13)","v":13404.152}]
[{"$f":"'[1]87-0-14'!B2307","v":"LA8M"},{"$f":"'[1]87-0-14'!D2307","v":"LLAVE AJUSTABLE   8\""},{"$f":"'[1]87-0-14'!E2307","v":"METZ"},{"$f":"'[1]87-0-14'!F2307","v":"LLAVE AJUSTABLE"},{"$f":"'[1]87-0-14'!G2307*(1+$E$13)","v":17651.400000000001}]
[{"$f":"'[1]87-0-14'!B2308","v":"LA10M"},{"$f":"'[1]87-0-14'!D2308","v":"LLAVE AJUSTABLE  10\""},{"$f":"'[1]87-0-14'!E2308","v":"METZ"},{"$f":"'[1]87-0-14'!F2308","v":"LLAVE AJUSTABLE"},{"$f":"'[1]87-0-14'!G2308*(1+$E$13)","v":24500.012999999999}]
[{"$f":"'[1]87-0-14'!B2309","v":"LA12M"},{"$f":"'[1]87-0-14'!D2309","v":"LLAVE AJUSTABLE  12\""},{"$f":"'[1]87-0-14'!E2309","v":"METZ"},{"$f":"'[1]87-0-14'!F2309","v":"LLAVE AJUSTABLE"},{"$f":"'[1]87-0-14'!G2309*(1+$E$13)","v":34842.419000000002}]
[{"$f":"'[1]87-0-14'!B2310","v":"LC112M"},{"$f":"'[1]87-0-14'!D2310","v":"LLAVE CANO TIPO SUE 1 1/2"},{"$f":"'[1]87-0-14'!E2310","v":"METZ"},{"$f":"'[1]87-0-14'!F2310","v":"LLAVE CAÑO"},{"$f":"'[1]87-0-14'!G2310*(1+$E$13)","v":45997.924000000006}]
[{"$f":"'[1]87-0-14'!B2311","v":"LC1M"},{"$f":"'[1]87-0-14'!D2311","v":"LLAVE CANO TIPO SUECA 1\""},{"$f":"'[1]87-0-14'!E2311","v":"METZ"},{"$f":"'[1]87-0-14'!F2311","v":"LLAVE CAÑO"},{"$f":"'[1]87-0-14'!G2311*(1+$E$13)","v":33923.455000000002}]
[{"$f":"'[1]87-0-14'!B2312","v":"LC2M"},{"$f":"'[1]87-0-14'!D2312","v":"LLAVE CANO TIPO SUECA 2\""},{"$f":"'[1]87-0-14'!E2312","v":"METZ"},{"$f":"'[1]87-0-14'!F2312","v":"LLAVE CAÑO"},{"$f":"'[1]87-0-14'!G2312*(1+$E$13)","v":78557.192999999999}]
[{"$f":"'[1]87-0-14'!B2313","v":"LC3M"},{"$f":"'[1]87-0-14'!D2313","v":"LLAVE CANO TIPO SUECA 3\""},{"$f":"'[1]87-0-14'!E2313","v":"METZ"},{"$f":"'[1]87-0-14'!F2313","v":"LLAVE CAÑO"},{"$f":"'[1]87-0-14'!G2313*(1+$E$13)","v":111963.02550000002}]
[{"$f":"'[1]87-0-14'!B2314","v":"LC100T"},{"$f":"'[1]87-0-14'!D2314","v":"LLAVE COMBINACION     100"},{"$f":"'[1]87-0-14'!E2314","v":"TRABEX"},{"$f":"'[1]87-0-14'!F2314","v":"LLAVE COMBINACION"},{"$f":"'[1]87-0-14'!G2314*(1+$E$13)","v":25481.2405}]
[{"$f":"'[1]87-0-14'!B2315","v":"LC101T"},{"$f":"'[1]87-0-14'!D2315","v":"LLAVE COMBINACION     101"},{"$f":"'[1]87-0-14'!E2315","v":"TRABEX"},{"$f":"'[1]87-0-14'!F2315","v":"LLAVE COMBINACION"},{"$f":"'[1]87-0-14'!G2315*(1+$E$13)","v":29458.122000000003}]
[{"$f":"'[1]87-0-14'!B2316","v":"LC124T"},{"$f":"'[1]87-0-14'!D2316","v":"LLAVE COMBINACION     124"},{"$f":"'[1]87-0-14'!E2316","v":"TRABEX"},{"$f":"'[1]87-0-14'!F2316","v":"LLAVE COMBINACION"},{"$f":"'[1]87-0-14'!G2316*(1+$E$13)","v":29626.653500000004}]
[{"$f":"'[1]87-0-14'!B2317","v":"LC182T"},{"$f":"'[1]87-0-14'!D2317","v":"LLAVE COMBINACION     182"},{"$f":"'[1]87-0-14'!E2317","v":"TRABEX"},{"$f":"'[1]87-0-14'!F2317","v":"LLAVE COMBINACION"},{"$f":"'[1]87-0-14'!G2317*(1+$E$13)","v":21796.8285}]
[{"$f":"'[1]87-0-14'!B2318","v":"LC101LT"},{"$f":"'[1]87-0-14'!D2318","v":"LLAVE COMBINACION   101 L"},{"$f":"'[1]87-0-14'!E2318","v":"TRABEX"},{"$f":"'[1]87-0-14'!F2318","v":"LLAVE COMBINACION"},{"$f":"'[1]87-0-14'!G2318*(1+$E$13)","v":29458.106500000002}]
[{"$f":"'[1]87-0-14'!B2319","v":"LCM6R"},{"$f":"'[1]87-0-14'!D2319","v":"LLAVE COMBINADA MILI  6mm"},{"$f":"'[1]87-0-14'!E2319","v":"RHEIN"},{"$f":"'[1]87-0-14'!F2319","v":"LLAVE COMBINADA"},{"$f":"'[1]87-0-14'!G2319*(1+$E$13)","v":4475.47}]
[{"$f":"'[1]87-0-14'!B2320","v":"LCM7R"},{"$f":"'[1]87-0-14'!D2320","v":"LLAVE COMBINADA MILI  7mm"},{"$f":"'[1]87-0-14'!E2320","v":"RHEIN"},{"$f":"'[1]87-0-14'!F2320","v":"LLAVE COMBINADA"},{"$f":"'[1]87-0-14'!G2320*(1+$E$13)","v":4126.317}]
[{"$f":"'[1]87-0-14'!B2321","v":"LCM8R"},{"$f":"'[1]87-0-14'!D2321","v":"LLAVE COMBINADA MILI  8mm"},{"$f":"'[1]87-0-14'!E2321","v":"RHEIN"},{"$f":"'[1]87-0-14'!F2321","v":"LLAVE COMBINADA"},{"$f":"'[1]87-0-14'!G2321*(1+$E$13)","v":4235.6849999999995}]
[{"$f":"'[1]87-0-14'!B2322","v":"LCM9R"},{"$f":"'[1]87-0-14'!D2322","v":"LLAVE COMBINADA MILI  9mm"},{"$f":"'[1]87-0-14'!E2322","v":"RHEIN"},{"$f":"'[1]87-0-14'!F2322","v":"LLAVE COMBINADA"},{"$f":"'[1]87-0-14'!G2322*(1+$E$13)","v":4863.0474999999997}]
[{"$f":"'[1]87-0-14'!B2323","v":"LCM10R"},{"$f":"'[1]87-0-14'!D2323","v":"LLAVE COMBINADA MILI 10mm"},{"$f":"'[1]87-0-14'!E2323","v":"RHEIN"},{"$f":"'[1]87-0-14'!F2323","v":"LLAVE COMBINADA"},{"$f":"'[1]87-0-14'!G2323*(1+$E$13)","v":4429.4814999999999}]
[{"$f":"'[1]87-0-14'!B2324","v":"LCM11R"},{"$f":"'[1]87-0-14'!D2324","v":"LLAVE COMBINADA MILI 11mm"},{"$f":"'[1]87-0-14'!E2324","v":"RHEIN"},{"$f":"'[1]87-0-14'!F2324","v":"LLAVE COMBINADA"},{"$f":"'[1]87-0-14'!G2324*(1+$E$13)","v":4834.8065000000006}]
[{"$f":"'[1]87-0-14'!B2325","v":"LCM12R"},{"$f":"'[1]87-0-14'!D2325","v":"LLAVE COMBINADA MILI 12mm"},{"$f":"'[1]87-0-14'!E2325","v":"RHEIN"},{"$f":"'[1]87-0-14'!F2325","v":"LLAVE COMBINADA"},{"$f":"'[1]87-0-14'!G2325*(1+$E$13)","v":5527.393}]
[{"$f":"'[1]87-0-14'!B2326","v":"LCM13R"},{"$f":"'[1]87-0-14'!D2326","v":"LLAVE COMBINADA MILI 13mm"},{"$f":"'[1]87-0-14'!E2326","v":"RHEIN"},{"$f":"'[1]87-0-14'!F2326","v":"LLAVE COMBINADA"},{"$f":"'[1]87-0-14'!G2326*(1+$E$13)","v":5153.9049999999997}]
[{"$f":"'[1]87-0-14'!B2327","v":"LCM14R"},{"$f":"'[1]87-0-14'!D2327","v":"LLAVE COMBINADA MILI 14mm"},{"$f":"'[1]87-0-14'!E2327","v":"RHEIN"},{"$f":"'[1]87-0-14'!F2327","v":"LLAVE COMBINADA"},{"$f":"'[1]87-0-14'!G2327*(1+$E$13)","v":6630.0474999999997}]
[{"$f":"'[1]87-0-14'!B2328","v":"LCM15R"},{"$f":"'[1]87-0-14'!D2328","v":"LLAVE COMBINADA MILI 15mm"},{"$f":"'[1]87-0-14'!E2328","v":"RHEIN"},{"$f":"'[1]87-0-14'!F2328","v":"LLAVE COMBINADA"},{"$f":"'[1]87-0-14'!G2328*(1+$E$13)","v":6387.1780000000008}]
[{"$f":"'[1]87-0-14'!B2329","v":"LCM16R"},{"$f":"'[1]87-0-14'!D2329","v":"LLAVE COMBINADA MILI 16mm"},{"$f":"'[1]87-0-14'!E2329","v":"RHEIN"},{"$f":"'[1]87-0-14'!F2329","v":"LLAVE COMBINADA"},{"$f":"'[1]87-0-14'!G2329*(1+$E$13)","v":8062.6194999999998}]
[{"$f":"'[1]87-0-14'!B2330","v":"LCM17R"},{"$f":"'[1]87-0-14'!D2330","v":"LLAVE COMBINADA MILI 17mm"},{"$f":"'[1]87-0-14'!E2330","v":"RHEIN"},{"$f":"'[1]87-0-14'!F2330","v":"LLAVE COMBINADA"},{"$f":"'[1]87-0-14'!G2330*(1+$E$13)","v":8434.6970000000001}]
[{"$f":"'[1]87-0-14'!B2331","v":"LCM18R"},{"$f":"'[1]87-0-14'!D2331","v":"LLAVE COMBINADA MILI 18mm"},{"$f":"'[1]87-0-14'!E2331","v":"RHEIN"},{"$f":"'[1]87-0-14'!F2331","v":"LLAVE COMBINADA"},{"$f":"'[1]87-0-14'!G2331*(1+$E$13)","v":9359.3185000000012}]
[{"$f":"'[1]87-0-14'!B2332","v":"LCM19R"},{"$f":"'[1]87-0-14'!D2332","v":"LLAVE COMBINADA MILI 19mm"},{"$f":"'[1]87-0-14'!E2332","v":"RHEIN"},{"$f":"'[1]87-0-14'!F2332","v":"LLAVE COMBINADA"},{"$f":"'[1]87-0-14'!G2332*(1+$E$13)","v":9590.5630000000001}]
[{"$f":"'[1]87-0-14'!B2333","v":"LCM20R"},{"$f":"'[1]87-0-14'!D2333","v":"LLAVE COMBINADA MILI 20mm"},{"$f":"'[1]87-0-14'!E2333","v":"RHEIN"},{"$f":"'[1]87-0-14'!F2333","v":"LLAVE COMBINADA"},{"$f":"'[1]87-0-14'!G2333*(1+$E$13)","v":14240.160000000002}]
[{"$f":"'[1]87-0-14'!B2334","v":"LCM21R"},{"$f":"'[1]87-0-14'!D2334","v":"LLAVE COMBINADA MILI 21mm"},{"$f":"'[1]87-0-14'!E2334","v":"RHEIN"},{"$f":"'[1]87-0-14'!F2334","v":"LLAVE COMBINADA"},{"$f":"'[1]87-0-14'!G2334*(1+$E$13)","v":16020.319500000001}]
[{"$f":"'[1]87-0-14'!B2335","v":"LCM22R"},{"$f":"'[1]87-0-14'!D2335","v":"LLAVE COMBINADA MILI 22mm"},{"$f":"'[1]87-0-14'!E2335","v":"RHEIN"},{"$f":"'[1]87-0-14'!F2335","v":"LLAVE COMBINADA"},{"$f":"'[1]87-0-14'!G2335*(1+$E$13)","v":16934.556}]
[{"$f":"'[1]87-0-14'!B2336","v":"LCM23R"},{"$f":"'[1]87-0-14'!D2336","v":"LLAVE COMBINADA MILI 23mm"},{"$f":"'[1]87-0-14'!E2336","v":"RHEIN"},{"$f":"'[1]87-0-14'!F2336","v":"LLAVE COMBINADA"},{"$f":"'[1]87-0-14'!G2336*(1+$E$13)","v":17888.147000000001}]
[{"$f":"'[1]87-0-14'!B2337","v":"LCM24R"},{"$f":"'[1]87-0-14'!D2337","v":"LLAVE COMBINADA MILI 24mm"},{"$f":"'[1]87-0-14'!E2337","v":"RHEIN"},{"$f":"'[1]87-0-14'!F2337","v":"LLAVE COMBINADA"},{"$f":"'[1]87-0-14'!G2337*(1+$E$13)","v":19584.327499999999}]
[{"$f":"'[1]87-0-14'!B2338","v":"LCM25R"},{"$f":"'[1]87-0-14'!D2338","v":"LLAVE COMBINADA MILI 25mm"},{"$f":"'[1]87-0-14'!E2338","v":"RHEIN"},{"$f":"'[1]87-0-14'!F2338","v":"LLAVE COMBINADA"},{"$f":"'[1]87-0-14'!G2338*(1+$E$13)","v":24226.469000000001}]
[{"$f":"'[1]87-0-14'!B2339","v":"LCP14R"},{"$f":"'[1]87-0-14'!D2339","v":"LLAVE COMBINADA PUL   1/4"},{"$f":"'[1]87-0-14'!E2339","v":"RHEIN"},{"$f":"'[1]87-0-14'!F2339","v":"LLAVE COMBINADA"},{"$f":"'[1]87-0-14'!G2339*(1+$E$13)","v":4552.0555000000004}]
[{"$f":"'[1]87-0-14'!B2340","v":"LCP38R"},{"$f":"'[1]87-0-14'!D2340","v":"LLAVE COMBINADA PUL   3/8"},{"$f":"'[1]87-0-14'!E2340","v":"RHEIN"},{"$f":"'[1]87-0-14'!F2340","v":"LLAVE COMBINADA"},{"$f":"'[1]87-0-14'!G2340*(1+$E$13)","v":5098.1670000000004}]
[{"$f":"'[1]87-0-14'!B2341","v":"LCP516R"},{"$f":"'[1]87-0-14'!D2341","v":"LLAVE COMBINADA PUL  5/16"},{"$f":"'[1]87-0-14'!E2341","v":"RHEIN"},{"$f":"'[1]87-0-14'!F2341","v":"LLAVE COMBINADA"},{"$f":"'[1]87-0-14'!G2341*(1+$E$13)","v":4940.9504999999999}]
[{"$f":"'[1]87-0-14'!B2342","v":"LCP716R"},{"$f":"'[1]87-0-14'!D2342","v":"LLAVE COMBINADA PUL  7/16"},{"$f":"'[1]87-0-14'!E2342","v":"RHEIN"},{"$f":"'[1]87-0-14'!F2342","v":"LLAVE COMBINADA"},{"$f":"'[1]87-0-14'!G2342*(1+$E$13)","v":5372.0055000000002}]
[{"$f":"'[1]87-0-14'!B2343","v":"LCP916R"},{"$f":"'[1]87-0-14'!D2343","v":"LLAVE COMBINADA PUL  9/16"},{"$f":"'[1]87-0-14'!E2343","v":"RHEIN"},{"$f":"'[1]87-0-14'!F2343","v":"LLAVE COMBINADA"},{"$f":"'[1]87-0-14'!G2343*(1+$E$13)","v":6592.1035000000002}]
[{"$f":"'[1]87-0-14'!B2344","v":"LCP1116R"},{"$f":"'[1]87-0-14'!D2344","v":"LLAVE COMBINADA PUL 11/16"},{"$f":"'[1]87-0-14'!E2344","v":"RHEIN"},{"$f":"'[1]87-0-14'!F2344","v":"LLAVE COMBINADA"},{"$f":"'[1]87-0-14'!G2344*(1+$E$13)","v":8434.6194999999989}]
[{"$f":"'[1]87-0-14'!B2345","v":"LCP1316R"},{"$f":"'[1]87-0-14'!D2345","v":"LLAVE COMBINADA PUL 13/16"},{"$f":"'[1]87-0-14'!E2345","v":"RHEIN"},{"$f":"'[1]87-0-14'!F2345","v":"LLAVE COMBINADA"},{"$f":"'[1]87-0-14'!G2345*(1+$E$13)","v":16383.794500000002}]
[{"$f":"'[1]87-0-14'!B2346","v":"LCP1516R"},{"$f":"'[1]87-0-14'!D2346","v":"LLAVE COMBINADA PUL 15/16"},{"$f":"'[1]87-0-14'!E2346","v":"RHEIN"},{"$f":"'[1]87-0-14'!F2346","v":"LLAVE COMBINADA"},{"$f":"'[1]87-0-14'!G2346*(1+$E$13)","v":18921.950499999999}]
[{"$f":"'[1]87-0-14'!B2347","v":"LCP12R"},{"$f":"'[1]87-0-14'!D2347","v":"LLAVE COMBINADA PULG  1/2"},{"$f":"'[1]87-0-14'!E2347","v":"RHEIN"},{"$f":"'[1]87-0-14'!F2347","v":"LLAVE COMBINADA"},{"$f":"'[1]87-0-14'!G2347*(1+$E$13)","v":5704.5735000000004}]
[{"$f":"'[1]87-0-14'!B2348","v":"LCP58R"},{"$f":"'[1]87-0-14'!D2348","v":"LLAVE COMBINADA PULG  5/8"},{"$f":"'[1]87-0-14'!E2348","v":"RHEIN"},{"$f":"'[1]87-0-14'!F2348","v":"LLAVE COMBINADA"},{"$f":"'[1]87-0-14'!G2348*(1+$E$13)","v":7256.201}]
[{"$f":"'[1]87-0-14'!B2349","v":"LCP34R"},{"$f":"'[1]87-0-14'!D2349","v":"LLAVE COMBINADA PULGA 3/4"},{"$f":"'[1]87-0-14'!E2349","v":"RHEIN"},{"$f":"'[1]87-0-14'!F2349","v":"LLAVE COMBINADA"},{"$f":"'[1]87-0-14'!G2349*(1+$E$13)","v":9345.9420000000009}]
[{"$f":"'[1]87-0-14'!B2350","v":"LCP78R"},{"$f":"'[1]87-0-14'!D2350","v":"LLAVE COMBINADA PULGA 7/8"},{"$f":"'[1]87-0-14'!E2350","v":"RHEIN"},{"$f":"'[1]87-0-14'!F2350","v":"LLAVE COMBINADA"},{"$f":"'[1]87-0-14'!G2350*(1+$E$13)","v":17051.271000000001}]
[{"$f":"'[1]87-0-14'!B2351","v":"LCP1R"},{"$f":"'[1]87-0-14'!D2351","v":"LLAVE COMBINADA PULGAD 1\""},{"$f":"'[1]87-0-14'!E2351","v":"RHEIN"},{"$f":"'[1]87-0-14'!F2351","v":"LLAVE COMBINADA"},{"$f":"'[1]87-0-14'!G2351*(1+$E$13)","v":21980.519}]
[{"$f":"'[1]87-0-14'!B2352","v":"LCP"},{"$f":"'[1]87-0-14'!D2352","v":"LLAVE COMUN PARA 101/102"},{"$f":"'[1]87-0-14'!E2352","v":"PRIVE"},{"$f":"'[1]87-0-14'!F2352","v":"LLAVE"},{"$f":"'[1]87-0-14'!G2352*(1+$E$13)","v":1324.6145000000001}]
[{"$f":"'[1]87-0-14'!B2353","v":"LCN400P"},{"$f":"'[1]87-0-14'!D2353","v":"LLAVE CRUZ NIQULADA P.400"},{"$f":"'[1]87-0-14'!E2353","v":"PRIVE"},{"$f":"'[1]87-0-14'!F2353","v":"LLAVE"},{"$f":"'[1]87-0-14'!G2353*(1+$E$13)","v":4553.3575000000001}]
[{"$f":"'[1]87-0-14'!B2354","v":"LHSP"},{"$f":"'[1]87-0-14'!D2354","v":"LLAVE HERMANADA SEGURIDAD"},{"$f":"'[1]87-0-14'!E2354","v":"PRIVE"},{"$f":"'[1]87-0-14'!F2354","v":"LLAVE"},{"$f":"'[1]87-0-14'!G2354*(1+$E$13)","v":2049.9369999999999}]
[{"$f":"'[1]87-0-14'!B2355","v":"LSP"},{"$f":"'[1]87-0-14'!D2355","v":"LLAVE SEGURIDAD"},{"$f":"'[1]87-0-14'!E2355","v":"PRIVE"},{"$f":"'[1]87-0-14'!F2355","v":"LLAVE"},{"$f":"'[1]87-0-14'!G2355*(1+$E$13)","v":2049.9369999999999}]
[{"$f":"'[1]87-0-14'!B2356","v":"LT7R"},{"$f":"'[1]87-0-14'!D2356","v":"LLAVE T  7mm"},{"$f":"'[1]87-0-14'!E2356","v":"RHEIN"},{"$f":"'[1]87-0-14'!F2356","v":"LLAVE T"},{"$f":"'[1]87-0-14'!G2356*(1+$E$13)","v":9179.0535}]
[{"$f":"'[1]87-0-14'!B2357","v":"LT8R"},{"$f":"'[1]87-0-14'!D2357","v":"LLAVE T  8mm"},{"$f":"'[1]87-0-14'!E2357","v":"RHEIN"},{"$f":"'[1]87-0-14'!F2357","v":"LLAVE T"},{"$f":"'[1]87-0-14'!G2357*(1+$E$13)","v":9179.0535}]
[{"$f":"'[1]87-0-14'!B2358","v":"LT10R"},{"$f":"'[1]87-0-14'!D2358","v":"LLAVE T 10mm"},{"$f":"'[1]87-0-14'!E2358","v":"RHEIN"},{"$f":"'[1]87-0-14'!F2358","v":"LLAVE T"},{"$f":"'[1]87-0-14'!G2358*(1+$E$13)","v":9179.0535}]
[{"$f":"'[1]87-0-14'!B2359","v":"LT11R"},{"$f":"'[1]87-0-14'!D2359","v":"LLAVE T 11mm"},{"$f":"'[1]87-0-14'!E2359","v":"RHEIN"},{"$f":"'[1]87-0-14'!F2359","v":"LLAVE T"},{"$f":"'[1]87-0-14'!G2359*(1+$E$13)","v":9179.0535}]
[{"$f":"'[1]87-0-14'!B2360","v":"LT12R"},{"$f":"'[1]87-0-14'!D2360","v":"LLAVE T 12mm"},{"$f":"'[1]87-0-14'!E2360","v":"RHEIN"},{"$f":"'[1]87-0-14'!F2360","v":"LLAVE T"},{"$f":"'[1]87-0-14'!G2360*(1+$E$13)","v":9179.0535}]
[{"$f":"'[1]87-0-14'!B2361","v":"LT13R"},{"$f":"'[1]87-0-14'!D2361","v":"LLAVE T 13mm"},{"$f":"'[1]87-0-14'!E2361","v":"RHEIN"},{"$f":"'[1]87-0-14'!F2361","v":"LLAVE T"},{"$f":"'[1]87-0-14'!G2361*(1+$E$13)","v":9437.5470000000005}]
[{"$f":"'[1]87-0-14'!B2362","v":"LS440T"},{"$f":"'[1]87-0-14'!D2362","v":"LUBRICA SILICONA 440"},{"$f":"'[1]87-0-14'!E2362","v":"TF3"},{"$f":"'[1]87-0-14'!F2362","v":"LUBRICAN SILICONA"},{"$f":"'[1]87-0-14'!G2362*(1+$E$13)","v":7109.7880000000005}]
[{"$f":"'[1]87-0-14'!B2363","v":"LT250T"},{"$f":"'[1]87-0-14'!D2363","v":"LUBRICANT TEFLON 250"},{"$f":"'[1]87-0-14'!E2363","v":"TF3"},{"$f":"'[1]87-0-14'!F2363","v":"LUBRICANTE TEFLON"},{"$f":"'[1]87-0-14'!G2363*(1+$E$13)","v":5825.9695000000002}]
[{"$f":"'[1]87-0-14'!B2364","v":"LT440T"},{"$f":"'[1]87-0-14'!D2364","v":"LUBRICANT TEFLON 440"},{"$f":"'[1]87-0-14'!E2364","v":"TF3"},{"$f":"'[1]87-0-14'!F2364","v":"LUBRICANTE TEFLON"},{"$f":"'[1]87-0-14'!G2364*(1+$E$13)","v":7313.9694999999992}]
[{"$f":"'[1]87-0-14'!B2365","v":"L240M"},{"$f":"'[1]87-0-14'!D2365","v":"LUBRICANTE MULTIPRO 240cc"},{"$f":"'[1]87-0-14'!E2365","v":"MECANIC 50"},{"$f":"'[1]87-0-14'!F2365","v":"LUBRICANTE"},{"$f":"'[1]87-0-14'!G2365*(1+$E$13)","v":3959.3354999999997}]
[{"$f":"'[1]87-0-14'!B2366","v":"L430M"},{"$f":"'[1]87-0-14'!D2366","v":"LUBRICANTE MULTIPRO 430cc"},{"$f":"'[1]87-0-14'!E2366","v":"MECANIC 50"},{"$f":"'[1]87-0-14'!F2366","v":"LUBRICANTE"},{"$f":"'[1]87-0-14'!G2366*(1+$E$13)","v":5312.7645000000002}]
[{"$f":"'[1]87-0-14'!B2367","v":"MT25112P"},{"$f":"'[1]87-0-14'!D2367","v":"MA \"TRICOLO 1 1/2x25"},{"$f":"'[1]87-0-14'!E2367","v":"PLASTIMET"},{"$f":"'[1]87-0-14'!F2367","v":"MANG RIEGO"},{"$f":"'[1]87-0-14'!G2367*(1+$E$13)","v":14794.672500000002}]
[{"$f":"'[1]87-0-14'!B2368","v":"MT251P"},{"$f":"'[1]87-0-14'!D2368","v":"MA \"TRICOLOR\" 1\"x25"},{"$f":"'[1]87-0-14'!E2368","v":"PLASTIMET"},{"$f":"'[1]87-0-14'!F2368","v":"MANG RIEGO"},{"$f":"'[1]87-0-14'!G2368*(1+$E$13)","v":7588.8}]
[{"$f":"'[1]87-0-14'!B2369","v":"MT501P"},{"$f":"'[1]87-0-14'!D2369","v":"MA \"TRICOLOR\" 1\"x50"},{"$f":"'[1]87-0-14'!E2369","v":"PLASTIMET"},{"$f":"'[1]87-0-14'!F2369","v":"MANG RIEGO"},{"$f":"'[1]87-0-14'!G2369*(1+$E$13)","v":7588.8}]
[{"$f":"'[1]87-0-14'!B2370","v":"MT1512P"},{"$f":"'[1]87-0-14'!D2370","v":"MA \"TRICOLOR\" 1/2x15"},{"$f":"'[1]87-0-14'!E2370","v":"PLASTIMET"},{"$f":"'[1]87-0-14'!F2370","v":"MANG RIEGO"},{"$f":"'[1]87-0-14'!G2370*(1+$E$13)","v":2437.7935000000002}]
[{"$f":"'[1]87-0-14'!B2371","v":"MT2512P"},{"$f":"'[1]87-0-14'!D2371","v":"MA \"TRICOLOR\" 1/2x25"},{"$f":"'[1]87-0-14'!E2371","v":"PLASTIMET"},{"$f":"'[1]87-0-14'!F2371","v":"MANG RIEGO"},{"$f":"'[1]87-0-14'!G2371*(1+$E$13)","v":2437.7935000000002}]
[{"$f":"'[1]87-0-14'!B2372","v":"MT5012P"},{"$f":"'[1]87-0-14'!D2372","v":"MA \"TRICOLOR\" 1/2x50"},{"$f":"'[1]87-0-14'!E2372","v":"PLASTIMET"},{"$f":"'[1]87-0-14'!F2372","v":"MANG RIEGO"},{"$f":"'[1]87-0-14'!G2372*(1+$E$13)","v":2437.7935000000002}]
[{"$f":"'[1]87-0-14'!B2373","v":"MT1534P"},{"$f":"'[1]87-0-14'!D2373","v":"MA \"TRICOLOR\" 3/4x15"},{"$f":"'[1]87-0-14'!E2373","v":"PLASTIMET"},{"$f":"'[1]87-0-14'!F2373","v":"MANG RIEGO"},{"$f":"'[1]87-0-14'!G2373*(1+$E$13)","v":4875.6025000000009}]
[{"$f":"'[1]87-0-14'!B2374","v":"MT2534P"},{"$f":"'[1]87-0-14'!D2374","v":"MA \"TRICOLOR\" 3/4x25"},{"$f":"'[1]87-0-14'!E2374","v":"PLASTIMET"},{"$f":"'[1]87-0-14'!F2374","v":"MANG RIEGO"},{"$f":"'[1]87-0-14'!G2374*(1+$E$13)","v":4875.6025000000009}]
[{"$f":"'[1]87-0-14'!B2375","v":"MT5034P"},{"$f":"'[1]87-0-14'!D2375","v":"MA \"TRICOLOR\" 3/4x50"},{"$f":"'[1]87-0-14'!E2375","v":"PLASTIMET"},{"$f":"'[1]87-0-14'!F2375","v":"MANG RIEGO"},{"$f":"'[1]87-0-14'!G2375*(1+$E$13)","v":4875.6025000000009}]
[{"$f":"'[1]87-0-14'!B2376","v":"MAMCCF"},{"$f":"'[1]87-0-14'!D2376","v":"MA MINI ALU CEPILLA P/COR"},{"$f":"'[1]87-0-14'!E2376","v":"FUNAL"},{"$f":"'[1]87-0-14'!F2376","v":"MANIJA MINISTERIO"},{"$f":"'[1]87-0-14'!G2376*(1+$E$13)","v":4675.0169999999998}]
[{"$f":"'[1]87-0-14'!B2377","v":"MAMCLF"},{"$f":"'[1]87-0-14'!D2377","v":"MA MINI ALU CEPILLA P/LAR"},{"$f":"'[1]87-0-14'!E2377","v":"FUNAL"},{"$f":"'[1]87-0-14'!F2377","v":"MANIJA MINISTERIO"},{"$f":"'[1]87-0-14'!G2377*(1+$E$13)","v":4675.0169999999998}]
[{"$f":"'[1]87-0-14'!B2378","v":"MAMCMF"},{"$f":"'[1]87-0-14'!D2378","v":"MA MINI ALU CEPILLA P/MED"},{"$f":"'[1]87-0-14'!E2378","v":"FUNAL"},{"$f":"'[1]87-0-14'!F2378","v":"MANIJA MINISTERIO"},{"$f":"'[1]87-0-14'!G2378*(1+$E$13)","v":4675.0169999999998}]
[{"$f":"'[1]87-0-14'!B2379","v":"MAMPCF"},{"$f":"'[1]87-0-14'!D2379","v":"MA MINI ALUM PULIDA P/COR"},{"$f":"'[1]87-0-14'!E2379","v":"FUNAL"},{"$f":"'[1]87-0-14'!F2379","v":"MANIJA MINISTERIO"},{"$f":"'[1]87-0-14'!G2379*(1+$E$13)","v":5324.2655000000004}]
[{"$f":"'[1]87-0-14'!B2380","v":"MAMPLF"},{"$f":"'[1]87-0-14'!D2380","v":"MA MINI ALUM PULIDA P/LAR"},{"$f":"'[1]87-0-14'!E2380","v":"FUNAL"},{"$f":"'[1]87-0-14'!F2380","v":"MANIJA MINISTERIO"},{"$f":"'[1]87-0-14'!G2380*(1+$E$13)","v":5324.2655000000004}]
[{"$f":"'[1]87-0-14'!B2381","v":"MAMPMF"},{"$f":"'[1]87-0-14'!D2381","v":"MA MINI ALUM PULIDA P/MED"},{"$f":"'[1]87-0-14'!E2381","v":"FUNAL"},{"$f":"'[1]87-0-14'!F2381","v":"MANIJA MINISTERIO"},{"$f":"'[1]87-0-14'!G2381*(1+$E$13)","v":5324.2655000000004}]
[{"$f":"'[1]87-0-14'!B2382","v":"MOA88P"},{"$f":"'[1]87-0-14'!D2382","v":"MA OXIGE/ACETILE 8-8"},{"$f":"'[1]87-0-14'!E2382","v":"PLASTIMET"},{"$f":"'[1]87-0-14'!F2382","v":"MANG OXIG/ACETILE"},{"$f":"'[1]87-0-14'!G2382*(1+$E$13)","v":7571.2694999999994}]
[{"$f":"'[1]87-0-14'!B2383","v":"MV10012J"},{"$f":"'[1]87-0-14'!D2383","v":"MA REF VERDE 1/2x100"},{"$f":"'[1]87-0-14'!E2383","v":"J.C."},{"$f":"'[1]87-0-14'!F2383","v":"MANGUERA"},{"$f":"'[1]87-0-14'!G2383*(1+$E$13)","v":691.00549999999998}]
[{"$f":"'[1]87-0-14'!B2384","v":"MV10034J"},{"$f":"'[1]87-0-14'!D2384","v":"MA REF VERDE 3/4x100"},{"$f":"'[1]87-0-14'!E2384","v":"J.C."},{"$f":"'[1]87-0-14'!F2384","v":"MANGUERA"},{"$f":"'[1]87-0-14'!G2384*(1+$E$13)","v":1382.011}]
[{"$f":"'[1]87-0-14'!B2385","v":"MV1512JC"},{"$f":"'[1]87-0-14'!D2385","v":"MA REFO VERDE 1/2x15"},{"$f":"'[1]87-0-14'!E2385","v":"J.C."},{"$f":"'[1]87-0-14'!F2385","v":"MANGUERA"},{"$f":"'[1]87-0-14'!G2385*(1+$E$13)","v":691.31550000000004}]
[{"$f":"'[1]87-0-14'!B2386","v":"MV2512JC"},{"$f":"'[1]87-0-14'!D2386","v":"MA REFO VERDE 1/2x25"},{"$f":"'[1]87-0-14'!E2386","v":"J.C."},{"$f":"'[1]87-0-14'!F2386","v":"MANGUERA"},{"$f":"'[1]87-0-14'!G2386*(1+$E$13)","v":691.00549999999998}]
[{"$f":"'[1]87-0-14'!B2387","v":"MV5012JC"},{"$f":"'[1]87-0-14'!D2387","v":"MA REFO VERDE 1/2x50"},{"$f":"'[1]87-0-14'!E2387","v":"J.C."},{"$f":"'[1]87-0-14'!F2387","v":"MANGUERA"},{"$f":"'[1]87-0-14'!G2387*(1+$E$13)","v":691.00549999999998}]
[{"$f":"'[1]87-0-14'!B2388","v":"MV1534JC"},{"$f":"'[1]87-0-14'!D2388","v":"MA REFO VERDE 3/4x15"},{"$f":"'[1]87-0-14'!E2388","v":"J.C."},{"$f":"'[1]87-0-14'!F2388","v":"MANGUERA"},{"$f":"'[1]87-0-14'!G2388*(1+$E$13)","v":1382.6465000000001}]
[{"$f":"'[1]87-0-14'!B2389","v":"MV2534JC"},{"$f":"'[1]87-0-14'!D2389","v":"MA REFO VERDE 3/4x25"},{"$f":"'[1]87-0-14'!E2389","v":"J.C."},{"$f":"'[1]87-0-14'!F2389","v":"MANGUERA"},{"$f":"'[1]87-0-14'!G2389*(1+$E$13)","v":1382.011}]
[{"$f":"'[1]87-0-14'!B2390","v":"MV5034JC"},{"$f":"'[1]87-0-14'!D2390","v":"MA REFO VERDE 3/4x50"},{"$f":"'[1]87-0-14'!E2390","v":"J.C."},{"$f":"'[1]87-0-14'!F2390","v":"MANGUERA"},{"$f":"'[1]87-0-14'!G2390*(1+$E$13)","v":1382.011}]
[{"$f":"'[1]87-0-14'!B2391","v":"M1000"},{"$f":"'[1]87-0-14'!D2391","v":"MACETA  1000 g."},{"$f":"'[1]87-0-14'!E2391","v":"EL ROBLE"},{"$f":"'[1]87-0-14'!F2391","v":"MACETA"},{"$f":"'[1]87-0-14'!G2391*(1+$E$13)","v":15068.5885}]
[{"$f":"'[1]87-0-14'!B2392","v":"M10000"},{"$f":"'[1]87-0-14'!D2392","v":"MACETA 10000 g."},{"$f":"'[1]87-0-14'!E2392","v":"EL ROBLE"},{"$f":"'[1]87-0-14'!F2392","v":"MACETA"},{"$f":"'[1]87-0-14'!G2392*(1+$E$13)","v":127944.56400000001}]
[{"$f":"'[1]87-0-14'!B2393","v":"M1000G"},{"$f":"'[1]87-0-14'!D2393","v":"MACETA 1000g"},{"$f":"'[1]87-0-14'!E2393","v":"GHERARDI"},{"$f":"'[1]87-0-14'!F2393","v":"MACETA"},{"$f":"'[1]87-0-14'!G2393*(1+$E$13)","v":24070.384000000002}]
[{"$f":"'[1]87-0-14'!B2394","v":"M1250"},{"$f":"'[1]87-0-14'!D2394","v":"MACETA 1250 g."},{"$f":"'[1]87-0-14'!E2394","v":"EL ROBLE"},{"$f":"'[1]87-0-14'!F2394","v":"MACETA"},{"$f":"'[1]87-0-14'!G2394*(1+$E$13)","v":16802.341}]
[{"$f":"'[1]87-0-14'!B2395","v":"M1250G"},{"$f":"'[1]87-0-14'!D2395","v":"MACETA 1250g"},{"$f":"'[1]87-0-14'!E2395","v":"GHERARDI"},{"$f":"'[1]87-0-14'!F2395","v":"MACETA"},{"$f":"'[1]87-0-14'!G2395*(1+$E$13)","v":27680.303}]
[{"$f":"'[1]87-0-14'!B2396","v":"M1500"},{"$f":"'[1]87-0-14'!D2396","v":"MACETA 1500 g."},{"$f":"'[1]87-0-14'!E2396","v":"EL ROBLE"},{"$f":"'[1]87-0-14'!F2396","v":"MACETA"},{"$f":"'[1]87-0-14'!G2396*(1+$E$13)","v":20808.812000000002}]
[{"$f":"'[1]87-0-14'!B2397","v":"M1500G"},{"$f":"'[1]87-0-14'!D2397","v":"MACETA 1500g"},{"$f":"'[1]87-0-14'!E2397","v":"GHERARDI"},{"$f":"'[1]87-0-14'!F2397","v":"MACETA"},{"$f":"'[1]87-0-14'!G2397*(1+$E$13)","v":27680.303}]
[{"$f":"'[1]87-0-14'!B2398","v":"M2000"},{"$f":"'[1]87-0-14'!D2398","v":"MACETA 2000 g."},{"$f":"'[1]87-0-14'!E2398","v":"EL ROBLE"},{"$f":"'[1]87-0-14'!F2398","v":"MACETA"},{"$f":"'[1]87-0-14'!G2398*(1+$E$13)","v":27011.260999999999}]
[{"$f":"'[1]87-0-14'!B2399","v":"M2000G"},{"$f":"'[1]87-0-14'!D2399","v":"MACETA 2000g"},{"$f":"'[1]87-0-14'!E2399","v":"GHERARDI"},{"$f":"'[1]87-0-14'!F2399","v":"MACETA"},{"$f":"'[1]87-0-14'!G2399*(1+$E$13)","v":30863.972000000002}]
[{"$f":"'[1]87-0-14'!B2400","v":"M3000"},{"$f":"'[1]87-0-14'!D2400","v":"MACETA 3000 g."},{"$f":"'[1]87-0-14'!E2400","v":"EL ROBLE"},{"$f":"'[1]87-0-14'!F2400","v":"MACETA"},{"$f":"'[1]87-0-14'!G2400*(1+$E$13)","v":42667.268499999998}]
[{"$f":"'[1]87-0-14'!B2401","v":"M4000"},{"$f":"'[1]87-0-14'!D2401","v":"MACETA 4000 g."},{"$f":"'[1]87-0-14'!E2401","v":"EL ROBLE"},{"$f":"'[1]87-0-14'!F2401","v":"MACETA"},{"$f":"'[1]87-0-14'!G2401*(1+$E$13)","v":58264.841}]
[{"$f":"'[1]87-0-14'!B2402","v":"M500"},{"$f":"'[1]87-0-14'!D2402","v":"MACETA 500 g."},{"$f":"'[1]87-0-14'!E2402","v":"EL ROBLE"},{"$f":"'[1]87-0-14'!F2402","v":"MACETA"},{"$f":"'[1]87-0-14'!G2402*(1+$E$13)","v":10814.272499999999}]
[{"$f":"'[1]87-0-14'!B2403","v":"M5000"},{"$f":"'[1]87-0-14'!D2403","v":"MACETA 5000 g."},{"$f":"'[1]87-0-14'!E2403","v":"EL ROBLE"},{"$f":"'[1]87-0-14'!F2403","v":"MACETA"},{"$f":"'[1]87-0-14'!G2403*(1+$E$13)","v":72098.327499999999}]
[{"$f":"'[1]87-0-14'!B2404","v":"M6000"},{"$f":"'[1]87-0-14'!D2404","v":"MACETA 6000 g."},{"$f":"'[1]87-0-14'!E2404","v":"EL ROBLE"},{"$f":"'[1]87-0-14'!F2404","v":"MACETA"},{"$f":"'[1]87-0-14'!G2404*(1+$E$13)","v":78178.993000000002}]
[{"$f":"'[1]87-0-14'!B2405","v":"M750"},{"$f":"'[1]87-0-14'!D2405","v":"MACETA 750 g."},{"$f":"'[1]87-0-14'!E2405","v":"EL ROBLE"},{"$f":"'[1]87-0-14'!F2405","v":"MACETA"},{"$f":"'[1]87-0-14'!G2405*(1+$E$13)","v":13105.374}]
[{"$f":"'[1]87-0-14'!B2406","v":"M8000"},{"$f":"'[1]87-0-14'!D2406","v":"MACETA 8000 g."},{"$f":"'[1]87-0-14'!E2406","v":"EL ROBLE"},{"$f":"'[1]87-0-14'!F2406","v":"MACETA"},{"$f":"'[1]87-0-14'!G2406*(1+$E$13)","v":101538.454}]
[{"$f":"'[1]87-0-14'!B2407","v":"M500V"},{"$f":"'[1]87-0-14'!D2407","v":"MACETA ALBANIL  *500*"},{"$f":"'[1]87-0-14'!E2407","v":"VIRGA"},{"$f":"'[1]87-0-14'!F2407","v":"MACETA"},{"$f":"'[1]87-0-14'!G2407*(1+$E$13)","v":6429.8185000000012}]
[{"$f":"'[1]87-0-14'!B2408","v":"M800V"},{"$f":"'[1]87-0-14'!D2408","v":"MACETA ALBANIL  *800*"},{"$f":"'[1]87-0-14'!E2408","v":"VIRGA"},{"$f":"'[1]87-0-14'!F2408","v":"MACETA"},{"$f":"'[1]87-0-14'!G2408*(1+$E$13)","v":8353.3064999999988}]
[{"$f":"'[1]87-0-14'!B2409","v":"M10000V"},{"$f":"'[1]87-0-14'!D2409","v":"MACETA ALBANIL *10.000*"},{"$f":"'[1]87-0-14'!E2409","v":"VIRGA"},{"$f":"'[1]87-0-14'!F2409","v":"MACETA"},{"$f":"'[1]87-0-14'!G2409*(1+$E$13)","v":83658.491000000009}]
[{"$f":"'[1]87-0-14'!B2410","v":"M1000V"},{"$f":"'[1]87-0-14'!D2410","v":"MACETA ALBANIL *1000*"},{"$f":"'[1]87-0-14'!E2410","v":"VIRGA"},{"$f":"'[1]87-0-14'!F2410","v":"MACETA"},{"$f":"'[1]87-0-14'!G2410*(1+$E$13)","v":8792.9329999999991}]
[{"$f":"'[1]87-0-14'!B2411","v":"M1250V"},{"$f":"'[1]87-0-14'!D2411","v":"MACETA ALBANIL *1250*"},{"$f":"'[1]87-0-14'!E2411","v":"VIRGA"},{"$f":"'[1]87-0-14'!F2411","v":"MACETA"},{"$f":"'[1]87-0-14'!G2411*(1+$E$13)","v":10716.390000000001}]
[{"$f":"'[1]87-0-14'!B2412","v":"M1500V"},{"$f":"'[1]87-0-14'!D2412","v":"MACETA ALBANIL *1500*"},{"$f":"'[1]87-0-14'!E2412","v":"VIRGA"},{"$f":"'[1]87-0-14'!F2412","v":"MACETA"},{"$f":"'[1]87-0-14'!G2412*(1+$E$13)","v":12200.1895}]
[{"$f":"'[1]87-0-14'!B2413","v":"M2000V"},{"$f":"'[1]87-0-14'!D2413","v":"MACETA ALBANIL *2000*"},{"$f":"'[1]87-0-14'!E2413","v":"VIRGA"},{"$f":"'[1]87-0-14'!F2413","v":"MACETA"},{"$f":"'[1]87-0-14'!G2413*(1+$E$13)","v":16596.687000000002}]
[{"$f":"'[1]87-0-14'!B2414","v":"M3000V"},{"$f":"'[1]87-0-14'!D2414","v":"MACETA ALBANIL *3000*"},{"$f":"'[1]87-0-14'!E2414","v":"VIRGA"},{"$f":"'[1]87-0-14'!F2414","v":"MACETA"},{"$f":"'[1]87-0-14'!G2414*(1+$E$13)","v":27203.150999999998}]
[{"$f":"'[1]87-0-14'!B2415","v":"M4000V"},{"$f":"'[1]87-0-14'!D2415","v":"MACETA ALBANIL *4000*"},{"$f":"'[1]87-0-14'!E2415","v":"VIRGA"},{"$f":"'[1]87-0-14'!F2415","v":"MACETA"},{"$f":"'[1]87-0-14'!G2415*(1+$E$13)","v":41216.887000000002}]
[{"$f":"'[1]87-0-14'!B2416","v":"M5000V"},{"$f":"'[1]87-0-14'!D2416","v":"MACETA ALBANIL *5000*"},{"$f":"'[1]87-0-14'!E2416","v":"VIRGA"},{"$f":"'[1]87-0-14'!F2416","v":"MACETA"},{"$f":"'[1]87-0-14'!G2416*(1+$E$13)","v":44090.292499999996}]
[{"$f":"'[1]87-0-14'!B2417","v":"M6000V"},{"$f":"'[1]87-0-14'!D2417","v":"MACETA ALBANIL *6000*"},{"$f":"'[1]87-0-14'!E2417","v":"VIRGA"},{"$f":"'[1]87-0-14'!F2417","v":"MACETA"},{"$f":"'[1]87-0-14'!G2417*(1+$E$13)","v":49177.640500000001}]
[{"$f":"'[1]87-0-14'!B2418","v":"M8000V"},{"$f":"'[1]87-0-14'!D2418","v":"MACETA ALBANIL *8000*"},{"$f":"'[1]87-0-14'!E2418","v":"VIRGA"},{"$f":"'[1]87-0-14'!F2418","v":"MACETA"},{"$f":"'[1]87-0-14'!G2418*(1+$E$13)","v":63704.8295}]
[{"$f":"'[1]87-0-14'!B2419","v":"M1000Q"},{"$f":"'[1]87-0-14'!D2419","v":"MACETA FORJADA  1000grs"},{"$f":"'[1]87-0-14'!E2419","v":"F/QUINTANA"},{"$f":"'[1]87-0-14'!F2419","v":"MACETA"},{"$f":"'[1]87-0-14'!G2419*(1+$E$13)","v":12314.068000000001}]
[{"$f":"'[1]87-0-14'!B2420","v":"M45SJ"},{"$f":"'[1]87-0-14'!D2420","v":"MACHETE #45cm#"},{"$f":"'[1]87-0-14'!E2420","v":"STA. JUANA"},{"$f":"'[1]87-0-14'!F2420","v":"MACHETE"},{"$f":"'[1]87-0-14'!G2420*(1+$E$13)","v":16582.535500000002}]
[{"$f":"'[1]87-0-14'!B2421","v":"M50SJ"},{"$f":"'[1]87-0-14'!D2421","v":"MACHETE #50 cm#"},{"$f":"'[1]87-0-14'!E2421","v":"STA. JUANA"},{"$f":"'[1]87-0-14'!F2421","v":"MACHETE"},{"$f":"'[1]87-0-14'!G2421*(1+$E$13)","v":17600.637500000001}]
[{"$f":"'[1]87-0-14'!B2422","v":"M18G"},{"$f":"'[1]87-0-14'!D2422","v":"MACHETE 18\""},{"$f":"'[1]87-0-14'!E2422","v":"GHERARDI"},{"$f":"'[1]87-0-14'!F2422","v":"MACHETE"},{"$f":"'[1]87-0-14'!G2422*(1+$E$13)","v":43127.494500000001}]
[{"$f":"'[1]87-0-14'!B2423","v":"MG"},{"$f":"'[1]87-0-14'!D2423","v":"MACHETE 20\""},{"$f":"'[1]87-0-14'!E2423","v":"GHERARDI"},{"$f":"'[1]87-0-14'!F2423","v":"MACHETE"},{"$f":"'[1]87-0-14'!G2423*(1+$E$13)","v":44519.859500000006}]
[{"$f":"'[1]87-0-14'!B2424","v":"M22G"},{"$f":"'[1]87-0-14'!D2424","v":"MACHETE 22\""},{"$f":"'[1]87-0-14'!E2424","v":"GHERARDI"},{"$f":"'[1]87-0-14'!F2424","v":"MACHETE"},{"$f":"'[1]87-0-14'!G2424*(1+$E$13)","v":46048.841500000002}]
[{"$f":"'[1]87-0-14'!B2425","v":"MP20G"},{"$f":"'[1]87-0-14'!D2425","v":"MACHETE PULIDO 20\""},{"$f":"'[1]87-0-14'!E2425","v":"GHERARDI"},{"$f":"'[1]87-0-14'!F2425","v":"MACHETE"},{"$f":"'[1]87-0-14'!G2425*(1+$E$13)","v":47921.0245}]
[{"$f":"'[1]87-0-14'!B2426","v":"MT25114P"},{"$f":"'[1]87-0-14'!D2426","v":"MAN \"TRICOLOR\" 1 1/4 x25"},{"$f":"'[1]87-0-14'!E2426","v":"PLASTIMET"},{"$f":"'[1]87-0-14'!F2426","v":"MANG RIEGO"},{"$f":"'[1]87-0-14'!G2426*(1+$E$13)","v":12934.827499999999}]
[{"$f":"'[1]87-0-14'!B2427","v":"MA30112P"},{"$f":"'[1]87-0-14'!D2427","v":"MAN ASPIR AMAR 1 1/2 x30"},{"$f":"'[1]87-0-14'!E2427","v":"PLASTIMET"},{"$f":"'[1]87-0-14'!F2427","v":"MANG RIEGO"},{"$f":"'[1]87-0-14'!G2427*(1+$E$13)","v":15460.939999999999}]
[{"$f":"'[1]87-0-14'!B2428","v":"MBPLMMF"},{"$f":"'[1]87-0-14'!D2428","v":"MAN BCE PLATIL MINI P/MED"},{"$f":"'[1]87-0-14'!E2428","v":"FUNAL"},{"$f":"'[1]87-0-14'!F2428","v":"MANIJA MIN BRONCE"},{"$f":"'[1]87-0-14'!G2428*(1+$E$13)","v":11086.5455}]
[{"$f":"'[1]87-0-14'!B2429","v":"MBPMMF"},{"$f":"'[1]87-0-14'!D2429","v":"MAN BCE PULID MINIS P/MED"},{"$f":"'[1]87-0-14'!E2429","v":"FUNAL"},{"$f":"'[1]87-0-14'!F2429","v":"MANIJA MIN BRONCE"},{"$f":"'[1]87-0-14'!G2429*(1+$E$13)","v":11086.5455}]
[{"$f":"'[1]87-0-14'!B2430","v":"MBPBMF"},{"$f":"'[1]87-0-14'!D2430","v":"MAN BCE PULIDA *BISELADA*"},{"$f":"'[1]87-0-14'!E2430","v":"FUNAL"},{"$f":"'[1]87-0-14'!F2430","v":"MANIJA BISELADA"},{"$f":"'[1]87-0-14'!G2430*(1+$E$13)","v":19215.381000000001}]
[{"$f":"'[1]87-0-14'!B2431","v":"MABPCF"},{"$f":"'[1]87-0-14'!D2431","v":"MAN BISEL ALUM PULI P/COR"},{"$f":"'[1]87-0-14'!E2431","v":"FUNAL"},{"$f":"'[1]87-0-14'!F2431","v":"MANIJA BISELADA"},{"$f":"'[1]87-0-14'!G2431*(1+$E$13)","v":7318.3095000000003}]
[{"$f":"'[1]87-0-14'!B2432","v":"MABPLF"},{"$f":"'[1]87-0-14'!D2432","v":"MAN BISEL ALUM PULI P/LAR"},{"$f":"'[1]87-0-14'!E2432","v":"FUNAL"},{"$f":"'[1]87-0-14'!F2432","v":"MANIJA BISELADA"},{"$f":"'[1]87-0-14'!G2432*(1+$E$13)","v":7318.3095000000003}]
[{"$f":"'[1]87-0-14'!B2433","v":"MABPMF"},{"$f":"'[1]87-0-14'!D2433","v":"MAN BISEL ALUM PULI P/MED"},{"$f":"'[1]87-0-14'!E2433","v":"FUNAL"},{"$f":"'[1]87-0-14'!F2433","v":"MANIJA BISELADA"},{"$f":"'[1]87-0-14'!G2433*(1+$E$13)","v":7318.3095000000003}]
[{"$f":"'[1]87-0-14'!B2434","v":"MMA251P"},{"$f":"'[1]87-0-14'!D2434","v":"MAN MALL AZUL 1\"x25m"},{"$f":"'[1]87-0-14'!E2434","v":"PLASTIMET"},{"$f":"'[1]87-0-14'!F2434","v":"MANG MALLA AZUL"},{"$f":"'[1]87-0-14'!G2434*(1+$E$13)","v":11420.989000000001}]
[{"$f":"'[1]87-0-14'!B2435","v":"MMA2534P"},{"$f":"'[1]87-0-14'!D2435","v":"MAN MALL AZUL 3/4x25"},{"$f":"'[1]87-0-14'!E2435","v":"PLASTIMET"},{"$f":"'[1]87-0-14'!F2435","v":"MANG MALLA AZUL"},{"$f":"'[1]87-0-14'!G2435*(1+$E$13)","v":7851.835}]
[{"$f":"'[1]87-0-14'!B2436","v":"MMA2512P"},{"$f":"'[1]87-0-14'!D2436","v":"MAN MALLA AZU 1/2x25"},{"$f":"'[1]87-0-14'!E2436","v":"PLASTIMET"},{"$f":"'[1]87-0-14'!F2436","v":"MANG MALLA AZUL"},{"$f":"'[1]87-0-14'!G2436*(1+$E$13)","v":3689.6044999999999}]
[{"$f":"'[1]87-0-14'!B2437","v":"MMA5012P"},{"$f":"'[1]87-0-14'!D2437","v":"MAN MALLA AZU 1/2x50"},{"$f":"'[1]87-0-14'!E2437","v":"PLASTIMET"},{"$f":"'[1]87-0-14'!F2437","v":"MANG MALLA AZUL"},{"$f":"'[1]87-0-14'!G2437*(1+$E$13)","v":3689.6044999999999}]
[{"$f":"'[1]87-0-14'!B2438","v":"MPCA1SC"},{"$f":"'[1]87-0-14'!D2438","v":"MAN PULL CRO/AMARI 1"},{"$f":"'[1]87-0-14'!E2438","v":"SC"},{"$f":"'[1]87-0-14'!F2438","v":"MANIJA PULL"},{"$f":"'[1]87-0-14'!G2438*(1+$E$13)","v":1488.155}]
[{"$f":"'[1]87-0-14'!B2439","v":"MPCA2SC"},{"$f":"'[1]87-0-14'!D2439","v":"MAN PULL CRO/AMARI 2"},{"$f":"'[1]87-0-14'!E2439","v":"SC"},{"$f":"'[1]87-0-14'!F2439","v":"MANIJA PULL"},{"$f":"'[1]87-0-14'!G2439*(1+$E$13)","v":2491.2220000000002}]
[{"$f":"'[1]87-0-14'!B2440","v":"MV151JC"},{"$f":"'[1]87-0-14'!D2440","v":"MAN REFO VERDE 1\"x15"},{"$f":"'[1]87-0-14'!E2440","v":"J.C."},{"$f":"'[1]87-0-14'!F2440","v":"MANGUERA"},{"$f":"'[1]87-0-14'!G2440*(1+$E$13)","v":2073.962}]
[{"$f":"'[1]87-0-14'!B2441","v":"MV251JC"},{"$f":"'[1]87-0-14'!D2441","v":"MAN REFO VERDE 1\"x25"},{"$f":"'[1]87-0-14'!E2441","v":"J.C."},{"$f":"'[1]87-0-14'!F2441","v":"MANGUERA"},{"$f":"'[1]87-0-14'!G2441*(1+$E$13)","v":2073.0165000000002}]
[{"$f":"'[1]87-0-14'!B2442","v":"MV501JC"},{"$f":"'[1]87-0-14'!D2442","v":"MAN REFO VERDE 1\"x50"},{"$f":"'[1]87-0-14'!E2442","v":"J.C."},{"$f":"'[1]87-0-14'!F2442","v":"MANGUERA"},{"$f":"'[1]87-0-14'!G2442*(1+$E$13)","v":2073.0165000000002}]
[{"$f":"'[1]87-0-14'!B2443","v":"MJ251P"},{"$f":"'[1]87-0-14'!D2443","v":"MANG \"JARDIN\" 1\" x25"},{"$f":"'[1]87-0-14'!E2443","v":"PLASTIMET"},{"$f":"'[1]87-0-14'!F2443","v":"MANG RIEGO"},{"$f":"'[1]87-0-14'!G2443*(1+$E$13)","v":4970.5865000000003}]
[{"$f":"'[1]87-0-14'!B2444","v":"MJ501P"},{"$f":"'[1]87-0-14'!D2444","v":"MANG \"JARDIN\" 1\" x50"},{"$f":"'[1]87-0-14'!E2444","v":"PLASTIMET"},{"$f":"'[1]87-0-14'!F2444","v":"MANG RIEGO"},{"$f":"'[1]87-0-14'!G2444*(1+$E$13)","v":4970.5865000000003}]
[{"$f":"'[1]87-0-14'!B2445","v":"MJ1512P"},{"$f":"'[1]87-0-14'!D2445","v":"MANG \"JARDIN\" 1/2x15"},{"$f":"'[1]87-0-14'!E2445","v":"PLASTIMET"},{"$f":"'[1]87-0-14'!F2445","v":"MANG RIEGO"},{"$f":"'[1]87-0-14'!G2445*(1+$E$13)","v":1897.1225000000002}]
[{"$f":"'[1]87-0-14'!B2446","v":"MJ2512P"},{"$f":"'[1]87-0-14'!D2446","v":"MANG \"JARDIN\" 1/2x25"},{"$f":"'[1]87-0-14'!E2446","v":"PLASTIMET"},{"$f":"'[1]87-0-14'!F2446","v":"MANG RIEGO"},{"$f":"'[1]87-0-14'!G2446*(1+$E$13)","v":1897.1225000000002}]
[{"$f":"'[1]87-0-14'!B2447","v":"MJ5012P"},{"$f":"'[1]87-0-14'!D2447","v":"MANG \"JARDIN\" 1/2x50"},{"$f":"'[1]87-0-14'!E2447","v":"PLASTIMET"},{"$f":"'[1]87-0-14'!F2447","v":"MANG RIEGO"},{"$f":"'[1]87-0-14'!G2447*(1+$E$13)","v":1897.1225000000002}]
[{"$f":"'[1]87-0-14'!B2448","v":"MJ1534P"},{"$f":"'[1]87-0-14'!D2448","v":"MANG \"JARDIN\" 3/4x15"},{"$f":"'[1]87-0-14'!E2448","v":"PLASTIMET"},{"$f":"'[1]87-0-14'!F2448","v":"MANG RIEGO"},{"$f":"'[1]87-0-14'!G2448*(1+$E$13)","v":3794.2450000000003}]
[{"$f":"'[1]87-0-14'!B2449","v":"MJ2534P"},{"$f":"'[1]87-0-14'!D2449","v":"MANG \"JARDIN\" 3/4x25"},{"$f":"'[1]87-0-14'!E2449","v":"PLASTIMET"},{"$f":"'[1]87-0-14'!F2449","v":"MANG RIEGO"},{"$f":"'[1]87-0-14'!G2449*(1+$E$13)","v":3794.2450000000003}]
[{"$f":"'[1]87-0-14'!B2450","v":"MJ5034P"},{"$f":"'[1]87-0-14'!D2450","v":"MANG \"JARDIN\" 3/4x50"},{"$f":"'[1]87-0-14'!E2450","v":"PLASTIMET"},{"$f":"'[1]87-0-14'!F2450","v":"MANG RIEGO"},{"$f":"'[1]87-0-14'!G2450*(1+$E$13)","v":3794.2450000000003}]
[{"$f":"'[1]87-0-14'!B2451","v":"MM1512F"},{"$f":"'[1]87-0-14'!D2451","v":"MANG MALLADA VERD 1/2x15m"},{"$f":"'[1]87-0-14'!E2451","v":"FAMAPLAST."},{"$f":"'[1]87-0-14'!F2451","v":"MANGUERA MALLADA"},{"$f":"'[1]87-0-14'!G2451*(1+$E$13)","v":1796.6515000000002}]
[{"$f":"'[1]87-0-14'!B2452","v":"MM2512F"},{"$f":"'[1]87-0-14'!D2452","v":"MANG MALLADA VERD 1/2x25m"},{"$f":"'[1]87-0-14'!E2452","v":"FAMAPLAST."},{"$f":"'[1]87-0-14'!F2452","v":"MANGUERA MALLADA"},{"$f":"'[1]87-0-14'!G2452*(1+$E$13)","v":1694.0260000000001}]
[{"$f":"'[1]87-0-14'!B2453","v":"MM5012F"},{"$f":"'[1]87-0-14'!D2453","v":"MANG MALLADA VERD 1/2x50m"},{"$f":"'[1]87-0-14'!E2453","v":"FAMAPLAST."},{"$f":"'[1]87-0-14'!F2453","v":"MANGUERA MALLADA"},{"$f":"'[1]87-0-14'!G2453*(1+$E$13)","v":1693.375}]
[{"$f":"'[1]87-0-14'!B2454","v":"MM1534F"},{"$f":"'[1]87-0-14'!D2454","v":"MANG MALLADA VERD 3/4x15m"},{"$f":"'[1]87-0-14'!E2454","v":"FAMAPLAST."},{"$f":"'[1]87-0-14'!F2454","v":"MANGUERA MALLADA"},{"$f":"'[1]87-0-14'!G2454*(1+$E$13)","v":3036.3415}]
[{"$f":"'[1]87-0-14'!B2455","v":"MM2534F"},{"$f":"'[1]87-0-14'!D2455","v":"MANG MALLADA VERD 3/4x25m"},{"$f":"'[1]87-0-14'!E2455","v":"FAMAPLAST."},{"$f":"'[1]87-0-14'!F2455","v":"MANGUERA MALLADA"},{"$f":"'[1]87-0-14'!G2455*(1+$E$13)","v":3034.7760000000003}]
[{"$f":"'[1]87-0-14'!B2456","v":"MP32P"},{"$f":"'[1]87-0-14'!D2456","v":"MANG PISCINA 32 (1 1/4)"},{"$f":"'[1]87-0-14'!E2456","v":"PLASTIMET"},{"$f":"'[1]87-0-14'!F2456","v":"MANG PISCINA N"},{"$f":"'[1]87-0-14'!G2456*(1+$E$13)","v":5975.5909999999994}]
[{"$f":"'[1]87-0-14'!B2457","v":"MP38P"},{"$f":"'[1]87-0-14'!D2457","v":"MANG PISCINA 38 (1 1/2)"},{"$f":"'[1]87-0-14'!E2457","v":"PLASTIMET"},{"$f":"'[1]87-0-14'!F2457","v":"MANG PISCINA"},{"$f":"'[1]87-0-14'!G2457*(1+$E$13)","v":8067.8119999999999}]
[{"$f":"'[1]87-0-14'!B2458","v":"MP6P"},{"$f":"'[1]87-0-14'!D2458","v":"MANG PRESION ROJA  6"},{"$f":"'[1]87-0-14'!E2458","v":"PLASTIMET"},{"$f":"'[1]87-0-14'!F2458","v":"MANG PRESION"},{"$f":"'[1]87-0-14'!G2458*(1+$E$13)","v":2386.9380000000001}]
[{"$f":"'[1]87-0-14'!B2459","v":"MP8P"},{"$f":"'[1]87-0-14'!D2459","v":"MANG PRESION ROJA  8"},{"$f":"'[1]87-0-14'!E2459","v":"PLASTIMET"},{"$f":"'[1]87-0-14'!F2459","v":"MANG PRESION"},{"$f":"'[1]87-0-14'!G2459*(1+$E$13)","v":3229.2235000000001}]
[{"$f":"'[1]87-0-14'!B2460","v":"MP10P"},{"$f":"'[1]87-0-14'!D2460","v":"MANG PRESION ROJA 10"},{"$f":"'[1]87-0-14'!E2460","v":"PLASTIMET"},{"$f":"'[1]87-0-14'!F2460","v":"MANG PRESION"},{"$f":"'[1]87-0-14'!G2460*(1+$E$13)","v":4331.2735000000002}]
[{"$f":"'[1]87-0-14'!B2461","v":"MP13P"},{"$f":"'[1]87-0-14'!D2461","v":"MANG PRESION ROJA 13"},{"$f":"'[1]87-0-14'!E2461","v":"PLASTIMET"},{"$f":"'[1]87-0-14'!F2461","v":"MANG PRESION"},{"$f":"'[1]87-0-14'!G2461*(1+$E$13)","v":5248.3775000000005}]
[{"$f":"'[1]87-0-14'!B2462","v":"MP16P"},{"$f":"'[1]87-0-14'!D2462","v":"MANG PRESION ROJA 16"},{"$f":"'[1]87-0-14'!E2462","v":"PLASTIMET"},{"$f":"'[1]87-0-14'!F2462","v":"MANG PRESION"},{"$f":"'[1]87-0-14'!G2462*(1+$E$13)","v":8665.5074999999997}]
[{"$f":"'[1]87-0-14'!B2463","v":"MP19P"},{"$f":"'[1]87-0-14'!D2463","v":"MANG PRESION ROJA 19"},{"$f":"'[1]87-0-14'!E2463","v":"PLASTIMET"},{"$f":"'[1]87-0-14'!F2463","v":"MANG PRESION"},{"$f":"'[1]87-0-14'!G2463*(1+$E$13)","v":11555.079500000002}]
[{"$f":"'[1]87-0-14'!B2464","v":"MS5012P"},{"$f":"'[1]87-0-14'!D2464","v":"MANG STANDARD 1/2x50"},{"$f":"'[1]87-0-14'!E2464","v":"PLASTIMET"},{"$f":"'[1]87-0-14'!F2464","v":"MANG RIEGO"},{"$f":"'[1]87-0-14'!G2464*(1+$E$13)","v":4091.5815000000002}]
[{"$f":"'[1]87-0-14'!B2465","v":"M112P"},{"$f":"'[1]87-0-14'!D2465","v":"MANGA 1 1/2\""},{"$f":"'[1]87-0-14'!E2465","v":"PLASTIMET"},{"$f":"'[1]87-0-14'!F2465","v":"MANG RIEGO"},{"$f":"'[1]87-0-14'!G2465*(1+$E$13)","v":4091.5815000000002}]
[{"$f":"'[1]87-0-14'!B2466","v":"MG25P"},{"$f":"'[1]87-0-14'!D2466","v":"MANGUE GAS APROB (25"},{"$f":"'[1]87-0-14'!E2466","v":"PLASTIMET"},{"$f":"'[1]87-0-14'!F2466","v":"MANG GAS APROBADA"},{"$f":"'[1]87-0-14'!G2466*(1+$E$13)","v":2667.3795}]
[{"$f":"'[1]87-0-14'!B2467","v":"MG50P"},{"$f":"'[1]87-0-14'!D2467","v":"MANGUE GAS APROB (50"},{"$f":"'[1]87-0-14'!E2467","v":"PLASTIMET"},{"$f":"'[1]87-0-14'!F2467","v":"MANG GAS APROBADA"},{"$f":"'[1]87-0-14'!G2467*(1+$E$13)","v":2667.3795}]
[{"$f":"'[1]87-0-14'!B2468","v":"MR125F"},{"$f":"'[1]87-0-14'!D2468","v":"MANGUER REFORZADA 1\"x25mt"},{"$f":"'[1]87-0-14'!E2468","v":"FAMAPLAST."},{"$f":"'[1]87-0-14'!F2468","v":"MANGUERA"},{"$f":"'[1]87-0-14'!G2468*(1+$E$13)","v":2011.0165000000002}]
[{"$f":"'[1]87-0-14'!B2469","v":"MR150F"},{"$f":"'[1]87-0-14'!D2469","v":"MANGUER REFORZADA 1\"x50mt"},{"$f":"'[1]87-0-14'!E2469","v":"FAMAPLAST."},{"$f":"'[1]87-0-14'!F2469","v":"MANGUERA"},{"$f":"'[1]87-0-14'!G2469*(1+$E$13)","v":2010.5359999999998}]
[{"$f":"'[1]87-0-14'!B2470","v":"MR1215F"},{"$f":"'[1]87-0-14'!D2470","v":"MANGUER REFORZADA 1/2x15m"},{"$f":"'[1]87-0-14'!E2470","v":"FAMAPLAST."},{"$f":"'[1]87-0-14'!F2470","v":"MANGUERA"},{"$f":"'[1]87-0-14'!G2470*(1+$E$13)","v":710.56650000000002}]
[{"$f":"'[1]87-0-14'!B2471","v":"MR1225F"},{"$f":"'[1]87-0-14'!D2471","v":"MANGUER REFORZADA 1/2x25m"},{"$f":"'[1]87-0-14'!E2471","v":"FAMAPLAST."},{"$f":"'[1]87-0-14'!F2471","v":"MANGUERA"},{"$f":"'[1]87-0-14'!G2471*(1+$E$13)","v":670.03399999999999}]
[{"$f":"'[1]87-0-14'!B2472","v":"MR1250F"},{"$f":"'[1]87-0-14'!D2472","v":"MANGUER REFORZADA 1/2x50m"},{"$f":"'[1]87-0-14'!E2472","v":"FAMAPLAST."},{"$f":"'[1]87-0-14'!F2472","v":"MANGUERA"},{"$f":"'[1]87-0-14'!G2472*(1+$E$13)","v":670.03399999999999}]
[{"$f":"'[1]87-0-14'!B2473","v":"MR3415F"},{"$f":"'[1]87-0-14'!D2473","v":"MANGUER REFORZADA 3/4x15m"},{"$f":"'[1]87-0-14'!E2473","v":"FAMAPLAST."},{"$f":"'[1]87-0-14'!F2473","v":"MANGUERA"},{"$f":"'[1]87-0-14'!G2473*(1+$E$13)","v":1341.1065000000001}]
[{"$f":"'[1]87-0-14'!B2474","v":"MR3425F"},{"$f":"'[1]87-0-14'!D2474","v":"MANGUER REFORZADA 3/4x25m"},{"$f":"'[1]87-0-14'!E2474","v":"FAMAPLAST."},{"$f":"'[1]87-0-14'!F2474","v":"MANGUERA"},{"$f":"'[1]87-0-14'!G2474*(1+$E$13)","v":1340.0525}]
[{"$f":"'[1]87-0-14'!B2475","v":"MR3450F"},{"$f":"'[1]87-0-14'!D2475","v":"MANGUER REFORZADA 3/4x50m"},{"$f":"'[1]87-0-14'!E2475","v":"FAMAPLAST."},{"$f":"'[1]87-0-14'!F2475","v":"MANGUERA"},{"$f":"'[1]87-0-14'!G2475*(1+$E$13)","v":1338.5645000000002}]
[{"$f":"'[1]87-0-14'!B2476","v":"MC47F"},{"$f":"'[1]87-0-14'!D2476","v":"MANGUERA #CRISTAL#  4x7"},{"$f":"'[1]87-0-14'!E2476","v":"FAMAPLAST."},{"$f":"'[1]87-0-14'!F2476","v":"MANGUERA"},{"$f":"'[1]87-0-14'!G2476*(1+$E$13)","v":371.22500000000002}]
[{"$f":"'[1]87-0-14'!B2477","v":"MC58F"},{"$f":"'[1]87-0-14'!D2477","v":"MANGUERA #CRISTAL#  5x8"},{"$f":"'[1]87-0-14'!E2477","v":"FAMAPLAST."},{"$f":"'[1]87-0-14'!F2477","v":"MANGUERA"},{"$f":"'[1]87-0-14'!G2477*(1+$E$13)","v":438.54150000000004}]
[{"$f":"'[1]87-0-14'!B2478","v":"MC69F"},{"$f":"'[1]87-0-14'!D2478","v":"MANGUERA #CRISTAL#  6x9"},{"$f":"'[1]87-0-14'!E2478","v":"FAMAPLAST."},{"$f":"'[1]87-0-14'!F2478","v":"MANGUERA"},{"$f":"'[1]87-0-14'!G2478*(1+$E$13)","v":486.87050000000005}]
[{"$f":"'[1]87-0-14'!B2479","v":"MC710F"},{"$f":"'[1]87-0-14'!D2479","v":"MANGUERA #CRISTAL#  7x10"},{"$f":"'[1]87-0-14'!E2479","v":"FAMAPLAST."},{"$f":"'[1]87-0-14'!F2479","v":"MANGUERA"},{"$f":"'[1]87-0-14'!G2479*(1+$E$13)","v":574.02699999999993}]
[{"$f":"'[1]87-0-14'!B2480","v":"MC811F"},{"$f":"'[1]87-0-14'!D2480","v":"MANGUERA #CRISTAL#  8x11"},{"$f":"'[1]87-0-14'!E2480","v":"FAMAPLAST."},{"$f":"'[1]87-0-14'!F2480","v":"MANGUERA"},{"$f":"'[1]87-0-14'!G2480*(1+$E$13)","v":641.48300000000006}]
[{"$f":"'[1]87-0-14'!B2481","v":"MC912F"},{"$f":"'[1]87-0-14'!D2481","v":"MANGUERA #CRISTAL#  9x12"},{"$f":"'[1]87-0-14'!E2481","v":"FAMAPLAST."},{"$f":"'[1]87-0-14'!F2481","v":"MANGUERA"},{"$f":"'[1]87-0-14'!G2481*(1+$E$13)","v":708.42750000000001}]
[{"$f":"'[1]87-0-14'!B2482","v":"MC1215F"},{"$f":"'[1]87-0-14'!D2482","v":"MANGUERA #CRISTAL# 12x15"},{"$f":"'[1]87-0-14'!E2482","v":"FAMAPLAST."},{"$f":"'[1]87-0-14'!F2482","v":"MANGUERA"},{"$f":"'[1]87-0-14'!G2482*(1+$E$13)","v":911.63249999999994}]
[{"$f":"'[1]87-0-14'!B2483","v":"MC1620F"},{"$f":"'[1]87-0-14'!D2483","v":"MANGUERA #CRISTAL# 16x20"},{"$f":"'[1]87-0-14'!E2483","v":"FAMAPLAST."},{"$f":"'[1]87-0-14'!F2483","v":"MANGUERA"},{"$f":"'[1]87-0-14'!G2483*(1+$E$13)","v":1620.4940000000001}]
[{"$f":"'[1]87-0-14'!B2484","v":"MC1925F"},{"$f":"'[1]87-0-14'!D2484","v":"MANGUERA #CRISTAL# 19x25"},{"$f":"'[1]87-0-14'!E2484","v":"FAMAPLAST."},{"$f":"'[1]87-0-14'!F2484","v":"MANGUERA"},{"$f":"'[1]87-0-14'!G2484*(1+$E$13)","v":2972.6675}]
[{"$f":"'[1]87-0-14'!B2485","v":"MD180V"},{"$f":"'[1]87-0-14'!D2485","v":"MANGUERA DESCARGA 1,80mts"},{"$f":"'[1]87-0-14'!E2485","v":"VITAL GAS"},{"$f":"'[1]87-0-14'!F2485","v":"MANGUERA"},{"$f":"'[1]87-0-14'!G2485*(1+$E$13)","v":6949.9829999999993}]
[{"$f":"'[1]87-0-14'!B2486","v":"MG25F"},{"$f":"'[1]87-0-14'!D2486","v":"MANGUERA GAS APROB  25mts"},{"$f":"'[1]87-0-14'!E2486","v":"FAMAPLAST."},{"$f":"'[1]87-0-14'!F2486","v":"MANGUERA GAS"},{"$f":"'[1]87-0-14'!G2486*(1+$E$13)","v":1190.0125}]
[{"$f":"'[1]87-0-14'!B2487","v":"MG50F"},{"$f":"'[1]87-0-14'!D2487","v":"MANGUERA GAS APROBA 50mts"},{"$f":"'[1]87-0-14'!E2487","v":"FAMAPLAST."},{"$f":"'[1]87-0-14'!F2487","v":"MANGUERA GAS"},{"$f":"'[1]87-0-14'!G2487*(1+$E$13)","v":1190.0125}]
[{"$f":"'[1]87-0-14'!B2488","v":"MH58F"},{"$f":"'[1]87-0-14'!D2488","v":"MANGUERA HIDROCARBUR  5x8"},{"$f":"'[1]87-0-14'!E2488","v":"FAMAPLAST."},{"$f":"'[1]87-0-14'!F2488","v":"MANGUERA"},{"$f":"'[1]87-0-14'!G2488*(1+$E$13)","v":476.37699999999995}]
[{"$f":"'[1]87-0-14'!B2489","v":"MH59F"},{"$f":"'[1]87-0-14'!D2489","v":"MANGUERA HIDROCARBUR  5x9"},{"$f":"'[1]87-0-14'!E2489","v":"FAMAPLAST."},{"$f":"'[1]87-0-14'!F2489","v":"MANGUERA"},{"$f":"'[1]87-0-14'!G2489*(1+$E$13)","v":1368.8979999999999}]
[{"$f":"'[1]87-0-14'!B2490","v":"MH69F"},{"$f":"'[1]87-0-14'!D2490","v":"MANGUERA HIDROCARBUR  6x9"},{"$f":"'[1]87-0-14'!E2490","v":"FAMAPLAST."},{"$f":"'[1]87-0-14'!F2490","v":"MANGUERA"},{"$f":"'[1]87-0-14'!G2490*(1+$E$13)","v":550.09500000000003}]
[{"$f":"'[1]87-0-14'!B2491","v":"MH711F"},{"$f":"'[1]87-0-14'!D2491","v":"MANGUERA HIDROCARBUR 7x11"},{"$f":"'[1]87-0-14'!E2491","v":"FAMAPLAST."},{"$f":"'[1]87-0-14'!F2491","v":"MANGUERA"},{"$f":"'[1]87-0-14'!G2491*(1+$E$13)","v":880.10549999999989}]
[{"$f":"'[1]87-0-14'!B2492","v":"MH812F"},{"$f":"'[1]87-0-14'!D2492","v":"MANGUERA HIDROCARBUR 8x12"},{"$f":"'[1]87-0-14'!E2492","v":"FAMAPLAST."},{"$f":"'[1]87-0-14'!F2492","v":"MANGUERA"},{"$f":"'[1]87-0-14'!G2492*(1+$E$13)","v":977.70899999999995}]
[{"$f":"'[1]87-0-14'!B2493","v":"MC200V"},{"$f":"'[1]87-0-14'!D2493","v":"MANGUERA LAV CARGA #2.00#"},{"$f":"'[1]87-0-14'!E2493","v":"VITAL GAS"},{"$f":"'[1]87-0-14'!F2493","v":"MANGUERA"},{"$f":"'[1]87-0-14'!G2493*(1+$E$13)","v":7876.0925000000007}]
[{"$f":"'[1]87-0-14'!B2494","v":"MC150V"},{"$f":"'[1]87-0-14'!D2494","v":"MANGUERA LAVAR CARGA 1,50"},{"$f":"'[1]87-0-14'!E2494","v":"VITAL GAS"},{"$f":"'[1]87-0-14'!F2494","v":"MANGUERA"},{"$f":"'[1]87-0-14'!G2494*(1+$E$13)","v":6925.5395000000008}]
[{"$f":"'[1]87-0-14'!B2495","v":"MP825F"},{"$f":"'[1]87-0-14'!D2495","v":"MANGUERA PRESION  8mmx25m"},{"$f":"'[1]87-0-14'!E2495","v":"FAMAPLAST."},{"$f":"'[1]87-0-14'!F2495","v":"MANGUERA"},{"$f":"'[1]87-0-14'!G2495*(1+$E$13)","v":1622.075}]
[{"$f":"'[1]87-0-14'!B2496","v":"MP1025F"},{"$f":"'[1]87-0-14'!D2496","v":"MANGUERA PRESION 10mmx25m"},{"$f":"'[1]87-0-14'!E2496","v":"FAMAPLAST."},{"$f":"'[1]87-0-14'!F2496","v":"MANGUERA"},{"$f":"'[1]87-0-14'!G2496*(1+$E$13)","v":2074.0239999999999}]
[{"$f":"'[1]87-0-14'!B2497","v":"MBLBPL"},{"$f":"'[1]87-0-14'!D2497","v":"MANI BISELADA PULIDA"},{"$f":"'[1]87-0-14'!E2497","v":"LUPUM"},{"$f":"'[1]87-0-14'!F2497","v":"MANIJA"},{"$f":"'[1]87-0-14'!G2497*(1+$E$13)","v":21659.6535}]
[{"$f":"'[1]87-0-14'!B2498","v":"MBLMPLL"},{"$f":"'[1]87-0-14'!D2498","v":"MANI MINISTER PLATIL"},{"$f":"'[1]87-0-14'!E2498","v":"LUPUM"},{"$f":"'[1]87-0-14'!F2498","v":"MANIJA"},{"$f":"'[1]87-0-14'!G2498*(1+$E$13)","v":15624.201499999999}]
[{"$f":"'[1]87-0-14'!B2499","v":"MBLMPL"},{"$f":"'[1]87-0-14'!D2499","v":"MANI MINISTER PULIDA"},{"$f":"'[1]87-0-14'!E2499","v":"LUPUM"},{"$f":"'[1]87-0-14'!F2499","v":"MANIJA"},{"$f":"'[1]87-0-14'!G2499*(1+$E$13)","v":15624.201499999999}]
[{"$f":"'[1]87-0-14'!B2500","v":"MTR"},{"$f":"'[1]87-0-14'!D2500","v":"MANIJA \"T\" CORREDERA"},{"$f":"'[1]87-0-14'!E2500","v":"RHEIN"},{"$f":"'[1]87-0-14'!F2500","v":"TUBO"},{"$f":"'[1]87-0-14'!G2500*(1+$E$13)","v":16468.2075}]
[{"$f":"'[1]87-0-14'!B2501","v":"MCR"},{"$f":"'[1]87-0-14'!D2501","v":"MANIJA CRIQUET"},{"$f":"'[1]87-0-14'!E2501","v":"RHEIN"},{"$f":"'[1]87-0-14'!F2501","v":"TUBO"},{"$f":"'[1]87-0-14'!G2501*(1+$E$13)","v":29343.344499999999}]
[{"$f":"'[1]87-0-14'!B2502","v":"MFR"},{"$f":"'[1]87-0-14'!D2502","v":"MANIJA DE FUERZA"},{"$f":"'[1]87-0-14'!E2502","v":"RHEIN"},{"$f":"'[1]87-0-14'!F2502","v":"TUBO"},{"$f":"'[1]87-0-14'!G2502*(1+$E$13)","v":26411.937999999998}]
[{"$f":"'[1]87-0-14'!B2503","v":"MPB1SC"},{"$f":"'[1]87-0-14'!D2503","v":"MANIJA PULL BLANCA 1"},{"$f":"'[1]87-0-14'!E2503","v":"SC"},{"$f":"'[1]87-0-14'!F2503","v":"MANIJA PULL"},{"$f":"'[1]87-0-14'!G2503*(1+$E$13)","v":1898.8585}]
[{"$f":"'[1]87-0-14'!B2504","v":"MPB2SC"},{"$f":"'[1]87-0-14'!D2504","v":"MANIJA PULL BLANCA 2"},{"$f":"'[1]87-0-14'!E2504","v":"SC"},{"$f":"'[1]87-0-14'!F2504","v":"MANIJA PULL"},{"$f":"'[1]87-0-14'!G2504*(1+$E$13)","v":2638.6115}]
[{"$f":"'[1]87-0-14'!B2505","v":"MPC1SC"},{"$f":"'[1]87-0-14'!D2505","v":"MANIJA PULL CROMAT 1"},{"$f":"'[1]87-0-14'!E2505","v":"SC"},{"$f":"'[1]87-0-14'!F2505","v":"MANIJA PULL"},{"$f":"'[1]87-0-14'!G2505*(1+$E$13)","v":1488.155}]
[{"$f":"'[1]87-0-14'!B2506","v":"MPC2SC"},{"$f":"'[1]87-0-14'!D2506","v":"MANIJA PULL CROMAT 2"},{"$f":"'[1]87-0-14'!E2506","v":"SC"},{"$f":"'[1]87-0-14'!F2506","v":"MANIJA PULL"},{"$f":"'[1]87-0-14'!G2506*(1+$E$13)","v":2491.2220000000002}]
[{"$f":"'[1]87-0-14'!B2507","v":"MPN1SC"},{"$f":"'[1]87-0-14'!D2507","v":"MANIJA PULL NEGRA 1"},{"$f":"'[1]87-0-14'!E2507","v":"SC"},{"$f":"'[1]87-0-14'!F2507","v":"MANIJA PULL"},{"$f":"'[1]87-0-14'!G2507*(1+$E$13)","v":1898.8585}]
[{"$f":"'[1]87-0-14'!B2508","v":"MPN2SC"},{"$f":"'[1]87-0-14'!D2508","v":"MANIJA PULL NEGRA 2"},{"$f":"'[1]87-0-14'!E2508","v":"SC"},{"$f":"'[1]87-0-14'!F2508","v":"MANIJA PULL"},{"$f":"'[1]87-0-14'!G2508*(1+$E$13)","v":2638.6115}]
[{"$f":"'[1]87-0-14'!B2509","v":"MBPL"},{"$f":"'[1]87-0-14'!D2509","v":"MANIJON BISEL PULIDO"},{"$f":"'[1]87-0-14'!E2509","v":"LUPUM"},{"$f":"'[1]87-0-14'!F2509","v":"MANIJON"},{"$f":"'[1]87-0-14'!G2509*(1+$E$13)","v":25214.935000000001}]
[{"$f":"'[1]87-0-14'!B2510","v":"ME10V"},{"$f":"'[1]87-0-14'!D2510","v":"MANTA ELASTICA 1 x 10 mts"},{"$f":"'[1]87-0-14'!E2510","v":"VENIER"},{"$f":"'[1]87-0-14'!F2510","v":"MANTA ELASTICA"},{"$f":"'[1]87-0-14'!G2510*(1+$E$13)","v":15857.119999999999}]
[{"$f":"'[1]87-0-14'!B2511","v":"MSN"},{"$f":"'[1]87-0-14'!D2511","v":"MAQUI SALPI C/PLASTI"},{"$f":"'[1]87-0-14'!E2511","v":"NEIKE"},{"$f":"'[1]87-0-14'!F2511","v":"MAQUINA SALPICAR"},{"$f":"'[1]87-0-14'!G2511*(1+$E$13)","v":34585.754500000003}]
[{"$f":"'[1]87-0-14'!B2512","v":"MC200SJ"},{"$f":"'[1]87-0-14'!D2512","v":"MARTI CARPINTERO 200g"},{"$f":"'[1]87-0-14'!E2512","v":"STA. JUANA"},{"$f":"'[1]87-0-14'!F2512","v":"MARTILLO"},{"$f":"'[1]87-0-14'!G2512*(1+$E$13)","v":10141.1075}]
[{"$f":"'[1]87-0-14'!B2513","v":"MC300SJ"},{"$f":"'[1]87-0-14'!D2513","v":"MARTI CARPINTERO 300g"},{"$f":"'[1]87-0-14'!E2513","v":"STA. JUANA"},{"$f":"'[1]87-0-14'!F2513","v":"MARTILLO"},{"$f":"'[1]87-0-14'!G2513*(1+$E$13)","v":10602.713}]
[{"$f":"'[1]87-0-14'!B2514","v":"MC400SJ"},{"$f":"'[1]87-0-14'!D2514","v":"MARTI CARPINTERO 400g"},{"$f":"'[1]87-0-14'!E2514","v":"STA. JUANA"},{"$f":"'[1]87-0-14'!F2514","v":"MARTILLO"},{"$f":"'[1]87-0-14'!G2514*(1+$E$13)","v":11805.7145}]
[{"$f":"'[1]87-0-14'!B2515","v":"MB300Q"},{"$f":"'[1]87-0-14'!D2515","v":"MARTIL BOLITA FORJADO 300"},{"$f":"'[1]87-0-14'!E2515","v":"F/QUINTANA"},{"$f":"'[1]87-0-14'!F2515","v":"MARTILLO BOLITA"},{"$f":"'[1]87-0-14'!G2515*(1+$E$13)","v":13337.672500000002}]
[{"$f":"'[1]87-0-14'!B2516","v":"MB400Q"},{"$f":"'[1]87-0-14'!D2516","v":"MARTIL BOLITA FORJADO 400"},{"$f":"'[1]87-0-14'!E2516","v":"F/QUINTANA"},{"$f":"'[1]87-0-14'!F2516","v":"MARTILLO BOLITA"},{"$f":"'[1]87-0-14'!G2516*(1+$E$13)","v":14348.396500000001}]
[{"$f":"'[1]87-0-14'!B2517","v":"MB500Q"},{"$f":"'[1]87-0-14'!D2517","v":"MARTIL BOLITA FORJADO 500"},{"$f":"'[1]87-0-14'!E2517","v":"F/QUINTANA"},{"$f":"'[1]87-0-14'!F2517","v":"MARTILLO BOLITA"},{"$f":"'[1]87-0-14'!G2517*(1+$E$13)","v":16114.327000000001}]
[{"$f":"'[1]87-0-14'!B2518","v":"MCU20ER"},{"$f":"'[1]87-0-14'!D2518","v":"MARTIL CARP C/UNA 20"},{"$f":"'[1]87-0-14'!E2518","v":"EL ROBLE"},{"$f":"'[1]87-0-14'!F2518","v":"MARTILLO CARP UÑA"},{"$f":"'[1]87-0-14'!G2518*(1+$E$13)","v":13309.168}]
[{"$f":"'[1]87-0-14'!B2519","v":"MCU22ER"},{"$f":"'[1]87-0-14'!D2519","v":"MARTIL CARP C/UNA 22"},{"$f":"'[1]87-0-14'!E2519","v":"EL ROBLE"},{"$f":"'[1]87-0-14'!F2519","v":"MARTILLO CARP UÑA"},{"$f":"'[1]87-0-14'!G2519*(1+$E$13)","v":15068.541999999999}]
[{"$f":"'[1]87-0-14'!B2520","v":"MCU25ER"},{"$f":"'[1]87-0-14'!D2520","v":"MARTIL CARP C/UNA 25"},{"$f":"'[1]87-0-14'!E2520","v":"EL ROBLE"},{"$f":"'[1]87-0-14'!F2520","v":"MARTILLO CARP UÑA"},{"$f":"'[1]87-0-14'!G2520*(1+$E$13)","v":17603.722000000002}]
[{"$f":"'[1]87-0-14'!B2521","v":"MC12Q"},{"$f":"'[1]87-0-14'!D2521","v":"MARTIL CARPINT FORJADO 12"},{"$f":"'[1]87-0-14'!E2521","v":"F/QUINTANA"},{"$f":"'[1]87-0-14'!F2521","v":"MARTILLO CARPINTE"},{"$f":"'[1]87-0-14'!G2521*(1+$E$13)","v":8116.8230000000003}]
[{"$f":"'[1]87-0-14'!B2522","v":"MC16Q"},{"$f":"'[1]87-0-14'!D2522","v":"MARTIL CARPINT FORJADO 16"},{"$f":"'[1]87-0-14'!E2522","v":"F/QUINTANA"},{"$f":"'[1]87-0-14'!F2522","v":"MARTILLO CARPINTE"},{"$f":"'[1]87-0-14'!G2522*(1+$E$13)","v":8402.7980000000007}]
[{"$f":"'[1]87-0-14'!B2523","v":"MC18Q"},{"$f":"'[1]87-0-14'!D2523","v":"MARTIL CARPINT FORJADO 18"},{"$f":"'[1]87-0-14'!E2523","v":"F/QUINTANA"},{"$f":"'[1]87-0-14'!F2523","v":"MARTILLO CARPINTE"},{"$f":"'[1]87-0-14'!G2523*(1+$E$13)","v":8859.0869999999995}]
[{"$f":"'[1]87-0-14'!B2524","v":"MC20Q"},{"$f":"'[1]87-0-14'!D2524","v":"MARTIL CARPINT FORJADO 20"},{"$f":"'[1]87-0-14'!E2524","v":"F/QUINTANA"},{"$f":"'[1]87-0-14'!F2524","v":"MARTILLO CARPINTE"},{"$f":"'[1]87-0-14'!G2524*(1+$E$13)","v":9497.9660000000003}]
[{"$f":"'[1]87-0-14'!B2525","v":"MC22Q"},{"$f":"'[1]87-0-14'!D2525","v":"MARTIL CARPINT FORJADO 22"},{"$f":"'[1]87-0-14'!E2525","v":"F/QUINTANA"},{"$f":"'[1]87-0-14'!F2525","v":"MARTILLO CARPINTE"},{"$f":"'[1]87-0-14'!G2525*(1+$E$13)","v":10326.781999999999}]
[{"$f":"'[1]87-0-14'!B2526","v":"MC25Q"},{"$f":"'[1]87-0-14'!D2526","v":"MARTIL CARPINT FORJADO 25"},{"$f":"'[1]87-0-14'!E2526","v":"F/QUINTANA"},{"$f":"'[1]87-0-14'!F2526","v":"MARTILLO CARPINTE"},{"$f":"'[1]87-0-14'!G2526*(1+$E$13)","v":13484.441999999999}]
[{"$f":"'[1]87-0-14'!B2527","v":"MC28Q"},{"$f":"'[1]87-0-14'!D2527","v":"MARTIL CARPINT FORJADO 28"},{"$f":"'[1]87-0-14'!E2527","v":"F/QUINTANA"},{"$f":"'[1]87-0-14'!F2527","v":"MARTILLO CARPINTE"},{"$f":"'[1]87-0-14'!G2527*(1+$E$13)","v":15832.723}]
[{"$f":"'[1]87-0-14'!B2528","v":"MC30Q"},{"$f":"'[1]87-0-14'!D2528","v":"MARTIL CARPINT FORJADO 30"},{"$f":"'[1]87-0-14'!E2528","v":"F/QUINTANA"},{"$f":"'[1]87-0-14'!F2528","v":"MARTILLO CARPINTE"},{"$f":"'[1]87-0-14'!G2528*(1+$E$13)","v":18235.099000000002}]
[{"$f":"'[1]87-0-14'!B2529","v":"MGLL"},{"$f":"'[1]87-0-14'!D2529","v":"MARTIL GALPON CABO #LARGO"},{"$f":"'[1]87-0-14'!E2529","v":"LORO"},{"$f":"'[1]87-0-14'!F2529","v":"MARTILLO GALPONER"},{"$f":"'[1]87-0-14'!G2529*(1+$E$13)","v":56157.863999999994}]
[{"$f":"'[1]87-0-14'!B2530","v":"MGCL"},{"$f":"'[1]87-0-14'!D2530","v":"MARTIL GALPON CABO CORTO"},{"$f":"'[1]87-0-14'!E2530","v":"LORO"},{"$f":"'[1]87-0-14'!F2530","v":"MARTILLO GALPONER"},{"$f":"'[1]87-0-14'!G2530*(1+$E$13)","v":52321.660500000005}]
[{"$f":"'[1]87-0-14'!B2531","v":"MC16M"},{"$f":"'[1]87-0-14'!D2531","v":"MARTILL CARPINTER 16"},{"$f":"'[1]87-0-14'!E2531","v":"MAZZUCA"},{"$f":"'[1]87-0-14'!F2531","v":"MARTILLO CARPINTE"},{"$f":"'[1]87-0-14'!G2531*(1+$E$13)","v":16908.981}]
[{"$f":"'[1]87-0-14'!B2532","v":"MC28M"},{"$f":"'[1]87-0-14'!D2532","v":"MARTILL CARPINTER 28"},{"$f":"'[1]87-0-14'!E2532","v":"MAZZUCA"},{"$f":"'[1]87-0-14'!F2532","v":"MARTILLO CARPINTE"},{"$f":"'[1]87-0-14'!G2532*(1+$E$13)","v":19740.117999999999}]
[{"$f":"'[1]87-0-14'!B2533","v":"MC30M"},{"$f":"'[1]87-0-14'!D2533","v":"MARTILL CARPINTER 30"},{"$f":"'[1]87-0-14'!E2533","v":"MAZZUCA"},{"$f":"'[1]87-0-14'!F2533","v":"MARTILLO CARPINTE"},{"$f":"'[1]87-0-14'!G2533*(1+$E$13)","v":24884.986499999999}]
[{"$f":"'[1]87-0-14'!B2534","v":"MA"},{"$f":"'[1]87-0-14'!D2534","v":"MARTILLO ALBANIL"},{"$f":"'[1]87-0-14'!E2534","v":"EL ROBLE"},{"$f":"'[1]87-0-14'!F2534","v":"HACHUELA ALBAÑIL"},{"$f":"'[1]87-0-14'!G2534*(1+$E$13)","v":15174.918500000002}]
[{"$f":"'[1]87-0-14'!B2535","v":"MAM"},{"$f":"'[1]87-0-14'!D2535","v":"MARTILLO ALBANIL"},{"$f":"'[1]87-0-14'!E2535","v":"MAZZUCA"},{"$f":"'[1]87-0-14'!F2535","v":"MARTILLO ALBAÑIL"},{"$f":"'[1]87-0-14'!G2535*(1+$E$13)","v":21817.505499999999}]
[{"$f":"'[1]87-0-14'!B2536","v":"MB100M"},{"$f":"'[1]87-0-14'!D2536","v":"MARTILLO BOLITA  100"},{"$f":"'[1]87-0-14'!E2536","v":"MAZZUCA"},{"$f":"'[1]87-0-14'!F2536","v":"MARTILLO BOLITA"},{"$f":"'[1]87-0-14'!G2536*(1+$E$13)","v":19942.718500000003}]
[{"$f":"'[1]87-0-14'!B2537","v":"MB200M"},{"$f":"'[1]87-0-14'!D2537","v":"MARTILLO BOLITA  200"},{"$f":"'[1]87-0-14'!E2537","v":"MAZZUCA"},{"$f":"'[1]87-0-14'!F2537","v":"MARTILLO BOLITA"},{"$f":"'[1]87-0-14'!G2537*(1+$E$13)","v":20845.190500000001}]
[{"$f":"'[1]87-0-14'!B2538","v":"MB300M"},{"$f":"'[1]87-0-14'!D2538","v":"MARTILLO BOLITA  300"},{"$f":"'[1]87-0-14'!E2538","v":"MAZZUCA"},{"$f":"'[1]87-0-14'!F2538","v":"MARTILLO BOLITA"},{"$f":"'[1]87-0-14'!G2538*(1+$E$13)","v":23653.867999999999}]
[{"$f":"'[1]87-0-14'!B2539","v":"MB400M"},{"$f":"'[1]87-0-14'!D2539","v":"MARTILLO BOLITA  400"},{"$f":"'[1]87-0-14'!E2539","v":"MAZZUCA"},{"$f":"'[1]87-0-14'!F2539","v":"MARTILLO BOLITA"},{"$f":"'[1]87-0-14'!G2539*(1+$E$13)","v":31200.151500000004}]
[{"$f":"'[1]87-0-14'!B2540","v":"MB500M"},{"$f":"'[1]87-0-14'!D2540","v":"MARTILLO BOLITA  500"},{"$f":"'[1]87-0-14'!E2540","v":"MAZZUCA"},{"$f":"'[1]87-0-14'!F2540","v":"MARTILLO BOLITA"},{"$f":"'[1]87-0-14'!G2540*(1+$E$13)","v":31200.151500000004}]
[{"$f":"'[1]87-0-14'!B2541","v":"MB700M"},{"$f":"'[1]87-0-14'!D2541","v":"MARTILLO BOLITA  700"},{"$f":"'[1]87-0-14'!E2541","v":"MAZZUCA"},{"$f":"'[1]87-0-14'!F2541","v":"MARTILLO BOLITA"},{"$f":"'[1]87-0-14'!G2541*(1+$E$13)","v":37736.672000000006}]
[{"$f":"'[1]87-0-14'!B2542","v":"MB1000M"},{"$f":"'[1]87-0-14'!D2542","v":"MARTILLO BOLITA 1000"},{"$f":"'[1]87-0-14'!E2542","v":"MAZZUCA"},{"$f":"'[1]87-0-14'!F2542","v":"MARTILLO BOLITA"},{"$f":"'[1]87-0-14'!G2542*(1+$E$13)","v":37736.672000000006}]
[{"$f":"'[1]87-0-14'!B2543","v":"MB200ER"},{"$f":"'[1]87-0-14'!D2543","v":"MARTILLO BOLITA 200"},{"$f":"'[1]87-0-14'!E2543","v":"EL ROBLE"},{"$f":"'[1]87-0-14'!F2543","v":"MARTILLO BOLITA"},{"$f":"'[1]87-0-14'!G2543*(1+$E$13)","v":12245.155000000001}]
[{"$f":"'[1]87-0-14'!B2544","v":"MB200G"},{"$f":"'[1]87-0-14'!D2544","v":"MARTILLO BOLITA 200g"},{"$f":"'[1]87-0-14'!E2544","v":"GHERARDI"},{"$f":"'[1]87-0-14'!F2544","v":"MARTILLO"},{"$f":"'[1]87-0-14'!G2544*(1+$E$13)","v":49513.789000000004}]
[{"$f":"'[1]87-0-14'!B2545","v":"MB300ER"},{"$f":"'[1]87-0-14'!D2545","v":"MARTILLO BOLITA 300"},{"$f":"'[1]87-0-14'!E2545","v":"EL ROBLE"},{"$f":"'[1]87-0-14'!F2545","v":"MARTILLO BOLITA"},{"$f":"'[1]87-0-14'!G2545*(1+$E$13)","v":13932.206000000002}]
[{"$f":"'[1]87-0-14'!B2546","v":"MB300G"},{"$f":"'[1]87-0-14'!D2546","v":"MARTILLO BOLITA 300g"},{"$f":"'[1]87-0-14'!E2546","v":"GHERARDI"},{"$f":"'[1]87-0-14'!F2546","v":"MARTILLO"},{"$f":"'[1]87-0-14'!G2546*(1+$E$13)","v":50313.015500000001}]
[{"$f":"'[1]87-0-14'!B2547","v":"MB400ER"},{"$f":"'[1]87-0-14'!D2547","v":"MARTILLO BOLITA 400"},{"$f":"'[1]87-0-14'!E2547","v":"EL ROBLE"},{"$f":"'[1]87-0-14'!F2547","v":"MARTILLO BOLITA"},{"$f":"'[1]87-0-14'!G2547*(1+$E$13)","v":15017.2835}]
[{"$f":"'[1]87-0-14'!B2548","v":"MB500ER"},{"$f":"'[1]87-0-14'!D2548","v":"MARTILLO BOLITA 500"},{"$f":"'[1]87-0-14'!E2548","v":"EL ROBLE"},{"$f":"'[1]87-0-14'!F2548","v":"MARTILLO BOLITA"},{"$f":"'[1]87-0-14'!G2548*(1+$E$13)","v":16879.159000000003}]
[{"$f":"'[1]87-0-14'!B2549","v":"MB500G"},{"$f":"'[1]87-0-14'!D2549","v":"MARTILLO BOLITA 500g"},{"$f":"'[1]87-0-14'!E2549","v":"GHERARDI"},{"$f":"'[1]87-0-14'!F2549","v":"MARTILLO"},{"$f":"'[1]87-0-14'!G2549*(1+$E$13)","v":57141.432000000008}]
[{"$f":"'[1]87-0-14'!B2550","v":"MC16ER"},{"$f":"'[1]87-0-14'!D2550","v":"MARTILLO CARPINT 16"},{"$f":"'[1]87-0-14'!E2550","v":"EL ROBLE"},{"$f":"'[1]87-0-14'!F2550","v":"MARTILLO CARPINTE"},{"$f":"'[1]87-0-14'!G2550*(1+$E$13)","v":9433.9665000000005}]
[{"$f":"'[1]87-0-14'!B2551","v":"MC18ER"},{"$f":"'[1]87-0-14'!D2551","v":"MARTILLO CARPINT 18"},{"$f":"'[1]87-0-14'!E2551","v":"EL ROBLE"},{"$f":"'[1]87-0-14'!F2551","v":"MARTILLO CARPINTE"},{"$f":"'[1]87-0-14'!G2551*(1+$E$13)","v":10129.451500000001}]
[{"$f":"'[1]87-0-14'!B2552","v":"MC20ER"},{"$f":"'[1]87-0-14'!D2552","v":"MARTILLO CARPINT 20"},{"$f":"'[1]87-0-14'!E2552","v":"EL ROBLE"},{"$f":"'[1]87-0-14'!F2552","v":"MARTILLO CARPINTE"},{"$f":"'[1]87-0-14'!G2552*(1+$E$13)","v":10813.621499999999}]
[{"$f":"'[1]87-0-14'!B2553","v":"MC22ER"},{"$f":"'[1]87-0-14'!D2553","v":"MARTILLO CARPINT 22"},{"$f":"'[1]87-0-14'!E2553","v":"EL ROBLE"},{"$f":"'[1]87-0-14'!F2553","v":"MARTILLO CARPINTE"},{"$f":"'[1]87-0-14'!G2553*(1+$E$13)","v":11582.049500000001}]
[{"$f":"'[1]87-0-14'!B2554","v":"MC25ER"},{"$f":"'[1]87-0-14'!D2554","v":"MARTILLO CARPINT 25"},{"$f":"'[1]87-0-14'!E2554","v":"EL ROBLE"},{"$f":"'[1]87-0-14'!F2554","v":"MARTILLO CARPINTE"},{"$f":"'[1]87-0-14'!G2554*(1+$E$13)","v":15335.746500000001}]
[{"$f":"'[1]87-0-14'!B2555","v":"MC28ER"},{"$f":"'[1]87-0-14'!D2555","v":"MARTILLO CARPINT 28"},{"$f":"'[1]87-0-14'!E2555","v":"EL ROBLE"},{"$f":"'[1]87-0-14'!F2555","v":"MARTILLO CARPINTE"},{"$f":"'[1]87-0-14'!G2555*(1+$E$13)","v":18170.944500000001}]
[{"$f":"'[1]87-0-14'!B2556","v":"MC30ER"},{"$f":"'[1]87-0-14'!D2556","v":"MARTILLO CARPINT 30"},{"$f":"'[1]87-0-14'!E2556","v":"EL ROBLE"},{"$f":"'[1]87-0-14'!F2556","v":"MARTILLO CARPINTE"},{"$f":"'[1]87-0-14'!G2556*(1+$E$13)","v":20776.587500000001}]
[{"$f":"'[1]87-0-14'!B2557","v":"MC18V"},{"$f":"'[1]87-0-14'!D2557","v":"MARTILLO CARPINTER **18**"},{"$f":"'[1]87-0-14'!E2557","v":"VIRGA"},{"$f":"'[1]87-0-14'!F2557","v":"MARTILLO CARPINTE"},{"$f":"'[1]87-0-14'!G2557*(1+$E$13)","v":7419.9740000000002}]
[{"$f":"'[1]87-0-14'!B2558","v":"MC20V"},{"$f":"'[1]87-0-14'!D2558","v":"MARTILLO CARPINTER **20**"},{"$f":"'[1]87-0-14'!E2558","v":"VIRGA"},{"$f":"'[1]87-0-14'!F2558","v":"MARTILLO CARPINTE"},{"$f":"'[1]87-0-14'!G2558*(1+$E$13)","v":7898.6760000000004}]
[{"$f":"'[1]87-0-14'!B2559","v":"MC22V"},{"$f":"'[1]87-0-14'!D2559","v":"MARTILLO CARPINTER **22**"},{"$f":"'[1]87-0-14'!E2559","v":"VIRGA"},{"$f":"'[1]87-0-14'!F2559","v":"MARTILLO CARPINTE"},{"$f":"'[1]87-0-14'!G2559*(1+$E$13)","v":8676.5745000000006}]
[{"$f":"'[1]87-0-14'!B2560","v":"MC25V"},{"$f":"'[1]87-0-14'!D2560","v":"MARTILLO CARPINTER **25**"},{"$f":"'[1]87-0-14'!E2560","v":"VIRGA"},{"$f":"'[1]87-0-14'!F2560","v":"MARTILLO CARPINTE"},{"$f":"'[1]87-0-14'!G2560*(1+$E$13)","v":10292.2325}]
[{"$f":"'[1]87-0-14'!B2561","v":"MCA"},{"$f":"'[1]87-0-14'!D2561","v":"MARTILLO COBRE"},{"$f":"'[1]87-0-14'!E2561","v":"ALIGAS"},{"$f":"'[1]87-0-14'!F2561","v":"MARTILLO COBRE"},{"$f":"'[1]87-0-14'!G2561*(1+$E$13)","v":9451.1869999999999}]
[{"$f":"'[1]87-0-14'!B2562","v":"MGG"},{"$f":"'[1]87-0-14'!D2562","v":"MARTILLO GALPONERO"},{"$f":"'[1]87-0-14'!E2562","v":"GHERARDI"},{"$f":"'[1]87-0-14'!F2562","v":"MARTILLO GALPONER"},{"$f":"'[1]87-0-14'!G2562*(1+$E$13)","v":59084.217499999999}]
[{"$f":"'[1]87-0-14'!B2563","v":"MGSJ"},{"$f":"'[1]87-0-14'!D2563","v":"MARTILLO GALPONERO"},{"$f":"'[1]87-0-14'!E2563","v":"STA. JUANA"},{"$f":"'[1]87-0-14'!F2563","v":"MARTILLO"},{"$f":"'[1]87-0-14'!G2563*(1+$E$13)","v":18861.050999999999}]
[{"$f":"'[1]87-0-14'!B2564","v":"MSCGL"},{"$f":"'[1]87-0-14'!D2564","v":"MARTILLO S/CABO GALPONERO"},{"$f":"'[1]87-0-14'!E2564","v":"LORO"},{"$f":"'[1]87-0-14'!F2564","v":"MARTILLO GALPONER"},{"$f":"'[1]87-0-14'!G2564*(1+$E$13)","v":43981.234500000006}]
[{"$f":"'[1]87-0-14'!B2565","v":"MPY1P"},{"$f":"'[1]87-0-14'!D2565","v":"MASILL\"PLACA YESO/MAMPO 1"},{"$f":"'[1]87-0-14'!E2565","v":"PREMIER"},{"$f":"'[1]87-0-14'!F2565","v":"MASILLA"},{"$f":"'[1]87-0-14'!G2565*(1+$E$13)","v":5685.6325000000006}]
[{"$f":"'[1]87-0-14'!B2566","v":"MPY7P"},{"$f":"'[1]87-0-14'!D2566","v":"MASILL\"PLACA YESO/MAMPO 7"},{"$f":"'[1]87-0-14'!E2566","v":"PREMIER"},{"$f":"'[1]87-0-14'!F2566","v":"MASILLA"},{"$f":"'[1]87-0-14'!G2566*(1+$E$13)","v":18277.894500000002}]
[{"$f":"'[1]87-0-14'!B2567","v":"MMSV"},{"$f":"'[1]87-0-14'!D2567","v":"MASILLA ACRIL SACHET"},{"$f":"'[1]87-0-14'!E2567","v":"VENIER"},{"$f":"'[1]87-0-14'!F2567","v":"MASILLA ACRILICA"},{"$f":"'[1]87-0-14'!G2567*(1+$E$13)","v":30111.772500000003}]
[{"$f":"'[1]87-0-14'!B2568","v":"MMCV"},{"$f":"'[1]87-0-14'!D2568","v":"MASILLA MAD  Cedro"},{"$f":"'[1]87-0-14'!E2568","v":"VENIER"},{"$f":"'[1]87-0-14'!F2568","v":"MASILLA MADERA"},{"$f":"'[1]87-0-14'!G2568*(1+$E$13)","v":5116.9219999999996}]
[{"$f":"'[1]87-0-14'!B2569","v":"MMNOV"},{"$f":"'[1]87-0-14'!D2569","v":"MASILLA MAD  Nogal"},{"$f":"'[1]87-0-14'!E2569","v":"VENIER"},{"$f":"'[1]87-0-14'!F2569","v":"MASILLA MADERA"},{"$f":"'[1]87-0-14'!G2569*(1+$E$13)","v":5116.9219999999996}]
[{"$f":"'[1]87-0-14'!B2570","v":"MMNAV"},{"$f":"'[1]87-0-14'!D2570","v":"MASILLA MAD Natural"},{"$f":"'[1]87-0-14'!E2570","v":"VENIER"},{"$f":"'[1]87-0-14'!F2570","v":"MASILLA MADERA"},{"$f":"'[1]87-0-14'!G2570*(1+$E$13)","v":5116.9219999999996}]
[{"$f":"'[1]87-0-14'!B2571","v":"MMRCV"},{"$f":"'[1]87-0-14'!D2571","v":"MASILLA MAD Ro/Claro"},{"$f":"'[1]87-0-14'!E2571","v":"VENIER"},{"$f":"'[1]87-0-14'!F2571","v":"MASILLA MADERA"},{"$f":"'[1]87-0-14'!G2571*(1+$E$13)","v":5116.9219999999996}]
[{"$f":"'[1]87-0-14'!B2572","v":"MMROV"},{"$f":"'[1]87-0-14'!D2572","v":"MASILLA MAD Ro/Oscur"},{"$f":"'[1]87-0-14'!E2572","v":"VENIER"},{"$f":"'[1]87-0-14'!F2572","v":"MASILLA MADERA"},{"$f":"'[1]87-0-14'!G2572*(1+$E$13)","v":5116.9219999999996}]
[{"$f":"'[1]87-0-14'!B2573","v":"M1"},{"$f":"'[1]87-0-14'!D2573","v":"MASILLA VIDR.   1 Kg"},{"$f":"'[1]87-0-14'!E2573","v":"SANIGLASS"},{"$f":"'[1]87-0-14'!F2573","v":"MASILLA"},{"$f":"'[1]87-0-14'!G2573*(1+$E$13)","v":7.1610000000000005}]
[{"$f":"'[1]87-0-14'!B2574","v":"M12"},{"$f":"'[1]87-0-14'!D2574","v":"MASILLA VIDR. 1/2 Kg"},{"$f":"'[1]87-0-14'!E2574","v":"SANIGLASS"},{"$f":"'[1]87-0-14'!F2574","v":"MASILLA"},{"$f":"'[1]87-0-14'!G2574*(1+$E$13)","v":4.1230000000000002}]
[{"$f":"'[1]87-0-14'!B2575","v":"MPY14P"},{"$f":"'[1]87-0-14'!D2575","v":"MASILLA\"PLACA\"YES/MAMP 14"},{"$f":"'[1]87-0-14'!E2575","v":"PREMIER"},{"$f":"'[1]87-0-14'!F2575","v":"MASILLA"},{"$f":"'[1]87-0-14'!G2575*(1+$E$13)","v":34308.506000000001}]
[{"$f":"'[1]87-0-14'!B2576","v":"ME8E"},{"$f":"'[1]87-0-14'!D2576","v":"MEC ENCASTR \"SDS\"  8"},{"$f":"'[1]87-0-14'!E2576","v":"EZETA"},{"$f":"'[1]87-0-14'!F2576","v":"MECHA WIDIA 110"},{"$f":"'[1]87-0-14'!G2576*(1+$E$13)","v":3634.7034999999996}]
[{"$f":"'[1]87-0-14'!B2577","v":"ME10E"},{"$f":"'[1]87-0-14'!D2577","v":"MEC ENCASTR \"SDS\" 10"},{"$f":"'[1]87-0-14'!E2577","v":"EZETA"},{"$f":"'[1]87-0-14'!F2577","v":"MECHA WIDIA 110"},{"$f":"'[1]87-0-14'!G2577*(1+$E$13)","v":3796.2599999999998}]
[{"$f":"'[1]87-0-14'!B2578","v":"ME12E"},{"$f":"'[1]87-0-14'!D2578","v":"MEC ENCASTR \"SDS\" 12"},{"$f":"'[1]87-0-14'!E2578","v":"EZETA"},{"$f":"'[1]87-0-14'!F2578","v":"MECHA WIDIA 160"},{"$f":"'[1]87-0-14'!G2578*(1+$E$13)","v":6059.4305000000004}]
[{"$f":"'[1]87-0-14'!B2579","v":"MDC125E"},{"$f":"'[1]87-0-14'!D2579","v":"MECH DE CENTRO  1,25"},{"$f":"'[1]87-0-14'!E2579","v":"EZETA"},{"$f":"'[1]87-0-14'!F2579","v":"MECHA DE CENTRO"},{"$f":"'[1]87-0-14'!G2579*(1+$E$13)","v":22520.941999999999}]
[{"$f":"'[1]87-0-14'!B2580","v":"MDC160E"},{"$f":"'[1]87-0-14'!D2580","v":"MECH DE CENTRO  1,60"},{"$f":"'[1]87-0-14'!E2580","v":"EZETA"},{"$f":"'[1]87-0-14'!F2580","v":"MECHA DE CENTRO"},{"$f":"'[1]87-0-14'!G2580*(1+$E$13)","v":24707.093000000001}]
[{"$f":"'[1]87-0-14'!B2581","v":"MDC2E"},{"$f":"'[1]87-0-14'!D2581","v":"MECH DE CENTRO  2,00"},{"$f":"'[1]87-0-14'!E2581","v":"EZETA"},{"$f":"'[1]87-0-14'!F2581","v":"MECHA DE CENTRO"},{"$f":"'[1]87-0-14'!G2581*(1+$E$13)","v":26184.553}]
[{"$f":"'[1]87-0-14'!B2582","v":"MDC250E"},{"$f":"'[1]87-0-14'!D2582","v":"MECH DE CENTRO  2,50"},{"$f":"'[1]87-0-14'!E2582","v":"EZETA"},{"$f":"'[1]87-0-14'!F2582","v":"MECHA DE CENTRO"},{"$f":"'[1]87-0-14'!G2582*(1+$E$13)","v":34790.99}]
[{"$f":"'[1]87-0-14'!B2583","v":"MDC315E"},{"$f":"'[1]87-0-14'!D2583","v":"MECH DE CENTRO  3,15"},{"$f":"'[1]87-0-14'!E2583","v":"EZETA"},{"$f":"'[1]87-0-14'!F2583","v":"MECHA DE CENTRO"},{"$f":"'[1]87-0-14'!G2583*(1+$E$13)","v":37683.569000000003}]
[{"$f":"'[1]87-0-14'!B2584","v":"MDC4E"},{"$f":"'[1]87-0-14'!D2584","v":"MECH DE CENTRO  4,00"},{"$f":"'[1]87-0-14'!E2584","v":"EZETA"},{"$f":"'[1]87-0-14'!F2584","v":"MECHA DE CENTRO"},{"$f":"'[1]87-0-14'!G2584*(1+$E$13)","v":57748.722000000002}]
[{"$f":"'[1]87-0-14'!B2585","v":"MDC630E"},{"$f":"'[1]87-0-14'!D2585","v":"MECH DE CENTRO  6,30"},{"$f":"'[1]87-0-14'!E2585","v":"EZETA"},{"$f":"'[1]87-0-14'!F2585","v":"MECHA DE CENTRO"},{"$f":"'[1]87-0-14'!G2585*(1+$E$13)","v":113152.63499999999}]
[{"$f":"'[1]87-0-14'!B2586","v":"ML37512E"},{"$f":"'[1]87-0-14'!D2586","v":"MECH LAR 375mm 12,00"},{"$f":"'[1]87-0-14'!E2586","v":"EZETA"},{"$f":"'[1]87-0-14'!F2586","v":"MECHA LARGA 375"},{"$f":"'[1]87-0-14'!G2586*(1+$E$13)","v":167250.921}]
[{"$f":"'[1]87-0-14'!B2587","v":"MWM6N"},{"$f":"'[1]87-0-14'!D2587","v":"MECH WIDI 250 MED  6"},{"$f":"'[1]87-0-14'!E2587","v":"NEIKE"},{"$f":"'[1]87-0-14'!F2587","v":"MECHA WIDIA MEDIA"},{"$f":"'[1]87-0-14'!G2587*(1+$E$13)","v":5446.4364999999998}]
[{"$f":"'[1]87-0-14'!B2588","v":"MWM8N"},{"$f":"'[1]87-0-14'!D2588","v":"MECH WIDI 250 MED  8"},{"$f":"'[1]87-0-14'!E2588","v":"NEIKE"},{"$f":"'[1]87-0-14'!F2588","v":"MECHA WIDIA MEDIA"},{"$f":"'[1]87-0-14'!G2588*(1+$E$13)","v":6273.9349999999995}]
[{"$f":"'[1]87-0-14'!B2589","v":"MWM10N"},{"$f":"'[1]87-0-14'!D2589","v":"MECH WIDI 250 MED 10"},{"$f":"'[1]87-0-14'!E2589","v":"NEIKE"},{"$f":"'[1]87-0-14'!F2589","v":"MECHA WIDIA MEDIA"},{"$f":"'[1]87-0-14'!G2589*(1+$E$13)","v":7688.2790000000005}]
[{"$f":"'[1]87-0-14'!B2590","v":"MWM12N"},{"$f":"'[1]87-0-14'!D2590","v":"MECH WIDI 250 MED 12"},{"$f":"'[1]87-0-14'!E2590","v":"NEIKE"},{"$f":"'[1]87-0-14'!F2590","v":"MECHA WIDIA MEDIA"},{"$f":"'[1]87-0-14'!G2590*(1+$E$13)","v":10494.011500000001}]
[{"$f":"'[1]87-0-14'!B2591","v":"MWM14N"},{"$f":"'[1]87-0-14'!D2591","v":"MECH WIDI 250 MED 14"},{"$f":"'[1]87-0-14'!E2591","v":"NEIKE"},{"$f":"'[1]87-0-14'!F2591","v":"MECHA WIDIA MEDIA"},{"$f":"'[1]87-0-14'!G2591*(1+$E$13)","v":11818.936}]
[{"$f":"'[1]87-0-14'!B2592","v":"MAR050"},{"$f":"'[1]87-0-14'!D2592","v":"MECHA A/RAP  0,50"},{"$f":"'[1]87-0-14'!E2592","v":"EZETA"},{"$f":"'[1]87-0-14'!F2592","v":"MECHA A/RAPIDO"},{"$f":"'[1]87-0-14'!G2592*(1+$E$13)","v":4461.4270000000006}]
[{"$f":"'[1]87-0-14'!B2593","v":"MAR075"},{"$f":"'[1]87-0-14'!D2593","v":"MECHA A/RAP  0,75"},{"$f":"'[1]87-0-14'!E2593","v":"EZETA"},{"$f":"'[1]87-0-14'!F2593","v":"MECHA A/RAPIDO"},{"$f":"'[1]87-0-14'!G2593*(1+$E$13)","v":3243.4525000000003}]
[{"$f":"'[1]87-0-14'!B2594","v":"MAR1"},{"$f":"'[1]87-0-14'!D2594","v":"MECHA A/RAP  1,00"},{"$f":"'[1]87-0-14'!E2594","v":"EZETA"},{"$f":"'[1]87-0-14'!F2594","v":"MECHA A/RAPIDO"},{"$f":"'[1]87-0-14'!G2594*(1+$E$13)","v":2778.2355000000002}]
[{"$f":"'[1]87-0-14'!B2595","v":"MAR125"},{"$f":"'[1]87-0-14'!D2595","v":"MECHA A/RAP  1,25"},{"$f":"'[1]87-0-14'!E2595","v":"EZETA"},{"$f":"'[1]87-0-14'!F2595","v":"MECHA A/RAPIDO"},{"$f":"'[1]87-0-14'!G2595*(1+$E$13)","v":2661.7995000000001}]
[{"$f":"'[1]87-0-14'!B2596","v":"MAR150"},{"$f":"'[1]87-0-14'!D2596","v":"MECHA A/RAP  1,50"},{"$f":"'[1]87-0-14'!E2596","v":"EZETA"},{"$f":"'[1]87-0-14'!F2596","v":"MECHA A/RAPIDO"},{"$f":"'[1]87-0-14'!G2596*(1+$E$13)","v":2576.9059999999999}]
[{"$f":"'[1]87-0-14'!B2597","v":"MAR175"},{"$f":"'[1]87-0-14'!D2597","v":"MECHA A/RAP  1,75"},{"$f":"'[1]87-0-14'!E2597","v":"EZETA"},{"$f":"'[1]87-0-14'!F2597","v":"MECHA A/RAPIDO"},{"$f":"'[1]87-0-14'!G2597*(1+$E$13)","v":2336.3615}]
[{"$f":"'[1]87-0-14'!B2598","v":"MAR2"},{"$f":"'[1]87-0-14'!D2598","v":"MECHA A/RAP  2,00"},{"$f":"'[1]87-0-14'!E2598","v":"EZETA"},{"$f":"'[1]87-0-14'!F2598","v":"MECHA A/RAPIDO"},{"$f":"'[1]87-0-14'!G2598*(1+$E$13)","v":2194.0095000000001}]
[{"$f":"'[1]87-0-14'!B2599","v":"MAR225"},{"$f":"'[1]87-0-14'!D2599","v":"MECHA A/RAP  2,25"},{"$f":"'[1]87-0-14'!E2599","v":"EZETA"},{"$f":"'[1]87-0-14'!F2599","v":"MECHA A/RAPIDO"},{"$f":"'[1]87-0-14'!G2599*(1+$E$13)","v":2194.0250000000001}]
[{"$f":"'[1]87-0-14'!B2600","v":"MAR250"},{"$f":"'[1]87-0-14'!D2600","v":"MECHA A/RAP  2,50"},{"$f":"'[1]87-0-14'!E2600","v":"EZETA"},{"$f":"'[1]87-0-14'!F2600","v":"MECHA A/RAPIDO"},{"$f":"'[1]87-0-14'!G2600*(1+$E$13)","v":2194.0095000000001}]
[{"$f":"'[1]87-0-14'!B2601","v":"MAR275"},{"$f":"'[1]87-0-14'!D2601","v":"MECHA A/RAP  2,75"},{"$f":"'[1]87-0-14'!E2601","v":"EZETA"},{"$f":"'[1]87-0-14'!F2601","v":"MECHA A/RAPIDO"},{"$f":"'[1]87-0-14'!G2601*(1+$E$13)","v":2225.614}]
[{"$f":"'[1]87-0-14'!B2602","v":"MAR2250"},{"$f":"'[1]87-0-14'!D2602","v":"MECHA A/RAP  22,50"},{"$f":"'[1]87-0-14'!E2602","v":"EZETA"},{"$f":"'[1]87-0-14'!F2602","v":"MECHA A/RAPIDO"},{"$f":"'[1]87-0-14'!G2602*(1+$E$13)","v":156748.16750000001}]
[{"$f":"'[1]87-0-14'!B2603","v":"MAR23"},{"$f":"'[1]87-0-14'!D2603","v":"MECHA A/RAP  23,00"},{"$f":"'[1]87-0-14'!E2603","v":"EZETA"},{"$f":"'[1]87-0-14'!F2603","v":"MECHA A/RAPIDO"},{"$f":"'[1]87-0-14'!G2603*(1+$E$13)","v":159035.87450000001}]
[{"$f":"'[1]87-0-14'!B2604","v":"MAR3"},{"$f":"'[1]87-0-14'!D2604","v":"MECHA A/RAP  3,00"},{"$f":"'[1]87-0-14'!E2604","v":"EZETA"},{"$f":"'[1]87-0-14'!F2604","v":"MECHA A/RAPIDO"},{"$f":"'[1]87-0-14'!G2604*(1+$E$13)","v":2437.623}]
[{"$f":"'[1]87-0-14'!B2605","v":"MAR325"},{"$f":"'[1]87-0-14'!D2605","v":"MECHA A/RAP  3,25"},{"$f":"'[1]87-0-14'!E2605","v":"EZETA"},{"$f":"'[1]87-0-14'!F2605","v":"MECHA A/RAPIDO"},{"$f":"'[1]87-0-14'!G2605*(1+$E$13)","v":2585.6945000000001}]
[{"$f":"'[1]87-0-14'!B2606","v":"MAR350"},{"$f":"'[1]87-0-14'!D2606","v":"MECHA A/RAP  3,50"},{"$f":"'[1]87-0-14'!E2606","v":"EZETA"},{"$f":"'[1]87-0-14'!F2606","v":"MECHA A/RAPIDO"},{"$f":"'[1]87-0-14'!G2606*(1+$E$13)","v":2631.8380000000002}]
[{"$f":"'[1]87-0-14'!B2607","v":"MAR375"},{"$f":"'[1]87-0-14'!D2607","v":"MECHA A/RAP  3,75"},{"$f":"'[1]87-0-14'!E2607","v":"EZETA"},{"$f":"'[1]87-0-14'!F2607","v":"MECHA A/RAPIDO"},{"$f":"'[1]87-0-14'!G2607*(1+$E$13)","v":2881.8685}]
[{"$f":"'[1]87-0-14'!B2608","v":"MAR4"},{"$f":"'[1]87-0-14'!D2608","v":"MECHA A/RAP  4,00"},{"$f":"'[1]87-0-14'!E2608","v":"EZETA"},{"$f":"'[1]87-0-14'!F2608","v":"MECHA A/RAPIDO"},{"$f":"'[1]87-0-14'!G2608*(1+$E$13)","v":3023.8020000000001}]
[{"$f":"'[1]87-0-14'!B2609","v":"MAR425"},{"$f":"'[1]87-0-14'!D2609","v":"MECHA A/RAP  4,25"},{"$f":"'[1]87-0-14'!E2609","v":"EZETA"},{"$f":"'[1]87-0-14'!F2609","v":"MECHA A/RAPIDO"},{"$f":"'[1]87-0-14'!G2609*(1+$E$13)","v":3320.1155000000003}]
[{"$f":"'[1]87-0-14'!B2610","v":"MAR450"},{"$f":"'[1]87-0-14'!D2610","v":"MECHA A/RAP  4,50"},{"$f":"'[1]87-0-14'!E2610","v":"EZETA"},{"$f":"'[1]87-0-14'!F2610","v":"MECHA A/RAPIDO"},{"$f":"'[1]87-0-14'!G2610*(1+$E$13)","v":3545.8885}]
[{"$f":"'[1]87-0-14'!B2611","v":"MAR475"},{"$f":"'[1]87-0-14'!D2611","v":"MECHA A/RAP  4,75"},{"$f":"'[1]87-0-14'!E2611","v":"EZETA"},{"$f":"'[1]87-0-14'!F2611","v":"MECHA A/RAPIDO"},{"$f":"'[1]87-0-14'!G2611*(1+$E$13)","v":3796.0275000000006}]
[{"$f":"'[1]87-0-14'!B2612","v":"MAR5"},{"$f":"'[1]87-0-14'!D2612","v":"MECHA A/RAP  5,00"},{"$f":"'[1]87-0-14'!E2612","v":"EZETA"},{"$f":"'[1]87-0-14'!F2612","v":"MECHA A/RAPIDO"},{"$f":"'[1]87-0-14'!G2612*(1+$E$13)","v":3999.279}]
[{"$f":"'[1]87-0-14'!B2613","v":"MAR525"},{"$f":"'[1]87-0-14'!D2613","v":"MECHA A/RAP  5,25"},{"$f":"'[1]87-0-14'!E2613","v":"EZETA"},{"$f":"'[1]87-0-14'!F2613","v":"MECHA A/RAPIDO"},{"$f":"'[1]87-0-14'!G2613*(1+$E$13)","v":4248.1005000000005}]
[{"$f":"'[1]87-0-14'!B2614","v":"MAR550"},{"$f":"'[1]87-0-14'!D2614","v":"MECHA A/RAP  5,50"},{"$f":"'[1]87-0-14'!E2614","v":"EZETA"},{"$f":"'[1]87-0-14'!F2614","v":"MECHA A/RAPIDO"},{"$f":"'[1]87-0-14'!G2614*(1+$E$13)","v":4354.1049999999996}]
[{"$f":"'[1]87-0-14'!B2615","v":"MAR575"},{"$f":"'[1]87-0-14'!D2615","v":"MECHA A/RAP  5,75"},{"$f":"'[1]87-0-14'!E2615","v":"EZETA"},{"$f":"'[1]87-0-14'!F2615","v":"MECHA A/RAPIDO"},{"$f":"'[1]87-0-14'!G2615*(1+$E$13)","v":4489.1719999999996}]
[{"$f":"'[1]87-0-14'!B2616","v":"MAR6"},{"$f":"'[1]87-0-14'!D2616","v":"MECHA A/RAP  6,00"},{"$f":"'[1]87-0-14'!E2616","v":"EZETA"},{"$f":"'[1]87-0-14'!F2616","v":"MECHA A/RAPIDO"},{"$f":"'[1]87-0-14'!G2616*(1+$E$13)","v":4537.3460000000005}]
[{"$f":"'[1]87-0-14'!B2617","v":"MAR625"},{"$f":"'[1]87-0-14'!D2617","v":"MECHA A/RAP  6,25"},{"$f":"'[1]87-0-14'!E2617","v":"EZETA"},{"$f":"'[1]87-0-14'!F2617","v":"MECHA A/RAPIDO"},{"$f":"'[1]87-0-14'!G2617*(1+$E$13)","v":5091.5950000000003}]
[{"$f":"'[1]87-0-14'!B2618","v":"MAR650"},{"$f":"'[1]87-0-14'!D2618","v":"MECHA A/RAP  6,50"},{"$f":"'[1]87-0-14'!E2618","v":"EZETA"},{"$f":"'[1]87-0-14'!F2618","v":"MECHA A/RAPIDO"},{"$f":"'[1]87-0-14'!G2618*(1+$E$13)","v":5268.0625}]
[{"$f":"'[1]87-0-14'!B2619","v":"MAR675"},{"$f":"'[1]87-0-14'!D2619","v":"MECHA A/RAP  6,75"},{"$f":"'[1]87-0-14'!E2619","v":"EZETA"},{"$f":"'[1]87-0-14'!F2619","v":"MECHA A/RAPIDO"},{"$f":"'[1]87-0-14'!G2619*(1+$E$13)","v":5856.1325000000006}]
[{"$f":"'[1]87-0-14'!B2620","v":"MAR7"},{"$f":"'[1]87-0-14'!D2620","v":"MECHA A/RAP  7,00"},{"$f":"'[1]87-0-14'!E2620","v":"EZETA"},{"$f":"'[1]87-0-14'!F2620","v":"MECHA A/RAPIDO"},{"$f":"'[1]87-0-14'!G2620*(1+$E$13)","v":6153.3604999999998}]
[{"$f":"'[1]87-0-14'!B2621","v":"MAR725"},{"$f":"'[1]87-0-14'!D2621","v":"MECHA A/RAP  7,25"},{"$f":"'[1]87-0-14'!E2621","v":"EZETA"},{"$f":"'[1]87-0-14'!F2621","v":"MECHA A/RAPIDO"},{"$f":"'[1]87-0-14'!G2621*(1+$E$13)","v":6699.7819999999992}]
[{"$f":"'[1]87-0-14'!B2622","v":"MAR750"},{"$f":"'[1]87-0-14'!D2622","v":"MECHA A/RAP  7,50"},{"$f":"'[1]87-0-14'!E2622","v":"EZETA"},{"$f":"'[1]87-0-14'!F2622","v":"MECHA A/RAPIDO"},{"$f":"'[1]87-0-14'!G2622*(1+$E$13)","v":6989.6475}]
[{"$f":"'[1]87-0-14'!B2623","v":"MAR775"},{"$f":"'[1]87-0-14'!D2623","v":"MECHA A/RAP  7,75"},{"$f":"'[1]87-0-14'!E2623","v":"EZETA"},{"$f":"'[1]87-0-14'!F2623","v":"MECHA A/RAPIDO"},{"$f":"'[1]87-0-14'!G2623*(1+$E$13)","v":7649.0640000000003}]
[{"$f":"'[1]87-0-14'!B2624","v":"MAR8"},{"$f":"'[1]87-0-14'!D2624","v":"MECHA A/RAP  8,00"},{"$f":"'[1]87-0-14'!E2624","v":"EZETA"},{"$f":"'[1]87-0-14'!F2624","v":"MECHA A/RAPIDO"},{"$f":"'[1]87-0-14'!G2624*(1+$E$13)","v":8061.2865000000002}]
[{"$f":"'[1]87-0-14'!B2625","v":"MAR825"},{"$f":"'[1]87-0-14'!D2625","v":"MECHA A/RAP  8,25"},{"$f":"'[1]87-0-14'!E2625","v":"EZETA"},{"$f":"'[1]87-0-14'!F2625","v":"MECHA A/RAPIDO"},{"$f":"'[1]87-0-14'!G2625*(1+$E$13)","v":8817.3145000000004}]
[{"$f":"'[1]87-0-14'!B2626","v":"MAR850"},{"$f":"'[1]87-0-14'!D2626","v":"MECHA A/RAP  8,50"},{"$f":"'[1]87-0-14'!E2626","v":"EZETA"},{"$f":"'[1]87-0-14'!F2626","v":"MECHA A/RAPIDO"},{"$f":"'[1]87-0-14'!G2626*(1+$E$13)","v":9104.6380000000008}]
[{"$f":"'[1]87-0-14'!B2627","v":"MAR875"},{"$f":"'[1]87-0-14'!D2627","v":"MECHA A/RAP  8,75"},{"$f":"'[1]87-0-14'!E2627","v":"EZETA"},{"$f":"'[1]87-0-14'!F2627","v":"MECHA A/RAPIDO"},{"$f":"'[1]87-0-14'!G2627*(1+$E$13)","v":10007.156499999999}]
[{"$f":"'[1]87-0-14'!B2628","v":"MAR9"},{"$f":"'[1]87-0-14'!D2628","v":"MECHA A/RAP  9,00"},{"$f":"'[1]87-0-14'!E2628","v":"EZETA"},{"$f":"'[1]87-0-14'!F2628","v":"MECHA A/RAPIDO"},{"$f":"'[1]87-0-14'!G2628*(1+$E$13)","v":10351.752500000001}]
[{"$f":"'[1]87-0-14'!B2629","v":"MAR925"},{"$f":"'[1]87-0-14'!D2629","v":"MECHA A/RAP  9,25"},{"$f":"'[1]87-0-14'!E2629","v":"EZETA"},{"$f":"'[1]87-0-14'!F2629","v":"MECHA A/RAPIDO"},{"$f":"'[1]87-0-14'!G2629*(1+$E$13)","v":11224.247499999999}]
[{"$f":"'[1]87-0-14'!B2630","v":"MAR950"},{"$f":"'[1]87-0-14'!D2630","v":"MECHA A/RAP  9,50"},{"$f":"'[1]87-0-14'!E2630","v":"EZETA"},{"$f":"'[1]87-0-14'!F2630","v":"MECHA A/RAPIDO"},{"$f":"'[1]87-0-14'!G2630*(1+$E$13)","v":11613.328500000001}]
[{"$f":"'[1]87-0-14'!B2631","v":"MAR975"},{"$f":"'[1]87-0-14'!D2631","v":"MECHA A/RAP  9,75"},{"$f":"'[1]87-0-14'!E2631","v":"EZETA"},{"$f":"'[1]87-0-14'!F2631","v":"MECHA A/RAPIDO"},{"$f":"'[1]87-0-14'!G2631*(1+$E$13)","v":12348.106000000002}]
[{"$f":"'[1]87-0-14'!B2632","v":"MAR10"},{"$f":"'[1]87-0-14'!D2632","v":"MECHA A/RAP 10,00"},{"$f":"'[1]87-0-14'!E2632","v":"EZETA"},{"$f":"'[1]87-0-14'!F2632","v":"MECHA A/RAPIDO"},{"$f":"'[1]87-0-14'!G2632*(1+$E$13)","v":13736.782000000001}]
[{"$f":"'[1]87-0-14'!B2633","v":"MAR1025"},{"$f":"'[1]87-0-14'!D2633","v":"MECHA A/RAP 10,25"},{"$f":"'[1]87-0-14'!E2633","v":"EZETA"},{"$f":"'[1]87-0-14'!F2633","v":"MECHA A/RAPIDO"},{"$f":"'[1]87-0-14'!G2633*(1+$E$13)","v":16082.397000000001}]
[{"$f":"'[1]87-0-14'!B2634","v":"MAR1050"},{"$f":"'[1]87-0-14'!D2634","v":"MECHA A/RAP 10,50"},{"$f":"'[1]87-0-14'!E2634","v":"EZETA"},{"$f":"'[1]87-0-14'!F2634","v":"MECHA A/RAPIDO"},{"$f":"'[1]87-0-14'!G2634*(1+$E$13)","v":16556.247500000001}]
[{"$f":"'[1]87-0-14'!B2635","v":"MAR1075"},{"$f":"'[1]87-0-14'!D2635","v":"MECHA A/RAP 10,75"},{"$f":"'[1]87-0-14'!E2635","v":"EZETA"},{"$f":"'[1]87-0-14'!F2635","v":"MECHA A/RAPIDO"},{"$f":"'[1]87-0-14'!G2635*(1+$E$13)","v":17637.217500000002}]
[{"$f":"'[1]87-0-14'!B2636","v":"MAR11"},{"$f":"'[1]87-0-14'!D2636","v":"MECHA A/RAP 11,00"},{"$f":"'[1]87-0-14'!E2636","v":"EZETA"},{"$f":"'[1]87-0-14'!F2636","v":"MECHA A/RAPIDO"},{"$f":"'[1]87-0-14'!G2636*(1+$E$13)","v":18103.5815}]
[{"$f":"'[1]87-0-14'!B2637","v":"MAR1125"},{"$f":"'[1]87-0-14'!D2637","v":"MECHA A/RAP 11,25"},{"$f":"'[1]87-0-14'!E2637","v":"EZETA"},{"$f":"'[1]87-0-14'!F2637","v":"MECHA A/RAPIDO"},{"$f":"'[1]87-0-14'!G2637*(1+$E$13)","v":19491.002}]
[{"$f":"'[1]87-0-14'!B2638","v":"MAR1150"},{"$f":"'[1]87-0-14'!D2638","v":"MECHA A/RAP 11,50"},{"$f":"'[1]87-0-14'!E2638","v":"EZETA"},{"$f":"'[1]87-0-14'!F2638","v":"MECHA A/RAPIDO"},{"$f":"'[1]87-0-14'!G2638*(1+$E$13)","v":19888.871500000001}]
[{"$f":"'[1]87-0-14'!B2639","v":"MAR1175"},{"$f":"'[1]87-0-14'!D2639","v":"MECHA A/RAP 11,75"},{"$f":"'[1]87-0-14'!E2639","v":"EZETA"},{"$f":"'[1]87-0-14'!F2639","v":"MECHA A/RAPIDO"},{"$f":"'[1]87-0-14'!G2639*(1+$E$13)","v":21240.347500000003}]
[{"$f":"'[1]87-0-14'!B2640","v":"MAR12"},{"$f":"'[1]87-0-14'!D2640","v":"MECHA A/RAP 12,00"},{"$f":"'[1]87-0-14'!E2640","v":"EZETA"},{"$f":"'[1]87-0-14'!F2640","v":"MECHA A/RAPIDO"},{"$f":"'[1]87-0-14'!G2640*(1+$E$13)","v":21854.178499999998}]
[{"$f":"'[1]87-0-14'!B2641","v":"MAR1225"},{"$f":"'[1]87-0-14'!D2641","v":"MECHA A/RAP 12,25"},{"$f":"'[1]87-0-14'!E2641","v":"EZETA"},{"$f":"'[1]87-0-14'!F2641","v":"MECHA A/RAPIDO"},{"$f":"'[1]87-0-14'!G2641*(1+$E$13)","v":23672.4215}]
[{"$f":"'[1]87-0-14'!B2642","v":"MAR1250"},{"$f":"'[1]87-0-14'!D2642","v":"MECHA A/RAP 12,50"},{"$f":"'[1]87-0-14'!E2642","v":"EZETA"},{"$f":"'[1]87-0-14'!F2642","v":"MECHA A/RAPIDO"},{"$f":"'[1]87-0-14'!G2642*(1+$E$13)","v":24518.427}]
[{"$f":"'[1]87-0-14'!B2643","v":"MAR1275"},{"$f":"'[1]87-0-14'!D2643","v":"MECHA A/RAP 12,75"},{"$f":"'[1]87-0-14'!E2643","v":"EZETA"},{"$f":"'[1]87-0-14'!F2643","v":"MECHA A/RAPIDO"},{"$f":"'[1]87-0-14'!G2643*(1+$E$13)","v":26935.2955}]
[{"$f":"'[1]87-0-14'!B2644","v":"MAR13"},{"$f":"'[1]87-0-14'!D2644","v":"MECHA A/RAP 13,00"},{"$f":"'[1]87-0-14'!E2644","v":"EZETA"},{"$f":"'[1]87-0-14'!F2644","v":"MECHA A/RAPIDO"},{"$f":"'[1]87-0-14'!G2644*(1+$E$13)","v":27700.716500000002}]
[{"$f":"'[1]87-0-14'!B2645","v":"MAR1M"},{"$f":"'[1]87-0-14'!D2645","v":"MECHA A/RAPIDO  1,00"},{"$f":"'[1]87-0-14'!E2645","v":"MAX"},{"$f":"'[1]87-0-14'!F2645","v":"MECHA A/RAPIDO"},{"$f":"'[1]87-0-14'!G2645*(1+$E$13)","v":1754.2745}]
[{"$f":"'[1]87-0-14'!B2646","v":"MAR125M"},{"$f":"'[1]87-0-14'!D2646","v":"MECHA A/RAPIDO  1,25"},{"$f":"'[1]87-0-14'!E2646","v":"MAX"},{"$f":"'[1]87-0-14'!F2646","v":"MECHA A/RAPIDO"},{"$f":"'[1]87-0-14'!G2646*(1+$E$13)","v":1680.8045000000002}]
[{"$f":"'[1]87-0-14'!B2647","v":"MAR150M"},{"$f":"'[1]87-0-14'!D2647","v":"MECHA A/RAPIDO  1,50"},{"$f":"'[1]87-0-14'!E2647","v":"MAX"},{"$f":"'[1]87-0-14'!F2647","v":"MECHA A/RAPIDO"},{"$f":"'[1]87-0-14'!G2647*(1+$E$13)","v":1627.2055}]
[{"$f":"'[1]87-0-14'!B2648","v":"MAR175M"},{"$f":"'[1]87-0-14'!D2648","v":"MECHA A/RAPIDO  1,75"},{"$f":"'[1]87-0-14'!E2648","v":"MAX"},{"$f":"'[1]87-0-14'!F2648","v":"MECHA A/RAPIDO"},{"$f":"'[1]87-0-14'!G2648*(1+$E$13)","v":1475.3365000000001}]
[{"$f":"'[1]87-0-14'!B2649","v":"MAR2M"},{"$f":"'[1]87-0-14'!D2649","v":"MECHA A/RAPIDO  2,00"},{"$f":"'[1]87-0-14'!E2649","v":"MAX"},{"$f":"'[1]87-0-14'!F2649","v":"MECHA A/RAPIDO"},{"$f":"'[1]87-0-14'!G2649*(1+$E$13)","v":1139.405}]
[{"$f":"'[1]87-0-14'!B2650","v":"MAR225M"},{"$f":"'[1]87-0-14'!D2650","v":"MECHA A/RAPIDO  2,25"},{"$f":"'[1]87-0-14'!E2650","v":"MAX"},{"$f":"'[1]87-0-14'!F2650","v":"MECHA A/RAPIDO"},{"$f":"'[1]87-0-14'!G2650*(1+$E$13)","v":1139.405}]
[{"$f":"'[1]87-0-14'!B2651","v":"MAR250M"},{"$f":"'[1]87-0-14'!D2651","v":"MECHA A/RAPIDO  2,50"},{"$f":"'[1]87-0-14'!E2651","v":"MAX"},{"$f":"'[1]87-0-14'!F2651","v":"MECHA A/RAPIDO"},{"$f":"'[1]87-0-14'!G2651*(1+$E$13)","v":1139.405}]
[{"$f":"'[1]87-0-14'!B2652","v":"MAR275M"},{"$f":"'[1]87-0-14'!D2652","v":"MECHA A/RAPIDO  2,75"},{"$f":"'[1]87-0-14'!E2652","v":"MAX"},{"$f":"'[1]87-0-14'!F2652","v":"MECHA A/RAPIDO"},{"$f":"'[1]87-0-14'!G2652*(1+$E$13)","v":1181.1155000000001}]
[{"$f":"'[1]87-0-14'!B2653","v":"MAR3M"},{"$f":"'[1]87-0-14'!D2653","v":"MECHA A/RAPIDO  3,00"},{"$f":"'[1]87-0-14'!E2653","v":"MAX"},{"$f":"'[1]87-0-14'!F2653","v":"MECHA A/RAPIDO"},{"$f":"'[1]87-0-14'!G2653*(1+$E$13)","v":1181.1155000000001}]
[{"$f":"'[1]87-0-14'!B2654","v":"MAR325M"},{"$f":"'[1]87-0-14'!D2654","v":"MECHA A/RAPIDO  3,25"},{"$f":"'[1]87-0-14'!E2654","v":"MAX"},{"$f":"'[1]87-0-14'!F2654","v":"MECHA A/RAPIDO"},{"$f":"'[1]87-0-14'!G2654*(1+$E$13)","v":1189.2995000000001}]
[{"$f":"'[1]87-0-14'!B2655","v":"MAR350M"},{"$f":"'[1]87-0-14'!D2655","v":"MECHA A/RAPIDO  3,50"},{"$f":"'[1]87-0-14'!E2655","v":"MAX"},{"$f":"'[1]87-0-14'!F2655","v":"MECHA A/RAPIDO"},{"$f":"'[1]87-0-14'!G2655*(1+$E$13)","v":1255.934}]
[{"$f":"'[1]87-0-14'!B2656","v":"MAR375M"},{"$f":"'[1]87-0-14'!D2656","v":"MECHA A/RAPIDO  3,75"},{"$f":"'[1]87-0-14'!E2656","v":"MAX"},{"$f":"'[1]87-0-14'!F2656","v":"MECHA A/RAPIDO"},{"$f":"'[1]87-0-14'!G2656*(1+$E$13)","v":1368.433}]
[{"$f":"'[1]87-0-14'!B2657","v":"MAR4M"},{"$f":"'[1]87-0-14'!D2657","v":"MECHA A/RAPIDO  4,00"},{"$f":"'[1]87-0-14'!E2657","v":"MAX"},{"$f":"'[1]87-0-14'!F2657","v":"MECHA A/RAPIDO"},{"$f":"'[1]87-0-14'!G2657*(1+$E$13)","v":1513.079}]
[{"$f":"'[1]87-0-14'!B2658","v":"MAR425M"},{"$f":"'[1]87-0-14'!D2658","v":"MECHA A/RAPIDO  4,25"},{"$f":"'[1]87-0-14'!E2658","v":"MAX"},{"$f":"'[1]87-0-14'!F2658","v":"MECHA A/RAPIDO"},{"$f":"'[1]87-0-14'!G2658*(1+$E$13)","v":1540.9014999999999}]
[{"$f":"'[1]87-0-14'!B2659","v":"MAR450M"},{"$f":"'[1]87-0-14'!D2659","v":"MECHA A/RAPIDO  4,50"},{"$f":"'[1]87-0-14'!E2659","v":"MAX"},{"$f":"'[1]87-0-14'!F2659","v":"MECHA A/RAPIDO"},{"$f":"'[1]87-0-14'!G2659*(1+$E$13)","v":1688.2910000000002}]
[{"$f":"'[1]87-0-14'!B2660","v":"MAR475M"},{"$f":"'[1]87-0-14'!D2660","v":"MECHA A/RAPIDO  4,75"},{"$f":"'[1]87-0-14'!E2660","v":"MAX"},{"$f":"'[1]87-0-14'!F2660","v":"MECHA A/RAPIDO"},{"$f":"'[1]87-0-14'!G2660*(1+$E$13)","v":1785.7239999999999}]
[{"$f":"'[1]87-0-14'!B2661","v":"MAR5M"},{"$f":"'[1]87-0-14'!D2661","v":"MECHA A/RAPIDO  5,00"},{"$f":"'[1]87-0-14'!E2661","v":"MAX"},{"$f":"'[1]87-0-14'!F2661","v":"MECHA A/RAPIDO"},{"$f":"'[1]87-0-14'!G2661*(1+$E$13)","v":1885.9780000000001}]
[{"$f":"'[1]87-0-14'!B2662","v":"MAR525M"},{"$f":"'[1]87-0-14'!D2662","v":"MECHA A/RAPIDO  5,25"},{"$f":"'[1]87-0-14'!E2662","v":"MAX"},{"$f":"'[1]87-0-14'!F2662","v":"MECHA A/RAPIDO"},{"$f":"'[1]87-0-14'!G2662*(1+$E$13)","v":1998.8335}]
[{"$f":"'[1]87-0-14'!B2663","v":"MAR550M"},{"$f":"'[1]87-0-14'!D2663","v":"MECHA A/RAPIDO  5,50"},{"$f":"'[1]87-0-14'!E2663","v":"MAX"},{"$f":"'[1]87-0-14'!F2663","v":"MECHA A/RAPIDO"},{"$f":"'[1]87-0-14'!G2663*(1+$E$13)","v":2178.7885000000001}]
[{"$f":"'[1]87-0-14'!B2664","v":"MAR575M"},{"$f":"'[1]87-0-14'!D2664","v":"MECHA A/RAPIDO  5,75"},{"$f":"'[1]87-0-14'!E2664","v":"MAX"},{"$f":"'[1]87-0-14'!F2664","v":"MECHA A/RAPIDO"},{"$f":"'[1]87-0-14'!G2664*(1+$E$13)","v":2247.9340000000002}]
[{"$f":"'[1]87-0-14'!B2665","v":"MAR6M"},{"$f":"'[1]87-0-14'!D2665","v":"MECHA A/RAPIDO  6,00"},{"$f":"'[1]87-0-14'!E2665","v":"MAX"},{"$f":"'[1]87-0-14'!F2665","v":"MECHA A/RAPIDO"},{"$f":"'[1]87-0-14'!G2665*(1+$E$13)","v":2247.9340000000002}]
[{"$f":"'[1]87-0-14'!B2666","v":"MAR625M"},{"$f":"'[1]87-0-14'!D2666","v":"MECHA A/RAPIDO  6,25"},{"$f":"'[1]87-0-14'!E2666","v":"MAX"},{"$f":"'[1]87-0-14'!F2666","v":"MECHA A/RAPIDO"},{"$f":"'[1]87-0-14'!G2666*(1+$E$13)","v":2492.3845000000001}]
[{"$f":"'[1]87-0-14'!B2667","v":"MAR650M"},{"$f":"'[1]87-0-14'!D2667","v":"MECHA A/RAPIDO  6,50"},{"$f":"'[1]87-0-14'!E2667","v":"MAX"},{"$f":"'[1]87-0-14'!F2667","v":"MECHA A/RAPIDO"},{"$f":"'[1]87-0-14'!G2667*(1+$E$13)","v":2578.239}]
[{"$f":"'[1]87-0-14'!B2668","v":"MAR675M"},{"$f":"'[1]87-0-14'!D2668","v":"MECHA A/RAPIDO  6,75"},{"$f":"'[1]87-0-14'!E2668","v":"MAX"},{"$f":"'[1]87-0-14'!F2668","v":"MECHA A/RAPIDO"},{"$f":"'[1]87-0-14'!G2668*(1+$E$13)","v":2823.6815000000001}]
[{"$f":"'[1]87-0-14'!B2669","v":"MAR7M"},{"$f":"'[1]87-0-14'!D2669","v":"MECHA A/RAPIDO  7,00"},{"$f":"'[1]87-0-14'!E2669","v":"MAX"},{"$f":"'[1]87-0-14'!F2669","v":"MECHA A/RAPIDO"},{"$f":"'[1]87-0-14'!G2669*(1+$E$13)","v":2983.9204999999997}]
[{"$f":"'[1]87-0-14'!B2670","v":"MAR725M"},{"$f":"'[1]87-0-14'!D2670","v":"MECHA A/RAPIDO  7,25"},{"$f":"'[1]87-0-14'!E2670","v":"MAX"},{"$f":"'[1]87-0-14'!F2670","v":"MECHA A/RAPIDO"},{"$f":"'[1]87-0-14'!G2670*(1+$E$13)","v":3140.6875}]
[{"$f":"'[1]87-0-14'!B2671","v":"MAR750M"},{"$f":"'[1]87-0-14'!D2671","v":"MECHA A/RAPIDO  7,50"},{"$f":"'[1]87-0-14'!E2671","v":"MAX"},{"$f":"'[1]87-0-14'!F2671","v":"MECHA A/RAPIDO"},{"$f":"'[1]87-0-14'!G2671*(1+$E$13)","v":3295.8735000000001}]
[{"$f":"'[1]87-0-14'!B2672","v":"MAR775M"},{"$f":"'[1]87-0-14'!D2672","v":"MECHA A/RAPIDO  7,75"},{"$f":"'[1]87-0-14'!E2672","v":"MAX"},{"$f":"'[1]87-0-14'!F2672","v":"MECHA A/RAPIDO"},{"$f":"'[1]87-0-14'!G2672*(1+$E$13)","v":3632.5025000000005}]
[{"$f":"'[1]87-0-14'!B2673","v":"MAR8M"},{"$f":"'[1]87-0-14'!D2673","v":"MECHA A/RAPIDO  8,00"},{"$f":"'[1]87-0-14'!E2673","v":"MAX"},{"$f":"'[1]87-0-14'!F2673","v":"MECHA A/RAPIDO"},{"$f":"'[1]87-0-14'!G2673*(1+$E$13)","v":3857.8724999999999}]
[{"$f":"'[1]87-0-14'!B2674","v":"MAR825M"},{"$f":"'[1]87-0-14'!D2674","v":"MECHA A/RAPIDO  8,25"},{"$f":"'[1]87-0-14'!E2674","v":"MAX"},{"$f":"'[1]87-0-14'!F2674","v":"MECHA A/RAPIDO"},{"$f":"'[1]87-0-14'!G2674*(1+$E$13)","v":4159.3010000000004}]
[{"$f":"'[1]87-0-14'!B2675","v":"MAR850M"},{"$f":"'[1]87-0-14'!D2675","v":"MECHA A/RAPIDO  8,50"},{"$f":"'[1]87-0-14'!E2675","v":"MAX"},{"$f":"'[1]87-0-14'!F2675","v":"MECHA A/RAPIDO"},{"$f":"'[1]87-0-14'!G2675*(1+$E$13)","v":4279.7359999999999}]
[{"$f":"'[1]87-0-14'!B2676","v":"MAR875M"},{"$f":"'[1]87-0-14'!D2676","v":"MECHA A/RAPIDO  8,75"},{"$f":"'[1]87-0-14'!E2676","v":"MAX"},{"$f":"'[1]87-0-14'!F2676","v":"MECHA A/RAPIDO"},{"$f":"'[1]87-0-14'!G2676*(1+$E$13)","v":4667.7784999999994}]
[{"$f":"'[1]87-0-14'!B2677","v":"MAR9M"},{"$f":"'[1]87-0-14'!D2677","v":"MECHA A/RAPIDO  9,00"},{"$f":"'[1]87-0-14'!E2677","v":"MAX"},{"$f":"'[1]87-0-14'!F2677","v":"MECHA A/RAPIDO"},{"$f":"'[1]87-0-14'!G2677*(1+$E$13)","v":4896.1244999999999}]
[{"$f":"'[1]87-0-14'!B2678","v":"MAR925M"},{"$f":"'[1]87-0-14'!D2678","v":"MECHA A/RAPIDO  9,25"},{"$f":"'[1]87-0-14'!E2678","v":"MAX"},{"$f":"'[1]87-0-14'!F2678","v":"MECHA A/RAPIDO"},{"$f":"'[1]87-0-14'!G2678*(1+$E$13)","v":5217.8734999999997}]
[{"$f":"'[1]87-0-14'!B2679","v":"MAR950M"},{"$f":"'[1]87-0-14'!D2679","v":"MECHA A/RAPIDO  9,50"},{"$f":"'[1]87-0-14'!E2679","v":"MAX"},{"$f":"'[1]87-0-14'!F2679","v":"MECHA A/RAPIDO"},{"$f":"'[1]87-0-14'!G2679*(1+$E$13)","v":5426.9375}]
[{"$f":"'[1]87-0-14'!B2680","v":"MAR975M"},{"$f":"'[1]87-0-14'!D2680","v":"MECHA A/RAPIDO  9,75"},{"$f":"'[1]87-0-14'!E2680","v":"MAX"},{"$f":"'[1]87-0-14'!F2680","v":"MECHA A/RAPIDO"},{"$f":"'[1]87-0-14'!G2680*(1+$E$13)","v":5890.2325000000001}]
[{"$f":"'[1]87-0-14'!B2681","v":"MAR10M"},{"$f":"'[1]87-0-14'!D2681","v":"MECHA A/RAPIDO 10,00"},{"$f":"'[1]87-0-14'!E2681","v":"MAX"},{"$f":"'[1]87-0-14'!F2681","v":"MECHA A/RAPIDO"},{"$f":"'[1]87-0-14'!G2681*(1+$E$13)","v":6208.1374999999998}]
[{"$f":"'[1]87-0-14'!B2682","v":"MAR1025M"},{"$f":"'[1]87-0-14'!D2682","v":"MECHA A/RAPIDO 10,25"},{"$f":"'[1]87-0-14'!E2682","v":"MAX"},{"$f":"'[1]87-0-14'!F2682","v":"MECHA A/RAPIDO"},{"$f":"'[1]87-0-14'!G2682*(1+$E$13)","v":7368.5140000000001}]
[{"$f":"'[1]87-0-14'!B2683","v":"MAR1050M"},{"$f":"'[1]87-0-14'!D2683","v":"MECHA A/RAPIDO 10,50"},{"$f":"'[1]87-0-14'!E2683","v":"MAX"},{"$f":"'[1]87-0-14'!F2683","v":"MECHA A/RAPIDO"},{"$f":"'[1]87-0-14'!G2683*(1+$E$13)","v":7634.1064999999999}]
[{"$f":"'[1]87-0-14'!B2684","v":"MAR1075M"},{"$f":"'[1]87-0-14'!D2684","v":"MECHA A/RAPIDO 10,75"},{"$f":"'[1]87-0-14'!E2684","v":"MAX"},{"$f":"'[1]87-0-14'!F2684","v":"MECHA A/RAPIDO"},{"$f":"'[1]87-0-14'!G2684*(1+$E$13)","v":8302.8540000000012}]
[{"$f":"'[1]87-0-14'!B2685","v":"MAR11M"},{"$f":"'[1]87-0-14'!D2685","v":"MECHA A/RAPIDO 11,00"},{"$f":"'[1]87-0-14'!E2685","v":"MAX"},{"$f":"'[1]87-0-14'!F2685","v":"MECHA A/RAPIDO"},{"$f":"'[1]87-0-14'!G2685*(1+$E$13)","v":8552.8689999999988}]
[{"$f":"'[1]87-0-14'!B2686","v":"MAR1125M"},{"$f":"'[1]87-0-14'!D2686","v":"MECHA A/RAPIDO 11,25"},{"$f":"'[1]87-0-14'!E2686","v":"MAX"},{"$f":"'[1]87-0-14'!F2686","v":"MECHA A/RAPIDO"},{"$f":"'[1]87-0-14'!G2686*(1+$E$13)","v":9210.5030000000006}]
[{"$f":"'[1]87-0-14'!B2687","v":"MAR1150M"},{"$f":"'[1]87-0-14'!D2687","v":"MECHA A/RAPIDO 11,50"},{"$f":"'[1]87-0-14'!E2687","v":"MAX"},{"$f":"'[1]87-0-14'!F2687","v":"MECHA A/RAPIDO"},{"$f":"'[1]87-0-14'!G2687*(1+$E$13)","v":9379.9334999999992}]
[{"$f":"'[1]87-0-14'!B2688","v":"MAR1175M"},{"$f":"'[1]87-0-14'!D2688","v":"MECHA A/RAPIDO 11,75"},{"$f":"'[1]87-0-14'!E2688","v":"MAX"},{"$f":"'[1]87-0-14'!F2688","v":"MECHA A/RAPIDO"},{"$f":"'[1]87-0-14'!G2688*(1+$E$13)","v":10016.007}]
[{"$f":"'[1]87-0-14'!B2689","v":"MAR12M"},{"$f":"'[1]87-0-14'!D2689","v":"MECHA A/RAPIDO 12,00"},{"$f":"'[1]87-0-14'!E2689","v":"MAX"},{"$f":"'[1]87-0-14'!F2689","v":"MECHA A/RAPIDO"},{"$f":"'[1]87-0-14'!G2689*(1+$E$13)","v":10326.534}]
[{"$f":"'[1]87-0-14'!B2690","v":"MAR1225M"},{"$f":"'[1]87-0-14'!D2690","v":"MECHA A/RAPIDO 12,25"},{"$f":"'[1]87-0-14'!E2690","v":"MAX"},{"$f":"'[1]87-0-14'!F2690","v":"MECHA A/RAPIDO"},{"$f":"'[1]87-0-14'!G2690*(1+$E$13)","v":15481.7875}]
[{"$f":"'[1]87-0-14'!B2691","v":"MAR1250M"},{"$f":"'[1]87-0-14'!D2691","v":"MECHA A/RAPIDO 12,50"},{"$f":"'[1]87-0-14'!E2691","v":"MAX"},{"$f":"'[1]87-0-14'!F2691","v":"MECHA A/RAPIDO"},{"$f":"'[1]87-0-14'!G2691*(1+$E$13)","v":15481.7875}]
[{"$f":"'[1]87-0-14'!B2692","v":"MAR1275M"},{"$f":"'[1]87-0-14'!D2692","v":"MECHA A/RAPIDO 12,75"},{"$f":"'[1]87-0-14'!E2692","v":"MAX"},{"$f":"'[1]87-0-14'!F2692","v":"MECHA A/RAPIDO"},{"$f":"'[1]87-0-14'!G2692*(1+$E$13)","v":28874.345500000003}]
[{"$f":"'[1]87-0-14'!B2693","v":"MAR13M"},{"$f":"'[1]87-0-14'!D2693","v":"MECHA A/RAPIDO 13,00"},{"$f":"'[1]87-0-14'!E2693","v":"MAX"},{"$f":"'[1]87-0-14'!F2693","v":"MECHA A/RAPIDO"},{"$f":"'[1]87-0-14'!G2693*(1+$E$13)","v":28874.345500000003}]
[{"$f":"'[1]87-0-14'!B2694","v":"MAR1325"},{"$f":"'[1]87-0-14'!D2694","v":"MECHA A/RAPIDO 13,25"},{"$f":"'[1]87-0-14'!E2694","v":"EZETA"},{"$f":"'[1]87-0-14'!F2694","v":"MECHA A/RAPIDO"},{"$f":"'[1]87-0-14'!G2694*(1+$E$13)","v":44198.963000000003}]
[{"$f":"'[1]87-0-14'!B2695","v":"MAR1350"},{"$f":"'[1]87-0-14'!D2695","v":"MECHA A/RAPIDO 13,50"},{"$f":"'[1]87-0-14'!E2695","v":"EZETA"},{"$f":"'[1]87-0-14'!F2695","v":"MECHA A/RAPIDO"},{"$f":"'[1]87-0-14'!G2695*(1+$E$13)","v":45728.162000000004}]
[{"$f":"'[1]87-0-14'!B2696","v":"MAR1375"},{"$f":"'[1]87-0-14'!D2696","v":"MECHA A/RAPIDO 13,75"},{"$f":"'[1]87-0-14'!E2696","v":"EZETA"},{"$f":"'[1]87-0-14'!F2696","v":"MECHA A/RAPIDO"},{"$f":"'[1]87-0-14'!G2696*(1+$E$13)","v":47458.675000000003}]
[{"$f":"'[1]87-0-14'!B2697","v":"MAR14"},{"$f":"'[1]87-0-14'!D2697","v":"MECHA A/RAPIDO 14,00"},{"$f":"'[1]87-0-14'!E2697","v":"EZETA"},{"$f":"'[1]87-0-14'!F2697","v":"MECHA A/RAPIDO"},{"$f":"'[1]87-0-14'!G2697*(1+$E$13)","v":47832.597000000002}]
[{"$f":"'[1]87-0-14'!B2698","v":"MAR14M"},{"$f":"'[1]87-0-14'!D2698","v":"MECHA A/RAPIDO 14,00"},{"$f":"'[1]87-0-14'!E2698","v":"MAX"},{"$f":"'[1]87-0-14'!F2698","v":"MECHA A/RAPIDO"},{"$f":"'[1]87-0-14'!G2698*(1+$E$13)","v":31743.504000000001}]
[{"$f":"'[1]87-0-14'!B2699","v":"MAR1425"},{"$f":"'[1]87-0-14'!D2699","v":"MECHA A/RAPIDO 14,25"},{"$f":"'[1]87-0-14'!E2699","v":"EZETA"},{"$f":"'[1]87-0-14'!F2699","v":"MECHA A/RAPIDO"},{"$f":"'[1]87-0-14'!G2699*(1+$E$13)","v":49153.599999999999}]
[{"$f":"'[1]87-0-14'!B2700","v":"MAR1450"},{"$f":"'[1]87-0-14'!D2700","v":"MECHA A/RAPIDO 14,50"},{"$f":"'[1]87-0-14'!E2700","v":"EZETA"},{"$f":"'[1]87-0-14'!F2700","v":"MECHA A/RAPIDO"},{"$f":"'[1]87-0-14'!G2700*(1+$E$13)","v":50271.909500000002}]
[{"$f":"'[1]87-0-14'!B2701","v":"MAR1475"},{"$f":"'[1]87-0-14'!D2701","v":"MECHA A/RAPIDO 14,75"},{"$f":"'[1]87-0-14'!E2701","v":"EZETA"},{"$f":"'[1]87-0-14'!F2701","v":"MECHA A/RAPIDO"},{"$f":"'[1]87-0-14'!G2701*(1+$E$13)","v":53015.874500000005}]
[{"$f":"'[1]87-0-14'!B2702","v":"MAR15M"},{"$f":"'[1]87-0-14'!D2702","v":"MECHA A/RAPIDO 15,00"},{"$f":"'[1]87-0-14'!E2702","v":"MAX"},{"$f":"'[1]87-0-14'!F2702","v":"MECHA A/RAPIDO"},{"$f":"'[1]87-0-14'!G2702*(1+$E$13)","v":34742.1495}]
[{"$f":"'[1]87-0-14'!B2703","v":"MAR15"},{"$f":"'[1]87-0-14'!D2703","v":"MECHA A/RAPIDO 15,00"},{"$f":"'[1]87-0-14'!E2703","v":"EZETA"},{"$f":"'[1]87-0-14'!F2703","v":"MECHA A/RAPIDO"},{"$f":"'[1]87-0-14'!G2703*(1+$E$13)","v":55020.582500000004}]
[{"$f":"'[1]87-0-14'!B2704","v":"MAR1525"},{"$f":"'[1]87-0-14'!D2704","v":"MECHA A/RAPIDO 15,25"},{"$f":"'[1]87-0-14'!E2704","v":"EZETA"},{"$f":"'[1]87-0-14'!F2704","v":"MECHA A/RAPIDO"},{"$f":"'[1]87-0-14'!G2704*(1+$E$13)","v":57190.257000000005}]
[{"$f":"'[1]87-0-14'!B2705","v":"MAR1550"},{"$f":"'[1]87-0-14'!D2705","v":"MECHA A/RAPIDO 15,50"},{"$f":"'[1]87-0-14'!E2705","v":"EZETA"},{"$f":"'[1]87-0-14'!F2705","v":"MECHA A/RAPIDO"},{"$f":"'[1]87-0-14'!G2705*(1+$E$13)","v":60484.7045}]
[{"$f":"'[1]87-0-14'!B2706","v":"MAR1575"},{"$f":"'[1]87-0-14'!D2706","v":"MECHA A/RAPIDO 15,75"},{"$f":"'[1]87-0-14'!E2706","v":"EZETA"},{"$f":"'[1]87-0-14'!F2706","v":"MECHA A/RAPIDO"},{"$f":"'[1]87-0-14'!G2706*(1+$E$13)","v":64751.994000000006}]
[{"$f":"'[1]87-0-14'!B2707","v":"MAR16"},{"$f":"'[1]87-0-14'!D2707","v":"MECHA A/RAPIDO 16,00"},{"$f":"'[1]87-0-14'!E2707","v":"EZETA"},{"$f":"'[1]87-0-14'!F2707","v":"MECHA A/RAPIDO"},{"$f":"'[1]87-0-14'!G2707*(1+$E$13)","v":68609.758000000002}]
[{"$f":"'[1]87-0-14'!B2708","v":"MAR16M"},{"$f":"'[1]87-0-14'!D2708","v":"MECHA A/RAPIDO 16,00"},{"$f":"'[1]87-0-14'!E2708","v":"MAX"},{"$f":"'[1]87-0-14'!F2708","v":"MECHA A/RAPIDO"},{"$f":"'[1]87-0-14'!G2708*(1+$E$13)","v":43323.027000000002}]
[{"$f":"'[1]87-0-14'!B2709","v":"MAR1625"},{"$f":"'[1]87-0-14'!D2709","v":"MECHA A/RAPIDO 16,25"},{"$f":"'[1]87-0-14'!E2709","v":"EZETA"},{"$f":"'[1]87-0-14'!F2709","v":"MECHA A/RAPIDO"},{"$f":"'[1]87-0-14'!G2709*(1+$E$13)","v":72017.2935}]
[{"$f":"'[1]87-0-14'!B2710","v":"MAR1650"},{"$f":"'[1]87-0-14'!D2710","v":"MECHA A/RAPIDO 16,50"},{"$f":"'[1]87-0-14'!E2710","v":"EZETA"},{"$f":"'[1]87-0-14'!F2710","v":"MECHA A/RAPIDO"},{"$f":"'[1]87-0-14'!G2710*(1+$E$13)","v":74179.558999999994}]
[{"$f":"'[1]87-0-14'!B2711","v":"MAR1675"},{"$f":"'[1]87-0-14'!D2711","v":"MECHA A/RAPIDO 16,75"},{"$f":"'[1]87-0-14'!E2711","v":"EZETA"},{"$f":"'[1]87-0-14'!F2711","v":"MECHA A/RAPIDO"},{"$f":"'[1]87-0-14'!G2711*(1+$E$13)","v":77725.02900000001}]
[{"$f":"'[1]87-0-14'!B2712","v":"MAR17"},{"$f":"'[1]87-0-14'!D2712","v":"MECHA A/RAPIDO 17,00"},{"$f":"'[1]87-0-14'!E2712","v":"EZETA"},{"$f":"'[1]87-0-14'!F2712","v":"MECHA A/RAPIDO"},{"$f":"'[1]87-0-14'!G2712*(1+$E$13)","v":79977.054999999993}]
[{"$f":"'[1]87-0-14'!B2713","v":"MAR1725"},{"$f":"'[1]87-0-14'!D2713","v":"MECHA A/RAPIDO 17,25"},{"$f":"'[1]87-0-14'!E2713","v":"EZETA"},{"$f":"'[1]87-0-14'!F2713","v":"MECHA A/RAPIDO"},{"$f":"'[1]87-0-14'!G2713*(1+$E$13)","v":85469.89850000001}]
[{"$f":"'[1]87-0-14'!B2714","v":"MAR1750"},{"$f":"'[1]87-0-14'!D2714","v":"MECHA A/RAPIDO 17,50"},{"$f":"'[1]87-0-14'!E2714","v":"EZETA"},{"$f":"'[1]87-0-14'!F2714","v":"MECHA A/RAPIDO"},{"$f":"'[1]87-0-14'!G2714*(1+$E$13)","v":88168.665500000003}]
[{"$f":"'[1]87-0-14'!B2715","v":"MAR1775"},{"$f":"'[1]87-0-14'!D2715","v":"MECHA A/RAPIDO 17,75"},{"$f":"'[1]87-0-14'!E2715","v":"EZETA"},{"$f":"'[1]87-0-14'!F2715","v":"MECHA A/RAPIDO"},{"$f":"'[1]87-0-14'!G2715*(1+$E$13)","v":89680.396000000008}]
[{"$f":"'[1]87-0-14'!B2716","v":"MAR18"},{"$f":"'[1]87-0-14'!D2716","v":"MECHA A/RAPIDO 18,00"},{"$f":"'[1]87-0-14'!E2716","v":"EZETA"},{"$f":"'[1]87-0-14'!F2716","v":"MECHA A/RAPIDO"},{"$f":"'[1]87-0-14'!G2716*(1+$E$13)","v":94021.604999999996}]
[{"$f":"'[1]87-0-14'!B2717","v":"MAR1825"},{"$f":"'[1]87-0-14'!D2717","v":"MECHA A/RAPIDO 18,25"},{"$f":"'[1]87-0-14'!E2717","v":"EZETA"},{"$f":"'[1]87-0-14'!F2717","v":"MECHA A/RAPIDO"},{"$f":"'[1]87-0-14'!G2717*(1+$E$13)","v":100101.7435}]
[{"$f":"'[1]87-0-14'!B2718","v":"MAR1850"},{"$f":"'[1]87-0-14'!D2718","v":"MECHA A/RAPIDO 18,50"},{"$f":"'[1]87-0-14'!E2718","v":"EZETA"},{"$f":"'[1]87-0-14'!F2718","v":"MECHA A/RAPIDO"},{"$f":"'[1]87-0-14'!G2718*(1+$E$13)","v":102803.8895}]
[{"$f":"'[1]87-0-14'!B2719","v":"MAR1875"},{"$f":"'[1]87-0-14'!D2719","v":"MECHA A/RAPIDO 18,75"},{"$f":"'[1]87-0-14'!E2719","v":"EZETA"},{"$f":"'[1]87-0-14'!F2719","v":"MECHA A/RAPIDO"},{"$f":"'[1]87-0-14'!G2719*(1+$E$13)","v":108137.76500000001}]
[{"$f":"'[1]87-0-14'!B2720","v":"MAR19"},{"$f":"'[1]87-0-14'!D2720","v":"MECHA A/RAPIDO 19,00"},{"$f":"'[1]87-0-14'!E2720","v":"EZETA"},{"$f":"'[1]87-0-14'!F2720","v":"MECHA A/RAPIDO"},{"$f":"'[1]87-0-14'!G2720*(1+$E$13)","v":111205.959}]
[{"$f":"'[1]87-0-14'!B2721","v":"MAR1925"},{"$f":"'[1]87-0-14'!D2721","v":"MECHA A/RAPIDO 19,25"},{"$f":"'[1]87-0-14'!E2721","v":"EZETA"},{"$f":"'[1]87-0-14'!F2721","v":"MECHA A/RAPIDO"},{"$f":"'[1]87-0-14'!G2721*(1+$E$13)","v":116678.1875}]
[{"$f":"'[1]87-0-14'!B2722","v":"MAR1950"},{"$f":"'[1]87-0-14'!D2722","v":"MECHA A/RAPIDO 19,50"},{"$f":"'[1]87-0-14'!E2722","v":"EZETA"},{"$f":"'[1]87-0-14'!F2722","v":"MECHA A/RAPIDO"},{"$f":"'[1]87-0-14'!G2722*(1+$E$13)","v":119569.72799999999}]
[{"$f":"'[1]87-0-14'!B2723","v":"MAR1975"},{"$f":"'[1]87-0-14'!D2723","v":"MECHA A/RAPIDO 19,75"},{"$f":"'[1]87-0-14'!E2723","v":"EZETA"},{"$f":"'[1]87-0-14'!F2723","v":"MECHA A/RAPIDO"},{"$f":"'[1]87-0-14'!G2723*(1+$E$13)","v":125323.049}]
[{"$f":"'[1]87-0-14'!B2724","v":"MAR20"},{"$f":"'[1]87-0-14'!D2724","v":"MECHA A/RAPIDO 20,00"},{"$f":"'[1]87-0-14'!E2724","v":"EZETA"},{"$f":"'[1]87-0-14'!F2724","v":"MECHA A/RAPIDO"},{"$f":"'[1]87-0-14'!G2724*(1+$E$13)","v":127997.2795}]
[{"$f":"'[1]87-0-14'!B2725","v":"MCR14E"},{"$f":"'[1]87-0-14'!D2725","v":"MECHA COL REBA 14,00"},{"$f":"'[1]87-0-14'!E2725","v":"EZETA"},{"$f":"'[1]87-0-14'!F2725","v":"MECHA COLA REBAJA"},{"$f":"'[1]87-0-14'!G2725*(1+$E$13)","v":54181.722499999996}]
[{"$f":"'[1]87-0-14'!B2726","v":"MCR15E"},{"$f":"'[1]87-0-14'!D2726","v":"MECHA COL REBA 15,00"},{"$f":"'[1]87-0-14'!E2726","v":"EZETA"},{"$f":"'[1]87-0-14'!F2726","v":"MECHA COLA REBAJA"},{"$f":"'[1]87-0-14'!G2726*(1+$E$13)","v":62312.619500000008}]
[{"$f":"'[1]87-0-14'!B2727","v":"MCR16E"},{"$f":"'[1]87-0-14'!D2727","v":"MECHA COL REBA 16,00"},{"$f":"'[1]87-0-14'!E2727","v":"EZETA"},{"$f":"'[1]87-0-14'!F2727","v":"MECHA COLA REBAJA"},{"$f":"'[1]87-0-14'!G2727*(1+$E$13)","v":77713.094000000012}]
[{"$f":"'[1]87-0-14'!B2728","v":"MCR17E"},{"$f":"'[1]87-0-14'!D2728","v":"MECHA COL REBA 17,00"},{"$f":"'[1]87-0-14'!E2728","v":"EZETA"},{"$f":"'[1]87-0-14'!F2728","v":"MECHA COLA REBAJA"},{"$f":"'[1]87-0-14'!G2728*(1+$E$13)","v":88159.411999999997}]
[{"$f":"'[1]87-0-14'!B2729","v":"MCR28E"},{"$f":"'[1]87-0-14'!D2729","v":"MECHA COL.REBA 28,00"},{"$f":"'[1]87-0-14'!E2729","v":"EZETA"},{"$f":"'[1]87-0-14'!F2729","v":"MECHA COLA REBAJA"},{"$f":"'[1]87-0-14'!G2729*(1+$E$13)","v":268617.821}]
[{"$f":"'[1]87-0-14'!B2730","v":"MC10E"},{"$f":"'[1]87-0-14'!D2730","v":"MECHA CONICA 10,00"},{"$f":"'[1]87-0-14'!E2730","v":"EZETA"},{"$f":"'[1]87-0-14'!F2730","v":"MECHA CONICA"},{"$f":"'[1]87-0-14'!G2730*(1+$E$13)","v":70512.91}]
[{"$f":"'[1]87-0-14'!B2731","v":"MC1025E"},{"$f":"'[1]87-0-14'!D2731","v":"MECHA CONICA 10,25"},{"$f":"'[1]87-0-14'!E2731","v":"EZETA"},{"$f":"'[1]87-0-14'!F2731","v":"MECHA CONICA"},{"$f":"'[1]87-0-14'!G2731*(1+$E$13)","v":70723.524000000005}]
[{"$f":"'[1]87-0-14'!B2732","v":"MC1050E"},{"$f":"'[1]87-0-14'!D2732","v":"MECHA CONICA 10,50"},{"$f":"'[1]87-0-14'!E2732","v":"EZETA"},{"$f":"'[1]87-0-14'!F2732","v":"MECHA CONICA"},{"$f":"'[1]87-0-14'!G2732*(1+$E$13)","v":70931.782000000007}]
[{"$f":"'[1]87-0-14'!B2733","v":"MC1075E"},{"$f":"'[1]87-0-14'!D2733","v":"MECHA CONICA 10,75"},{"$f":"'[1]87-0-14'!E2733","v":"EZETA"},{"$f":"'[1]87-0-14'!F2733","v":"MECHA CONICA"},{"$f":"'[1]87-0-14'!G2733*(1+$E$13)","v":71125.098000000013}]
[{"$f":"'[1]87-0-14'!B2734","v":"MC11E"},{"$f":"'[1]87-0-14'!D2734","v":"MECHA CONICA 11,00"},{"$f":"'[1]87-0-14'!E2734","v":"EZETA"},{"$f":"'[1]87-0-14'!F2734","v":"MECHA CONICA"},{"$f":"'[1]87-0-14'!G2734*(1+$E$13)","v":71125.098000000013}]
[{"$f":"'[1]87-0-14'!B2735","v":"MC1125E"},{"$f":"'[1]87-0-14'!D2735","v":"MECHA CONICA 11,25"},{"$f":"'[1]87-0-14'!E2735","v":"EZETA"},{"$f":"'[1]87-0-14'!F2735","v":"MECHA CONICA"},{"$f":"'[1]87-0-14'!G2735*(1+$E$13)","v":71352.297000000006}]
[{"$f":"'[1]87-0-14'!B2736","v":"MC1150E"},{"$f":"'[1]87-0-14'!D2736","v":"MECHA CONICA 11,50"},{"$f":"'[1]87-0-14'!E2736","v":"EZETA"},{"$f":"'[1]87-0-14'!F2736","v":"MECHA CONICA"},{"$f":"'[1]87-0-14'!G2736*(1+$E$13)","v":71579.449500000002}]
[{"$f":"'[1]87-0-14'!B2737","v":"MC1175E"},{"$f":"'[1]87-0-14'!D2737","v":"MECHA CONICA 11,75"},{"$f":"'[1]87-0-14'!E2737","v":"EZETA"},{"$f":"'[1]87-0-14'!F2737","v":"MECHA CONICA"},{"$f":"'[1]87-0-14'!G2737*(1+$E$13)","v":72690.319000000003}]
[{"$f":"'[1]87-0-14'!B2738","v":"MC12E"},{"$f":"'[1]87-0-14'!D2738","v":"MECHA CONICA 12,00"},{"$f":"'[1]87-0-14'!E2738","v":"EZETA"},{"$f":"'[1]87-0-14'!F2738","v":"MECHA CONICA"},{"$f":"'[1]87-0-14'!G2738*(1+$E$13)","v":73228.711500000005}]
[{"$f":"'[1]87-0-14'!B2739","v":"MC1225E"},{"$f":"'[1]87-0-14'!D2739","v":"MECHA CONICA 12,25"},{"$f":"'[1]87-0-14'!E2739","v":"EZETA"},{"$f":"'[1]87-0-14'!F2739","v":"MECHA CONICA"},{"$f":"'[1]87-0-14'!G2739*(1+$E$13)","v":81613.731}]
[{"$f":"'[1]87-0-14'!B2740","v":"MC1250E"},{"$f":"'[1]87-0-14'!D2740","v":"MECHA CONICA 12,50"},{"$f":"'[1]87-0-14'!E2740","v":"EZETA"},{"$f":"'[1]87-0-14'!F2740","v":"MECHA CONICA"},{"$f":"'[1]87-0-14'!G2740*(1+$E$13)","v":82676.813999999998}]
[{"$f":"'[1]87-0-14'!B2741","v":"MC1275E"},{"$f":"'[1]87-0-14'!D2741","v":"MECHA CONICA 12,75"},{"$f":"'[1]87-0-14'!E2741","v":"EZETA"},{"$f":"'[1]87-0-14'!F2741","v":"MECHA CONICA"},{"$f":"'[1]87-0-14'!G2741*(1+$E$13)","v":84213.824999999997}]
[{"$f":"'[1]87-0-14'!B2742","v":"MC13E"},{"$f":"'[1]87-0-14'!D2742","v":"MECHA CONICA 13,00"},{"$f":"'[1]87-0-14'!E2742","v":"EZETA"},{"$f":"'[1]87-0-14'!F2742","v":"MECHA CONICA"},{"$f":"'[1]87-0-14'!G2742*(1+$E$13)","v":85045.229500000001}]
[{"$f":"'[1]87-0-14'!B2743","v":"MC1325E"},{"$f":"'[1]87-0-14'!D2743","v":"MECHA CONICA 13,25"},{"$f":"'[1]87-0-14'!E2743","v":"EZETA"},{"$f":"'[1]87-0-14'!F2743","v":"MECHA CONICA"},{"$f":"'[1]87-0-14'!G2743*(1+$E$13)","v":88300.616999999998}]
[{"$f":"'[1]87-0-14'!B2744","v":"MC1350E"},{"$f":"'[1]87-0-14'!D2744","v":"MECHA CONICA 13,50"},{"$f":"'[1]87-0-14'!E2744","v":"EZETA"},{"$f":"'[1]87-0-14'!F2744","v":"MECHA CONICA"},{"$f":"'[1]87-0-14'!G2744*(1+$E$13)","v":91233.991999999998}]
[{"$f":"'[1]87-0-14'!B2745","v":"MC14E"},{"$f":"'[1]87-0-14'!D2745","v":"MECHA CONICA 14,00"},{"$f":"'[1]87-0-14'!E2745","v":"EZETA"},{"$f":"'[1]87-0-14'!F2745","v":"MECHA CONICA"},{"$f":"'[1]87-0-14'!G2745*(1+$E$13)","v":94754.925499999998}]
[{"$f":"'[1]87-0-14'!B2746","v":"MC1425E"},{"$f":"'[1]87-0-14'!D2746","v":"MECHA CONICA 14,25"},{"$f":"'[1]87-0-14'!E2746","v":"EZETA"},{"$f":"'[1]87-0-14'!F2746","v":"MECHA CONICA"},{"$f":"'[1]87-0-14'!G2746*(1+$E$13)","v":99030.027000000002}]
[{"$f":"'[1]87-0-14'!B2747","v":"MC1450E"},{"$f":"'[1]87-0-14'!D2747","v":"MECHA CONICA 14,50"},{"$f":"'[1]87-0-14'!E2747","v":"EZETA"},{"$f":"'[1]87-0-14'!F2747","v":"MECHA CONICA"},{"$f":"'[1]87-0-14'!G2747*(1+$E$13)","v":101147.3425}]
[{"$f":"'[1]87-0-14'!B2748","v":"MC1475E"},{"$f":"'[1]87-0-14'!D2748","v":"MECHA CONICA 14,75"},{"$f":"'[1]87-0-14'!E2748","v":"EZETA"},{"$f":"'[1]87-0-14'!F2748","v":"MECHA CONICA"},{"$f":"'[1]87-0-14'!G2748*(1+$E$13)","v":105410.05950000002}]
[{"$f":"'[1]87-0-14'!B2749","v":"MC15E"},{"$f":"'[1]87-0-14'!D2749","v":"MECHA CONICA 15,00"},{"$f":"'[1]87-0-14'!E2749","v":"EZETA"},{"$f":"'[1]87-0-14'!F2749","v":"MECHA CONICA"},{"$f":"'[1]87-0-14'!G2749*(1+$E$13)","v":107533.234}]
[{"$f":"'[1]87-0-14'!B2750","v":"MC1525E"},{"$f":"'[1]87-0-14'!D2750","v":"MECHA CONICA 15,25"},{"$f":"'[1]87-0-14'!E2750","v":"EZETA"},{"$f":"'[1]87-0-14'!F2750","v":"MECHA CONICA"},{"$f":"'[1]87-0-14'!G2750*(1+$E$13)","v":111798.958}]
[{"$f":"'[1]87-0-14'!B2751","v":"MC1550E"},{"$f":"'[1]87-0-14'!D2751","v":"MECHA CONICA 15,50"},{"$f":"'[1]87-0-14'!E2751","v":"EZETA"},{"$f":"'[1]87-0-14'!F2751","v":"MECHA CONICA"},{"$f":"'[1]87-0-14'!G2751*(1+$E$13)","v":113932.1145}]
[{"$f":"'[1]87-0-14'!B2752","v":"MC1575E"},{"$f":"'[1]87-0-14'!D2752","v":"MECHA CONICA 15,75"},{"$f":"'[1]87-0-14'!E2752","v":"EZETA"},{"$f":"'[1]87-0-14'!F2752","v":"MECHA CONICA"},{"$f":"'[1]87-0-14'!G2752*(1+$E$13)","v":118169.78350000002}]
[{"$f":"'[1]87-0-14'!B2753","v":"MC16E"},{"$f":"'[1]87-0-14'!D2753","v":"MECHA CONICA 16,00"},{"$f":"'[1]87-0-14'!E2753","v":"EZETA"},{"$f":"'[1]87-0-14'!F2753","v":"MECHA CONICA"},{"$f":"'[1]87-0-14'!G2753*(1+$E$13)","v":120320.02100000001}]
[{"$f":"'[1]87-0-14'!B2754","v":"MC1625E"},{"$f":"'[1]87-0-14'!D2754","v":"MECHA CONICA 16,25"},{"$f":"'[1]87-0-14'!E2754","v":"EZETA"},{"$f":"'[1]87-0-14'!F2754","v":"MECHA CONICA"},{"$f":"'[1]87-0-14'!G2754*(1+$E$13)","v":123948.6795}]
[{"$f":"'[1]87-0-14'!B2755","v":"MC1650E"},{"$f":"'[1]87-0-14'!D2755","v":"MECHA CONICA 16,50"},{"$f":"'[1]87-0-14'!E2755","v":"EZETA"},{"$f":"'[1]87-0-14'!F2755","v":"MECHA CONICA"},{"$f":"'[1]87-0-14'!G2755*(1+$E$13)","v":125774.47100000002}]
[{"$f":"'[1]87-0-14'!B2756","v":"MC1675E"},{"$f":"'[1]87-0-14'!D2756","v":"MECHA CONICA 16,75"},{"$f":"'[1]87-0-14'!E2756","v":"EZETA"},{"$f":"'[1]87-0-14'!F2756","v":"MECHA CONICA"},{"$f":"'[1]87-0-14'!G2756*(1+$E$13)","v":129385.02550000002}]
[{"$f":"'[1]87-0-14'!B2757","v":"MC17E"},{"$f":"'[1]87-0-14'!D2757","v":"MECHA CONICA 17,00"},{"$f":"'[1]87-0-14'!E2757","v":"EZETA"},{"$f":"'[1]87-0-14'!F2757","v":"MECHA CONICA"},{"$f":"'[1]87-0-14'!G2757*(1+$E$13)","v":131243.6925}]
[{"$f":"'[1]87-0-14'!B2758","v":"MC1725E"},{"$f":"'[1]87-0-14'!D2758","v":"MECHA CONICA 17,25"},{"$f":"'[1]87-0-14'!E2758","v":"EZETA"},{"$f":"'[1]87-0-14'!F2758","v":"MECHA CONICA"},{"$f":"'[1]87-0-14'!G2758*(1+$E$13)","v":135695.50950000001}]
[{"$f":"'[1]87-0-14'!B2759","v":"MC1750E"},{"$f":"'[1]87-0-14'!D2759","v":"MECHA CONICA 17,50"},{"$f":"'[1]87-0-14'!E2759","v":"EZETA"},{"$f":"'[1]87-0-14'!F2759","v":"MECHA CONICA"},{"$f":"'[1]87-0-14'!G2759*(1+$E$13)","v":137905.0655}]
[{"$f":"'[1]87-0-14'!B2760","v":"MC1775E"},{"$f":"'[1]87-0-14'!D2760","v":"MECHA CONICA 17,75"},{"$f":"'[1]87-0-14'!E2760","v":"EZETA"},{"$f":"'[1]87-0-14'!F2760","v":"MECHA CONICA"},{"$f":"'[1]87-0-14'!G2760*(1+$E$13)","v":142354.71249999999}]
[{"$f":"'[1]87-0-14'!B2761","v":"MC18E"},{"$f":"'[1]87-0-14'!D2761","v":"MECHA CONICA 18,00"},{"$f":"'[1]87-0-14'!E2761","v":"EZETA"},{"$f":"'[1]87-0-14'!F2761","v":"MECHA CONICA"},{"$f":"'[1]87-0-14'!G2761*(1+$E$13)","v":144560.8585}]
[{"$f":"'[1]87-0-14'!B2762","v":"MC1825E"},{"$f":"'[1]87-0-14'!D2762","v":"MECHA CONICA 18,25"},{"$f":"'[1]87-0-14'!E2762","v":"EZETA"},{"$f":"'[1]87-0-14'!F2762","v":"MECHA CONICA"},{"$f":"'[1]87-0-14'!G2762*(1+$E$13)","v":147808.80600000001}]
[{"$f":"'[1]87-0-14'!B2763","v":"MC1850E"},{"$f":"'[1]87-0-14'!D2763","v":"MECHA CONICA 18,50"},{"$f":"'[1]87-0-14'!E2763","v":"EZETA"},{"$f":"'[1]87-0-14'!F2763","v":"MECHA CONICA"},{"$f":"'[1]87-0-14'!G2763*(1+$E$13)","v":149483.96850000002}]
[{"$f":"'[1]87-0-14'!B2764","v":"MC1875E"},{"$f":"'[1]87-0-14'!D2764","v":"MECHA CONICA 18,75"},{"$f":"'[1]87-0-14'!E2764","v":"EZETA"},{"$f":"'[1]87-0-14'!F2764","v":"MECHA CONICA"},{"$f":"'[1]87-0-14'!G2764*(1+$E$13)","v":152719.85700000002}]
[{"$f":"'[1]87-0-14'!B2765","v":"MC19E"},{"$f":"'[1]87-0-14'!D2765","v":"MECHA CONICA 19,00"},{"$f":"'[1]87-0-14'!E2765","v":"EZETA"},{"$f":"'[1]87-0-14'!F2765","v":"MECHA CONICA"},{"$f":"'[1]87-0-14'!G2765*(1+$E$13)","v":154320.01500000001}]
[{"$f":"'[1]87-0-14'!B2766","v":"MC1925E"},{"$f":"'[1]87-0-14'!D2766","v":"MECHA CONICA 19,25"},{"$f":"'[1]87-0-14'!E2766","v":"EZETA"},{"$f":"'[1]87-0-14'!F2766","v":"MECHA CONICA"},{"$f":"'[1]87-0-14'!G2766*(1+$E$13)","v":156318.46100000001}]
[{"$f":"'[1]87-0-14'!B2767","v":"MC1950E"},{"$f":"'[1]87-0-14'!D2767","v":"MECHA CONICA 19,50"},{"$f":"'[1]87-0-14'!E2767","v":"EZETA"},{"$f":"'[1]87-0-14'!F2767","v":"MECHA CONICA"},{"$f":"'[1]87-0-14'!G2767*(1+$E$13)","v":157330.859}]
[{"$f":"'[1]87-0-14'!B2768","v":"MC1975E"},{"$f":"'[1]87-0-14'!D2768","v":"MECHA CONICA 19,75"},{"$f":"'[1]87-0-14'!E2768","v":"EZETA"},{"$f":"'[1]87-0-14'!F2768","v":"MECHA CONICA"},{"$f":"'[1]87-0-14'!G2768*(1+$E$13)","v":159390.158}]
[{"$f":"'[1]87-0-14'!B2769","v":"MC20E"},{"$f":"'[1]87-0-14'!D2769","v":"MECHA CONICA 20,00"},{"$f":"'[1]87-0-14'!E2769","v":"EZETA"},{"$f":"'[1]87-0-14'!F2769","v":"MECHA CONICA"},{"$f":"'[1]87-0-14'!G2769*(1+$E$13)","v":164548.15500000003}]
[{"$f":"'[1]87-0-14'!B2770","v":"MC2025E"},{"$f":"'[1]87-0-14'!D2770","v":"MECHA CONICA 20,25"},{"$f":"'[1]87-0-14'!E2770","v":"EZETA"},{"$f":"'[1]87-0-14'!F2770","v":"MECHA CONICA"},{"$f":"'[1]87-0-14'!G2770*(1+$E$13)","v":165382.70600000001}]
[{"$f":"'[1]87-0-14'!B2771","v":"MC2050E"},{"$f":"'[1]87-0-14'!D2771","v":"MECHA CONICA 20,50"},{"$f":"'[1]87-0-14'!E2771","v":"EZETA"},{"$f":"'[1]87-0-14'!F2771","v":"MECHA CONICA"},{"$f":"'[1]87-0-14'!G2771*(1+$E$13)","v":165765.77300000002}]
[{"$f":"'[1]87-0-14'!B2772","v":"MC2075E"},{"$f":"'[1]87-0-14'!D2772","v":"MECHA CONICA 20,75"},{"$f":"'[1]87-0-14'!E2772","v":"EZETA"},{"$f":"'[1]87-0-14'!F2772","v":"MECHA CONICA"},{"$f":"'[1]87-0-14'!G2772*(1+$E$13)","v":166597.44100000002}]
[{"$f":"'[1]87-0-14'!B2773","v":"MC21E"},{"$f":"'[1]87-0-14'!D2773","v":"MECHA CONICA 21,00"},{"$f":"'[1]87-0-14'!E2773","v":"EZETA"},{"$f":"'[1]87-0-14'!F2773","v":"MECHA CONICA"},{"$f":"'[1]87-0-14'!G2773*(1+$E$13)","v":167027.1165}]
[{"$f":"'[1]87-0-14'!B2774","v":"MC2125E"},{"$f":"'[1]87-0-14'!D2774","v":"MECHA CONICA 21,25"},{"$f":"'[1]87-0-14'!E2774","v":"EZETA"},{"$f":"'[1]87-0-14'!F2774","v":"MECHA CONICA"},{"$f":"'[1]87-0-14'!G2774*(1+$E$13)","v":170908.1925}]
[{"$f":"'[1]87-0-14'!B2775","v":"MC2150E"},{"$f":"'[1]87-0-14'!D2775","v":"MECHA CONICA 21,50"},{"$f":"'[1]87-0-14'!E2775","v":"EZETA"},{"$f":"'[1]87-0-14'!F2775","v":"MECHA CONICA"},{"$f":"'[1]87-0-14'!G2775*(1+$E$13)","v":171300.46649999998}]
[{"$f":"'[1]87-0-14'!B2776","v":"MC2175E"},{"$f":"'[1]87-0-14'!D2776","v":"MECHA CONICA 21,75"},{"$f":"'[1]87-0-14'!E2776","v":"EZETA"},{"$f":"'[1]87-0-14'!F2776","v":"MECHA CONICA"},{"$f":"'[1]87-0-14'!G2776*(1+$E$13)","v":172129.51500000001}]
[{"$f":"'[1]87-0-14'!B2777","v":"MC22E"},{"$f":"'[1]87-0-14'!D2777","v":"MECHA CONICA 22,00"},{"$f":"'[1]87-0-14'!E2777","v":"EZETA"},{"$f":"'[1]87-0-14'!F2777","v":"MECHA CONICA"},{"$f":"'[1]87-0-14'!G2777*(1+$E$13)","v":172542.435}]
[{"$f":"'[1]87-0-14'!B2778","v":"MC2225E"},{"$f":"'[1]87-0-14'!D2778","v":"MECHA CONICA 22,25"},{"$f":"'[1]87-0-14'!E2778","v":"EZETA"},{"$f":"'[1]87-0-14'!F2778","v":"MECHA CONICA"},{"$f":"'[1]87-0-14'!G2778*(1+$E$13)","v":175636.43650000001}]
[{"$f":"'[1]87-0-14'!B2779","v":"MC2250E"},{"$f":"'[1]87-0-14'!D2779","v":"MECHA CONICA 22,50"},{"$f":"'[1]87-0-14'!E2779","v":"EZETA"},{"$f":"'[1]87-0-14'!F2779","v":"MECHA CONICA"},{"$f":"'[1]87-0-14'!G2779*(1+$E$13)","v":177203.285}]
[{"$f":"'[1]87-0-14'!B2780","v":"MC2275E"},{"$f":"'[1]87-0-14'!D2780","v":"MECHA CONICA 22,75"},{"$f":"'[1]87-0-14'!E2780","v":"EZETA"},{"$f":"'[1]87-0-14'!F2780","v":"MECHA CONICA"},{"$f":"'[1]87-0-14'!G2780*(1+$E$13)","v":180286.03350000002}]
[{"$f":"'[1]87-0-14'!B2781","v":"MC23E"},{"$f":"'[1]87-0-14'!D2781","v":"MECHA CONICA 23,00"},{"$f":"'[1]87-0-14'!E2781","v":"EZETA"},{"$f":"'[1]87-0-14'!F2781","v":"MECHA CONICA"},{"$f":"'[1]87-0-14'!G2781*(1+$E$13)","v":181880.503}]
[{"$f":"'[1]87-0-14'!B2782","v":"MC2325E"},{"$f":"'[1]87-0-14'!D2782","v":"MECHA CONICA 23,25"},{"$f":"'[1]87-0-14'!E2782","v":"EZETA"},{"$f":"'[1]87-0-14'!F2782","v":"MECHA CONICA"},{"$f":"'[1]87-0-14'!G2782*(1+$E$13)","v":192712.709}]
[{"$f":"'[1]87-0-14'!B2783","v":"MC2350E"},{"$f":"'[1]87-0-14'!D2783","v":"MECHA CONICA 23,50"},{"$f":"'[1]87-0-14'!E2783","v":"EZETA"},{"$f":"'[1]87-0-14'!F2783","v":"MECHA CONICA"},{"$f":"'[1]87-0-14'!G2783*(1+$E$13)","v":196565.234}]
[{"$f":"'[1]87-0-14'!B2784","v":"MC2375E"},{"$f":"'[1]87-0-14'!D2784","v":"MECHA CONICA 23,75"},{"$f":"'[1]87-0-14'!E2784","v":"EZETA"},{"$f":"'[1]87-0-14'!F2784","v":"MECHA CONICA"},{"$f":"'[1]87-0-14'!G2784*(1+$E$13)","v":204332.90400000001}]
[{"$f":"'[1]87-0-14'!B2785","v":"MC24E"},{"$f":"'[1]87-0-14'!D2785","v":"MECHA CONICA 24,00"},{"$f":"'[1]87-0-14'!E2785","v":"EZETA"},{"$f":"'[1]87-0-14'!F2785","v":"MECHA CONICA"},{"$f":"'[1]87-0-14'!G2785*(1+$E$13)","v":208221.5595}]
[{"$f":"'[1]87-0-14'!B2786","v":"MC2425E"},{"$f":"'[1]87-0-14'!D2786","v":"MECHA CONICA 24,25"},{"$f":"'[1]87-0-14'!E2786","v":"EZETA"},{"$f":"'[1]87-0-14'!F2786","v":"MECHA CONICA"},{"$f":"'[1]87-0-14'!G2786*(1+$E$13)","v":213967.766}]
[{"$f":"'[1]87-0-14'!B2787","v":"MC2450E"},{"$f":"'[1]87-0-14'!D2787","v":"MECHA CONICA 24,50"},{"$f":"'[1]87-0-14'!E2787","v":"EZETA"},{"$f":"'[1]87-0-14'!F2787","v":"MECHA CONICA"},{"$f":"'[1]87-0-14'!G2787*(1+$E$13)","v":216835.80850000001}]
[{"$f":"'[1]87-0-14'!B2788","v":"MC2475E"},{"$f":"'[1]87-0-14'!D2788","v":"MECHA CONICA 24,75"},{"$f":"'[1]87-0-14'!E2788","v":"EZETA"},{"$f":"'[1]87-0-14'!F2788","v":"MECHA CONICA"},{"$f":"'[1]87-0-14'!G2788*(1+$E$13)","v":222645.3015}]
[{"$f":"'[1]87-0-14'!B2789","v":"MC25EZ"},{"$f":"'[1]87-0-14'!D2789","v":"MECHA CONICA 25,00"},{"$f":"'[1]87-0-14'!E2789","v":"EZETA"},{"$f":"'[1]87-0-14'!F2789","v":"MECHA CONICA"},{"$f":"'[1]87-0-14'!G2789*(1+$E$13)","v":225524.38}]
[{"$f":"'[1]87-0-14'!B2790","v":"MC2525E"},{"$f":"'[1]87-0-14'!D2790","v":"MECHA CONICA 25,25"},{"$f":"'[1]87-0-14'!E2790","v":"EZETA"},{"$f":"'[1]87-0-14'!F2790","v":"MECHA CONICA"},{"$f":"'[1]87-0-14'!G2790*(1+$E$13)","v":212396.60850000003}]
[{"$f":"'[1]87-0-14'!B2791","v":"MC2550E"},{"$f":"'[1]87-0-14'!D2791","v":"MECHA CONICA 25,50"},{"$f":"'[1]87-0-14'!E2791","v":"EZETA"},{"$f":"'[1]87-0-14'!F2791","v":"MECHA CONICA"},{"$f":"'[1]87-0-14'!G2791*(1+$E$13)","v":215114.34750000003}]
[{"$f":"'[1]87-0-14'!B2792","v":"MC2575E"},{"$f":"'[1]87-0-14'!D2792","v":"MECHA CONICA 25,75"},{"$f":"'[1]87-0-14'!E2792","v":"EZETA"},{"$f":"'[1]87-0-14'!F2792","v":"MECHA CONICA"},{"$f":"'[1]87-0-14'!G2792*(1+$E$13)","v":220649.10300000003}]
[{"$f":"'[1]87-0-14'!B2793","v":"MC26E"},{"$f":"'[1]87-0-14'!D2793","v":"MECHA CONICA 26,00"},{"$f":"'[1]87-0-14'!E2793","v":"EZETA"},{"$f":"'[1]87-0-14'!F2793","v":"MECHA CONICA"},{"$f":"'[1]87-0-14'!G2793*(1+$E$13)","v":223406.84750000003}]
[{"$f":"'[1]87-0-14'!B2794","v":"MC2625E"},{"$f":"'[1]87-0-14'!D2794","v":"MECHA CONICA 26,25"},{"$f":"'[1]87-0-14'!E2794","v":"EZETA"},{"$f":"'[1]87-0-14'!F2794","v":"MECHA CONICA"},{"$f":"'[1]87-0-14'!G2794*(1+$E$13)","v":231713.76250000001}]
[{"$f":"'[1]87-0-14'!B2795","v":"MC2650E"},{"$f":"'[1]87-0-14'!D2795","v":"MECHA CONICA 26,50"},{"$f":"'[1]87-0-14'!E2795","v":"EZETA"},{"$f":"'[1]87-0-14'!F2795","v":"MECHA CONICA"},{"$f":"'[1]87-0-14'!G2795*(1+$E$13)","v":236737.46750000003}]
[{"$f":"'[1]87-0-14'!B2796","v":"MC2675E"},{"$f":"'[1]87-0-14'!D2796","v":"MECHA CONICA 26,75"},{"$f":"'[1]87-0-14'!E2796","v":"EZETA"},{"$f":"'[1]87-0-14'!F2796","v":"MECHA CONICA"},{"$f":"'[1]87-0-14'!G2796*(1+$E$13)","v":244154.89950000003}]
[{"$f":"'[1]87-0-14'!B2797","v":"MC27E"},{"$f":"'[1]87-0-14'!D2797","v":"MECHA CONICA 27,00"},{"$f":"'[1]87-0-14'!E2797","v":"EZETA"},{"$f":"'[1]87-0-14'!F2797","v":"MECHA CONICA"},{"$f":"'[1]87-0-14'!G2797*(1+$E$13)","v":248293.36849999998}]
[{"$f":"'[1]87-0-14'!B2798","v":"MC2725E"},{"$f":"'[1]87-0-14'!D2798","v":"MECHA CONICA 27,25"},{"$f":"'[1]87-0-14'!E2798","v":"EZETA"},{"$f":"'[1]87-0-14'!F2798","v":"MECHA CONICA"},{"$f":"'[1]87-0-14'!G2798*(1+$E$13)","v":249960.45550000001}]
[{"$f":"'[1]87-0-14'!B2799","v":"MC2750E"},{"$f":"'[1]87-0-14'!D2799","v":"MECHA CONICA 27,50"},{"$f":"'[1]87-0-14'!E2799","v":"EZETA"},{"$f":"'[1]87-0-14'!F2799","v":"MECHA CONICA"},{"$f":"'[1]87-0-14'!G2799*(1+$E$13)","v":250787.08600000001}]
[{"$f":"'[1]87-0-14'!B2800","v":"MC2775E"},{"$f":"'[1]87-0-14'!D2800","v":"MECHA CONICA 27,75"},{"$f":"'[1]87-0-14'!E2800","v":"EZETA"},{"$f":"'[1]87-0-14'!F2800","v":"MECHA CONICA"},{"$f":"'[1]87-0-14'!G2800*(1+$E$13)","v":252478.291}]
[{"$f":"'[1]87-0-14'!B2801","v":"MC28E"},{"$f":"'[1]87-0-14'!D2801","v":"MECHA CONICA 28,00"},{"$f":"'[1]87-0-14'!E2801","v":"EZETA"},{"$f":"'[1]87-0-14'!F2801","v":"MECHA CONICA"},{"$f":"'[1]87-0-14'!G2801*(1+$E$13)","v":253321.32049999997}]
[{"$f":"'[1]87-0-14'!B2802","v":"MC2825E"},{"$f":"'[1]87-0-14'!D2802","v":"MECHA CONICA 28,25"},{"$f":"'[1]87-0-14'!E2802","v":"EZETA"},{"$f":"'[1]87-0-14'!F2802","v":"MECHA CONICA"},{"$f":"'[1]87-0-14'!G2802*(1+$E$13)","v":259525.53649999999}]
[{"$f":"'[1]87-0-14'!B2803","v":"MC2850E"},{"$f":"'[1]87-0-14'!D2803","v":"MECHA CONICA 28,50"},{"$f":"'[1]87-0-14'!E2803","v":"EZETA"},{"$f":"'[1]87-0-14'!F2803","v":"MECHA CONICA"},{"$f":"'[1]87-0-14'!G2803*(1+$E$13)","v":262584.36849999998}]
[{"$f":"'[1]87-0-14'!B2804","v":"MC2875E"},{"$f":"'[1]87-0-14'!D2804","v":"MECHA CONICA 28,75"},{"$f":"'[1]87-0-14'!E2804","v":"EZETA"},{"$f":"'[1]87-0-14'!F2804","v":"MECHA CONICA"},{"$f":"'[1]87-0-14'!G2804*(1+$E$13)","v":268779.54800000001}]
[{"$f":"'[1]87-0-14'!B2805","v":"MC29E"},{"$f":"'[1]87-0-14'!D2805","v":"MECHA CONICA 29,00"},{"$f":"'[1]87-0-14'!E2805","v":"EZETA"},{"$f":"'[1]87-0-14'!F2805","v":"MECHA CONICA"},{"$f":"'[1]87-0-14'!G2805*(1+$E$13)","v":271823.06599999999}]
[{"$f":"'[1]87-0-14'!B2806","v":"MC2925E"},{"$f":"'[1]87-0-14'!D2806","v":"MECHA CONICA 29,25"},{"$f":"'[1]87-0-14'!E2806","v":"EZETA"},{"$f":"'[1]87-0-14'!F2806","v":"MECHA CONICA"},{"$f":"'[1]87-0-14'!G2806*(1+$E$13)","v":276712.40150000004}]
[{"$f":"'[1]87-0-14'!B2807","v":"MC2950E"},{"$f":"'[1]87-0-14'!D2807","v":"MECHA CONICA 29,50"},{"$f":"'[1]87-0-14'!E2807","v":"EZETA"},{"$f":"'[1]87-0-14'!F2807","v":"MECHA CONICA"},{"$f":"'[1]87-0-14'!G2807*(1+$E$13)","v":279181.19500000001}]
[{"$f":"'[1]87-0-14'!B2808","v":"MC2975E"},{"$f":"'[1]87-0-14'!D2808","v":"MECHA CONICA 29,75"},{"$f":"'[1]87-0-14'!E2808","v":"EZETA"},{"$f":"'[1]87-0-14'!F2808","v":"MECHA CONICA"},{"$f":"'[1]87-0-14'!G2808*(1+$E$13)","v":284069.46100000001}]
[{"$f":"'[1]87-0-14'!B2809","v":"MC30E"},{"$f":"'[1]87-0-14'!D2809","v":"MECHA CONICA 30,00"},{"$f":"'[1]87-0-14'!E2809","v":"EZETA"},{"$f":"'[1]87-0-14'!F2809","v":"MECHA CONICA"},{"$f":"'[1]87-0-14'!G2809*(1+$E$13)","v":286568.55700000003}]
[{"$f":"'[1]87-0-14'!B2810","v":"MC3050E"},{"$f":"'[1]87-0-14'!D2810","v":"MECHA CONICA 30,50"},{"$f":"'[1]87-0-14'!E2810","v":"EZETA"},{"$f":"'[1]87-0-14'!F2810","v":"MECHA CONICA"},{"$f":"'[1]87-0-14'!G2810*(1+$E$13)","v":302935.85950000002}]
[{"$f":"'[1]87-0-14'!B2811","v":"MCB22R"},{"$f":"'[1]87-0-14'!D2811","v":"MECHA COPA BIMETALICA 22"},{"$f":"'[1]87-0-14'!E2811","v":"RHEIN"},{"$f":"'[1]87-0-14'!F2811","v":"MECHA COPA"},{"$f":"'[1]87-0-14'!G2811*(1+$E$13)","v":9661.5375000000004}]
[{"$f":"'[1]87-0-14'!B2812","v":"MCB25R"},{"$f":"'[1]87-0-14'!D2812","v":"MECHA COPA BIMETALICA 25"},{"$f":"'[1]87-0-14'!E2812","v":"RHEIN"},{"$f":"'[1]87-0-14'!F2812","v":"MECHA COPA"},{"$f":"'[1]87-0-14'!G2812*(1+$E$13)","v":10345.0875}]
[{"$f":"'[1]87-0-14'!B2813","v":"MCB27R"},{"$f":"'[1]87-0-14'!D2813","v":"MECHA COPA BIMETALICA 27"},{"$f":"'[1]87-0-14'!E2813","v":"RHEIN"},{"$f":"'[1]87-0-14'!F2813","v":"MECHA COPA"},{"$f":"'[1]87-0-14'!G2813*(1+$E$13)","v":12289.934499999999}]
[{"$f":"'[1]87-0-14'!B2814","v":"MCB30R"},{"$f":"'[1]87-0-14'!D2814","v":"MECHA COPA BIMETALICA 30"},{"$f":"'[1]87-0-14'!E2814","v":"RHEIN"},{"$f":"'[1]87-0-14'!F2814","v":"MECHA COPA"},{"$f":"'[1]87-0-14'!G2814*(1+$E$13)","v":12822.312999999998}]
[{"$f":"'[1]87-0-14'!B2815","v":"MCB32R"},{"$f":"'[1]87-0-14'!D2815","v":"MECHA COPA BIMETALICA 32"},{"$f":"'[1]87-0-14'!E2815","v":"RHEIN"},{"$f":"'[1]87-0-14'!F2815","v":"MECHA COPA"},{"$f":"'[1]87-0-14'!G2815*(1+$E$13)","v":12920.645}]
[{"$f":"'[1]87-0-14'!B2816","v":"MCB35R"},{"$f":"'[1]87-0-14'!D2816","v":"MECHA COPA BIMETALICA 35"},{"$f":"'[1]87-0-14'!E2816","v":"RHEIN"},{"$f":"'[1]87-0-14'!F2816","v":"MECHA COPA"},{"$f":"'[1]87-0-14'!G2816*(1+$E$13)","v":14317.722}]
[{"$f":"'[1]87-0-14'!B2817","v":"MCB38R"},{"$f":"'[1]87-0-14'!D2817","v":"MECHA COPA BIMETALICA 38"},{"$f":"'[1]87-0-14'!E2817","v":"RHEIN"},{"$f":"'[1]87-0-14'!F2817","v":"MECHA COPA"},{"$f":"'[1]87-0-14'!G2817*(1+$E$13)","v":14436.0645}]
[{"$f":"'[1]87-0-14'!B2818","v":"MCB40R"},{"$f":"'[1]87-0-14'!D2818","v":"MECHA COPA BIMETALICA 40"},{"$f":"'[1]87-0-14'!E2818","v":"RHEIN"},{"$f":"'[1]87-0-14'!F2818","v":"MECHA COPA"},{"$f":"'[1]87-0-14'!G2818*(1+$E$13)","v":14436.0645}]
[{"$f":"'[1]87-0-14'!B2819","v":"MCB51R"},{"$f":"'[1]87-0-14'!D2819","v":"MECHA COPA BIMETALICA 51"},{"$f":"'[1]87-0-14'!E2819","v":"RHEIN"},{"$f":"'[1]87-0-14'!F2819","v":"MECHA COPA"},{"$f":"'[1]87-0-14'!G2819*(1+$E$13)","v":18292.8675}]
[{"$f":"'[1]87-0-14'!B2820","v":"MCB60R"},{"$f":"'[1]87-0-14'!D2820","v":"MECHA COPA BIMETALICA 60"},{"$f":"'[1]87-0-14'!E2820","v":"RHEIN"},{"$f":"'[1]87-0-14'!F2820","v":"MECHA COPA"},{"$f":"'[1]87-0-14'!G2820*(1+$E$13)","v":20670.226500000001}]
[{"$f":"'[1]87-0-14'!B2821","v":"MCB65R"},{"$f":"'[1]87-0-14'!D2821","v":"MECHA COPA BIMETALICA 65"},{"$f":"'[1]87-0-14'!E2821","v":"RHEIN"},{"$f":"'[1]87-0-14'!F2821","v":"MECHA COPA"},{"$f":"'[1]87-0-14'!G2821*(1+$E$13)","v":22850.7045}]
[{"$f":"'[1]87-0-14'!B2822","v":"MCB70R"},{"$f":"'[1]87-0-14'!D2822","v":"MECHA COPA BIMETALICA 70"},{"$f":"'[1]87-0-14'!E2822","v":"RHEIN"},{"$f":"'[1]87-0-14'!F2822","v":"MECHA COPA"},{"$f":"'[1]87-0-14'!G2822*(1+$E$13)","v":25019.48}]
[{"$f":"'[1]87-0-14'!B2823","v":"MCC33R"},{"$f":"'[1]87-0-14'!D2823","v":"MECHA COPA CARB/TUNGS  33"},{"$f":"'[1]87-0-14'!E2823","v":"RHEIN"},{"$f":"'[1]87-0-14'!F2823","v":"MECHA COPA"},{"$f":"'[1]87-0-14'!G2823*(1+$E$13)","v":7091.3739999999998}]
[{"$f":"'[1]87-0-14'!B2824","v":"MCC43R"},{"$f":"'[1]87-0-14'!D2824","v":"MECHA COPA CARB/TUNGS  43"},{"$f":"'[1]87-0-14'!E2824","v":"RHEIN"},{"$f":"'[1]87-0-14'!F2824","v":"MECHA COPA"},{"$f":"'[1]87-0-14'!G2824*(1+$E$13)","v":8726.9495000000006}]
[{"$f":"'[1]87-0-14'!B2825","v":"MCC53R"},{"$f":"'[1]87-0-14'!D2825","v":"MECHA COPA CARB/TUNGS  53"},{"$f":"'[1]87-0-14'!E2825","v":"RHEIN"},{"$f":"'[1]87-0-14'!F2825","v":"MECHA COPA"},{"$f":"'[1]87-0-14'!G2825*(1+$E$13)","v":10625.405000000001}]
[{"$f":"'[1]87-0-14'!B2826","v":"MCC67R"},{"$f":"'[1]87-0-14'!D2826","v":"MECHA COPA CARB/TUNGS  67"},{"$f":"'[1]87-0-14'!E2826","v":"RHEIN"},{"$f":"'[1]87-0-14'!F2826","v":"MECHA COPA"},{"$f":"'[1]87-0-14'!G2826*(1+$E$13)","v":13378.623500000002}]
[{"$f":"'[1]87-0-14'!B2827","v":"MCC73R"},{"$f":"'[1]87-0-14'!D2827","v":"MECHA COPA CARB/TUNGS  73"},{"$f":"'[1]87-0-14'!E2827","v":"RHEIN"},{"$f":"'[1]87-0-14'!F2827","v":"MECHA COPA"},{"$f":"'[1]87-0-14'!G2827*(1+$E$13)","v":14661.326000000001}]
[{"$f":"'[1]87-0-14'!B2828","v":"MCC83R"},{"$f":"'[1]87-0-14'!D2828","v":"MECHA COPA CARB/TUNGS  83"},{"$f":"'[1]87-0-14'!E2828","v":"RHEIN"},{"$f":"'[1]87-0-14'!F2828","v":"MECHA COPA"},{"$f":"'[1]87-0-14'!G2828*(1+$E$13)","v":16644.411500000002}]
[{"$f":"'[1]87-0-14'!B2829","v":"MCC103R"},{"$f":"'[1]87-0-14'!D2829","v":"MECHA COPA CARB/TUNGS 103"},{"$f":"'[1]87-0-14'!E2829","v":"RHEIN"},{"$f":"'[1]87-0-14'!F2829","v":"MECHA COPA"},{"$f":"'[1]87-0-14'!G2829*(1+$E$13)","v":21325.706000000002}]
[{"$f":"'[1]87-0-14'!B2830","v":"MCC113R"},{"$f":"'[1]87-0-14'!D2830","v":"MECHA COPA CARB/TUNGS 113"},{"$f":"'[1]87-0-14'!E2830","v":"RHEIN"},{"$f":"'[1]87-0-14'!F2830","v":"MECHA COPA"},{"$f":"'[1]87-0-14'!G2830*(1+$E$13)","v":23829.932499999999}]
[{"$f":"'[1]87-0-14'!B2831","v":"MCW55R"},{"$f":"'[1]87-0-14'!D2831","v":"MECHA COPA WIDIA  55"},{"$f":"'[1]87-0-14'!E2831","v":"RHEIN"},{"$f":"'[1]87-0-14'!F2831","v":"MECHA COPA"},{"$f":"'[1]87-0-14'!G2831*(1+$E$13)","v":21201.0085}]
[{"$f":"'[1]87-0-14'!B2832","v":"MCW60R"},{"$f":"'[1]87-0-14'!D2832","v":"MECHA COPA WIDIA  60"},{"$f":"'[1]87-0-14'!E2832","v":"RHEIN"},{"$f":"'[1]87-0-14'!F2832","v":"MECHA COPA"},{"$f":"'[1]87-0-14'!G2832*(1+$E$13)","v":22055.663}]
[{"$f":"'[1]87-0-14'!B2833","v":"MCW65R"},{"$f":"'[1]87-0-14'!D2833","v":"MECHA COPA WIDIA  65"},{"$f":"'[1]87-0-14'!E2833","v":"RHEIN"},{"$f":"'[1]87-0-14'!F2833","v":"MECHA COPA"},{"$f":"'[1]87-0-14'!G2833*(1+$E$13)","v":22520.756000000001}]
[{"$f":"'[1]87-0-14'!B2834","v":"MCW70R"},{"$f":"'[1]87-0-14'!D2834","v":"MECHA COPA WIDIA  70"},{"$f":"'[1]87-0-14'!E2834","v":"RHEIN"},{"$f":"'[1]87-0-14'!F2834","v":"MECHA COPA"},{"$f":"'[1]87-0-14'!G2834*(1+$E$13)","v":24536.887500000001}]
[{"$f":"'[1]87-0-14'!B2835","v":"MCW105R"},{"$f":"'[1]87-0-14'!D2835","v":"MECHA COPA WIDIA 105"},{"$f":"'[1]87-0-14'!E2835","v":"RHEIN"},{"$f":"'[1]87-0-14'!F2835","v":"MECHA COPA"},{"$f":"'[1]87-0-14'!G2835*(1+$E$13)","v":66103.656000000003}]
[{"$f":"'[1]87-0-14'!B2836","v":"MDP360"},{"$f":"'[1]87-0-14'!D2836","v":"MECHA D/PUNTA 3,60"},{"$f":"'[1]87-0-14'!E2836","v":"EZETA"},{"$f":"'[1]87-0-14'!F2836","v":"MECHA D/PUNTA"},{"$f":"'[1]87-0-14'!G2836*(1+$E$13)","v":4488.8310000000001}]
[{"$f":"'[1]87-0-14'!B2837","v":"MDP420"},{"$f":"'[1]87-0-14'!D2837","v":"MECHA D/PUNTA 4,20"},{"$f":"'[1]87-0-14'!E2837","v":"EZETA"},{"$f":"'[1]87-0-14'!F2837","v":"MECHA D/PUNTA"},{"$f":"'[1]87-0-14'!G2837*(1+$E$13)","v":5304.6734999999999}]
[{"$f":"'[1]87-0-14'!B2838","v":"MDP510"},{"$f":"'[1]87-0-14'!D2838","v":"MECHA D/PUNTA 5,10"},{"$f":"'[1]87-0-14'!E2838","v":"EZETA"},{"$f":"'[1]87-0-14'!F2838","v":"MECHA D/PUNTA"},{"$f":"'[1]87-0-14'!G2838*(1+$E$13)","v":6309.9880000000003}]
[{"$f":"'[1]87-0-14'!B2839","v":"MDP610E"},{"$f":"'[1]87-0-14'!D2839","v":"MECHA D/PUNTA 6,10"},{"$f":"'[1]87-0-14'!E2839","v":"EZETA"},{"$f":"'[1]87-0-14'!F2839","v":"MECHA D/PUNTA"},{"$f":"'[1]87-0-14'!G2839*(1+$E$13)","v":8219.6345000000001}]
[{"$f":"'[1]87-0-14'!B2840","v":"MDC5E"},{"$f":"'[1]87-0-14'!D2840","v":"MECHA DE CENTRO 5,00"},{"$f":"'[1]87-0-14'!E2840","v":"EZETA"},{"$f":"'[1]87-0-14'!F2840","v":"MECHA DE CENTRO"},{"$f":"'[1]87-0-14'!G2840*(1+$E$13)","v":40032.625}]
[{"$f":"'[1]87-0-14'!B2841","v":"MD030E"},{"$f":"'[1]87-0-14'!D2841","v":"MECHA DECIMAL   0,30"},{"$f":"'[1]87-0-14'!E2841","v":"EZETA"},{"$f":"'[1]87-0-14'!F2841","v":"MECHA A/RAPIDO"},{"$f":"'[1]87-0-14'!G2841*(1+$E$13)","v":13566.762500000001}]
[{"$f":"'[1]87-0-14'!B2842","v":"MD040E"},{"$f":"'[1]87-0-14'!D2842","v":"MECHA DECIMAL   0,40"},{"$f":"'[1]87-0-14'!E2842","v":"EZETA"},{"$f":"'[1]87-0-14'!F2842","v":"MECHA A/RAPIDO"},{"$f":"'[1]87-0-14'!G2842*(1+$E$13)","v":11423.717000000001}]
[{"$f":"'[1]87-0-14'!B2843","v":"MD060E"},{"$f":"'[1]87-0-14'!D2843","v":"MECHA DECIMAL   0,60"},{"$f":"'[1]87-0-14'!E2843","v":"EZETA"},{"$f":"'[1]87-0-14'!F2843","v":"MECHA DECIMAL"},{"$f":"'[1]87-0-14'!G2843*(1+$E$13)","v":4914.9724999999999}]
[{"$f":"'[1]87-0-14'!B2844","v":"MD070E"},{"$f":"'[1]87-0-14'!D2844","v":"MECHA DECIMAL   0,70"},{"$f":"'[1]87-0-14'!E2844","v":"EZETA"},{"$f":"'[1]87-0-14'!F2844","v":"MECHA DECIMAL"},{"$f":"'[1]87-0-14'!G2844*(1+$E$13)","v":4914.9724999999999}]
[{"$f":"'[1]87-0-14'!B2845","v":"MD080E"},{"$f":"'[1]87-0-14'!D2845","v":"MECHA DECIMAL   0,80"},{"$f":"'[1]87-0-14'!E2845","v":"EZETA"},{"$f":"'[1]87-0-14'!F2845","v":"MECHA DECIMAL"},{"$f":"'[1]87-0-14'!G2845*(1+$E$13)","v":3566.2710000000002}]
[{"$f":"'[1]87-0-14'!B2846","v":"MD090E"},{"$f":"'[1]87-0-14'!D2846","v":"MECHA DECIMAL   0,90"},{"$f":"'[1]87-0-14'!E2846","v":"EZETA"},{"$f":"'[1]87-0-14'!F2846","v":"MECHA DECIMAL"},{"$f":"'[1]87-0-14'!G2846*(1+$E$13)","v":3566.2710000000002}]
[{"$f":"'[1]87-0-14'!B2847","v":"MD110E"},{"$f":"'[1]87-0-14'!D2847","v":"MECHA DECIMAL   1,10"},{"$f":"'[1]87-0-14'!E2847","v":"EZETA"},{"$f":"'[1]87-0-14'!F2847","v":"MECHA DECIMAL"},{"$f":"'[1]87-0-14'!G2847*(1+$E$13)","v":3114.5234999999998}]
[{"$f":"'[1]87-0-14'!B2848","v":"MD120E"},{"$f":"'[1]87-0-14'!D2848","v":"MECHA DECIMAL   1,20"},{"$f":"'[1]87-0-14'!E2848","v":"EZETA"},{"$f":"'[1]87-0-14'!F2848","v":"MECHA DECIMAL"},{"$f":"'[1]87-0-14'!G2848*(1+$E$13)","v":3114.5234999999998}]
[{"$f":"'[1]87-0-14'!B2849","v":"MD130E"},{"$f":"'[1]87-0-14'!D2849","v":"MECHA DECIMAL   1,30"},{"$f":"'[1]87-0-14'!E2849","v":"EZETA"},{"$f":"'[1]87-0-14'!F2849","v":"MECHA DECIMAL"},{"$f":"'[1]87-0-14'!G2849*(1+$E$13)","v":2982.5565000000001}]
[{"$f":"'[1]87-0-14'!B2850","v":"MD140E"},{"$f":"'[1]87-0-14'!D2850","v":"MECHA DECIMAL   1,40"},{"$f":"'[1]87-0-14'!E2850","v":"EZETA"},{"$f":"'[1]87-0-14'!F2850","v":"MECHA DECIMAL"},{"$f":"'[1]87-0-14'!G2850*(1+$E$13)","v":2982.5565000000001}]
[{"$f":"'[1]87-0-14'!B2851","v":"MD160E"},{"$f":"'[1]87-0-14'!D2851","v":"MECHA DECIMAL   1,60"},{"$f":"'[1]87-0-14'!E2851","v":"EZETA"},{"$f":"'[1]87-0-14'!F2851","v":"MECHA DECIMAL"},{"$f":"'[1]87-0-14'!G2851*(1+$E$13)","v":2886.069}]
[{"$f":"'[1]87-0-14'!B2852","v":"MD170E"},{"$f":"'[1]87-0-14'!D2852","v":"MECHA DECIMAL   1,70"},{"$f":"'[1]87-0-14'!E2852","v":"EZETA"},{"$f":"'[1]87-0-14'!F2852","v":"MECHA DECIMAL"},{"$f":"'[1]87-0-14'!G2852*(1+$E$13)","v":2886.069}]
[{"$f":"'[1]87-0-14'!B2853","v":"MD180E"},{"$f":"'[1]87-0-14'!D2853","v":"MECHA DECIMAL   1,80"},{"$f":"'[1]87-0-14'!E2853","v":"EZETA"},{"$f":"'[1]87-0-14'!F2853","v":"MECHA DECIMAL"},{"$f":"'[1]87-0-14'!G2853*(1+$E$13)","v":2616.2760000000003}]
[{"$f":"'[1]87-0-14'!B2854","v":"MD190E"},{"$f":"'[1]87-0-14'!D2854","v":"MECHA DECIMAL   1,90"},{"$f":"'[1]87-0-14'!E2854","v":"EZETA"},{"$f":"'[1]87-0-14'!F2854","v":"MECHA DECIMAL"},{"$f":"'[1]87-0-14'!G2854*(1+$E$13)","v":2616.2760000000003}]
[{"$f":"'[1]87-0-14'!B2855","v":"MD210E"},{"$f":"'[1]87-0-14'!D2855","v":"MECHA DECIMAL   2,10"},{"$f":"'[1]87-0-14'!E2855","v":"EZETA"},{"$f":"'[1]87-0-14'!F2855","v":"MECHA DECIMAL"},{"$f":"'[1]87-0-14'!G2855*(1+$E$13)","v":2456.8739999999998}]
[{"$f":"'[1]87-0-14'!B2856","v":"MD220E"},{"$f":"'[1]87-0-14'!D2856","v":"MECHA DECIMAL   2,20"},{"$f":"'[1]87-0-14'!E2856","v":"EZETA"},{"$f":"'[1]87-0-14'!F2856","v":"MECHA DECIMAL"},{"$f":"'[1]87-0-14'!G2856*(1+$E$13)","v":2456.8739999999998}]
[{"$f":"'[1]87-0-14'!B2857","v":"MD230E"},{"$f":"'[1]87-0-14'!D2857","v":"MECHA DECIMAL   2,30"},{"$f":"'[1]87-0-14'!E2857","v":"EZETA"},{"$f":"'[1]87-0-14'!F2857","v":"MECHA DECIMAL"},{"$f":"'[1]87-0-14'!G2857*(1+$E$13)","v":2456.8739999999998}]
[{"$f":"'[1]87-0-14'!B2858","v":"MD240E"},{"$f":"'[1]87-0-14'!D2858","v":"MECHA DECIMAL   2,40"},{"$f":"'[1]87-0-14'!E2858","v":"EZETA"},{"$f":"'[1]87-0-14'!F2858","v":"MECHA DECIMAL"},{"$f":"'[1]87-0-14'!G2858*(1+$E$13)","v":2456.8739999999998}]
[{"$f":"'[1]87-0-14'!B2859","v":"MD260E"},{"$f":"'[1]87-0-14'!D2859","v":"MECHA DECIMAL   2,60"},{"$f":"'[1]87-0-14'!E2859","v":"EZETA"},{"$f":"'[1]87-0-14'!F2859","v":"MECHA DECIMAL"},{"$f":"'[1]87-0-14'!G2859*(1+$E$13)","v":2491.7799999999997}]
[{"$f":"'[1]87-0-14'!B2860","v":"MD280E"},{"$f":"'[1]87-0-14'!D2860","v":"MECHA DECIMAL   2,80"},{"$f":"'[1]87-0-14'!E2860","v":"EZETA"},{"$f":"'[1]87-0-14'!F2860","v":"MECHA DECIMAL"},{"$f":"'[1]87-0-14'!G2860*(1+$E$13)","v":2731.9834999999998}]
[{"$f":"'[1]87-0-14'!B2861","v":"MD290E"},{"$f":"'[1]87-0-14'!D2861","v":"MECHA DECIMAL   2,90"},{"$f":"'[1]87-0-14'!E2861","v":"EZETA"},{"$f":"'[1]87-0-14'!F2861","v":"MECHA DECIMAL"},{"$f":"'[1]87-0-14'!G2861*(1+$E$13)","v":2731.9834999999998}]
[{"$f":"'[1]87-0-14'!B2862","v":"MD310E"},{"$f":"'[1]87-0-14'!D2862","v":"MECHA DECIMAL   3,10"},{"$f":"'[1]87-0-14'!E2862","v":"EZETA"},{"$f":"'[1]87-0-14'!F2862","v":"MECHA DECIMAL"},{"$f":"'[1]87-0-14'!G2862*(1+$E$13)","v":2894.8420000000001}]
[{"$f":"'[1]87-0-14'!B2863","v":"MD320E"},{"$f":"'[1]87-0-14'!D2863","v":"MECHA DECIMAL   3,20"},{"$f":"'[1]87-0-14'!E2863","v":"EZETA"},{"$f":"'[1]87-0-14'!F2863","v":"MECHA DECIMAL"},{"$f":"'[1]87-0-14'!G2863*(1+$E$13)","v":2894.8420000000001}]
[{"$f":"'[1]87-0-14'!B2864","v":"MD330E"},{"$f":"'[1]87-0-14'!D2864","v":"MECHA DECIMAL   3,30"},{"$f":"'[1]87-0-14'!E2864","v":"EZETA"},{"$f":"'[1]87-0-14'!F2864","v":"MECHA DECIMAL"},{"$f":"'[1]87-0-14'!G2864*(1+$E$13)","v":2948.7045000000003}]
[{"$f":"'[1]87-0-14'!B2865","v":"MD340E"},{"$f":"'[1]87-0-14'!D2865","v":"MECHA DECIMAL   3,40"},{"$f":"'[1]87-0-14'!E2865","v":"EZETA"},{"$f":"'[1]87-0-14'!F2865","v":"MECHA DECIMAL"},{"$f":"'[1]87-0-14'!G2865*(1+$E$13)","v":2948.7045000000003}]
[{"$f":"'[1]87-0-14'!B2866","v":"MD380E"},{"$f":"'[1]87-0-14'!D2866","v":"MECHA DECIMAL   3,80"},{"$f":"'[1]87-0-14'!E2866","v":"EZETA"},{"$f":"'[1]87-0-14'!F2866","v":"MECHA DECIMAL"},{"$f":"'[1]87-0-14'!G2866*(1+$E$13)","v":3385.8664999999996}]
[{"$f":"'[1]87-0-14'!B2867","v":"MD390E"},{"$f":"'[1]87-0-14'!D2867","v":"MECHA DECIMAL   3,90"},{"$f":"'[1]87-0-14'!E2867","v":"EZETA"},{"$f":"'[1]87-0-14'!F2867","v":"MECHA DECIMAL"},{"$f":"'[1]87-0-14'!G2867*(1+$E$13)","v":3385.8664999999996}]
[{"$f":"'[1]87-0-14'!B2868","v":"MD410E"},{"$f":"'[1]87-0-14'!D2868","v":"MECHA DECIMAL   4,10"},{"$f":"'[1]87-0-14'!E2868","v":"EZETA"},{"$f":"'[1]87-0-14'!F2868","v":"MECHA DECIMAL"},{"$f":"'[1]87-0-14'!G2868*(1+$E$13)","v":3718.0005000000001}]
[{"$f":"'[1]87-0-14'!B2869","v":"MD430E"},{"$f":"'[1]87-0-14'!D2869","v":"MECHA DECIMAL   4,30"},{"$f":"'[1]87-0-14'!E2869","v":"EZETA"},{"$f":"'[1]87-0-14'!F2869","v":"MECHA DECIMAL"},{"$f":"'[1]87-0-14'!G2869*(1+$E$13)","v":3975.1610000000001}]
[{"$f":"'[1]87-0-14'!B2870","v":"MD420E"},{"$f":"'[1]87-0-14'!D2870","v":"MECHA DECIMAL   4.20"},{"$f":"'[1]87-0-14'!E2870","v":"EZETA"},{"$f":"'[1]87-0-14'!F2870","v":"MECHA DECIMAL"},{"$f":"'[1]87-0-14'!G2870*(1+$E$13)","v":3718.0005000000001}]
[{"$f":"'[1]87-0-14'!B2871","v":"MD510E"},{"$f":"'[1]87-0-14'!D2871","v":"MECHA DECIMAL   5,10"},{"$f":"'[1]87-0-14'!E2871","v":"EZETA"},{"$f":"'[1]87-0-14'!F2871","v":"MECHA DECIMAL"},{"$f":"'[1]87-0-14'!G2871*(1+$E$13)","v":4758.2830000000004}]
[{"$f":"'[1]87-0-14'!B2872","v":"MD520E"},{"$f":"'[1]87-0-14'!D2872","v":"MECHA DECIMAL   5,20"},{"$f":"'[1]87-0-14'!E2872","v":"EZETA"},{"$f":"'[1]87-0-14'!F2872","v":"MECHA DECIMAL"},{"$f":"'[1]87-0-14'!G2872*(1+$E$13)","v":4758.2830000000004}]
[{"$f":"'[1]87-0-14'!B2873","v":"MD590E"},{"$f":"'[1]87-0-14'!D2873","v":"MECHA DECIMAL   5,90"},{"$f":"'[1]87-0-14'!E2873","v":"EZETA"},{"$f":"'[1]87-0-14'!F2873","v":"MECHA DECIMAL"},{"$f":"'[1]87-0-14'!G2873*(1+$E$13)","v":5081.5820000000003}]
[{"$f":"'[1]87-0-14'!B2874","v":"MD620E"},{"$f":"'[1]87-0-14'!D2874","v":"MECHA DECIMAL   6,20"},{"$f":"'[1]87-0-14'!E2874","v":"EZETA"},{"$f":"'[1]87-0-14'!F2874","v":"MECHA DECIMAL"},{"$f":"'[1]87-0-14'!G2874*(1+$E$13)","v":5700.7139999999999}]
[{"$f":"'[1]87-0-14'!B2875","v":"MD630E"},{"$f":"'[1]87-0-14'!D2875","v":"MECHA DECIMAL   6,30"},{"$f":"'[1]87-0-14'!E2875","v":"EZETA"},{"$f":"'[1]87-0-14'!F2875","v":"MECHA DECIMAL"},{"$f":"'[1]87-0-14'!G2875*(1+$E$13)","v":5896.0450000000001}]
[{"$f":"'[1]87-0-14'!B2876","v":"MD640E"},{"$f":"'[1]87-0-14'!D2876","v":"MECHA DECIMAL   6,40"},{"$f":"'[1]87-0-14'!E2876","v":"EZETA"},{"$f":"'[1]87-0-14'!F2876","v":"MECHA DECIMAL"},{"$f":"'[1]87-0-14'!G2876*(1+$E$13)","v":5896.0450000000001}]
[{"$f":"'[1]87-0-14'!B2877","v":"MD660E"},{"$f":"'[1]87-0-14'!D2877","v":"MECHA DECIMAL   6,60"},{"$f":"'[1]87-0-14'!E2877","v":"EZETA"},{"$f":"'[1]87-0-14'!F2877","v":"MECHA DECIMAL"},{"$f":"'[1]87-0-14'!G2877*(1+$E$13)","v":6559.1505000000006}]
[{"$f":"'[1]87-0-14'!B2878","v":"MD710E"},{"$f":"'[1]87-0-14'!D2878","v":"MECHA DECIMAL   7,10"},{"$f":"'[1]87-0-14'!E2878","v":"EZETA"},{"$f":"'[1]87-0-14'!F2878","v":"MECHA DECIMAL"},{"$f":"'[1]87-0-14'!G2878*(1+$E$13)","v":7503.55}]
[{"$f":"'[1]87-0-14'!B2879","v":"MD740E"},{"$f":"'[1]87-0-14'!D2879","v":"MECHA DECIMAL   7,40"},{"$f":"'[1]87-0-14'!E2879","v":"EZETA"},{"$f":"'[1]87-0-14'!F2879","v":"MECHA DECIMAL"},{"$f":"'[1]87-0-14'!G2879*(1+$E$13)","v":7828.5385000000006}]
[{"$f":"'[1]87-0-14'!B2880","v":"MD810E"},{"$f":"'[1]87-0-14'!D2880","v":"MECHA DECIMAL   8,10"},{"$f":"'[1]87-0-14'!E2880","v":"EZETA"},{"$f":"'[1]87-0-14'!F2880","v":"MECHA DECIMAL"},{"$f":"'[1]87-0-14'!G2880*(1+$E$13)","v":9876.9719999999998}]
[{"$f":"'[1]87-0-14'!B2881","v":"MD840E"},{"$f":"'[1]87-0-14'!D2881","v":"MECHA DECIMAL   8,40"},{"$f":"'[1]87-0-14'!E2881","v":"EZETA"},{"$f":"'[1]87-0-14'!F2881","v":"MECHA DECIMAL"},{"$f":"'[1]87-0-14'!G2881*(1+$E$13)","v":10198.5195}]
[{"$f":"'[1]87-0-14'!B2882","v":"MD940E"},{"$f":"'[1]87-0-14'!D2882","v":"MECHA DECIMAL   9,40"},{"$f":"'[1]87-0-14'!E2882","v":"EZETA"},{"$f":"'[1]87-0-14'!F2882","v":"MECHA DECIMAL"},{"$f":"'[1]87-0-14'!G2882*(1+$E$13)","v":13007.321}]
[{"$f":"'[1]87-0-14'!B2883","v":"MD990E"},{"$f":"'[1]87-0-14'!D2883","v":"MECHA DECIMAL   9,90"},{"$f":"'[1]87-0-14'!E2883","v":"EZETA"},{"$f":"'[1]87-0-14'!F2883","v":"MECHA DECIMAL"},{"$f":"'[1]87-0-14'!G2883*(1+$E$13)","v":15384.68}]
[{"$f":"'[1]87-0-14'!B2884","v":"MD910E"},{"$f":"'[1]87-0-14'!D2884","v":"MECHA DECIMAL   9.10"},{"$f":"'[1]87-0-14'!E2884","v":"EZETA"},{"$f":"'[1]87-0-14'!F2884","v":"MECHA DECIMAL"},{"$f":"'[1]87-0-14'!G2884*(1+$E$13)","v":12570.763500000001}]
[{"$f":"'[1]87-0-14'!B2885","v":"MD1010E"},{"$f":"'[1]87-0-14'!D2885","v":"MECHA DECIMAL  10,10"},{"$f":"'[1]87-0-14'!E2885","v":"EZETA"},{"$f":"'[1]87-0-14'!F2885","v":"MECHA DECIMAL"},{"$f":"'[1]87-0-14'!G2885*(1+$E$13)","v":18012.441500000001}]
[{"$f":"'[1]87-0-14'!B2886","v":"MD1110E"},{"$f":"'[1]87-0-14'!D2886","v":"MECHA DECIMAL  11,10"},{"$f":"'[1]87-0-14'!E2886","v":"EZETA"},{"$f":"'[1]87-0-14'!F2886","v":"MECHA DECIMAL"},{"$f":"'[1]87-0-14'!G2886*(1+$E$13)","v":21829.766}]
[{"$f":"'[1]87-0-14'!B2887","v":"MD1210E"},{"$f":"'[1]87-0-14'!D2887","v":"MECHA DECIMAL  12,10"},{"$f":"'[1]87-0-14'!E2887","v":"EZETA"},{"$f":"'[1]87-0-14'!F2887","v":"MECHA DECIMAL"},{"$f":"'[1]87-0-14'!G2887*(1+$E$13)","v":26512.812000000002}]
[{"$f":"'[1]87-0-14'!B2888","v":"MD1320E"},{"$f":"'[1]87-0-14'!D2888","v":"MECHA DECIMAL  13,20"},{"$f":"'[1]87-0-14'!E2888","v":"EZETA"},{"$f":"'[1]87-0-14'!F2888","v":"MECHA DECIMAL"},{"$f":"'[1]87-0-14'!G2888*(1+$E$13)","v":49498.583500000001}]
[{"$f":"'[1]87-0-14'!B2889","v":"MD25E"},{"$f":"'[1]87-0-14'!D2889","v":"MECHA DIN 25,00"},{"$f":"'[1]87-0-14'!E2889","v":"EZETA"},{"$f":"'[1]87-0-14'!F2889","v":"MECHA DIN 345"},{"$f":"'[1]87-0-14'!G2889*(1+$E$13)","v":292511.47399999999}]
[{"$f":"'[1]87-0-14'!B2890","v":"MD30E"},{"$f":"'[1]87-0-14'!D2890","v":"MECHA DIN 30,00"},{"$f":"'[1]87-0-14'!E2890","v":"EZETA"},{"$f":"'[1]87-0-14'!F2890","v":"MECHA DIN 345"},{"$f":"'[1]87-0-14'!G2890*(1+$E$13)","v":453762.17449999996}]
[{"$f":"'[1]87-0-14'!B2891","v":"MD17E"},{"$f":"'[1]87-0-14'!D2891","v":"MECHA DIN 345 17,00"},{"$f":"'[1]87-0-14'!E2891","v":"EZETA"},{"$f":"'[1]87-0-14'!F2891","v":"MECHA DIN 345"},{"$f":"'[1]87-0-14'!G2891*(1+$E$13)","v":170117.07250000001}]
[{"$f":"'[1]87-0-14'!B2892","v":"MD21E"},{"$f":"'[1]87-0-14'!D2892","v":"MECHA DIN 345 21,00"},{"$f":"'[1]87-0-14'!E2892","v":"EZETA"},{"$f":"'[1]87-0-14'!F2892","v":"MECHA DIN 345"},{"$f":"'[1]87-0-14'!G2892*(1+$E$13)","v":216499.288}]
[{"$f":"'[1]87-0-14'!B2893","v":"MD23E"},{"$f":"'[1]87-0-14'!D2893","v":"MECHA DIN 345 23,00"},{"$f":"'[1]87-0-14'!E2893","v":"EZETA"},{"$f":"'[1]87-0-14'!F2893","v":"MECHA DIN 345"},{"$f":"'[1]87-0-14'!G2893*(1+$E$13)","v":235752.13250000001}]
[{"$f":"'[1]87-0-14'!B2894","v":"MD28E"},{"$f":"'[1]87-0-14'!D2894","v":"MECHA DIN 345 28,00"},{"$f":"'[1]87-0-14'!E2894","v":"EZETA"},{"$f":"'[1]87-0-14'!F2894","v":"MECHA DIN 345"},{"$f":"'[1]87-0-14'!G2894*(1+$E$13)","v":357904.9045}]
[{"$f":"'[1]87-0-14'!B2895","v":"MD325E"},{"$f":"'[1]87-0-14'!D2895","v":"MECHA DIN 345 32,50"},{"$f":"'[1]87-0-14'!E2895","v":"EZETA"},{"$f":"'[1]87-0-14'!F2895","v":"MECHA DIN 345"},{"$f":"'[1]87-0-14'!G2895*(1+$E$13)","v":562375.35550000006}]
[{"$f":"'[1]87-0-14'!B2896","v":"MD40E"},{"$f":"'[1]87-0-14'!D2896","v":"MECHA DIN 345 40,00"},{"$f":"'[1]87-0-14'!E2896","v":"EZETA"},{"$f":"'[1]87-0-14'!F2896","v":"MECHA DIN 345"},{"$f":"'[1]87-0-14'!G2896*(1+$E$13)","v":850693.38199999998}]
[{"$f":"'[1]87-0-14'!B2897","v":"MD425E"},{"$f":"'[1]87-0-14'!D2897","v":"MECHA DIN 345 42,50"},{"$f":"'[1]87-0-14'!E2897","v":"EZETA"},{"$f":"'[1]87-0-14'!F2897","v":"MECHA DIN 345"},{"$f":"'[1]87-0-14'!G2897*(1+$E$13)","v":1021409.9480000001}]
[{"$f":"'[1]87-0-14'!B2898","v":"MD50E"},{"$f":"'[1]87-0-14'!D2898","v":"MECHA DIN 345 50,00"},{"$f":"'[1]87-0-14'!E2898","v":"EZETA"},{"$f":"'[1]87-0-14'!F2898","v":"MECHA DIN 345"},{"$f":"'[1]87-0-14'!G2898*(1+$E$13)","v":1483715.1335}]
[{"$f":"'[1]87-0-14'!B2899","v":"MD38E"},{"$f":"'[1]87-0-14'!D2899","v":"MECHA DIN 38,00"},{"$f":"'[1]87-0-14'!E2899","v":"EZETA"},{"$f":"'[1]87-0-14'!F2899","v":"MECHA DIN 345"},{"$f":"'[1]87-0-14'!G2899*(1+$E$13)","v":771909.82700000005}]
[{"$f":"'[1]87-0-14'!B2900","v":"MD45E"},{"$f":"'[1]87-0-14'!D2900","v":"MECHA DIN 45,00"},{"$f":"'[1]87-0-14'!E2900","v":"EZETA"},{"$f":"'[1]87-0-14'!F2900","v":"MECHA DIN 345"},{"$f":"'[1]87-0-14'!G2900*(1+$E$13)","v":1151390.0805000002}]
[{"$f":"'[1]87-0-14'!B2901","v":"ME620E"},{"$f":"'[1]87-0-14'!D2901","v":"MECHA ESCALONADA 6 a 20mm"},{"$f":"'[1]87-0-14'!E2901","v":"EZETA"},{"$f":"'[1]87-0-14'!F2901","v":"MECHA ESCALONADA"},{"$f":"'[1]87-0-14'!G2901*(1+$E$13)","v":80043.286500000002}]
[{"$f":"'[1]87-0-14'!B2902","v":"MI250E"},{"$f":"'[1]87-0-14'!D2902","v":"MECHA INOXIDAB  2,50"},{"$f":"'[1]87-0-14'!E2902","v":"EZETA"},{"$f":"'[1]87-0-14'!F2902","v":"MECHA INOXIDABLE"},{"$f":"'[1]87-0-14'!G2902*(1+$E$13)","v":4371.6045000000004}]
[{"$f":"'[1]87-0-14'!B2903","v":"MI3E"},{"$f":"'[1]87-0-14'!D2903","v":"MECHA INOXIDAB  3,00"},{"$f":"'[1]87-0-14'!E2903","v":"EZETA"},{"$f":"'[1]87-0-14'!F2903","v":"MECHA INOXIDABLE"},{"$f":"'[1]87-0-14'!G2903*(1+$E$13)","v":4469.2855}]
[{"$f":"'[1]87-0-14'!B2904","v":"MI325E"},{"$f":"'[1]87-0-14'!D2904","v":"MECHA INOXIDAB  3,25"},{"$f":"'[1]87-0-14'!E2904","v":"EZETA"},{"$f":"'[1]87-0-14'!F2904","v":"MECHA INOXIDABLE"},{"$f":"'[1]87-0-14'!G2904*(1+$E$13)","v":4881.9575000000004}]
[{"$f":"'[1]87-0-14'!B2905","v":"MI350E"},{"$f":"'[1]87-0-14'!D2905","v":"MECHA INOXIDAB  3,50"},{"$f":"'[1]87-0-14'!E2905","v":"EZETA"},{"$f":"'[1]87-0-14'!F2905","v":"MECHA INOXIDABLE"},{"$f":"'[1]87-0-14'!G2905*(1+$E$13)","v":4881.9575000000004}]
[{"$f":"'[1]87-0-14'!B2906","v":"MI375E"},{"$f":"'[1]87-0-14'!D2906","v":"MECHA INOXIDAB  3,75"},{"$f":"'[1]87-0-14'!E2906","v":"EZETA"},{"$f":"'[1]87-0-14'!F2906","v":"MECHA INOXIDABLE"},{"$f":"'[1]87-0-14'!G2906*(1+$E$13)","v":5044.1185000000005}]
[{"$f":"'[1]87-0-14'!B2907","v":"MI4E"},{"$f":"'[1]87-0-14'!D2907","v":"MECHA INOXIDAB  4,00"},{"$f":"'[1]87-0-14'!E2907","v":"EZETA"},{"$f":"'[1]87-0-14'!F2907","v":"MECHA INOXIDABLE"},{"$f":"'[1]87-0-14'!G2907*(1+$E$13)","v":5183.3395}]
[{"$f":"'[1]87-0-14'!B2908","v":"MI425E"},{"$f":"'[1]87-0-14'!D2908","v":"MECHA INOXIDAB  4,25"},{"$f":"'[1]87-0-14'!E2908","v":"EZETA"},{"$f":"'[1]87-0-14'!F2908","v":"MECHA INOXIDABLE"},{"$f":"'[1]87-0-14'!G2908*(1+$E$13)","v":5616.7349999999997}]
[{"$f":"'[1]87-0-14'!B2909","v":"MI475E"},{"$f":"'[1]87-0-14'!D2909","v":"MECHA INOXIDAB  4,75"},{"$f":"'[1]87-0-14'!E2909","v":"EZETA"},{"$f":"'[1]87-0-14'!F2909","v":"MECHA INOXIDABLE"},{"$f":"'[1]87-0-14'!G2909*(1+$E$13)","v":6741.57}]
[{"$f":"'[1]87-0-14'!B2910","v":"MI5E"},{"$f":"'[1]87-0-14'!D2910","v":"MECHA INOXIDAB  5,00"},{"$f":"'[1]87-0-14'!E2910","v":"EZETA"},{"$f":"'[1]87-0-14'!F2910","v":"MECHA INOXIDABLE"},{"$f":"'[1]87-0-14'!G2910*(1+$E$13)","v":6741.57}]
[{"$f":"'[1]87-0-14'!B2911","v":"MI525E"},{"$f":"'[1]87-0-14'!D2911","v":"MECHA INOXIDAB  5,25"},{"$f":"'[1]87-0-14'!E2911","v":"EZETA"},{"$f":"'[1]87-0-14'!F2911","v":"MECHA INOXIDABLE"},{"$f":"'[1]87-0-14'!G2911*(1+$E$13)","v":7091.4359999999997}]
[{"$f":"'[1]87-0-14'!B2912","v":"MI550E"},{"$f":"'[1]87-0-14'!D2912","v":"MECHA INOXIDAB  5,50"},{"$f":"'[1]87-0-14'!E2912","v":"EZETA"},{"$f":"'[1]87-0-14'!F2912","v":"MECHA INOXIDABLE"},{"$f":"'[1]87-0-14'!G2912*(1+$E$13)","v":7440.0775000000003}]
[{"$f":"'[1]87-0-14'!B2913","v":"MI6E"},{"$f":"'[1]87-0-14'!D2913","v":"MECHA INOXIDAB  6,00"},{"$f":"'[1]87-0-14'!E2913","v":"EZETA"},{"$f":"'[1]87-0-14'!F2913","v":"MECHA INOXIDABLE"},{"$f":"'[1]87-0-14'!G2913*(1+$E$13)","v":7766.4765000000007}]
[{"$f":"'[1]87-0-14'!B2914","v":"MI625E"},{"$f":"'[1]87-0-14'!D2914","v":"MECHA INOXIDAB  6,25"},{"$f":"'[1]87-0-14'!E2914","v":"EZETA"},{"$f":"'[1]87-0-14'!F2914","v":"MECHA INOXIDABLE"},{"$f":"'[1]87-0-14'!G2914*(1+$E$13)","v":9302.5110000000004}]
[{"$f":"'[1]87-0-14'!B2915","v":"MI650E"},{"$f":"'[1]87-0-14'!D2915","v":"MECHA INOXIDAB  6,50"},{"$f":"'[1]87-0-14'!E2915","v":"EZETA"},{"$f":"'[1]87-0-14'!F2915","v":"MECHA INOXIDABLE"},{"$f":"'[1]87-0-14'!G2915*(1+$E$13)","v":9302.5110000000004}]
[{"$f":"'[1]87-0-14'!B2916","v":"MI675E"},{"$f":"'[1]87-0-14'!D2916","v":"MECHA INOXIDAB  6,75"},{"$f":"'[1]87-0-14'!E2916","v":"EZETA"},{"$f":"'[1]87-0-14'!F2916","v":"MECHA INOXIDABLE"},{"$f":"'[1]87-0-14'!G2916*(1+$E$13)","v":9880.2114999999994}]
[{"$f":"'[1]87-0-14'!B2917","v":"MI7E"},{"$f":"'[1]87-0-14'!D2917","v":"MECHA INOXIDAB  7,00"},{"$f":"'[1]87-0-14'!E2917","v":"EZETA"},{"$f":"'[1]87-0-14'!F2917","v":"MECHA INOXIDABLE"},{"$f":"'[1]87-0-14'!G2917*(1+$E$13)","v":9880.2114999999994}]
[{"$f":"'[1]87-0-14'!B2918","v":"MI8E"},{"$f":"'[1]87-0-14'!D2918","v":"MECHA INOXIDAB  8,00"},{"$f":"'[1]87-0-14'!E2918","v":"EZETA"},{"$f":"'[1]87-0-14'!F2918","v":"MECHA INOXIDABLE"},{"$f":"'[1]87-0-14'!G2918*(1+$E$13)","v":11950.0815}]
[{"$f":"'[1]87-0-14'!B2919","v":"MI825E"},{"$f":"'[1]87-0-14'!D2919","v":"MECHA INOXIDAB  8,25"},{"$f":"'[1]87-0-14'!E2919","v":"EZETA"},{"$f":"'[1]87-0-14'!F2919","v":"MECHA INOXIDABLE"},{"$f":"'[1]87-0-14'!G2919*(1+$E$13)","v":12290.756000000001}]
[{"$f":"'[1]87-0-14'!B2920","v":"MI9E"},{"$f":"'[1]87-0-14'!D2920","v":"MECHA INOXIDAB  9,00"},{"$f":"'[1]87-0-14'!E2920","v":"EZETA"},{"$f":"'[1]87-0-14'!F2920","v":"MECHA INOXIDABLE"},{"$f":"'[1]87-0-14'!G2920*(1+$E$13)","v":14270.8035}]
[{"$f":"'[1]87-0-14'!B2921","v":"MI10E"},{"$f":"'[1]87-0-14'!D2921","v":"MECHA INOXIDAB 10,00"},{"$f":"'[1]87-0-14'!E2921","v":"EZETA"},{"$f":"'[1]87-0-14'!F2921","v":"MECHA INOXIDABLE"},{"$f":"'[1]87-0-14'!G2921*(1+$E$13)","v":19752.719500000003}]
[{"$f":"'[1]87-0-14'!B2922","v":"MI12E"},{"$f":"'[1]87-0-14'!D2922","v":"MECHA INOXIDAB 12,00"},{"$f":"'[1]87-0-14'!E2922","v":"EZETA"},{"$f":"'[1]87-0-14'!F2922","v":"MECHA INOXIDABLE"},{"$f":"'[1]87-0-14'!G2922*(1+$E$13)","v":28979.404500000001}]
[{"$f":"'[1]87-0-14'!B2923","v":"MB250E"},{"$f":"'[1]87-0-14'!D2923","v":"MECHA P/BRONCE  2,50"},{"$f":"'[1]87-0-14'!E2923","v":"EZETA"},{"$f":"'[1]87-0-14'!F2923","v":"MECHA P/BRONCE"},{"$f":"'[1]87-0-14'!G2923*(1+$E$13)","v":4073.4155000000005}]
[{"$f":"'[1]87-0-14'!B2924","v":"MB260E"},{"$f":"'[1]87-0-14'!D2924","v":"MECHA P/BRONCE  2,60"},{"$f":"'[1]87-0-14'!E2924","v":"EZETA"},{"$f":"'[1]87-0-14'!F2924","v":"MECHA P/BRONCE"},{"$f":"'[1]87-0-14'!G2924*(1+$E$13)","v":4796.7695000000003}]
[{"$f":"'[1]87-0-14'!B2925","v":"MB325E"},{"$f":"'[1]87-0-14'!D2925","v":"MECHA P/BRONCE  3,25"},{"$f":"'[1]87-0-14'!E2925","v":"EZETA"},{"$f":"'[1]87-0-14'!F2925","v":"MECHA P/BRONCE"},{"$f":"'[1]87-0-14'!G2925*(1+$E$13)","v":4648.6049999999996}]
[{"$f":"'[1]87-0-14'!B2926","v":"MB350E"},{"$f":"'[1]87-0-14'!D2926","v":"MECHA P/BRONCE  3,50"},{"$f":"'[1]87-0-14'!E2926","v":"EZETA"},{"$f":"'[1]87-0-14'!F2926","v":"MECHA P/BRONCE"},{"$f":"'[1]87-0-14'!G2926*(1+$E$13)","v":4648.6049999999996}]
[{"$f":"'[1]87-0-14'!B2927","v":"MB4E"},{"$f":"'[1]87-0-14'!D2927","v":"MECHA P/BRONCE  4,00"},{"$f":"'[1]87-0-14'!E2927","v":"EZETA"},{"$f":"'[1]87-0-14'!F2927","v":"MECHA P/BRONCE"},{"$f":"'[1]87-0-14'!G2927*(1+$E$13)","v":4986.1950000000006}]
[{"$f":"'[1]87-0-14'!B2928","v":"MB425E"},{"$f":"'[1]87-0-14'!D2928","v":"MECHA P/BRONCE  4,25"},{"$f":"'[1]87-0-14'!E2928","v":"EZETA"},{"$f":"'[1]87-0-14'!F2928","v":"MECHA P/BRONCE"},{"$f":"'[1]87-0-14'!G2928*(1+$E$13)","v":5421.1405000000004}]
[{"$f":"'[1]87-0-14'!B2929","v":"MB5E"},{"$f":"'[1]87-0-14'!D2929","v":"MECHA P/BRONCE  5,00"},{"$f":"'[1]87-0-14'!E2929","v":"EZETA"},{"$f":"'[1]87-0-14'!F2929","v":"MECHA P/BRONCE"},{"$f":"'[1]87-0-14'!G2929*(1+$E$13)","v":6672.4865}]
[{"$f":"'[1]87-0-14'!B2930","v":"MB525E"},{"$f":"'[1]87-0-14'!D2930","v":"MECHA P/BRONCE  5,25"},{"$f":"'[1]87-0-14'!E2930","v":"EZETA"},{"$f":"'[1]87-0-14'!F2930","v":"MECHA P/BRONCE"},{"$f":"'[1]87-0-14'!G2930*(1+$E$13)","v":7833.8240000000005}]
[{"$f":"'[1]87-0-14'!B2931","v":"MB850E"},{"$f":"'[1]87-0-14'!D2931","v":"MECHA P/BRONCE  8,50"},{"$f":"'[1]87-0-14'!E2931","v":"EZETA"},{"$f":"'[1]87-0-14'!F2931","v":"MECHA P/BRONCE"},{"$f":"'[1]87-0-14'!G2931*(1+$E$13)","v":17239.688999999998}]
[{"$f":"'[1]87-0-14'!B2932","v":"MB10E"},{"$f":"'[1]87-0-14'!D2932","v":"MECHA P/BRONCE 10,00"},{"$f":"'[1]87-0-14'!E2932","v":"EZETA"},{"$f":"'[1]87-0-14'!F2932","v":"MECHA P/BRONCE"},{"$f":"'[1]87-0-14'!G2932*(1+$E$13)","v":25828.642}]
[{"$f":"'[1]87-0-14'!B2933","v":"MB1250E"},{"$f":"'[1]87-0-14'!D2933","v":"MECHA P/BRONCE 12,50"},{"$f":"'[1]87-0-14'!E2933","v":"EZETA"},{"$f":"'[1]87-0-14'!F2933","v":"MECHA P/BRONCE"},{"$f":"'[1]87-0-14'!G2933*(1+$E$13)","v":41515.711500000005}]
[{"$f":"'[1]87-0-14'!B2934","v":"MSL1E"},{"$f":"'[1]87-0-14'!D2934","v":"MECHA S/LARGA   1,00"},{"$f":"'[1]87-0-14'!E2934","v":"EZETA"},{"$f":"'[1]87-0-14'!F2934","v":"MECHA SERIE LARGA"},{"$f":"'[1]87-0-14'!G2934*(1+$E$13)","v":7989.8314999999993}]
[{"$f":"'[1]87-0-14'!B2935","v":"MSL125E"},{"$f":"'[1]87-0-14'!D2935","v":"MECHA S/LARGA   1,25"},{"$f":"'[1]87-0-14'!E2935","v":"EZETA"},{"$f":"'[1]87-0-14'!F2935","v":"MECHA SERIE LARGA"},{"$f":"'[1]87-0-14'!G2935*(1+$E$13)","v":7733.0895}]
[{"$f":"'[1]87-0-14'!B2936","v":"MSL150E"},{"$f":"'[1]87-0-14'!D2936","v":"MECHA S/LARGA   1,50"},{"$f":"'[1]87-0-14'!E2936","v":"EZETA"},{"$f":"'[1]87-0-14'!F2936","v":"MECHA SERIE LARGA"},{"$f":"'[1]87-0-14'!G2936*(1+$E$13)","v":7294.5324999999993}]
[{"$f":"'[1]87-0-14'!B2937","v":"MSL2E"},{"$f":"'[1]87-0-14'!D2937","v":"MECHA S/LARGA   2,00"},{"$f":"'[1]87-0-14'!E2937","v":"EZETA"},{"$f":"'[1]87-0-14'!F2937","v":"MECHA SERIE LARGA"},{"$f":"'[1]87-0-14'!G2937*(1+$E$13)","v":6879.2875000000004}]
[{"$f":"'[1]87-0-14'!B2938","v":"MSL225E"},{"$f":"'[1]87-0-14'!D2938","v":"MECHA S/LARGA   2,25"},{"$f":"'[1]87-0-14'!E2938","v":"EZETA"},{"$f":"'[1]87-0-14'!F2938","v":"MECHA SERIE LARGA"},{"$f":"'[1]87-0-14'!G2938*(1+$E$13)","v":7121.01}]
[{"$f":"'[1]87-0-14'!B2939","v":"MSL250E"},{"$f":"'[1]87-0-14'!D2939","v":"MECHA S/LARGA   2,50"},{"$f":"'[1]87-0-14'!E2939","v":"EZETA"},{"$f":"'[1]87-0-14'!F2939","v":"MECHA SERIE LARGA"},{"$f":"'[1]87-0-14'!G2939*(1+$E$13)","v":7236.1594999999998}]
[{"$f":"'[1]87-0-14'!B2940","v":"MSL275E"},{"$f":"'[1]87-0-14'!D2940","v":"MECHA S/LARGA   2,75"},{"$f":"'[1]87-0-14'!E2940","v":"EZETA"},{"$f":"'[1]87-0-14'!F2940","v":"MECHA SERIE LARGA"},{"$f":"'[1]87-0-14'!G2940*(1+$E$13)","v":7733.0895}]
[{"$f":"'[1]87-0-14'!B2941","v":"MSL3E"},{"$f":"'[1]87-0-14'!D2941","v":"MECHA S/LARGA   3,00"},{"$f":"'[1]87-0-14'!E2941","v":"EZETA"},{"$f":"'[1]87-0-14'!F2941","v":"MECHA SERIE LARGA"},{"$f":"'[1]87-0-14'!G2941*(1+$E$13)","v":7997.2714999999998}]
[{"$f":"'[1]87-0-14'!B2942","v":"MSL325E"},{"$f":"'[1]87-0-14'!D2942","v":"MECHA S/LARGA   3,25"},{"$f":"'[1]87-0-14'!E2942","v":"EZETA"},{"$f":"'[1]87-0-14'!F2942","v":"MECHA SERIE LARGA"},{"$f":"'[1]87-0-14'!G2942*(1+$E$13)","v":8844.6720000000005}]
[{"$f":"'[1]87-0-14'!B2943","v":"MSL350E"},{"$f":"'[1]87-0-14'!D2943","v":"MECHA S/LARGA   3,50"},{"$f":"'[1]87-0-14'!E2943","v":"EZETA"},{"$f":"'[1]87-0-14'!F2943","v":"MECHA SERIE LARGA"},{"$f":"'[1]87-0-14'!G2943*(1+$E$13)","v":9248.6484999999993}]
[{"$f":"'[1]87-0-14'!B2944","v":"MSL375E"},{"$f":"'[1]87-0-14'!D2944","v":"MECHA S/LARGA   3,75"},{"$f":"'[1]87-0-14'!E2944","v":"EZETA"},{"$f":"'[1]87-0-14'!F2944","v":"MECHA SERIE LARGA"},{"$f":"'[1]87-0-14'!G2944*(1+$E$13)","v":10006.025}]
[{"$f":"'[1]87-0-14'!B2945","v":"MSL4E"},{"$f":"'[1]87-0-14'!D2945","v":"MECHA S/LARGA   4,00"},{"$f":"'[1]87-0-14'!E2945","v":"EZETA"},{"$f":"'[1]87-0-14'!F2945","v":"MECHA SERIE LARGA"},{"$f":"'[1]87-0-14'!G2945*(1+$E$13)","v":10392.378000000001}]
[{"$f":"'[1]87-0-14'!B2946","v":"MSL425E"},{"$f":"'[1]87-0-14'!D2946","v":"MECHA S/LARGA   4,25"},{"$f":"'[1]87-0-14'!E2946","v":"EZETA"},{"$f":"'[1]87-0-14'!F2946","v":"MECHA SERIE LARGA"},{"$f":"'[1]87-0-14'!G2946*(1+$E$13)","v":11235.826000000001}]
[{"$f":"'[1]87-0-14'!B2947","v":"MSL450E"},{"$f":"'[1]87-0-14'!D2947","v":"MECHA S/LARGA   4,50"},{"$f":"'[1]87-0-14'!E2947","v":"EZETA"},{"$f":"'[1]87-0-14'!F2947","v":"MECHA SERIE LARGA"},{"$f":"'[1]87-0-14'!G2947*(1+$E$13)","v":11656.0465}]
[{"$f":"'[1]87-0-14'!B2948","v":"MSL475E"},{"$f":"'[1]87-0-14'!D2948","v":"MECHA S/LARGA   4,75"},{"$f":"'[1]87-0-14'!E2948","v":"EZETA"},{"$f":"'[1]87-0-14'!F2948","v":"MECHA SERIE LARGA"},{"$f":"'[1]87-0-14'!G2948*(1+$E$13)","v":12528.479500000001}]
[{"$f":"'[1]87-0-14'!B2949","v":"MSL5E"},{"$f":"'[1]87-0-14'!D2949","v":"MECHA S/LARGA   5,00"},{"$f":"'[1]87-0-14'!E2949","v":"EZETA"},{"$f":"'[1]87-0-14'!F2949","v":"MECHA SERIE LARGA"},{"$f":"'[1]87-0-14'!G2949*(1+$E$13)","v":12963.068500000001}]
[{"$f":"'[1]87-0-14'!B2950","v":"MSL525E"},{"$f":"'[1]87-0-14'!D2950","v":"MECHA S/LARGA   5,25"},{"$f":"'[1]87-0-14'!E2950","v":"EZETA"},{"$f":"'[1]87-0-14'!F2950","v":"MECHA SERIE LARGA"},{"$f":"'[1]87-0-14'!G2950*(1+$E$13)","v":13893.905499999999}]
[{"$f":"'[1]87-0-14'!B2951","v":"MSL550E"},{"$f":"'[1]87-0-14'!D2951","v":"MECHA S/LARGA   5,50"},{"$f":"'[1]87-0-14'!E2951","v":"EZETA"},{"$f":"'[1]87-0-14'!F2951","v":"MECHA SERIE LARGA"},{"$f":"'[1]87-0-14'!G2951*(1+$E$13)","v":14337.112500000001}]
[{"$f":"'[1]87-0-14'!B2952","v":"MSL575E"},{"$f":"'[1]87-0-14'!D2952","v":"MECHA S/LARGA   5.75"},{"$f":"'[1]87-0-14'!E2952","v":"EZETA"},{"$f":"'[1]87-0-14'!F2952","v":"MECHA SERIE LARGA"},{"$f":"'[1]87-0-14'!G2952*(1+$E$13)","v":15023.870999999999}]
[{"$f":"'[1]87-0-14'!B2953","v":"MSL6E"},{"$f":"'[1]87-0-14'!D2953","v":"MECHA S/LARGA   6,00"},{"$f":"'[1]87-0-14'!E2953","v":"EZETA"},{"$f":"'[1]87-0-14'!F2953","v":"MECHA SERIE LARGA"},{"$f":"'[1]87-0-14'!G2953*(1+$E$13)","v":15885.128499999999}]
[{"$f":"'[1]87-0-14'!B2954","v":"MSL625E"},{"$f":"'[1]87-0-14'!D2954","v":"MECHA S/LARGA   6,25"},{"$f":"'[1]87-0-14'!E2954","v":"EZETA"},{"$f":"'[1]87-0-14'!F2954","v":"MECHA SERIE LARGA"},{"$f":"'[1]87-0-14'!G2954*(1+$E$13)","v":17655.2595}]
[{"$f":"'[1]87-0-14'!B2955","v":"MSL650E"},{"$f":"'[1]87-0-14'!D2955","v":"MECHA S/LARGA   6,50"},{"$f":"'[1]87-0-14'!E2955","v":"EZETA"},{"$f":"'[1]87-0-14'!F2955","v":"MECHA SERIE LARGA"},{"$f":"'[1]87-0-14'!G2955*(1+$E$13)","v":18558.2585}]
[{"$f":"'[1]87-0-14'!B2956","v":"MSL675E"},{"$f":"'[1]87-0-14'!D2956","v":"MECHA S/LARGA   6,75"},{"$f":"'[1]87-0-14'!E2956","v":"EZETA"},{"$f":"'[1]87-0-14'!F2956","v":"MECHA SERIE LARGA"},{"$f":"'[1]87-0-14'!G2956*(1+$E$13)","v":20318.64}]
[{"$f":"'[1]87-0-14'!B2957","v":"MSL7E"},{"$f":"'[1]87-0-14'!D2957","v":"MECHA S/LARGA   7,00"},{"$f":"'[1]87-0-14'!E2957","v":"EZETA"},{"$f":"'[1]87-0-14'!F2957","v":"MECHA SERIE LARGA"},{"$f":"'[1]87-0-14'!G2957*(1+$E$13)","v":21210.0605}]
[{"$f":"'[1]87-0-14'!B2958","v":"MSL725E"},{"$f":"'[1]87-0-14'!D2958","v":"MECHA S/LARGA   7,25"},{"$f":"'[1]87-0-14'!E2958","v":"EZETA"},{"$f":"'[1]87-0-14'!F2958","v":"MECHA SERIE LARGA"},{"$f":"'[1]87-0-14'!G2958*(1+$E$13)","v":22975.712000000003}]
[{"$f":"'[1]87-0-14'!B2959","v":"MSL750E"},{"$f":"'[1]87-0-14'!D2959","v":"MECHA S/LARGA   7,50"},{"$f":"'[1]87-0-14'!E2959","v":"EZETA"},{"$f":"'[1]87-0-14'!F2959","v":"MECHA SERIE LARGA"},{"$f":"'[1]87-0-14'!G2959*(1+$E$13)","v":23874.665500000003}]
[{"$f":"'[1]87-0-14'!B2960","v":"MSL8E"},{"$f":"'[1]87-0-14'!D2960","v":"MECHA S/LARGA   8,00"},{"$f":"'[1]87-0-14'!E2960","v":"EZETA"},{"$f":"'[1]87-0-14'!F2960","v":"MECHA SERIE LARGA"},{"$f":"'[1]87-0-14'!G2960*(1+$E$13)","v":26407.846000000001}]
[{"$f":"'[1]87-0-14'!B2961","v":"MSL825E"},{"$f":"'[1]87-0-14'!D2961","v":"MECHA S/LARGA   8,25"},{"$f":"'[1]87-0-14'!E2961","v":"EZETA"},{"$f":"'[1]87-0-14'!F2961","v":"MECHA SERIE LARGA"},{"$f":"'[1]87-0-14'!G2961*(1+$E$13)","v":30178.345000000005}]
[{"$f":"'[1]87-0-14'!B2962","v":"MSL850E"},{"$f":"'[1]87-0-14'!D2962","v":"MECHA S/LARGA   8,50"},{"$f":"'[1]87-0-14'!E2962","v":"EZETA"},{"$f":"'[1]87-0-14'!F2962","v":"MECHA SERIE LARGA"},{"$f":"'[1]87-0-14'!G2962*(1+$E$13)","v":29335.780500000004}]
[{"$f":"'[1]87-0-14'!B2963","v":"MSL9E"},{"$f":"'[1]87-0-14'!D2963","v":"MECHA S/LARGA   9,00"},{"$f":"'[1]87-0-14'!E2963","v":"EZETA"},{"$f":"'[1]87-0-14'!F2963","v":"MECHA SERIE LARGA"},{"$f":"'[1]87-0-14'!G2963*(1+$E$13)","v":32182.185000000001}]
[{"$f":"'[1]87-0-14'!B2964","v":"MSL925E"},{"$f":"'[1]87-0-14'!D2964","v":"MECHA S/LARGA   9,25"},{"$f":"'[1]87-0-14'!E2964","v":"EZETA"},{"$f":"'[1]87-0-14'!F2964","v":"MECHA SERIE LARGA"},{"$f":"'[1]87-0-14'!G2964*(1+$E$13)","v":35098.944000000003}]
[{"$f":"'[1]87-0-14'!B2965","v":"MSL950E"},{"$f":"'[1]87-0-14'!D2965","v":"MECHA S/LARGA   9,50"},{"$f":"'[1]87-0-14'!E2965","v":"EZETA"},{"$f":"'[1]87-0-14'!F2965","v":"MECHA SERIE LARGA"},{"$f":"'[1]87-0-14'!G2965*(1+$E$13)","v":36563.833500000001}]
[{"$f":"'[1]87-0-14'!B2966","v":"MSL975E"},{"$f":"'[1]87-0-14'!D2966","v":"MECHA S/LARGA   9,75"},{"$f":"'[1]87-0-14'!E2966","v":"EZETA"},{"$f":"'[1]87-0-14'!F2966","v":"MECHA SERIE LARGA"},{"$f":"'[1]87-0-14'!G2966*(1+$E$13)","v":39462.504000000001}]
[{"$f":"'[1]87-0-14'!B2967","v":"MSL10E"},{"$f":"'[1]87-0-14'!D2967","v":"MECHA S/LARGA  10,00"},{"$f":"'[1]87-0-14'!E2967","v":"EZETA"},{"$f":"'[1]87-0-14'!F2967","v":"MECHA SERIE LARGA"},{"$f":"'[1]87-0-14'!G2967*(1+$E$13)","v":40894.89}]
[{"$f":"'[1]87-0-14'!B2968","v":"MSL1025E"},{"$f":"'[1]87-0-14'!D2968","v":"MECHA S/LARGA  10,25"},{"$f":"'[1]87-0-14'!E2968","v":"EZETA"},{"$f":"'[1]87-0-14'!F2968","v":"MECHA SERIE LARGA"},{"$f":"'[1]87-0-14'!G2968*(1+$E$13)","v":43104.694000000003}]
[{"$f":"'[1]87-0-14'!B2969","v":"MSL1050E"},{"$f":"'[1]87-0-14'!D2969","v":"MECHA S/LARGA  10,50"},{"$f":"'[1]87-0-14'!E2969","v":"EZETA"},{"$f":"'[1]87-0-14'!F2969","v":"MECHA SERIE LARGA"},{"$f":"'[1]87-0-14'!G2969*(1+$E$13)","v":44192.080999999998}]
[{"$f":"'[1]87-0-14'!B2970","v":"MSL1075E"},{"$f":"'[1]87-0-14'!D2970","v":"MECHA S/LARGA  10,75"},{"$f":"'[1]87-0-14'!E2970","v":"EZETA"},{"$f":"'[1]87-0-14'!F2970","v":"MECHA SERIE LARGA"},{"$f":"'[1]87-0-14'!G2970*(1+$E$13)","v":47128.773000000001}]
[{"$f":"'[1]87-0-14'!B2971","v":"MSL12E"},{"$f":"'[1]87-0-14'!D2971","v":"MECHA S/LARGA  12,00"},{"$f":"'[1]87-0-14'!E2971","v":"EZETA"},{"$f":"'[1]87-0-14'!F2971","v":"MECHA SERIE LARGA"},{"$f":"'[1]87-0-14'!G2971*(1+$E$13)","v":55967.245000000003}]
[{"$f":"'[1]87-0-14'!B2972","v":"MSL13E"},{"$f":"'[1]87-0-14'!D2972","v":"MECHA S/LARGA  13,00"},{"$f":"'[1]87-0-14'!E2972","v":"EZETA"},{"$f":"'[1]87-0-14'!F2972","v":"MECHA SERIE LARGA"},{"$f":"'[1]87-0-14'!G2972*(1+$E$13)","v":60196.280500000001}]
[{"$f":"'[1]87-0-14'!B2973","v":"MS6110E"},{"$f":"'[1]87-0-14'!D2973","v":"MECHA SDS PLUS  6x110mm"},{"$f":"'[1]87-0-14'!E2973","v":"ESSAMET"},{"$f":"'[1]87-0-14'!F2973","v":"MECHA WIDIA"},{"$f":"'[1]87-0-14'!G2973*(1+$E$13)","v":2925.8420000000001}]
[{"$f":"'[1]87-0-14'!B2974","v":"MS6160E"},{"$f":"'[1]87-0-14'!D2974","v":"MECHA SDS PLUS  6x160mm"},{"$f":"'[1]87-0-14'!E2974","v":"ESSAMET"},{"$f":"'[1]87-0-14'!F2974","v":"MECHA WIDIA"},{"$f":"'[1]87-0-14'!G2974*(1+$E$13)","v":3285.9534999999996}]
[{"$f":"'[1]87-0-14'!B2975","v":"MS8110E"},{"$f":"'[1]87-0-14'!D2975","v":"MECHA SDS PLUS  8x110mm"},{"$f":"'[1]87-0-14'!E2975","v":"ESSAMET"},{"$f":"'[1]87-0-14'!F2975","v":"MECHA WIDIA"},{"$f":"'[1]87-0-14'!G2975*(1+$E$13)","v":3033.8924999999999}]
[{"$f":"'[1]87-0-14'!B2976","v":"MS8160E"},{"$f":"'[1]87-0-14'!D2976","v":"MECHA SDS PLUS  8x160mm"},{"$f":"'[1]87-0-14'!E2976","v":"ESSAMET"},{"$f":"'[1]87-0-14'!F2976","v":"MECHA WIDIA"},{"$f":"'[1]87-0-14'!G2976*(1+$E$13)","v":3422.2914999999998}]
[{"$f":"'[1]87-0-14'!B2977","v":"MS8210E"},{"$f":"'[1]87-0-14'!D2977","v":"MECHA SDS PLUS  8x210mm"},{"$f":"'[1]87-0-14'!E2977","v":"ESSAMET"},{"$f":"'[1]87-0-14'!F2977","v":"MECHA WIDIA"},{"$f":"'[1]87-0-14'!G2977*(1+$E$13)","v":4936.0525000000007}]
[{"$f":"'[1]87-0-14'!B2978","v":"MS10160E"},{"$f":"'[1]87-0-14'!D2978","v":"MECHA SDS PLUS 10x160mm"},{"$f":"'[1]87-0-14'!E2978","v":"ESSAMET"},{"$f":"'[1]87-0-14'!F2978","v":"MECHA WIDIA"},{"$f":"'[1]87-0-14'!G2978*(1+$E$13)","v":3688.1010000000001}]
[{"$f":"'[1]87-0-14'!B2979","v":"MS10210E"},{"$f":"'[1]87-0-14'!D2979","v":"MECHA SDS PLUS 10x210mm"},{"$f":"'[1]87-0-14'!E2979","v":"ESSAMET"},{"$f":"'[1]87-0-14'!F2979","v":"MECHA WIDIA"},{"$f":"'[1]87-0-14'!G2979*(1+$E$13)","v":5153.0525000000007}]
[{"$f":"'[1]87-0-14'!B2980","v":"MS12160E"},{"$f":"'[1]87-0-14'!D2980","v":"MECHA SDS PLUS 12x160mm"},{"$f":"'[1]87-0-14'!E2980","v":"ESSAMET"},{"$f":"'[1]87-0-14'!F2980","v":"MECHA WIDIA"},{"$f":"'[1]87-0-14'!G2980*(1+$E$13)","v":4377.8975}]
[{"$f":"'[1]87-0-14'!B2981","v":"MS12210E"},{"$f":"'[1]87-0-14'!D2981","v":"MECHA SDS PLUS 12x210mm"},{"$f":"'[1]87-0-14'!E2981","v":"ESSAMET"},{"$f":"'[1]87-0-14'!F2981","v":"MECHA WIDIA"},{"$f":"'[1]87-0-14'!G2981*(1+$E$13)","v":5583.5650000000005}]
[{"$f":"'[1]87-0-14'!B2982","v":"MT1E"},{"$f":"'[1]87-0-14'!D2982","v":"MECHA TITANIO  1,00"},{"$f":"'[1]87-0-14'!E2982","v":"EZETA"},{"$f":"'[1]87-0-14'!F2982","v":"MECHA TITANIO"},{"$f":"'[1]87-0-14'!G2982*(1+$E$13)","v":8680.8680000000004}]
[{"$f":"'[1]87-0-14'!B2983","v":"MT125E"},{"$f":"'[1]87-0-14'!D2983","v":"MECHA TITANIO  1,25"},{"$f":"'[1]87-0-14'!E2983","v":"EZETA"},{"$f":"'[1]87-0-14'!F2983","v":"MECHA TITANIO"},{"$f":"'[1]87-0-14'!G2983*(1+$E$13)","v":8539.4150000000009}]
[{"$f":"'[1]87-0-14'!B2984","v":"MT150E"},{"$f":"'[1]87-0-14'!D2984","v":"MECHA TITANIO  1,50"},{"$f":"'[1]87-0-14'!E2984","v":"EZETA"},{"$f":"'[1]87-0-14'!F2984","v":"MECHA TITANIO"},{"$f":"'[1]87-0-14'!G2984*(1+$E$13)","v":8440.8814999999995}]
[{"$f":"'[1]87-0-14'!B2985","v":"MT175E"},{"$f":"'[1]87-0-14'!D2985","v":"MECHA TITANIO  1,75"},{"$f":"'[1]87-0-14'!E2985","v":"EZETA"},{"$f":"'[1]87-0-14'!F2985","v":"MECHA TITANIO"},{"$f":"'[1]87-0-14'!G2985*(1+$E$13)","v":8150.7680000000009}]
[{"$f":"'[1]87-0-14'!B2986","v":"MT2E"},{"$f":"'[1]87-0-14'!D2986","v":"MECHA TITANIO  2,00"},{"$f":"'[1]87-0-14'!E2986","v":"EZETA"},{"$f":"'[1]87-0-14'!F2986","v":"MECHA TITANIO"},{"$f":"'[1]87-0-14'!G2986*(1+$E$13)","v":7980.2525000000005}]
[{"$f":"'[1]87-0-14'!B2987","v":"MT225E"},{"$f":"'[1]87-0-14'!D2987","v":"MECHA TITANIO  2,25"},{"$f":"'[1]87-0-14'!E2987","v":"EZETA"},{"$f":"'[1]87-0-14'!F2987","v":"MECHA TITANIO"},{"$f":"'[1]87-0-14'!G2987*(1+$E$13)","v":7980.2525000000005}]
[{"$f":"'[1]87-0-14'!B2988","v":"MT250E"},{"$f":"'[1]87-0-14'!D2988","v":"MECHA TITANIO  2,50"},{"$f":"'[1]87-0-14'!E2988","v":"EZETA"},{"$f":"'[1]87-0-14'!F2988","v":"MECHA TITANIO"},{"$f":"'[1]87-0-14'!G2988*(1+$E$13)","v":7980.2525000000005}]
[{"$f":"'[1]87-0-14'!B2989","v":"MT275E"},{"$f":"'[1]87-0-14'!D2989","v":"MECHA TITANIO  2,75"},{"$f":"'[1]87-0-14'!E2989","v":"EZETA"},{"$f":"'[1]87-0-14'!F2989","v":"MECHA TITANIO"},{"$f":"'[1]87-0-14'!G2989*(1+$E$13)","v":8018.1035000000011}]
[{"$f":"'[1]87-0-14'!B2990","v":"MT3E"},{"$f":"'[1]87-0-14'!D2990","v":"MECHA TITANIO  3,00"},{"$f":"'[1]87-0-14'!E2990","v":"EZETA"},{"$f":"'[1]87-0-14'!F2990","v":"MECHA TITANIO"},{"$f":"'[1]87-0-14'!G2990*(1+$E$13)","v":8271.6834999999992}]
[{"$f":"'[1]87-0-14'!B2991","v":"MT325E"},{"$f":"'[1]87-0-14'!D2991","v":"MECHA TITANIO  3,25"},{"$f":"'[1]87-0-14'!E2991","v":"EZETA"},{"$f":"'[1]87-0-14'!F2991","v":"MECHA TITANIO"},{"$f":"'[1]87-0-14'!G2991*(1+$E$13)","v":8448.1665000000012}]
[{"$f":"'[1]87-0-14'!B2992","v":"MT350E"},{"$f":"'[1]87-0-14'!D2992","v":"MECHA TITANIO  3,50"},{"$f":"'[1]87-0-14'!E2992","v":"EZETA"},{"$f":"'[1]87-0-14'!F2992","v":"MECHA TITANIO"},{"$f":"'[1]87-0-14'!G2992*(1+$E$13)","v":8504.9274999999998}]
[{"$f":"'[1]87-0-14'!B2993","v":"MT375E"},{"$f":"'[1]87-0-14'!D2993","v":"MECHA TITANIO  3,75"},{"$f":"'[1]87-0-14'!E2993","v":"EZETA"},{"$f":"'[1]87-0-14'!F2993","v":"MECHA TITANIO"},{"$f":"'[1]87-0-14'!G2993*(1+$E$13)","v":8804.1085000000003}]
[{"$f":"'[1]87-0-14'!B2994","v":"MT4E"},{"$f":"'[1]87-0-14'!D2994","v":"MECHA TITANIO  4,00"},{"$f":"'[1]87-0-14'!E2994","v":"EZETA"},{"$f":"'[1]87-0-14'!F2994","v":"MECHA TITANIO"},{"$f":"'[1]87-0-14'!G2994*(1+$E$13)","v":8972.6555000000008}]
[{"$f":"'[1]87-0-14'!B2995","v":"MT425E"},{"$f":"'[1]87-0-14'!D2995","v":"MECHA TITANIO  4,25"},{"$f":"'[1]87-0-14'!E2995","v":"EZETA"},{"$f":"'[1]87-0-14'!F2995","v":"MECHA TITANIO"},{"$f":"'[1]87-0-14'!G2995*(1+$E$13)","v":10749.451500000001}]
[{"$f":"'[1]87-0-14'!B2996","v":"MT450E"},{"$f":"'[1]87-0-14'!D2996","v":"MECHA TITANIO  4,50"},{"$f":"'[1]87-0-14'!E2996","v":"EZETA"},{"$f":"'[1]87-0-14'!F2996","v":"MECHA TITANIO"},{"$f":"'[1]87-0-14'!G2996*(1+$E$13)","v":11018.717500000001}]
[{"$f":"'[1]87-0-14'!B2997","v":"MT475E"},{"$f":"'[1]87-0-14'!D2997","v":"MECHA TITANIO  4,75"},{"$f":"'[1]87-0-14'!E2997","v":"EZETA"},{"$f":"'[1]87-0-14'!F2997","v":"MECHA TITANIO"},{"$f":"'[1]87-0-14'!G2997*(1+$E$13)","v":11318.797500000001}]
[{"$f":"'[1]87-0-14'!B2998","v":"MT5E"},{"$f":"'[1]87-0-14'!D2998","v":"MECHA TITANIO  5,00"},{"$f":"'[1]87-0-14'!E2998","v":"EZETA"},{"$f":"'[1]87-0-14'!F2998","v":"MECHA TITANIO"},{"$f":"'[1]87-0-14'!G2998*(1+$E$13)","v":11562.5195}]
[{"$f":"'[1]87-0-14'!B2999","v":"MT525E"},{"$f":"'[1]87-0-14'!D2999","v":"MECHA TITANIO  5,25"},{"$f":"'[1]87-0-14'!E2999","v":"EZETA"},{"$f":"'[1]87-0-14'!F2999","v":"MECHA TITANIO"},{"$f":"'[1]87-0-14'!G2999*(1+$E$13)","v":11860.6775}]
[{"$f":"'[1]87-0-14'!B3000","v":"MT550E"},{"$f":"'[1]87-0-14'!D3000","v":"MECHA TITANIO  5,50"},{"$f":"'[1]87-0-14'!E3000","v":"EZETA"},{"$f":"'[1]87-0-14'!F3000","v":"MECHA TITANIO"},{"$f":"'[1]87-0-14'!G3000*(1+$E$13)","v":11989.529}]
[{"$f":"'[1]87-0-14'!B3001","v":"MT575E"},{"$f":"'[1]87-0-14'!D3001","v":"MECHA TITANIO  5,75"},{"$f":"'[1]87-0-14'!E3001","v":"EZETA"},{"$f":"'[1]87-0-14'!F3001","v":"MECHA TITANIO"},{"$f":"'[1]87-0-14'!G3001*(1+$E$13)","v":12150.372499999999}]
[{"$f":"'[1]87-0-14'!B3002","v":"MT6E"},{"$f":"'[1]87-0-14'!D3002","v":"MECHA TITANIO  6,00"},{"$f":"'[1]87-0-14'!E3002","v":"EZETA"},{"$f":"'[1]87-0-14'!F3002","v":"MECHA TITANIO"},{"$f":"'[1]87-0-14'!G3002*(1+$E$13)","v":12209.985500000001}]
[{"$f":"'[1]87-0-14'!B3003","v":"MT625E"},{"$f":"'[1]87-0-14'!D3003","v":"MECHA TITANIO  6,25"},{"$f":"'[1]87-0-14'!E3003","v":"EZETA"},{"$f":"'[1]87-0-14'!F3003","v":"MECHA TITANIO"},{"$f":"'[1]87-0-14'!G3003*(1+$E$13)","v":14432.406499999999}]
[{"$f":"'[1]87-0-14'!B3004","v":"MT650E"},{"$f":"'[1]87-0-14'!D3004","v":"MECHA TITANIO  6,50"},{"$f":"'[1]87-0-14'!E3004","v":"EZETA"},{"$f":"'[1]87-0-14'!F3004","v":"MECHA TITANIO"},{"$f":"'[1]87-0-14'!G3004*(1+$E$13)","v":14646.2755}]
[{"$f":"'[1]87-0-14'!B3005","v":"MT675E"},{"$f":"'[1]87-0-14'!D3005","v":"MECHA TITANIO  6,75"},{"$f":"'[1]87-0-14'!E3005","v":"EZETA"},{"$f":"'[1]87-0-14'!F3005","v":"MECHA TITANIO"},{"$f":"'[1]87-0-14'!G3005*(1+$E$13)","v":15349.696500000002}]
[{"$f":"'[1]87-0-14'!B3006","v":"MT7E"},{"$f":"'[1]87-0-14'!D3006","v":"MECHA TITANIO  7,00"},{"$f":"'[1]87-0-14'!E3006","v":"EZETA"},{"$f":"'[1]87-0-14'!F3006","v":"MECHA TITANIO"},{"$f":"'[1]87-0-14'!G3006*(1+$E$13)","v":15705.870999999999}]
[{"$f":"'[1]87-0-14'!B3007","v":"MT750E"},{"$f":"'[1]87-0-14'!D3007","v":"MECHA TITANIO  7,50"},{"$f":"'[1]87-0-14'!E3007","v":"EZETA"},{"$f":"'[1]87-0-14'!F3007","v":"MECHA TITANIO"},{"$f":"'[1]87-0-14'!G3007*(1+$E$13)","v":16713.681}]
[{"$f":"'[1]87-0-14'!B3008","v":"MT8E"},{"$f":"'[1]87-0-14'!D3008","v":"MECHA TITANIO  8,00"},{"$f":"'[1]87-0-14'!E3008","v":"EZETA"},{"$f":"'[1]87-0-14'!F3008","v":"MECHA TITANIO"},{"$f":"'[1]87-0-14'!G3008*(1+$E$13)","v":17998.398500000003}]
[{"$f":"'[1]87-0-14'!B3009","v":"MT825E"},{"$f":"'[1]87-0-14'!D3009","v":"MECHA TITANIO  8,25"},{"$f":"'[1]87-0-14'!E3009","v":"EZETA"},{"$f":"'[1]87-0-14'!F3009","v":"MECHA TITANIO"},{"$f":"'[1]87-0-14'!G3009*(1+$E$13)","v":19898.249}]
[{"$f":"'[1]87-0-14'!B3010","v":"MT850E"},{"$f":"'[1]87-0-14'!D3010","v":"MECHA TITANIO  8,50"},{"$f":"'[1]87-0-14'!E3010","v":"EZETA"},{"$f":"'[1]87-0-14'!F3010","v":"MECHA TITANIO"},{"$f":"'[1]87-0-14'!G3010*(1+$E$13)","v":20243.248}]
[{"$f":"'[1]87-0-14'!B3011","v":"MT9E"},{"$f":"'[1]87-0-14'!D3011","v":"MECHA TITANIO  9,00"},{"$f":"'[1]87-0-14'!E3011","v":"EZETA"},{"$f":"'[1]87-0-14'!F3011","v":"MECHA TITANIO"},{"$f":"'[1]87-0-14'!G3011*(1+$E$13)","v":21736.859}]
[{"$f":"'[1]87-0-14'!B3012","v":"MT925E"},{"$f":"'[1]87-0-14'!D3012","v":"MECHA TITANIO  9,25"},{"$f":"'[1]87-0-14'!E3012","v":"EZETA"},{"$f":"'[1]87-0-14'!F3012","v":"MECHA TITANIO"},{"$f":"'[1]87-0-14'!G3012*(1+$E$13)","v":22785.403000000002}]
[{"$f":"'[1]87-0-14'!B3013","v":"MT950E"},{"$f":"'[1]87-0-14'!D3013","v":"MECHA TITANIO  9,50"},{"$f":"'[1]87-0-14'!E3013","v":"EZETA"},{"$f":"'[1]87-0-14'!F3013","v":"MECHA TITANIO"},{"$f":"'[1]87-0-14'!G3013*(1+$E$13)","v":23253.688999999998}]
[{"$f":"'[1]87-0-14'!B3014","v":"MT10E"},{"$f":"'[1]87-0-14'!D3014","v":"MECHA TITANIO 10,00"},{"$f":"'[1]87-0-14'!E3014","v":"EZETA"},{"$f":"'[1]87-0-14'!F3014","v":"MECHA TITANIO"},{"$f":"'[1]87-0-14'!G3014*(1+$E$13)","v":29631.2415}]
[{"$f":"'[1]87-0-14'!B3015","v":"MT1025E"},{"$f":"'[1]87-0-14'!D3015","v":"MECHA TITANIO 10,25"},{"$f":"'[1]87-0-14'!E3015","v":"EZETA"},{"$f":"'[1]87-0-14'!F3015","v":"MECHA TITANIO"},{"$f":"'[1]87-0-14'!G3015*(1+$E$13)","v":34807.977999999996}]
[{"$f":"'[1]87-0-14'!B3016","v":"MT1050E"},{"$f":"'[1]87-0-14'!D3016","v":"MECHA TITANIO 10,50"},{"$f":"'[1]87-0-14'!E3016","v":"EZETA"},{"$f":"'[1]87-0-14'!F3016","v":"MECHA TITANIO"},{"$f":"'[1]87-0-14'!G3016*(1+$E$13)","v":35376.967499999999}]
[{"$f":"'[1]87-0-14'!B3017","v":"MT1075E"},{"$f":"'[1]87-0-14'!D3017","v":"MECHA TITANIO 10,75"},{"$f":"'[1]87-0-14'!E3017","v":"EZETA"},{"$f":"'[1]87-0-14'!F3017","v":"MECHA TITANIO"},{"$f":"'[1]87-0-14'!G3017*(1+$E$13)","v":36674.643000000004}]
[{"$f":"'[1]87-0-14'!B3018","v":"MT11E"},{"$f":"'[1]87-0-14'!D3018","v":"MECHA TITANIO 11,00"},{"$f":"'[1]87-0-14'!E3018","v":"EZETA"},{"$f":"'[1]87-0-14'!F3018","v":"MECHA TITANIO"},{"$f":"'[1]87-0-14'!G3018*(1+$E$13)","v":37235.169499999996}]
[{"$f":"'[1]87-0-14'!B3019","v":"MT1125E"},{"$f":"'[1]87-0-14'!D3019","v":"MECHA TITANIO 11,25"},{"$f":"'[1]87-0-14'!E3019","v":"EZETA"},{"$f":"'[1]87-0-14'!F3019","v":"MECHA TITANIO"},{"$f":"'[1]87-0-14'!G3019*(1+$E$13)","v":38897.4205}]
[{"$f":"'[1]87-0-14'!B3020","v":"MT1150E"},{"$f":"'[1]87-0-14'!D3020","v":"MECHA TITANIO 11,50"},{"$f":"'[1]87-0-14'!E3020","v":"EZETA"},{"$f":"'[1]87-0-14'!F3020","v":"MECHA TITANIO"},{"$f":"'[1]87-0-14'!G3020*(1+$E$13)","v":39376.262000000002}]
[{"$f":"'[1]87-0-14'!B3021","v":"MT12E"},{"$f":"'[1]87-0-14'!D3021","v":"MECHA TITANIO 12,00"},{"$f":"'[1]87-0-14'!E3021","v":"EZETA"},{"$f":"'[1]87-0-14'!F3021","v":"MECHA TITANIO"},{"$f":"'[1]87-0-14'!G3021*(1+$E$13)","v":41733.9205}]
[{"$f":"'[1]87-0-14'!B3022","v":"MT1225E"},{"$f":"'[1]87-0-14'!D3022","v":"MECHA TITANIO 12,25"},{"$f":"'[1]87-0-14'!E3022","v":"EZETA"},{"$f":"'[1]87-0-14'!F3022","v":"MECHA TITANIO"},{"$f":"'[1]87-0-14'!G3022*(1+$E$13)","v":44765.581000000006}]
[{"$f":"'[1]87-0-14'!B3023","v":"MT1250E"},{"$f":"'[1]87-0-14'!D3023","v":"MECHA TITANIO 12,50"},{"$f":"'[1]87-0-14'!E3023","v":"EZETA"},{"$f":"'[1]87-0-14'!F3023","v":"MECHA TITANIO"},{"$f":"'[1]87-0-14'!G3023*(1+$E$13)","v":45779.947500000002}]
[{"$f":"'[1]87-0-14'!B3024","v":"MT1275E"},{"$f":"'[1]87-0-14'!D3024","v":"MECHA TITANIO 12,75"},{"$f":"'[1]87-0-14'!E3024","v":"EZETA"},{"$f":"'[1]87-0-14'!F3024","v":"MECHA TITANIO"},{"$f":"'[1]87-0-14'!G3024*(1+$E$13)","v":48678.959000000003}]
[{"$f":"'[1]87-0-14'!B3025","v":"MT13E"},{"$f":"'[1]87-0-14'!D3025","v":"MECHA TITANIO 13,00"},{"$f":"'[1]87-0-14'!E3025","v":"EZETA"},{"$f":"'[1]87-0-14'!F3025","v":"MECHA TITANIO"},{"$f":"'[1]87-0-14'!G3025*(1+$E$13)","v":49600.914499999999}]
[{"$f":"'[1]87-0-14'!B3026","v":"MW2006E"},{"$f":"'[1]87-0-14'!D3026","v":"MECHA WIDIA 200  6mm"},{"$f":"'[1]87-0-14'!E3026","v":"EZETA"},{"$f":"'[1]87-0-14'!F3026","v":"MECHA WIDIA 200"},{"$f":"'[1]87-0-14'!G3026*(1+$E$13)","v":9139.0480000000007}]
[{"$f":"'[1]87-0-14'!B3027","v":"MW2008E"},{"$f":"'[1]87-0-14'!D3027","v":"MECHA WIDIA 200  8mm"},{"$f":"'[1]87-0-14'!E3027","v":"EZETA"},{"$f":"'[1]87-0-14'!F3027","v":"MECHA WIDIA 200"},{"$f":"'[1]87-0-14'!G3027*(1+$E$13)","v":11031.5515}]
[{"$f":"'[1]87-0-14'!B3028","v":"MW20010E"},{"$f":"'[1]87-0-14'!D3028","v":"MECHA WIDIA 200 10mm"},{"$f":"'[1]87-0-14'!E3028","v":"EZETA"},{"$f":"'[1]87-0-14'!F3028","v":"MECHA WIDIA 200"},{"$f":"'[1]87-0-14'!G3028*(1+$E$13)","v":13993.4}]
[{"$f":"'[1]87-0-14'!B3029","v":"MW20012E"},{"$f":"'[1]87-0-14'!D3029","v":"MECHA WIDIA 200 12mm"},{"$f":"'[1]87-0-14'!E3029","v":"EZETA"},{"$f":"'[1]87-0-14'!F3029","v":"MECHA WIDIA 200"},{"$f":"'[1]87-0-14'!G3029*(1+$E$13)","v":17266.504000000001}]
[{"$f":"'[1]87-0-14'!B3030","v":"MW20014E"},{"$f":"'[1]87-0-14'!D3030","v":"MECHA WIDIA 200 14mm"},{"$f":"'[1]87-0-14'!E3030","v":"EZETA"},{"$f":"'[1]87-0-14'!F3030","v":"MECHA WIDIA 200"},{"$f":"'[1]87-0-14'!G3030*(1+$E$13)","v":22948.525000000001}]
[{"$f":"'[1]87-0-14'!B3031","v":"MWC5E"},{"$f":"'[1]87-0-14'!D3031","v":"MECHA WIDIA CORTA  5mm"},{"$f":"'[1]87-0-14'!E3031","v":"ESSAMET"},{"$f":"'[1]87-0-14'!F3031","v":"MECHA WIDIA"},{"$f":"'[1]87-0-14'!G3031*(1+$E$13)","v":2251.6075000000001}]
[{"$f":"'[1]87-0-14'!B3032","v":"MWC6E"},{"$f":"'[1]87-0-14'!D3032","v":"MECHA WIDIA CORTA  6mm"},{"$f":"'[1]87-0-14'!E3032","v":"ESSAMET"},{"$f":"'[1]87-0-14'!F3032","v":"MECHA WIDIA"},{"$f":"'[1]87-0-14'!G3032*(1+$E$13)","v":2776.422}]
[{"$f":"'[1]87-0-14'!B3033","v":"MWC8E"},{"$f":"'[1]87-0-14'!D3033","v":"MECHA WIDIA CORTA  8mm"},{"$f":"'[1]87-0-14'!E3033","v":"ESSAMET"},{"$f":"'[1]87-0-14'!F3033","v":"MECHA WIDIA"},{"$f":"'[1]87-0-14'!G3033*(1+$E$13)","v":3812.8450000000003}]
[{"$f":"'[1]87-0-14'!B3034","v":"MWC10E"},{"$f":"'[1]87-0-14'!D3034","v":"MECHA WIDIA CORTA 10mm"},{"$f":"'[1]87-0-14'!E3034","v":"ESSAMET"},{"$f":"'[1]87-0-14'!F3034","v":"MECHA WIDIA"},{"$f":"'[1]87-0-14'!G3034*(1+$E$13)","v":5390.3265000000001}]
[{"$f":"'[1]87-0-14'!B3035","v":"MWL6E"},{"$f":"'[1]87-0-14'!D3035","v":"MECHA WIDIA LARGA  6"},{"$f":"'[1]87-0-14'!E3035","v":"EZETA"},{"$f":"'[1]87-0-14'!F3035","v":"MECHA WIDIA LARGA"},{"$f":"'[1]87-0-14'!G3035*(1+$E$13)","v":13574.9}]
[{"$f":"'[1]87-0-14'!B3036","v":"MWL6N"},{"$f":"'[1]87-0-14'!D3036","v":"MECHA WIDIA LARGA  6"},{"$f":"'[1]87-0-14'!E3036","v":"NEIKE"},{"$f":"'[1]87-0-14'!F3036","v":"MECHA WIDIA LARGA"},{"$f":"'[1]87-0-14'!G3036*(1+$E$13)","v":8192.5715}]
[{"$f":"'[1]87-0-14'!B3037","v":"MWL8E"},{"$f":"'[1]87-0-14'!D3037","v":"MECHA WIDIA LARGA  8"},{"$f":"'[1]87-0-14'!E3037","v":"EZETA"},{"$f":"'[1]87-0-14'!F3037","v":"MECHA WIDIA LARGA"},{"$f":"'[1]87-0-14'!G3037*(1+$E$13)","v":16502.912}]
[{"$f":"'[1]87-0-14'!B3038","v":"MWL8N"},{"$f":"'[1]87-0-14'!D3038","v":"MECHA WIDIA LARGA  8"},{"$f":"'[1]87-0-14'!E3038","v":"NEIKE"},{"$f":"'[1]87-0-14'!F3038","v":"MECHA WIDIA LARGA"},{"$f":"'[1]87-0-14'!G3038*(1+$E$13)","v":9421.2255000000005}]
[{"$f":"'[1]87-0-14'!B3039","v":"MWL10N"},{"$f":"'[1]87-0-14'!D3039","v":"MECHA WIDIA LARGA 10"},{"$f":"'[1]87-0-14'!E3039","v":"NEIKE"},{"$f":"'[1]87-0-14'!F3039","v":"MECHA WIDIA LARGA"},{"$f":"'[1]87-0-14'!G3039*(1+$E$13)","v":10780.529}]
[{"$f":"'[1]87-0-14'!B3040","v":"MWL10E"},{"$f":"'[1]87-0-14'!D3040","v":"MECHA WIDIA LARGA 10"},{"$f":"'[1]87-0-14'!E3040","v":"EZETA"},{"$f":"'[1]87-0-14'!F3040","v":"MECHA WIDIA LARGA"},{"$f":"'[1]87-0-14'!G3040*(1+$E$13)","v":20451.041000000001}]
[{"$f":"'[1]87-0-14'!B3041","v":"MWL12E"},{"$f":"'[1]87-0-14'!D3041","v":"MECHA WIDIA LARGA 12"},{"$f":"'[1]87-0-14'!E3041","v":"EZETA"},{"$f":"'[1]87-0-14'!F3041","v":"MECHA WIDIA LARGA"},{"$f":"'[1]87-0-14'!G3041*(1+$E$13)","v":25258.923999999999}]
[{"$f":"'[1]87-0-14'!B3042","v":"MWL12N"},{"$f":"'[1]87-0-14'!D3042","v":"MECHA WIDIA LARGA 12"},{"$f":"'[1]87-0-14'!E3042","v":"NEIKE"},{"$f":"'[1]87-0-14'!F3042","v":"MECHA WIDIA LARGA"},{"$f":"'[1]87-0-14'!G3042*(1+$E$13)","v":13528.973500000002}]
[{"$f":"'[1]87-0-14'!B3043","v":"MWL14E"},{"$f":"'[1]87-0-14'!D3043","v":"MECHA WIDIA LARGA 14"},{"$f":"'[1]87-0-14'!E3043","v":"EZETA"},{"$f":"'[1]87-0-14'!F3043","v":"MECHA WIDIA LARGA"},{"$f":"'[1]87-0-14'!G3043*(1+$E$13)","v":37126.281999999999}]
[{"$f":"'[1]87-0-14'!B3044","v":"MWL14N"},{"$f":"'[1]87-0-14'!D3044","v":"MECHA WIDIA LARGA 14"},{"$f":"'[1]87-0-14'!E3044","v":"NEIKE"},{"$f":"'[1]87-0-14'!F3044","v":"MECHA WIDIA LARGA"},{"$f":"'[1]87-0-14'!G3044*(1+$E$13)","v":14615.508000000002}]
[{"$f":"'[1]87-0-14'!B3045","v":"MWL16E"},{"$f":"'[1]87-0-14'!D3045","v":"MECHA WIDIA LARGA 16"},{"$f":"'[1]87-0-14'!E3045","v":"EZETA"},{"$f":"'[1]87-0-14'!F3045","v":"MECHA WIDIA LARGA"},{"$f":"'[1]87-0-14'!G3045*(1+$E$13)","v":59786.2745}]
[{"$f":"'[1]87-0-14'!B3046","v":"MWL18E"},{"$f":"'[1]87-0-14'!D3046","v":"MECHA WIDIA LARGA 18"},{"$f":"'[1]87-0-14'!E3046","v":"EZETA"},{"$f":"'[1]87-0-14'!F3046","v":"MECHA WIDIA LARGA"},{"$f":"'[1]87-0-14'!G3046*(1+$E$13)","v":64631.698500000006}]
[{"$f":"'[1]87-0-14'!B3047","v":"MWL20E"},{"$f":"'[1]87-0-14'!D3047","v":"MECHA WIDIA LARGA 20"},{"$f":"'[1]87-0-14'!E3047","v":"EZETA"},{"$f":"'[1]87-0-14'!F3047","v":"MECHA WIDIA LARGA"},{"$f":"'[1]87-0-14'!G3047*(1+$E$13)","v":82319.895499999999}]
[{"$f":"'[1]87-0-14'!B3048","v":"MW3N"},{"$f":"'[1]87-0-14'!D3048","v":"MECHA WIDIA N  3"},{"$f":"'[1]87-0-14'!E3048","v":"NEIKE"},{"$f":"'[1]87-0-14'!F3048","v":"MECHA WIDIA"},{"$f":"'[1]87-0-14'!G3048*(1+$E$13)","v":1985.1005}]
[{"$f":"'[1]87-0-14'!B3049","v":"MW3E"},{"$f":"'[1]87-0-14'!D3049","v":"MECHA WIDIA N  3"},{"$f":"'[1]87-0-14'!E3049","v":"EZETA"},{"$f":"'[1]87-0-14'!F3049","v":"MECHA WIDIA CORTA"},{"$f":"'[1]87-0-14'!G3049*(1+$E$13)","v":2007.1880000000001}]
[{"$f":"'[1]87-0-14'!B3050","v":"MW4N"},{"$f":"'[1]87-0-14'!D3050","v":"MECHA WIDIA N  4"},{"$f":"'[1]87-0-14'!E3050","v":"NEIKE"},{"$f":"'[1]87-0-14'!F3050","v":"MECHA WIDIA"},{"$f":"'[1]87-0-14'!G3050*(1+$E$13)","v":1985.1005}]
[{"$f":"'[1]87-0-14'!B3051","v":"MW4E"},{"$f":"'[1]87-0-14'!D3051","v":"MECHA WIDIA N  4"},{"$f":"'[1]87-0-14'!E3051","v":"EZETA"},{"$f":"'[1]87-0-14'!F3051","v":"MECHA WIDIA CORTA"},{"$f":"'[1]87-0-14'!G3051*(1+$E$13)","v":2122.7249999999999}]
[{"$f":"'[1]87-0-14'!B3052","v":"MW5E"},{"$f":"'[1]87-0-14'!D3052","v":"MECHA WIDIA N  5"},{"$f":"'[1]87-0-14'!E3052","v":"EZETA"},{"$f":"'[1]87-0-14'!F3052","v":"MECHA WIDIA CORTA"},{"$f":"'[1]87-0-14'!G3052*(1+$E$13)","v":2221.2429999999999}]
[{"$f":"'[1]87-0-14'!B3053","v":"MW5N"},{"$f":"'[1]87-0-14'!D3053","v":"MECHA WIDIA N  5"},{"$f":"'[1]87-0-14'!E3053","v":"NEIKE"},{"$f":"'[1]87-0-14'!F3053","v":"MECHA WIDIA"},{"$f":"'[1]87-0-14'!G3053*(1+$E$13)","v":1985.1005}]
[{"$f":"'[1]87-0-14'!B3054","v":"MW6N"},{"$f":"'[1]87-0-14'!D3054","v":"MECHA WIDIA N  6"},{"$f":"'[1]87-0-14'!E3054","v":"NEIKE"},{"$f":"'[1]87-0-14'!F3054","v":"MECHA WIDIA"},{"$f":"'[1]87-0-14'!G3054*(1+$E$13)","v":2620.0735}]
[{"$f":"'[1]87-0-14'!B3055","v":"MW6E"},{"$f":"'[1]87-0-14'!D3055","v":"MECHA WIDIA N  6"},{"$f":"'[1]87-0-14'!E3055","v":"EZETA"},{"$f":"'[1]87-0-14'!F3055","v":"MECHA WIDIA CORTA"},{"$f":"'[1]87-0-14'!G3055*(1+$E$13)","v":2535.7535000000003}]
[{"$f":"'[1]87-0-14'!B3056","v":"MW8N"},{"$f":"'[1]87-0-14'!D3056","v":"MECHA WIDIA N  8"},{"$f":"'[1]87-0-14'!E3056","v":"NEIKE"},{"$f":"'[1]87-0-14'!F3056","v":"MECHA WIDIA"},{"$f":"'[1]87-0-14'!G3056*(1+$E$13)","v":3106.0295000000001}]
[{"$f":"'[1]87-0-14'!B3057","v":"MW8E"},{"$f":"'[1]87-0-14'!D3057","v":"MECHA WIDIA N  8"},{"$f":"'[1]87-0-14'!E3057","v":"EZETA"},{"$f":"'[1]87-0-14'!F3057","v":"MECHA WIDIA CORTA"},{"$f":"'[1]87-0-14'!G3057*(1+$E$13)","v":3497.0479999999998}]
[{"$f":"'[1]87-0-14'!B3058","v":"MW10N"},{"$f":"'[1]87-0-14'!D3058","v":"MECHA WIDIA N 10"},{"$f":"'[1]87-0-14'!E3058","v":"NEIKE"},{"$f":"'[1]87-0-14'!F3058","v":"MECHA WIDIA"},{"$f":"'[1]87-0-14'!G3058*(1+$E$13)","v":4538.6945000000005}]
[{"$f":"'[1]87-0-14'!B3059","v":"MW10E"},{"$f":"'[1]87-0-14'!D3059","v":"MECHA WIDIA N 10"},{"$f":"'[1]87-0-14'!E3059","v":"EZETA"},{"$f":"'[1]87-0-14'!F3059","v":"MECHA WIDIA CORTA"},{"$f":"'[1]87-0-14'!G3059*(1+$E$13)","v":4862.1175000000003}]
[{"$f":"'[1]87-0-14'!B3060","v":"MW12E"},{"$f":"'[1]87-0-14'!D3060","v":"MECHA WIDIA N 12"},{"$f":"'[1]87-0-14'!E3060","v":"EZETA"},{"$f":"'[1]87-0-14'!F3060","v":"MECHA WIDIA CORTA"},{"$f":"'[1]87-0-14'!G3060*(1+$E$13)","v":6336.8340000000007}]
[{"$f":"'[1]87-0-14'!B3061","v":"MW12N"},{"$f":"'[1]87-0-14'!D3061","v":"MECHA WIDIA N 12"},{"$f":"'[1]87-0-14'!E3061","v":"NEIKE"},{"$f":"'[1]87-0-14'!F3061","v":"MECHA WIDIA"},{"$f":"'[1]87-0-14'!G3061*(1+$E$13)","v":6709.4694999999992}]
[{"$f":"'[1]87-0-14'!B3062","v":"MW14N"},{"$f":"'[1]87-0-14'!D3062","v":"MECHA WIDIA N 14"},{"$f":"'[1]87-0-14'!E3062","v":"NEIKE"},{"$f":"'[1]87-0-14'!F3062","v":"MECHA WIDIA"},{"$f":"'[1]87-0-14'!G3062*(1+$E$13)","v":7702.0275000000001}]
[{"$f":"'[1]87-0-14'!B3063","v":"MW14E"},{"$f":"'[1]87-0-14'!D3063","v":"MECHA WIDIA N 14"},{"$f":"'[1]87-0-14'!E3063","v":"EZETA"},{"$f":"'[1]87-0-14'!F3063","v":"MECHA WIDIA CORTA"},{"$f":"'[1]87-0-14'!G3063*(1+$E$13)","v":10130.7845}]
[{"$f":"'[1]87-0-14'!B3064","v":"MW16E"},{"$f":"'[1]87-0-14'!D3064","v":"MECHA WIDIA N 16"},{"$f":"'[1]87-0-14'!E3064","v":"EZETA"},{"$f":"'[1]87-0-14'!F3064","v":"MECHA WIDIA CORTA"},{"$f":"'[1]87-0-14'!G3064*(1+$E$13)","v":18020.919999999998}]
[{"$f":"'[1]87-0-14'!B3065","v":"MW18E"},{"$f":"'[1]87-0-14'!D3065","v":"MECHA WIDIA N 18"},{"$f":"'[1]87-0-14'!E3065","v":"EZETA"},{"$f":"'[1]87-0-14'!F3065","v":"MECHA WIDIA CORTA"},{"$f":"'[1]87-0-14'!G3065*(1+$E$13)","v":20432.379000000001}]
[{"$f":"'[1]87-0-14'!B3066","v":"MW20E"},{"$f":"'[1]87-0-14'!D3066","v":"MECHA WIDIA N 20"},{"$f":"'[1]87-0-14'!E3066","v":"EZETA"},{"$f":"'[1]87-0-14'!F3066","v":"MECHA WIDIA CORTA"},{"$f":"'[1]87-0-14'!G3066*(1+$E$13)","v":26638.982}]
[{"$f":"'[1]87-0-14'!B3067","v":"MWRN"},{"$f":"'[1]87-0-14'!D3067","v":"MECHA WIDIA RADIAL"},{"$f":"'[1]87-0-14'!E3067","v":"NEIKE"},{"$f":"'[1]87-0-14'!F3067","v":"MECHA WIDIA RADIA"},{"$f":"'[1]87-0-14'!G3067*(1+$E$13)","v":21726.133000000002}]
[{"$f":"'[1]87-0-14'!B3068","v":"MMMPLL"},{"$f":"'[1]87-0-14'!D3068","v":"MEDI MANI MINI PLATI"},{"$f":"'[1]87-0-14'!E3068","v":"LUPUM"},{"$f":"'[1]87-0-14'!F3068","v":"MEDIA MANIJA"},{"$f":"'[1]87-0-14'!G3068*(1+$E$13)","v":9361.9689999999991}]
[{"$f":"'[1]87-0-14'!B3069","v":"MRB150SC"},{"$f":"'[1]87-0-14'!D3069","v":"MEGARACK BLANCO 150cm 4es"},{"$f":"'[1]87-0-14'!E3069","v":"SC"},{"$f":"'[1]87-0-14'!F3069","v":"MEGA RACK"},{"$f":"'[1]87-0-14'!G3069*(1+$E$13)","v":223814.8695}]
[{"$f":"'[1]87-0-14'!B3070","v":"MRB180SC"},{"$f":"'[1]87-0-14'!D3070","v":"MEGARACK BLANCO 180cm 5es"},{"$f":"'[1]87-0-14'!E3070","v":"SC"},{"$f":"'[1]87-0-14'!F3070","v":"MEGA RACK"},{"$f":"'[1]87-0-14'!G3070*(1+$E$13)","v":244771.31900000002}]
[{"$f":"'[1]87-0-14'!B3071","v":"MRG150SC"},{"$f":"'[1]87-0-14'!D3071","v":"MEGARACK GRIS 150cm 4 est"},{"$f":"'[1]87-0-14'!E3071","v":"SC"},{"$f":"'[1]87-0-14'!F3071","v":"MEGA RACK"},{"$f":"'[1]87-0-14'!G3071*(1+$E$13)","v":208957.06550000003}]
[{"$f":"'[1]87-0-14'!B3072","v":"MRG180SC"},{"$f":"'[1]87-0-14'!D3072","v":"MEGARACK GRIS 180cm 5 est"},{"$f":"'[1]87-0-14'!E3072","v":"SC"},{"$f":"'[1]87-0-14'!F3072","v":"MEGA RACK"},{"$f":"'[1]87-0-14'!G3072*(1+$E$13)","v":252072.88850000003}]
[{"$f":"'[1]87-0-14'!B3073","v":"MRN150SC"},{"$f":"'[1]87-0-14'!D3073","v":"MEGARACK NEGRO 150cm 4est"},{"$f":"'[1]87-0-14'!E3073","v":"SC"},{"$f":"'[1]87-0-14'!F3073","v":"MEGA RACK"},{"$f":"'[1]87-0-14'!G3073*(1+$E$13)","v":198775.72}]
[{"$f":"'[1]87-0-14'!B3074","v":"MRN180SC"},{"$f":"'[1]87-0-14'!D3074","v":"MEGARACK NEGRO 180cm 5est"},{"$f":"'[1]87-0-14'!E3074","v":"SC"},{"$f":"'[1]87-0-14'!F3074","v":"MEGA RACK"},{"$f":"'[1]87-0-14'!G3074*(1+$E$13)","v":244771.31900000002}]
[{"$f":"'[1]87-0-14'!B3075","v":"MT1P"},{"$f":"'[1]87-0-14'!D3075","v":"MEMBRA PASTA #RO/TEJA#  1"},{"$f":"'[1]87-0-14'!E3075","v":"PREMIER"},{"$f":"'[1]87-0-14'!F3075","v":"MEMBRANA"},{"$f":"'[1]87-0-14'!G3075*(1+$E$13)","v":11216.032499999999}]
[{"$f":"'[1]87-0-14'!B3076","v":"MT4P"},{"$f":"'[1]87-0-14'!D3076","v":"MEMBRA PASTA #RO/TEJA#  4"},{"$f":"'[1]87-0-14'!E3076","v":"PREMIER"},{"$f":"'[1]87-0-14'!F3076","v":"MEMBRANA"},{"$f":"'[1]87-0-14'!G3076*(1+$E$13)","v":39630.648000000001}]
[{"$f":"'[1]87-0-14'!B3077","v":"MT10P"},{"$f":"'[1]87-0-14'!D3077","v":"MEMBRA PASTA #RO/TEJA# 10"},{"$f":"'[1]87-0-14'!E3077","v":"PREMIER"},{"$f":"'[1]87-0-14'!F3077","v":"MEMBRANA"},{"$f":"'[1]87-0-14'!G3077*(1+$E$13)","v":93483.879000000001}]
[{"$f":"'[1]87-0-14'!B3078","v":"MT20P"},{"$f":"'[1]87-0-14'!D3078","v":"MEMBRA PASTA #RO/TEJA# 20"},{"$f":"'[1]87-0-14'!E3078","v":"PREMIER"},{"$f":"'[1]87-0-14'!F3078","v":"MEMBRANA"},{"$f":"'[1]87-0-14'!G3078*(1+$E$13)","v":179629.68599999999}]
[{"$f":"'[1]87-0-14'!B3079","v":"MB1P"},{"$f":"'[1]87-0-14'!D3079","v":"MEMBRAN PASTA #BLANCO#  1"},{"$f":"'[1]87-0-14'!E3079","v":"PREMIER"},{"$f":"'[1]87-0-14'!F3079","v":"MEMBRANA"},{"$f":"'[1]87-0-14'!G3079*(1+$E$13)","v":11216.032499999999}]
[{"$f":"'[1]87-0-14'!B3080","v":"MB4P"},{"$f":"'[1]87-0-14'!D3080","v":"MEMBRAN PASTA #BLANCO#  4"},{"$f":"'[1]87-0-14'!E3080","v":"PREMIER"},{"$f":"'[1]87-0-14'!F3080","v":"MEMBRANA"},{"$f":"'[1]87-0-14'!G3080*(1+$E$13)","v":39630.648000000001}]
[{"$f":"'[1]87-0-14'!B3081","v":"MB10P"},{"$f":"'[1]87-0-14'!D3081","v":"MEMBRAN PASTA #BLANCO# 10"},{"$f":"'[1]87-0-14'!E3081","v":"PREMIER"},{"$f":"'[1]87-0-14'!F3081","v":"MEMBRANA"},{"$f":"'[1]87-0-14'!G3081*(1+$E$13)","v":93483.879000000001}]
[{"$f":"'[1]87-0-14'!B3082","v":"MB20P"},{"$f":"'[1]87-0-14'!D3082","v":"MEMBRAN PASTA #BLANCO# 20"},{"$f":"'[1]87-0-14'!E3082","v":"PREMIER"},{"$f":"'[1]87-0-14'!F3082","v":"MEMBRANA"},{"$f":"'[1]87-0-14'!G3082*(1+$E$13)","v":179629.68599999999}]
[{"$f":"'[1]87-0-14'!B3083","v":"MN1P"},{"$f":"'[1]87-0-14'!D3083","v":"MEMBRANA PASTA #NEGRO#  1"},{"$f":"'[1]87-0-14'!E3083","v":"PREMIER"},{"$f":"'[1]87-0-14'!F3083","v":"MEMBRANA"},{"$f":"'[1]87-0-14'!G3083*(1+$E$13)","v":11216.032499999999}]
[{"$f":"'[1]87-0-14'!B3084","v":"MN4P"},{"$f":"'[1]87-0-14'!D3084","v":"MEMBRANA PASTA #NEGRO#  4"},{"$f":"'[1]87-0-14'!E3084","v":"PREMIER"},{"$f":"'[1]87-0-14'!F3084","v":"MEMBRANA"},{"$f":"'[1]87-0-14'!G3084*(1+$E$13)","v":39630.648000000001}]
[{"$f":"'[1]87-0-14'!B3085","v":"MN10P"},{"$f":"'[1]87-0-14'!D3085","v":"MEMBRANA PASTA #NEGRO# 10"},{"$f":"'[1]87-0-14'!E3085","v":"PREMIER"},{"$f":"'[1]87-0-14'!F3085","v":"MEMBRANA"},{"$f":"'[1]87-0-14'!G3085*(1+$E$13)","v":93483.879000000001}]
[{"$f":"'[1]87-0-14'!B3086","v":"MN20P"},{"$f":"'[1]87-0-14'!D3086","v":"MEMBRANA PASTA #NEGRO# 20"},{"$f":"'[1]87-0-14'!E3086","v":"PREMIER"},{"$f":"'[1]87-0-14'!F3086","v":"MEMBRANA"},{"$f":"'[1]87-0-14'!G3086*(1+$E$13)","v":179629.68599999999}]
[{"$f":"'[1]87-0-14'!B3087","v":"MV1P"},{"$f":"'[1]87-0-14'!D3087","v":"MEMBRANA PASTA #VERDE#  1"},{"$f":"'[1]87-0-14'!E3087","v":"PREMIER"},{"$f":"'[1]87-0-14'!F3087","v":"MEMBRANA"},{"$f":"'[1]87-0-14'!G3087*(1+$E$13)","v":11216.032499999999}]
[{"$f":"'[1]87-0-14'!B3088","v":"MV4P"},{"$f":"'[1]87-0-14'!D3088","v":"MEMBRANA PASTA #VERDE#  4"},{"$f":"'[1]87-0-14'!E3088","v":"PREMIER"},{"$f":"'[1]87-0-14'!F3088","v":"MEMBRANA"},{"$f":"'[1]87-0-14'!G3088*(1+$E$13)","v":39630.648000000001}]
[{"$f":"'[1]87-0-14'!B3089","v":"MV10P"},{"$f":"'[1]87-0-14'!D3089","v":"MEMBRANA PASTA #VERDE# 10"},{"$f":"'[1]87-0-14'!E3089","v":"PREMIER"},{"$f":"'[1]87-0-14'!F3089","v":"MEMBRANA"},{"$f":"'[1]87-0-14'!G3089*(1+$E$13)","v":93483.879000000001}]
[{"$f":"'[1]87-0-14'!B3090","v":"MV20P"},{"$f":"'[1]87-0-14'!D3090","v":"MEMBRANA PASTA #VERDE# 20"},{"$f":"'[1]87-0-14'!E3090","v":"PREMIER"},{"$f":"'[1]87-0-14'!F3090","v":"MEMBRANA"},{"$f":"'[1]87-0-14'!G3090*(1+$E$13)","v":179629.68599999999}]
[{"$f":"'[1]87-0-14'!B3091","v":"MB17SC"},{"$f":"'[1]87-0-14'!D3091","v":"MENSULA P/EST BLANCA 17cm"},{"$f":"'[1]87-0-14'!E3091","v":"SC"},{"$f":"'[1]87-0-14'!F3091","v":"MENSULA P/ESTANTE"},{"$f":"'[1]87-0-14'!G3091*(1+$E$13)","v":2306.6945000000001}]
[{"$f":"'[1]87-0-14'!B3092","v":"MB27SC"},{"$f":"'[1]87-0-14'!D3092","v":"MENSULA P/EST BLANCA 27cm"},{"$f":"'[1]87-0-14'!E3092","v":"SC"},{"$f":"'[1]87-0-14'!F3092","v":"MENSULA P/ESTANTE"},{"$f":"'[1]87-0-14'!G3092*(1+$E$13)","v":3203.8344999999999}]
[{"$f":"'[1]87-0-14'!B3093","v":"MB37SC"},{"$f":"'[1]87-0-14'!D3093","v":"MENSULA P/EST BLANCA 37cm"},{"$f":"'[1]87-0-14'!E3093","v":"SC"},{"$f":"'[1]87-0-14'!F3093","v":"MENSULA P/ESTANTE"},{"$f":"'[1]87-0-14'!G3093*(1+$E$13)","v":4097.6419999999998}]
[{"$f":"'[1]87-0-14'!B3094","v":"MG17SC"},{"$f":"'[1]87-0-14'!D3094","v":"MENSULA P/EST GRIS  17cm"},{"$f":"'[1]87-0-14'!E3094","v":"SC"},{"$f":"'[1]87-0-14'!F3094","v":"MENSULA P/ESTANTE"},{"$f":"'[1]87-0-14'!G3094*(1+$E$13)","v":2343.2125000000001}]
[{"$f":"'[1]87-0-14'!B3095","v":"MG27SC"},{"$f":"'[1]87-0-14'!D3095","v":"MENSULA P/EST GRIS  27cm"},{"$f":"'[1]87-0-14'!E3095","v":"SC"},{"$f":"'[1]87-0-14'!F3095","v":"MENSULA P/ESTANTE"},{"$f":"'[1]87-0-14'!G3095*(1+$E$13)","v":3256.674}]
[{"$f":"'[1]87-0-14'!B3096","v":"MG37SC"},{"$f":"'[1]87-0-14'!D3096","v":"MENSULA P/EST GRIS  37cm"},{"$f":"'[1]87-0-14'!E3096","v":"SC"},{"$f":"'[1]87-0-14'!F3096","v":"MENSULA P/ESTANTE"},{"$f":"'[1]87-0-14'!G3096*(1+$E$13)","v":4165.5784999999996}]
[{"$f":"'[1]87-0-14'!B3097","v":"MN17SC"},{"$f":"'[1]87-0-14'!D3097","v":"MENSULA P/EST NEGRA  17cm"},{"$f":"'[1]87-0-14'!E3097","v":"SC"},{"$f":"'[1]87-0-14'!F3097","v":"MENSULA P/ESTANTE"},{"$f":"'[1]87-0-14'!G3097*(1+$E$13)","v":2306.6945000000001}]
[{"$f":"'[1]87-0-14'!B3098","v":"MN27SC"},{"$f":"'[1]87-0-14'!D3098","v":"MENSULA P/EST NEGRA  27cm"},{"$f":"'[1]87-0-14'!E3098","v":"SC"},{"$f":"'[1]87-0-14'!F3098","v":"MENSULA P/ESTANTE"},{"$f":"'[1]87-0-14'!G3098*(1+$E$13)","v":3203.8344999999999}]
[{"$f":"'[1]87-0-14'!B3099","v":"MN37SC"},{"$f":"'[1]87-0-14'!D3099","v":"MENSULA P/EST NEGRA  37cm"},{"$f":"'[1]87-0-14'!E3099","v":"SC"},{"$f":"'[1]87-0-14'!F3099","v":"MENSULA P/ESTANTE"},{"$f":"'[1]87-0-14'!G3099*(1+$E$13)","v":4097.6419999999998}]
[{"$f":"'[1]87-0-14'!B3100","v":"MP50N"},{"$f":"'[1]87-0-14'!D3100","v":"MEZCLADOR PINTUR N 1 50mm"},{"$f":"'[1]87-0-14'!E3100","v":"NEIKE"},{"$f":"'[1]87-0-14'!F3100","v":"MEZCLADOR PINTURA"},{"$f":"'[1]87-0-14'!G3100*(1+$E$13)","v":8100.8890000000001}]
[{"$f":"'[1]87-0-14'!B3101","v":"MP65N"},{"$f":"'[1]87-0-14'!D3101","v":"MEZCLADOR PINTUR N 2 65mm"},{"$f":"'[1]87-0-14'!E3101","v":"NEIKE"},{"$f":"'[1]87-0-14'!F3101","v":"MEZCLADOR PINTURA"},{"$f":"'[1]87-0-14'!G3101*(1+$E$13)","v":11986.289500000001}]
[{"$f":"'[1]87-0-14'!B3102","v":"MP90N"},{"$f":"'[1]87-0-14'!D3102","v":"MEZCLADOR PINTUR N 3 90mm"},{"$f":"'[1]87-0-14'!E3102","v":"NEIKE"},{"$f":"'[1]87-0-14'!F3102","v":"MEZCLADOR PINTURA"},{"$f":"'[1]87-0-14'!G3102*(1+$E$13)","v":13751.321}]
[{"$f":"'[1]87-0-14'!B3103","v":"MRF5"},{"$f":"'[1]87-0-14'!D3103","v":"MINI ROD. FORR. 5"},{"$f":"'[1]87-0-14'!E3103","v":"PAINTROLER"},{"$f":"'[1]87-0-14'!F3103","v":"MINI RODILLO FORR"},{"$f":"'[1]87-0-14'!G3103*(1+$E$13)","v":864.745}]
[{"$f":"'[1]87-0-14'!B3104","v":"MRF8"},{"$f":"'[1]87-0-14'!D3104","v":"MINI ROD. FORR. 8"},{"$f":"'[1]87-0-14'!E3104","v":"PAINTROLER"},{"$f":"'[1]87-0-14'!F3104","v":"MINI RODILLO FORR"},{"$f":"'[1]87-0-14'!G3104*(1+$E$13)","v":969.07550000000003}]
[{"$f":"'[1]87-0-14'!B3105","v":"MRF10"},{"$f":"'[1]87-0-14'!D3105","v":"MINI ROD. FORR.10"},{"$f":"'[1]87-0-14'!E3105","v":"PAINTROLER"},{"$f":"'[1]87-0-14'!F3105","v":"MINI RODILLO FORR"},{"$f":"'[1]87-0-14'!G3105*(1+$E$13)","v":1080.4895000000001}]
[{"$f":"'[1]87-0-14'!B3106","v":"MRE5P"},{"$f":"'[1]87-0-14'!D3106","v":"MINI RODILL EPOXI  5"},{"$f":"'[1]87-0-14'!E3106","v":"PAINTROLER"},{"$f":"'[1]87-0-14'!F3106","v":"MINI ROD. EPOXI"},{"$f":"'[1]87-0-14'!G3106*(1+$E$13)","v":753.33100000000002}]
[{"$f":"'[1]87-0-14'!B3107","v":"MRE8P"},{"$f":"'[1]87-0-14'!D3107","v":"MINI RODILL EPOXI  8"},{"$f":"'[1]87-0-14'!E3107","v":"PAINTROLER"},{"$f":"'[1]87-0-14'!F3107","v":"MINI ROD. EPOXI"},{"$f":"'[1]87-0-14'!G3107*(1+$E$13)","v":937.25399999999991}]
[{"$f":"'[1]87-0-14'!B3108","v":"MRE10P"},{"$f":"'[1]87-0-14'!D3108","v":"MINI RODILL EPOXI 10"},{"$f":"'[1]87-0-14'!E3108","v":"PAINTROLER"},{"$f":"'[1]87-0-14'!F3108","v":"MINI ROD. EPOXI"},{"$f":"'[1]87-0-14'!G3108*(1+$E$13)","v":1025.6815000000001}]
[{"$f":"'[1]87-0-14'!B3109","v":"MRA5P"},{"$f":"'[1]87-0-14'!D3109","v":"MINI RODILLO ANTIGOTA  5"},{"$f":"'[1]87-0-14'!E3109","v":"PAINTROLER"},{"$f":"'[1]87-0-14'!F3109","v":"MINI ROD ANTIGOTA"},{"$f":"'[1]87-0-14'!G3109*(1+$E$13)","v":855.91000000000008}]
[{"$f":"'[1]87-0-14'!B3110","v":"MRA8P"},{"$f":"'[1]87-0-14'!D3110","v":"MINI RODILLO ANTIGOTA  8"},{"$f":"'[1]87-0-14'!E3110","v":"PAINTROLER"},{"$f":"'[1]87-0-14'!F3110","v":"MINI ROD ANTIGOTA"},{"$f":"'[1]87-0-14'!G3110*(1+$E$13)","v":962.00749999999994}]
[{"$f":"'[1]87-0-14'!B3111","v":"MRA10P"},{"$f":"'[1]87-0-14'!D3111","v":"MINI RODILLO ANTIGOTA 10"},{"$f":"'[1]87-0-14'!E3111","v":"PAINTROLER"},{"$f":"'[1]87-0-14'!F3111","v":"MINI ROD ANTIGOTA"},{"$f":"'[1]87-0-14'!G3111*(1+$E$13)","v":1069.8875}]
[{"$f":"'[1]87-0-14'!B3112","v":"MR5"},{"$f":"'[1]87-0-14'!D3112","v":"MINI RODILLO N  5"},{"$f":"'[1]87-0-14'!E3112","v":"PAINTROLER"},{"$f":"'[1]87-0-14'!F3112","v":"MINI RODILLO"},{"$f":"'[1]87-0-14'!G3112*(1+$E$13)","v":795.78549999999996}]
[{"$f":"'[1]87-0-14'!B3113","v":"MR8"},{"$f":"'[1]87-0-14'!D3113","v":"MINI RODILLO N  8"},{"$f":"'[1]87-0-14'!E3113","v":"PAINTROLER"},{"$f":"'[1]87-0-14'!F3113","v":"MINI RODILLO"},{"$f":"'[1]87-0-14'!G3113*(1+$E$13)","v":864.745}]
[{"$f":"'[1]87-0-14'!B3114","v":"MR10"},{"$f":"'[1]87-0-14'!D3114","v":"MINI RODILLO N 10"},{"$f":"'[1]87-0-14'!E3114","v":"PAINTROLER"},{"$f":"'[1]87-0-14'!F3114","v":"MINI RODILLO"},{"$f":"'[1]87-0-14'!G3114*(1+$E$13)","v":924.86950000000013}]
[{"$f":"'[1]87-0-14'!B3115","v":"M65ZH"},{"$f":"'[1]87-0-14'!D3115","v":"MOSQUETON BRONCE 65"},{"$f":"'[1]87-0-14'!E3115","v":"TR"},{"$f":"'[1]87-0-14'!F3115","v":"MOSQUETON BRONCE"},{"$f":"'[1]87-0-14'!G3115*(1+$E$13)","v":8174.7310000000007}]
[{"$f":"'[1]87-0-14'!B3116","v":"M73ZH"},{"$f":"'[1]87-0-14'!D3116","v":"MOSQUETON BRONCE 73"},{"$f":"'[1]87-0-14'!E3116","v":"TR"},{"$f":"'[1]87-0-14'!F3116","v":"MOSQUETON BRONCE"},{"$f":"'[1]87-0-14'!G3116*(1+$E$13)","v":8368.4500000000007}]
[{"$f":"'[1]87-0-14'!B3117","v":"MS0TR"},{"$f":"'[1]87-0-14'!D3117","v":"MOSQUETON SEGURIDAD A. 0"},{"$f":"'[1]87-0-14'!E3117","v":"TR"},{"$f":"'[1]87-0-14'!F3117","v":"MOSQUETON SEGUR."},{"$f":"'[1]87-0-14'!G3117*(1+$E$13)","v":6802.1594999999998}]
[{"$f":"'[1]87-0-14'!B3118","v":"MS00TR"},{"$f":"'[1]87-0-14'!D3118","v":"MOSQUETON SEGURIDAD A. 00"},{"$f":"'[1]87-0-14'!E3118","v":"TR"},{"$f":"'[1]87-0-14'!F3118","v":"MOSQUETON SEGUR."},{"$f":"'[1]87-0-14'!G3118*(1+$E$13)","v":5395.0230000000001}]
[{"$f":"'[1]87-0-14'!B3119","v":"MS1TR"},{"$f":"'[1]87-0-14'!D3119","v":"MOSQUETON SEGURIDAD A. 1"},{"$f":"'[1]87-0-14'!E3119","v":"TR"},{"$f":"'[1]87-0-14'!F3119","v":"MOSQUETON SEGUR."},{"$f":"'[1]87-0-14'!G3119*(1+$E$13)","v":9488.3094999999994}]
[{"$f":"'[1]87-0-14'!B3120","v":"MS3TR"},{"$f":"'[1]87-0-14'!D3120","v":"MOSQUETON SEGURIDAD A. 3"},{"$f":"'[1]87-0-14'!E3120","v":"TR"},{"$f":"'[1]87-0-14'!F3120","v":"MOSQUETON SEGUR."},{"$f":"'[1]87-0-14'!G3120*(1+$E$13)","v":13539.637500000001}]
[{"$f":"'[1]87-0-14'!B3121","v":"MN4V"},{"$f":"'[1]87-0-14'!D3121","v":"MULTIMETALES NEGRO 4"},{"$f":"'[1]87-0-14'!E3121","v":"VENIER"},{"$f":"'[1]87-0-14'!F3121","v":"MULTIMETALES"},{"$f":"'[1]87-0-14'!G3121*(1+$E$13)","v":103303.842}]
[{"$f":"'[1]87-0-14'!B3122","v":"NA30"},{"$f":"'[1]87-0-14'!D3122","v":"NIVEL ALUMINIO N  30"},{"$f":"'[1]87-0-14'!E3122","v":"ANEMI"},{"$f":"'[1]87-0-14'!F3122","v":"NIVEL ALUMINIO"},{"$f":"'[1]87-0-14'!G3122*(1+$E$13)","v":20288.647500000003}]
[{"$f":"'[1]87-0-14'!B3123","v":"NA40"},{"$f":"'[1]87-0-14'!D3123","v":"NIVEL ALUMINIO N  40"},{"$f":"'[1]87-0-14'!E3123","v":"ANEMI"},{"$f":"'[1]87-0-14'!F3123","v":"NIVEL ALUMINIO"},{"$f":"'[1]87-0-14'!G3123*(1+$E$13)","v":22794.470500000003}]
[{"$f":"'[1]87-0-14'!B3124","v":"NA50"},{"$f":"'[1]87-0-14'!D3124","v":"NIVEL ALUMINIO N  50"},{"$f":"'[1]87-0-14'!E3124","v":"ANEMI"},{"$f":"'[1]87-0-14'!F3124","v":"NIVEL ALUMINIO"},{"$f":"'[1]87-0-14'!G3124*(1+$E$13)","v":24268.985499999999}]
[{"$f":"'[1]87-0-14'!B3125","v":"NCC30"},{"$f":"'[1]87-0-14'!D3125","v":"NIVEL C/CANTONERA 30"},{"$f":"'[1]87-0-14'!E3125","v":"ANEMI"},{"$f":"'[1]87-0-14'!F3125","v":"NIVEL C/CANT."},{"$f":"'[1]87-0-14'!G3125*(1+$E$13)","v":17382.304499999998}]
[{"$f":"'[1]87-0-14'!B3126","v":"NCC40"},{"$f":"'[1]87-0-14'!D3126","v":"NIVEL C/CANTONERA 40"},{"$f":"'[1]87-0-14'!E3126","v":"ANEMI"},{"$f":"'[1]87-0-14'!F3126","v":"NIVEL C/CANT."},{"$f":"'[1]87-0-14'!G3126*(1+$E$13)","v":18056.012000000002}]
[{"$f":"'[1]87-0-14'!B3127","v":"NCC50"},{"$f":"'[1]87-0-14'!D3127","v":"NIVEL C/CANTONERA 50"},{"$f":"'[1]87-0-14'!E3127","v":"ANEMI"},{"$f":"'[1]87-0-14'!F3127","v":"NIVEL C/CANT."},{"$f":"'[1]87-0-14'!G3127*(1+$E$13)","v":20025.38}]
[{"$f":"'[1]87-0-14'!B3128","v":"NP20S"},{"$f":"'[1]87-0-14'!D3128","v":"NIVEL PLAS MAGNETICO 20cm"},{"$f":"'[1]87-0-14'!E3128","v":"SOLA"},{"$f":"'[1]87-0-14'!F3128","v":"NIVEL PLASTICO"},{"$f":"'[1]87-0-14'!G3128*(1+$E$13)","v":42790.508999999998}]
[{"$f":"'[1]87-0-14'!B3129","v":"NE60S"},{"$f":"'[1]87-0-14'!D3129","v":"NIVEL PLAST #ESPECIAL# 60"},{"$f":"'[1]87-0-14'!E3129","v":"SOLA"},{"$f":"'[1]87-0-14'!F3129","v":"NIVEL PLASTICO"},{"$f":"'[1]87-0-14'!G3129*(1+$E$13)","v":74426.846000000005}]
[{"$f":"'[1]87-0-14'!B3130","v":"NP35A"},{"$f":"'[1]87-0-14'!D3130","v":"NIVEL PLASTICO 35 cm"},{"$f":"'[1]87-0-14'!E3130","v":"CORSIN"},{"$f":"'[1]87-0-14'!F3130","v":"NIVEL PLASTICO"},{"$f":"'[1]87-0-14'!G3130*(1+$E$13)","v":12968.710500000001}]
[{"$f":"'[1]87-0-14'!B3131","v":"NP45A"},{"$f":"'[1]87-0-14'!D3131","v":"NIVEL PLASTICO 45 cm"},{"$f":"'[1]87-0-14'!E3131","v":"CORSIN"},{"$f":"'[1]87-0-14'!F3131","v":"NIVEL PLASTICO"},{"$f":"'[1]87-0-14'!G3131*(1+$E$13)","v":13863.107000000002}]
[{"$f":"'[1]87-0-14'!B3132","v":"NP60A"},{"$f":"'[1]87-0-14'!D3132","v":"NIVEL PLASTICO 60 cm"},{"$f":"'[1]87-0-14'!E3132","v":"CORSIN"},{"$f":"'[1]87-0-14'!F3132","v":"NIVEL PLASTICO"},{"$f":"'[1]87-0-14'!G3132*(1+$E$13)","v":17470.499500000002}]
[{"$f":"'[1]87-0-14'!B3133","v":"NP40S"},{"$f":"'[1]87-0-14'!D3133","v":"NIVEL PLASTICO PRO 40cms"},{"$f":"'[1]87-0-14'!E3133","v":"SOLA"},{"$f":"'[1]87-0-14'!F3133","v":"NIVEL PLASTICO"},{"$f":"'[1]87-0-14'!G3133*(1+$E$13)","v":65941.789499999999}]
[{"$f":"'[1]87-0-14'!B3134","v":"NP50S"},{"$f":"'[1]87-0-14'!D3134","v":"NIVEL PLASTICO PRO 50cms"},{"$f":"'[1]87-0-14'!E3134","v":"SOLA"},{"$f":"'[1]87-0-14'!F3134","v":"NIVEL PLASTICO"},{"$f":"'[1]87-0-14'!G3134*(1+$E$13)","v":72319.620999999999}]
[{"$f":"'[1]87-0-14'!B3135","v":"NP60S"},{"$f":"'[1]87-0-14'!D3135","v":"NIVEL PLASTICO PRO 60ms"},{"$f":"'[1]87-0-14'!E3135","v":"SOLA"},{"$f":"'[1]87-0-14'!F3135","v":"NIVEL PLASTICO"},{"$f":"'[1]87-0-14'!G3135*(1+$E$13)","v":74426.846000000005}]
[{"$f":"'[1]87-0-14'!B3136","v":"NP80S"},{"$f":"'[1]87-0-14'!D3136","v":"NIVEL PLASTICO PRO 80ms"},{"$f":"'[1]87-0-14'!E3136","v":"SOLA"},{"$f":"'[1]87-0-14'!F3136","v":"NIVEL PLASTICO"},{"$f":"'[1]87-0-14'!G3136*(1+$E$13)","v":87266.79800000001}]
[{"$f":"'[1]87-0-14'!B3137","v":"NSC30"},{"$f":"'[1]87-0-14'!D3137","v":"NIVEL S/CANTONERA 30"},{"$f":"'[1]87-0-14'!E3137","v":"ANEMI"},{"$f":"'[1]87-0-14'!F3137","v":"NIVEL S/CANT."},{"$f":"'[1]87-0-14'!G3137*(1+$E$13)","v":12459.644}]
[{"$f":"'[1]87-0-14'!B3138","v":"NSC40"},{"$f":"'[1]87-0-14'!D3138","v":"NIVEL S/CANTONERA 40"},{"$f":"'[1]87-0-14'!E3138","v":"ANEMI"},{"$f":"'[1]87-0-14'!F3138","v":"NIVEL S/CANT."},{"$f":"'[1]87-0-14'!G3138*(1+$E$13)","v":13110.52}]
[{"$f":"'[1]87-0-14'!B3139","v":"NSC50"},{"$f":"'[1]87-0-14'!D3139","v":"NIVEL S/CANTONERA 50"},{"$f":"'[1]87-0-14'!E3139","v":"ANEMI"},{"$f":"'[1]87-0-14'!F3139","v":"NIVEL S/CANT."},{"$f":"'[1]87-0-14'!G3139*(1+$E$13)","v":16831.915000000001}]
[{"$f":"'[1]87-0-14'!B3140","v":"N15C"},{"$f":"'[1]87-0-14'!D3140","v":"NIVELADOR  P/CERAMICA 1,5"},{"$f":"'[1]87-0-14'!E3140","v":"CRECCHIO"},{"$f":"'[1]87-0-14'!F3140","v":"SEPARADOR"},{"$f":"'[1]87-0-14'!G3140*(1+$E$13)","v":4841.3474999999999}]
[{"$f":"'[1]87-0-14'!B3141","v":"NT"},{"$f":"'[1]87-0-14'!D3141","v":"NOMBRE"},{"$f":"'[1]87-0-14'!E3141","v":"TAVERNA"},{"$f":"'[1]87-0-14'!F3141","v":"NOMBRE"},{"$f":"'[1]87-0-14'!G3141*(1+$E$13)","v":0}]
[{"$f":"'[1]87-0-14'!B3142","v":"OH12A"},{"$f":"'[1]87-0-14'!D3142","v":"OJAL HIERRO 1/2\""},{"$f":"'[1]87-0-14'!E3142","v":"ALEX"},{"$f":"'[1]87-0-14'!F3142","v":"OJAL HIERRO"},{"$f":"'[1]87-0-14'!G3142*(1+$E$13)","v":22150.755499999999}]
[{"$f":"'[1]87-0-14'!B3143","v":"OH58A"},{"$f":"'[1]87-0-14'!D3143","v":"OJAL HIERRO 5/8\""},{"$f":"'[1]87-0-14'!E3143","v":"ALEX"},{"$f":"'[1]87-0-14'!F3143","v":"OJAL HIERRO"},{"$f":"'[1]87-0-14'!G3143*(1+$E$13)","v":24655.788}]
[{"$f":"'[1]87-0-14'!B3144","v":"OP1A"},{"$f":"'[1]87-0-14'!D3144","v":"OJAL PLASTICO   1\""},{"$f":"'[1]87-0-14'!E3144","v":"ALEX"},{"$f":"'[1]87-0-14'!F3144","v":"OJAL PLASTICO"},{"$f":"'[1]87-0-14'!G3144*(1+$E$13)","v":32153.758000000002}]
[{"$f":"'[1]87-0-14'!B3145","v":"OP12A"},{"$f":"'[1]87-0-14'!D3145","v":"OJAL PLASTICO 1/2\""},{"$f":"'[1]87-0-14'!E3145","v":"ALEX"},{"$f":"'[1]87-0-14'!F3145","v":"OJAL PLASTICO"},{"$f":"'[1]87-0-14'!G3145*(1+$E$13)","v":16829.373}]
[{"$f":"'[1]87-0-14'!B3146","v":"OP58A"},{"$f":"'[1]87-0-14'!D3146","v":"OJAL PLASTICO 5/8\""},{"$f":"'[1]87-0-14'!E3146","v":"ALEX"},{"$f":"'[1]87-0-14'!F3146","v":"OJAL PLASTICO"},{"$f":"'[1]87-0-14'!G3146*(1+$E$13)","v":23182.668000000001}]
[{"$f":"'[1]87-0-14'!B3147","v":"PBR35SC"},{"$f":"'[1]87-0-14'!D3147","v":"PA C/TRABA BCEADO 35"},{"$f":"'[1]87-0-14'!E3147","v":"SC"},{"$f":"'[1]87-0-14'!F3147","v":"PASADOR"},{"$f":"'[1]87-0-14'!G3147*(1+$E$13)","v":28780.787500000002}]
[{"$f":"'[1]87-0-14'!B3148","v":"PBR46SC"},{"$f":"'[1]87-0-14'!D3148","v":"PA C/TRABA BCEADO 46"},{"$f":"'[1]87-0-14'!E3148","v":"SC"},{"$f":"'[1]87-0-14'!F3148","v":"PASADOR"},{"$f":"'[1]87-0-14'!G3148*(1+$E$13)","v":31336.008999999998}]
[{"$f":"'[1]87-0-14'!B3149","v":"PBR58SC"},{"$f":"'[1]87-0-14'!D3149","v":"PA C/TRABA BCEADO 58"},{"$f":"'[1]87-0-14'!E3149","v":"SC"},{"$f":"'[1]87-0-14'!F3149","v":"PASADOR"},{"$f":"'[1]87-0-14'!G3149*(1+$E$13)","v":38571.083500000001}]
[{"$f":"'[1]87-0-14'!B3150","v":"PBR80SC"},{"$f":"'[1]87-0-14'!D3150","v":"PA C/TRABA BCEADO 80"},{"$f":"'[1]87-0-14'!E3150","v":"SC"},{"$f":"'[1]87-0-14'!F3150","v":"PASADOR"},{"$f":"'[1]87-0-14'!G3150*(1+$E$13)","v":50226.51}]
[{"$f":"'[1]87-0-14'!B3151","v":"PB35SC"},{"$f":"'[1]87-0-14'!D3151","v":"PA C/TRABA BLANCO 35"},{"$f":"'[1]87-0-14'!E3151","v":"SC"},{"$f":"'[1]87-0-14'!F3151","v":"PASADOR"},{"$f":"'[1]87-0-14'!G3151*(1+$E$13)","v":28038.787000000004}]
[{"$f":"'[1]87-0-14'!B3152","v":"PB46SC"},{"$f":"'[1]87-0-14'!D3152","v":"PA C/TRABA BLANCO 46"},{"$f":"'[1]87-0-14'!E3152","v":"SC"},{"$f":"'[1]87-0-14'!F3152","v":"PASADOR"},{"$f":"'[1]87-0-14'!G3152*(1+$E$13)","v":30446.727500000001}]
[{"$f":"'[1]87-0-14'!B3153","v":"PB58SC"},{"$f":"'[1]87-0-14'!D3153","v":"PA C/TRABA BLANCO 58"},{"$f":"'[1]87-0-14'!E3153","v":"SC"},{"$f":"'[1]87-0-14'!F3153","v":"PASADOR"},{"$f":"'[1]87-0-14'!G3153*(1+$E$13)","v":37392.4015}]
[{"$f":"'[1]87-0-14'!B3154","v":"PB80SC"},{"$f":"'[1]87-0-14'!D3154","v":"PA C/TRABA BLANCO 80"},{"$f":"'[1]87-0-14'!E3154","v":"SC"},{"$f":"'[1]87-0-14'!F3154","v":"PASADOR"},{"$f":"'[1]87-0-14'!G3154*(1+$E$13)","v":48656.158499999998}]
[{"$f":"'[1]87-0-14'!B3155","v":"PC35SC"},{"$f":"'[1]87-0-14'!D3155","v":"PA C/TRABA CROMAT 35"},{"$f":"'[1]87-0-14'!E3155","v":"SC"},{"$f":"'[1]87-0-14'!F3155","v":"PASADOR"},{"$f":"'[1]87-0-14'!G3155*(1+$E$13)","v":23046.546999999999}]
[{"$f":"'[1]87-0-14'!B3156","v":"PC46SC"},{"$f":"'[1]87-0-14'!D3156","v":"PA C/TRABA CROMAT 46"},{"$f":"'[1]87-0-14'!E3156","v":"SC"},{"$f":"'[1]87-0-14'!F3156","v":"PASADOR"},{"$f":"'[1]87-0-14'!G3156*(1+$E$13)","v":25883.3105}]
[{"$f":"'[1]87-0-14'!B3157","v":"PC58SC"},{"$f":"'[1]87-0-14'!D3157","v":"PA C/TRABA CROMAT 58"},{"$f":"'[1]87-0-14'!E3157","v":"SC"},{"$f":"'[1]87-0-14'!F3157","v":"PASADOR"},{"$f":"'[1]87-0-14'!G3157*(1+$E$13)","v":34887.570500000002}]
[{"$f":"'[1]87-0-14'!B3158","v":"PC80SC"},{"$f":"'[1]87-0-14'!D3158","v":"PA C/TRABA CROMAT 80"},{"$f":"'[1]87-0-14'!E3158","v":"SC"},{"$f":"'[1]87-0-14'!F3158","v":"PASADOR"},{"$f":"'[1]87-0-14'!G3158*(1+$E$13)","v":47580.504999999997}]
[{"$f":"'[1]87-0-14'!B3159","v":"PN35SC"},{"$f":"'[1]87-0-14'!D3159","v":"PA C/TRABA NEGRO 35"},{"$f":"'[1]87-0-14'!E3159","v":"SC"},{"$f":"'[1]87-0-14'!F3159","v":"PASADOR"},{"$f":"'[1]87-0-14'!G3159*(1+$E$13)","v":28038.787000000004}]
[{"$f":"'[1]87-0-14'!B3160","v":"PN46SC"},{"$f":"'[1]87-0-14'!D3160","v":"PA C/TRABA NEGRO 46"},{"$f":"'[1]87-0-14'!E3160","v":"SC"},{"$f":"'[1]87-0-14'!F3160","v":"PASADOR"},{"$f":"'[1]87-0-14'!G3160*(1+$E$13)","v":30446.727500000001}]
[{"$f":"'[1]87-0-14'!B3161","v":"PN58SC"},{"$f":"'[1]87-0-14'!D3161","v":"PA C/TRABA NEGRO 58"},{"$f":"'[1]87-0-14'!E3161","v":"SC"},{"$f":"'[1]87-0-14'!F3161","v":"PASADOR"},{"$f":"'[1]87-0-14'!G3161*(1+$E$13)","v":37392.4015}]
[{"$f":"'[1]87-0-14'!B3162","v":"PN80SC"},{"$f":"'[1]87-0-14'!D3162","v":"PA C/TRABA NEGRO 80"},{"$f":"'[1]87-0-14'!E3162","v":"SC"},{"$f":"'[1]87-0-14'!F3162","v":"PASADOR"},{"$f":"'[1]87-0-14'!G3162*(1+$E$13)","v":48656.158499999998}]
[{"$f":"'[1]87-0-14'!B3163","v":"PCOCLG"},{"$f":"'[1]87-0-14'!D3163","v":"PAL CORAZO CABO/LARG"},{"$f":"'[1]87-0-14'!E3163","v":"GHERARDI"},{"$f":"'[1]87-0-14'!F3163","v":"PALA"},{"$f":"'[1]87-0-14'!G3163*(1+$E$13)","v":77001.52}]
[{"$f":"'[1]87-0-14'!B3164","v":"PECLAG"},{"$f":"'[1]87-0-14'!D3164","v":"PAL ESTAMP #C/LARG# ANCHA"},{"$f":"'[1]87-0-14'!E3164","v":"GHERARDI"},{"$f":"'[1]87-0-14'!F3164","v":"PALA ESTAMPADA"},{"$f":"'[1]87-0-14'!G3164*(1+$E$13)","v":57609.625}]
[{"$f":"'[1]87-0-14'!B3165","v":"PECLPG"},{"$f":"'[1]87-0-14'!D3165","v":"PAL ESTAMP #C/LARG# PUNTA"},{"$f":"'[1]87-0-14'!E3165","v":"GHERARDI"},{"$f":"'[1]87-0-14'!F3165","v":"PALA ESTAMPADA"},{"$f":"'[1]87-0-14'!G3165*(1+$E$13)","v":57609.625}]
[{"$f":"'[1]87-0-14'!B3166","v":"PPOM"},{"$f":"'[1]87-0-14'!D3166","v":"PALA \"POCERA\" EM/PLASTICA"},{"$f":"'[1]87-0-14'!E3166","v":"ANSA"},{"$f":"'[1]87-0-14'!F3166","v":"PALA"},{"$f":"'[1]87-0-14'!G3166*(1+$E$13)","v":13110.52}]
[{"$f":"'[1]87-0-14'!B3167","v":"PALG"},{"$f":"'[1]87-0-14'!D3167","v":"PALA ALUMINIO CEREAL"},{"$f":"'[1]87-0-14'!E3167","v":"GHERARDI"},{"$f":"'[1]87-0-14'!F3167","v":"PALA ESTAMPADA"},{"$f":"'[1]87-0-14'!G3167*(1+$E$13)","v":111289.22500000001}]
[{"$f":"'[1]87-0-14'!B3168","v":"PACHG"},{"$f":"'[1]87-0-14'!D3168","v":"PALA ANCH CAB HIERRO"},{"$f":"'[1]87-0-14'!E3168","v":"GHERARDI"},{"$f":"'[1]87-0-14'!F3168","v":"PALA"},{"$f":"'[1]87-0-14'!G3168*(1+$E$13)","v":104661.96750000001}]
[{"$f":"'[1]87-0-14'!B3169","v":"PAG"},{"$f":"'[1]87-0-14'!D3169","v":"PALA ANCHA"},{"$f":"'[1]87-0-14'!E3169","v":"GHERARDI"},{"$f":"'[1]87-0-14'!F3169","v":"PALA"},{"$f":"'[1]87-0-14'!G3169*(1+$E$13)","v":83163.002500000002}]
[{"$f":"'[1]87-0-14'!B3170","v":"PACLG"},{"$f":"'[1]87-0-14'!D3170","v":"PALA ANCHA **CABO LARGO**"},{"$f":"'[1]87-0-14'!E3170","v":"GHERARDI"},{"$f":"'[1]87-0-14'!F3170","v":"PALA"},{"$f":"'[1]87-0-14'!G3170*(1+$E$13)","v":83163.002500000002}]
[{"$f":"'[1]87-0-14'!B3171","v":"PAM"},{"$f":"'[1]87-0-14'!D3171","v":"PALA ANCHA EMP/PLASTICA"},{"$f":"'[1]87-0-14'!E3171","v":"ANSA"},{"$f":"'[1]87-0-14'!F3171","v":"PALA"},{"$f":"'[1]87-0-14'!G3171*(1+$E$13)","v":13110.52}]
[{"$f":"'[1]87-0-14'!B3172","v":"PCA"},{"$f":"'[1]87-0-14'!D3172","v":"PALA CANADIENSE"},{"$f":"'[1]87-0-14'!E3172","v":"ANEMI"},{"$f":"'[1]87-0-14'!F3172","v":"PALA"},{"$f":"'[1]87-0-14'!G3172*(1+$E$13)","v":338362.83}]
[{"$f":"'[1]87-0-14'!B3173","v":"PCAG"},{"$f":"'[1]87-0-14'!D3173","v":"PALA CARBONERA"},{"$f":"'[1]87-0-14'!E3173","v":"GHERARDI"},{"$f":"'[1]87-0-14'!F3173","v":"PALA ESTAMPADA"},{"$f":"'[1]87-0-14'!G3173*(1+$E$13)","v":60429.803500000002}]
[{"$f":"'[1]87-0-14'!B3174","v":"PCAM"},{"$f":"'[1]87-0-14'!D3174","v":"PALA CARBONERA  ESTAMPADA"},{"$f":"'[1]87-0-14'!E3174","v":"ANSA"},{"$f":"'[1]87-0-14'!F3174","v":"PALA"},{"$f":"'[1]87-0-14'!G3174*(1+$E$13)","v":22202.634000000002}]
[{"$f":"'[1]87-0-14'!B3175","v":"PCG"},{"$f":"'[1]87-0-14'!D3175","v":"PALA CESPED"},{"$f":"'[1]87-0-14'!E3175","v":"GHERARDI"},{"$f":"'[1]87-0-14'!F3175","v":"PALA"},{"$f":"'[1]87-0-14'!G3175*(1+$E$13)","v":83163.002500000002}]
[{"$f":"'[1]87-0-14'!B3176","v":"PCM"},{"$f":"'[1]87-0-14'!D3176","v":"PALA CESPED EMP/PLASTICA"},{"$f":"'[1]87-0-14'!E3176","v":"ANSA"},{"$f":"'[1]87-0-14'!F3176","v":"PALA"},{"$f":"'[1]87-0-14'!G3176*(1+$E$13)","v":13110.52}]
[{"$f":"'[1]87-0-14'!B3177","v":"PCOG"},{"$f":"'[1]87-0-14'!D3177","v":"PALA CORAZON"},{"$f":"'[1]87-0-14'!E3177","v":"GHERARDI"},{"$f":"'[1]87-0-14'!F3177","v":"PALA"},{"$f":"'[1]87-0-14'!G3177*(1+$E$13)","v":77001.52}]
[{"$f":"'[1]87-0-14'!B3178","v":"PCCHG"},{"$f":"'[1]87-0-14'!D3178","v":"PALA CORAZON CABO HIERO"},{"$f":"'[1]87-0-14'!E3178","v":"GHERARDI"},{"$f":"'[1]87-0-14'!F3178","v":"PALA"},{"$f":"'[1]87-0-14'!G3178*(1+$E$13)","v":101609.45950000001}]
[{"$f":"'[1]87-0-14'!B3179","v":"PCOM"},{"$f":"'[1]87-0-14'!D3179","v":"PALA CORAZON EMP/PLASTICA"},{"$f":"'[1]87-0-14'!E3179","v":"ANSA"},{"$f":"'[1]87-0-14'!F3179","v":"PALA"},{"$f":"'[1]87-0-14'!G3179*(1+$E$13)","v":13110.52}]
[{"$f":"'[1]87-0-14'!B3180","v":"PEG"},{"$f":"'[1]87-0-14'!D3180","v":"PALA ESCOCESA"},{"$f":"'[1]87-0-14'!E3180","v":"GHERARDI"},{"$f":"'[1]87-0-14'!F3180","v":"PALA"},{"$f":"'[1]87-0-14'!G3180*(1+$E$13)","v":93739.691000000006}]
[{"$f":"'[1]87-0-14'!B3181","v":"PECHG"},{"$f":"'[1]87-0-14'!D3181","v":"PALA ESCOCESA C/HIERRO"},{"$f":"'[1]87-0-14'!E3181","v":"GHERARDI"},{"$f":"'[1]87-0-14'!F3181","v":"PALA"},{"$f":"'[1]87-0-14'!G3181*(1+$E$13)","v":113353.67}]
[{"$f":"'[1]87-0-14'!B3182","v":"PAEPG"},{"$f":"'[1]87-0-14'!D3182","v":"PALA EST EMPU/PLAST ANCHA"},{"$f":"'[1]87-0-14'!E3182","v":"GHERARDI"},{"$f":"'[1]87-0-14'!F3182","v":"PALA ESTAMPADA"},{"$f":"'[1]87-0-14'!G3182*(1+$E$13)","v":41985.47}]
[{"$f":"'[1]87-0-14'!B3183","v":"PPEPG"},{"$f":"'[1]87-0-14'!D3183","v":"PALA EST EMPU/PLAST PUNTA"},{"$f":"'[1]87-0-14'!E3183","v":"GHERARDI"},{"$f":"'[1]87-0-14'!F3183","v":"PALA ESTAMPADA"},{"$f":"'[1]87-0-14'!G3183*(1+$E$13)","v":41985.47}]
[{"$f":"'[1]87-0-14'!B3184","v":"PECOG"},{"$f":"'[1]87-0-14'!D3184","v":"PALA ESTAMPA CORAZON"},{"$f":"'[1]87-0-14'!E3184","v":"GHERARDI"},{"$f":"'[1]87-0-14'!F3184","v":"PALA ESTAMPADA"},{"$f":"'[1]87-0-14'!G3184*(1+$E$13)","v":57609.625}]
[{"$f":"'[1]87-0-14'!B3185","v":"PEAG"},{"$f":"'[1]87-0-14'!D3185","v":"PALA ESTAMPADA ANCHA"},{"$f":"'[1]87-0-14'!E3185","v":"GHERARDI"},{"$f":"'[1]87-0-14'!F3185","v":"PALA ESTAMPADA"},{"$f":"'[1]87-0-14'!G3185*(1+$E$13)","v":57609.625}]
[{"$f":"'[1]87-0-14'!B3186","v":"PEPG"},{"$f":"'[1]87-0-14'!D3186","v":"PALA ESTAMPADA PUNTA"},{"$f":"'[1]87-0-14'!E3186","v":"GHERARDI"},{"$f":"'[1]87-0-14'!F3186","v":"PALA ESTAMPADA"},{"$f":"'[1]87-0-14'!G3186*(1+$E$13)","v":57609.625}]
[{"$f":"'[1]87-0-14'!B3187","v":"PHFA"},{"$f":"'[1]87-0-14'!D3187","v":"PALA HOYADORA FIJA"},{"$f":"'[1]87-0-14'!E3187","v":"ANEMI"},{"$f":"'[1]87-0-14'!F3187","v":"PALA HOYADORA"},{"$f":"'[1]87-0-14'!G3187*(1+$E$13)","v":197041.02200000003}]
[{"$f":"'[1]87-0-14'!B3188","v":"PHMA"},{"$f":"'[1]87-0-14'!D3188","v":"PALA HOYADORA MOVIL"},{"$f":"'[1]87-0-14'!E3188","v":"ANEMI"},{"$f":"'[1]87-0-14'!F3188","v":"PALA HOYADORA"},{"$f":"'[1]87-0-14'!G3188*(1+$E$13)","v":227449.32500000001}]
[{"$f":"'[1]87-0-14'!B3189","v":"PJCLG"},{"$f":"'[1]87-0-14'!D3189","v":"PALA JARDINE CA/LARG"},{"$f":"'[1]87-0-14'!E3189","v":"GHERARDI"},{"$f":"'[1]87-0-14'!F3189","v":"PALA"},{"$f":"'[1]87-0-14'!G3189*(1+$E$13)","v":59670.179499999998}]
[{"$f":"'[1]87-0-14'!B3190","v":"PJC60G"},{"$f":"'[1]87-0-14'!D3190","v":"PALA JARDINE CABO 60"},{"$f":"'[1]87-0-14'!E3190","v":"GHERARDI"},{"$f":"'[1]87-0-14'!F3190","v":"PALA"},{"$f":"'[1]87-0-14'!G3190*(1+$E$13)","v":55784.220999999998}]
[{"$f":"'[1]87-0-14'!B3191","v":"PJC70G"},{"$f":"'[1]87-0-14'!D3191","v":"PALA JARDINE CABO 70"},{"$f":"'[1]87-0-14'!E3191","v":"GHERARDI"},{"$f":"'[1]87-0-14'!F3191","v":"PALA"},{"$f":"'[1]87-0-14'!G3191*(1+$E$13)","v":55784.220999999998}]
[{"$f":"'[1]87-0-14'!B3192","v":"PJCG"},{"$f":"'[1]87-0-14'!D3192","v":"PALA JARDINE CAMPING"},{"$f":"'[1]87-0-14'!E3192","v":"GHERARDI"},{"$f":"'[1]87-0-14'!F3192","v":"PALA"},{"$f":"'[1]87-0-14'!G3192*(1+$E$13)","v":42285.6895}]
[{"$f":"'[1]87-0-14'!B3193","v":"PPOG"},{"$f":"'[1]87-0-14'!D3193","v":"PALA POCERA"},{"$f":"'[1]87-0-14'!E3193","v":"GHERARDI"},{"$f":"'[1]87-0-14'!F3193","v":"PALA"},{"$f":"'[1]87-0-14'!G3193*(1+$E$13)","v":83163.002500000002}]
[{"$f":"'[1]87-0-14'!B3194","v":"PPOCLG"},{"$f":"'[1]87-0-14'!D3194","v":"PALA POCERA **CABO LARGO*"},{"$f":"'[1]87-0-14'!E3194","v":"GHERARDI"},{"$f":"'[1]87-0-14'!F3194","v":"PALA"},{"$f":"'[1]87-0-14'!G3194*(1+$E$13)","v":83163.002500000002}]
[{"$f":"'[1]87-0-14'!B3195","v":"PPOCHG"},{"$f":"'[1]87-0-14'!D3195","v":"PALA POCERA CAB/HIER"},{"$f":"'[1]87-0-14'!E3195","v":"GHERARDI"},{"$f":"'[1]87-0-14'!F3195","v":"PALA"},{"$f":"'[1]87-0-14'!G3195*(1+$E$13)","v":104661.96750000001}]
[{"$f":"'[1]87-0-14'!B3196","v":"PPG"},{"$f":"'[1]87-0-14'!D3196","v":"PALA PUNTA"},{"$f":"'[1]87-0-14'!E3196","v":"GHERARDI"},{"$f":"'[1]87-0-14'!F3196","v":"PALA"},{"$f":"'[1]87-0-14'!G3196*(1+$E$13)","v":83163.002500000002}]
[{"$f":"'[1]87-0-14'!B3197","v":"PPCLG"},{"$f":"'[1]87-0-14'!D3197","v":"PALA PUNTA **CABO LARGO**"},{"$f":"'[1]87-0-14'!E3197","v":"GHERARDI"},{"$f":"'[1]87-0-14'!F3197","v":"PALA"},{"$f":"'[1]87-0-14'!G3197*(1+$E$13)","v":83163.002500000002}]
[{"$f":"'[1]87-0-14'!B3198","v":"PPCHG"},{"$f":"'[1]87-0-14'!D3198","v":"PALA PUNTA CABO HIERRO"},{"$f":"'[1]87-0-14'!E3198","v":"GHERARDI"},{"$f":"'[1]87-0-14'!F3198","v":"PALA"},{"$f":"'[1]87-0-14'!G3198*(1+$E$13)","v":104661.96750000001}]
[{"$f":"'[1]87-0-14'!B3199","v":"PPM"},{"$f":"'[1]87-0-14'!D3199","v":"PALA PUNTA EMP/PLASTICA"},{"$f":"'[1]87-0-14'!E3199","v":"ANSA"},{"$f":"'[1]87-0-14'!F3199","v":"PALA"},{"$f":"'[1]87-0-14'!G3199*(1+$E$13)","v":13110.52}]
[{"$f":"'[1]87-0-14'!B3200","v":"PSCEG"},{"$f":"'[1]87-0-14'!D3200","v":"PALA SIN CAB ESCOCES"},{"$f":"'[1]87-0-14'!E3200","v":"GHERARDI"},{"$f":"'[1]87-0-14'!F3200","v":"PALA SIN CABO"},{"$f":"'[1]87-0-14'!G3200*(1+$E$13)","v":84101.357000000004}]
[{"$f":"'[1]87-0-14'!B3201","v":"PSCPOG"},{"$f":"'[1]87-0-14'!D3201","v":"PALA SIN CABO POCERA"},{"$f":"'[1]87-0-14'!E3201","v":"GHERARDI"},{"$f":"'[1]87-0-14'!F3201","v":"PALA SIN CABO"},{"$f":"'[1]87-0-14'!G3201*(1+$E$13)","v":70155.263000000006}]
[{"$f":"'[1]87-0-14'!B3202","v":"PTG"},{"$f":"'[1]87-0-14'!D3202","v":"PALA TAIPERA"},{"$f":"'[1]87-0-14'!E3202","v":"GHERARDI"},{"$f":"'[1]87-0-14'!F3202","v":"PALA"},{"$f":"'[1]87-0-14'!G3202*(1+$E$13)","v":94814.430000000008}]
[{"$f":"'[1]87-0-14'!B3203","v":"PTA"},{"$f":"'[1]87-0-14'!D3203","v":"PALA TIJERA"},{"$f":"'[1]87-0-14'!E3203","v":"ANEMI"},{"$f":"'[1]87-0-14'!F3203","v":"PALA"},{"$f":"'[1]87-0-14'!G3203*(1+$E$13)","v":224662.34750000003}]
[{"$f":"'[1]87-0-14'!B3204","v":"PTF"},{"$f":"'[1]87-0-14'!D3204","v":"PALITA TRANSPLANTE"},{"$f":"'[1]87-0-14'!E3204","v":"FERCAS"},{"$f":"'[1]87-0-14'!F3204","v":"PALITA TRANSPLANT"},{"$f":"'[1]87-0-14'!G3204*(1+$E$13)","v":8785.5550000000003}]
[{"$f":"'[1]87-0-14'!B3205","v":"P200T"},{"$f":"'[1]87-0-14'!D3205","v":"PAN DOBLE FAZ 200x50x25"},{"$f":"'[1]87-0-14'!E3205","v":"TYROLIT"},{"$f":"'[1]87-0-14'!F3205","v":"PAN D/FAZ"},{"$f":"'[1]87-0-14'!G3205*(1+$E$13)","v":56643.633999999998}]
[{"$f":"'[1]87-0-14'!B3206","v":"PDEA"},{"$f":"'[1]87-0-14'!D3206","v":"PAN VA/RO 1500/3000 ENVAS"},{"$f":"'[1]87-0-14'!E3206","v":"VITAL GAS"},{"$f":"'[1]87-0-14'!F3206","v":"PANTALLA VAL/ROB"},{"$f":"'[1]87-0-14'!G3206*(1+$E$13)","v":87748.165999999997}]
[{"$f":"'[1]87-0-14'!B3207","v":"PDNA"},{"$f":"'[1]87-0-14'!D3207","v":"PAN VA/RO 1500/3000 NATUR"},{"$f":"'[1]87-0-14'!E3207","v":"VITAL GAS"},{"$f":"'[1]87-0-14'!F3207","v":"PANTALLA VAL/ROB"},{"$f":"'[1]87-0-14'!G3207*(1+$E$13)","v":87748.165999999997}]
[{"$f":"'[1]87-0-14'!B3208","v":"PLCP"},{"$f":"'[1]87-0-14'!D3208","v":"PANO LUSTRE CHICO"},{"$f":"'[1]87-0-14'!E3208","v":"PAINTROLER"},{"$f":"'[1]87-0-14'!F3208","v":"PAÑO LUSTRE"},{"$f":"'[1]87-0-14'!G3208*(1+$E$13)","v":2901.9410000000003}]
[{"$f":"'[1]87-0-14'!B3209","v":"PLGP"},{"$f":"'[1]87-0-14'!D3209","v":"PANO LUSTRE GRANDE"},{"$f":"'[1]87-0-14'!E3209","v":"PAINTROLER"},{"$f":"'[1]87-0-14'!F3209","v":"PAÑO LUSTRE"},{"$f":"'[1]87-0-14'!G3209*(1+$E$13)","v":6820.7130000000006}]
[{"$f":"'[1]87-0-14'!B3210","v":"PACGV"},{"$f":"'[1]87-0-14'!D3210","v":"PANT DIR ALUMINIO C/GRUES"},{"$f":"'[1]87-0-14'!E3210","v":"VITAL GAS"},{"$f":"'[1]87-0-14'!F3210","v":"PANTALLA DIRECTA"},{"$f":"'[1]87-0-14'!G3210*(1+$E$13)","v":25516.441000000003}]
[{"$f":"'[1]87-0-14'!B3211","v":"PDAA"},{"$f":"'[1]87-0-14'!D3211","v":"PANT. DIRECTA *ALUMINIO*"},{"$f":"'[1]87-0-14'!E3211","v":"JETER"},{"$f":"'[1]87-0-14'!F3211","v":"PANTALLA DIRECTA"},{"$f":"'[1]87-0-14'!G3211*(1+$E$13)","v":23616.807499999999}]
[{"$f":"'[1]87-0-14'!B3212","v":"PR1500EA"},{"$f":"'[1]87-0-14'!D3212","v":"PANTA 1500 ROBINETE ENVAS"},{"$f":"'[1]87-0-14'!E3212","v":"JETER"},{"$f":"'[1]87-0-14'!F3212","v":"PANTALLA ROBINETE"},{"$f":"'[1]87-0-14'!G3212*(1+$E$13)","v":72741.376000000004}]
[{"$f":"'[1]87-0-14'!B3213","v":"PR1500NA"},{"$f":"'[1]87-0-14'!D3213","v":"PANTA 1500 ROBINETE NATUR"},{"$f":"'[1]87-0-14'!E3213","v":"JETER"},{"$f":"'[1]87-0-14'!F3213","v":"PANTALLA ROBINETE"},{"$f":"'[1]87-0-14'!G3213*(1+$E$13)","v":72741.376000000004}]
[{"$f":"'[1]87-0-14'!B3214","v":"PR3000EA"},{"$f":"'[1]87-0-14'!D3214","v":"PANTA 3000 ROBINETE ENVAS"},{"$f":"'[1]87-0-14'!E3214","v":"JETER"},{"$f":"'[1]87-0-14'!F3214","v":"PANTALLA ROBINETE"},{"$f":"'[1]87-0-14'!G3214*(1+$E$13)","v":90112.0245}]
[{"$f":"'[1]87-0-14'!B3215","v":"PR3000NA"},{"$f":"'[1]87-0-14'!D3215","v":"PANTA 3000 ROBINETE NATUR"},{"$f":"'[1]87-0-14'!E3215","v":"JETER"},{"$f":"'[1]87-0-14'!F3215","v":"PANTALLA ROBINETE"},{"$f":"'[1]87-0-14'!G3215*(1+$E$13)","v":90112.0245}]
[{"$f":"'[1]87-0-14'!B3216","v":"P1500EA"},{"$f":"'[1]87-0-14'!D3216","v":"PANTA C/VALVUL 1500 ENVAS"},{"$f":"'[1]87-0-14'!E3216","v":"VITAL GAS"},{"$f":"'[1]87-0-14'!F3216","v":"PANTALLA C/V"},{"$f":"'[1]87-0-14'!G3216*(1+$E$13)","v":46081.887500000004}]
[{"$f":"'[1]87-0-14'!B3217","v":"P1500NA"},{"$f":"'[1]87-0-14'!D3217","v":"PANTA C/VALVUL 1500 NATUR"},{"$f":"'[1]87-0-14'!E3217","v":"VITAL GAS"},{"$f":"'[1]87-0-14'!F3217","v":"PANTALLA C/V"},{"$f":"'[1]87-0-14'!G3217*(1+$E$13)","v":46081.887500000004}]
[{"$f":"'[1]87-0-14'!B3218","v":"P3000EA"},{"$f":"'[1]87-0-14'!D3218","v":"PANTA C/VALVUL 3000 ENVAS"},{"$f":"'[1]87-0-14'!E3218","v":"VITAL GAS"},{"$f":"'[1]87-0-14'!F3218","v":"PANTALLA C/V"},{"$f":"'[1]87-0-14'!G3218*(1+$E$13)","v":59453.458500000001}]
[{"$f":"'[1]87-0-14'!B3219","v":"P3000NA"},{"$f":"'[1]87-0-14'!D3219","v":"PANTA C/VALVUL 3000 NATUR"},{"$f":"'[1]87-0-14'!E3219","v":"VITAL GAS"},{"$f":"'[1]87-0-14'!F3219","v":"PANTALLA C/V"},{"$f":"'[1]87-0-14'!G3219*(1+$E$13)","v":59453.458500000001}]
[{"$f":"'[1]87-0-14'!B3220","v":"PD10A"},{"$f":"'[1]87-0-14'!D3220","v":"PANTALLA DIRECTA 10k"},{"$f":"'[1]87-0-14'!E3220","v":"JETER"},{"$f":"'[1]87-0-14'!F3220","v":"PANTALLA DIRECTA"},{"$f":"'[1]87-0-14'!G3220*(1+$E$13)","v":31022.3665}]
[{"$f":"'[1]87-0-14'!B3221","v":"PCGV"},{"$f":"'[1]87-0-14'!D3221","v":"PANTALLA DIRECTA CA/GRUES"},{"$f":"'[1]87-0-14'!E3221","v":"VITAL GAS"},{"$f":"'[1]87-0-14'!F3221","v":"PANTALLA DIRECTA"},{"$f":"'[1]87-0-14'!G3221*(1+$E$13)","v":25287.738499999999}]
[{"$f":"'[1]87-0-14'!B3222","v":"PPN14SC"},{"$f":"'[1]87-0-14'!D3222","v":"PAS C/POR A106 *NEGRO* 14"},{"$f":"'[1]87-0-14'!E3222","v":"SC"},{"$f":"'[1]87-0-14'!F3222","v":"PASADOR"},{"$f":"'[1]87-0-14'!G3222*(1+$E$13)","v":14559.041500000001}]
[{"$f":"'[1]87-0-14'!B3223","v":"PPN17SC"},{"$f":"'[1]87-0-14'!D3223","v":"PAS C/POR A106 *NEGRO* 17"},{"$f":"'[1]87-0-14'!E3223","v":"SC"},{"$f":"'[1]87-0-14'!F3223","v":"PASADOR"},{"$f":"'[1]87-0-14'!G3223*(1+$E$13)","v":22912.270500000002}]
[{"$f":"'[1]87-0-14'!B3224","v":"PPN21SC"},{"$f":"'[1]87-0-14'!D3224","v":"PAS C/POR A106 *NEGRO* 21"},{"$f":"'[1]87-0-14'!E3224","v":"SC"},{"$f":"'[1]87-0-14'!F3224","v":"PASADOR"},{"$f":"'[1]87-0-14'!G3224*(1+$E$13)","v":37867.491999999998}]
[{"$f":"'[1]87-0-14'!B3225","v":"PPC14SC"},{"$f":"'[1]87-0-14'!D3225","v":"PAS C/POR AR106 CROMAT 14"},{"$f":"'[1]87-0-14'!E3225","v":"SC"},{"$f":"'[1]87-0-14'!F3225","v":"PASADOR C/PORT."},{"$f":"'[1]87-0-14'!G3225*(1+$E$13)","v":15299.213}]
[{"$f":"'[1]87-0-14'!B3226","v":"PPC17SC"},{"$f":"'[1]87-0-14'!D3226","v":"PAS C/POR AR106 CROMAT 17"},{"$f":"'[1]87-0-14'!E3226","v":"SC"},{"$f":"'[1]87-0-14'!F3226","v":"PASADOR C/PORT."},{"$f":"'[1]87-0-14'!G3226*(1+$E$13)","v":27053.188499999997}]
[{"$f":"'[1]87-0-14'!B3227","v":"PPC21SC"},{"$f":"'[1]87-0-14'!D3227","v":"PAS C/POR AR106 CROMAT 21"},{"$f":"'[1]87-0-14'!E3227","v":"SC"},{"$f":"'[1]87-0-14'!F3227","v":"PASADOR C/PORT."},{"$f":"'[1]87-0-14'!G3227*(1+$E$13)","v":46840.906999999999}]
[{"$f":"'[1]87-0-14'!B3228","v":"PMP1SC"},{"$f":"'[1]87-0-14'!D3228","v":"PAS MAUSER PISTOLE 1"},{"$f":"'[1]87-0-14'!E3228","v":"SC"},{"$f":"'[1]87-0-14'!F3228","v":"PASADOR"},{"$f":"'[1]87-0-14'!G3228*(1+$E$13)","v":43829.861500000006}]
[{"$f":"'[1]87-0-14'!B3229","v":"PMP2SC"},{"$f":"'[1]87-0-14'!D3229","v":"PAS MAUSER PISTOLE 2"},{"$f":"'[1]87-0-14'!E3229","v":"SC"},{"$f":"'[1]87-0-14'!F3229","v":"PASADOR"},{"$f":"'[1]87-0-14'!G3229*(1+$E$13)","v":66280.154500000004}]
[{"$f":"'[1]87-0-14'!B3230","v":"PMP3SC"},{"$f":"'[1]87-0-14'!D3230","v":"PAS MAUSER PISTOLE 3"},{"$f":"'[1]87-0-14'!E3230","v":"SC"},{"$f":"'[1]87-0-14'!F3230","v":"PASADOR"},{"$f":"'[1]87-0-14'!G3230*(1+$E$13)","v":93453.049500000008}]
[{"$f":"'[1]87-0-14'!B3231","v":"PP10048S"},{"$f":"'[1]87-0-14'!D3231","v":"PAS PORTACAND CROM 100x48"},{"$f":"'[1]87-0-14'!E3231","v":"SC"},{"$f":"'[1]87-0-14'!F3231","v":"PASADOR"},{"$f":"'[1]87-0-14'!G3231*(1+$E$13)","v":29280.306}]
[{"$f":"'[1]87-0-14'!B3232","v":"PP14060S"},{"$f":"'[1]87-0-14'!D3232","v":"PAS PORTACAND CROM 140x60"},{"$f":"'[1]87-0-14'!E3232","v":"SC"},{"$f":"'[1]87-0-14'!F3232","v":"PASADOR"},{"$f":"'[1]87-0-14'!G3232*(1+$E$13)","v":27905.967499999999}]
[{"$f":"'[1]87-0-14'!B3233","v":"PP17075S"},{"$f":"'[1]87-0-14'!D3233","v":"PAS PORTACAND CROM 170x75"},{"$f":"'[1]87-0-14'!E3233","v":"SC"},{"$f":"'[1]87-0-14'!F3233","v":"PASADOR"},{"$f":"'[1]87-0-14'!G3233*(1+$E$13)","v":47105.987999999998}]
[{"$f":"'[1]87-0-14'!B3234","v":"PD"},{"$f":"'[1]87-0-14'!D3234","v":"PASACINTA DOBLE"},{"$f":"'[1]87-0-14'!E3234","v":"SIRA"},{"$f":"'[1]87-0-14'!F3234","v":"PASACINTA"},{"$f":"'[1]87-0-14'!G3234*(1+$E$13)","v":3686.4735000000001}]
[{"$f":"'[1]87-0-14'!B3235","v":"PMN1SC"},{"$f":"'[1]87-0-14'!D3235","v":"PASAD MAUSER *NEGRO* N  1"},{"$f":"'[1]87-0-14'!E3235","v":"SC"},{"$f":"'[1]87-0-14'!F3235","v":"PASADOR"},{"$f":"'[1]87-0-14'!G3235*(1+$E$13)","v":30484.640499999998}]
[{"$f":"'[1]87-0-14'!B3236","v":"PMN2SC"},{"$f":"'[1]87-0-14'!D3236","v":"PASAD MAUSER *NEGRO* N  2"},{"$f":"'[1]87-0-14'!E3236","v":"SC"},{"$f":"'[1]87-0-14'!F3236","v":"PASADOR"},{"$f":"'[1]87-0-14'!G3236*(1+$E$13)","v":44265.597500000003}]
[{"$f":"'[1]87-0-14'!B3237","v":"PMN3SC"},{"$f":"'[1]87-0-14'!D3237","v":"PASAD MAUSER *NEGRO* N  3"},{"$f":"'[1]87-0-14'!E3237","v":"SC"},{"$f":"'[1]87-0-14'!F3237","v":"PASADOR"},{"$f":"'[1]87-0-14'!G3237*(1+$E$13)","v":63203.125500000002}]
[{"$f":"'[1]87-0-14'!B3238","v":"PAT"},{"$f":"'[1]87-0-14'!D3238","v":"PASADO #ARRIMAR# 2 LLAVES"},{"$f":"'[1]87-0-14'!E3238","v":"TRABEX"},{"$f":"'[1]87-0-14'!F3238","v":"PASADOR"},{"$f":"'[1]87-0-14'!G3238*(1+$E$13)","v":339671.68099999998}]
[{"$f":"'[1]87-0-14'!B3239","v":"PCLP"},{"$f":"'[1]87-0-14'!D3239","v":"PASADOR CON 2 LLAVES"},{"$f":"'[1]87-0-14'!E3239","v":"PRIVE"},{"$f":"'[1]87-0-14'!F3239","v":"PASADOR"},{"$f":"'[1]87-0-14'!G3239*(1+$E$13)","v":64486.045000000006}]
[{"$f":"'[1]87-0-14'!B3240","v":"PM1SC"},{"$f":"'[1]87-0-14'!D3240","v":"PASADOR MAUSER N  1"},{"$f":"'[1]87-0-14'!E3240","v":"SC"},{"$f":"'[1]87-0-14'!F3240","v":"PASADOR"},{"$f":"'[1]87-0-14'!G3240*(1+$E$13)","v":31322.027999999998}]
[{"$f":"'[1]87-0-14'!B3241","v":"PM2SC"},{"$f":"'[1]87-0-14'!D3241","v":"PASADOR MAUSER N  2"},{"$f":"'[1]87-0-14'!E3241","v":"SC"},{"$f":"'[1]87-0-14'!F3241","v":"PASADOR"},{"$f":"'[1]87-0-14'!G3241*(1+$E$13)","v":48358.512000000002}]
[{"$f":"'[1]87-0-14'!B3242","v":"PM3SC"},{"$f":"'[1]87-0-14'!D3242","v":"PASADOR MAUSER N  3"},{"$f":"'[1]87-0-14'!E3242","v":"SC"},{"$f":"'[1]87-0-14'!F3242","v":"PASADOR"},{"$f":"'[1]87-0-14'!G3242*(1+$E$13)","v":70138.941500000001}]
[{"$f":"'[1]87-0-14'!B3243","v":"PSLP"},{"$f":"'[1]87-0-14'!D3243","v":"PASADOR SIN LLAVE"},{"$f":"'[1]87-0-14'!E3243","v":"PRIVE"},{"$f":"'[1]87-0-14'!F3243","v":"PASADOR"},{"$f":"'[1]87-0-14'!G3243*(1+$E$13)","v":35210.668000000005}]
[{"$f":"'[1]87-0-14'!B3244","v":"PZ0TR"},{"$f":"'[1]87-0-14'!D3244","v":"PASADOR ZINCADO N  0"},{"$f":"'[1]87-0-14'!E3244","v":"TR"},{"$f":"'[1]87-0-14'!F3244","v":"PASADOR ZINCADO"},{"$f":"'[1]87-0-14'!G3244*(1+$E$13)","v":65402.280999999995}]
[{"$f":"'[1]87-0-14'!B3245","v":"PZ1TR"},{"$f":"'[1]87-0-14'!D3245","v":"PASADOR ZINCADO N  1"},{"$f":"'[1]87-0-14'!E3245","v":"TR"},{"$f":"'[1]87-0-14'!F3245","v":"PASADOR ZINCADO"},{"$f":"'[1]87-0-14'!G3245*(1+$E$13)","v":45044.193500000001}]
[{"$f":"'[1]87-0-14'!B3246","v":"PZ2TR"},{"$f":"'[1]87-0-14'!D3246","v":"PASADOR ZINCADO N  2"},{"$f":"'[1]87-0-14'!E3246","v":"TR"},{"$f":"'[1]87-0-14'!F3246","v":"PASADOR ZINCADO"},{"$f":"'[1]87-0-14'!G3246*(1+$E$13)","v":71071.576499999996}]
[{"$f":"'[1]87-0-14'!B3247","v":"PZ3TR"},{"$f":"'[1]87-0-14'!D3247","v":"PASADOR ZINCADO N  3"},{"$f":"'[1]87-0-14'!E3247","v":"TR"},{"$f":"'[1]87-0-14'!F3247","v":"PASADOR ZINCADO"},{"$f":"'[1]87-0-14'!G3247*(1+$E$13)","v":62652.379500000003}]
[{"$f":"'[1]87-0-14'!B3248","v":"PF"},{"$f":"'[1]87-0-14'!D3248","v":"PEINE MAQ. SALPICAR"},{"$f":"'[1]87-0-14'!E3248","v":"NEIKE"},{"$f":"'[1]87-0-14'!F3248","v":"PEINE"},{"$f":"'[1]87-0-14'!G3248*(1+$E$13)","v":923.78450000000009}]
[{"$f":"'[1]87-0-14'!B3249","v":"PBA1635E"},{"$f":"'[1]87-0-14'!D3249","v":"PI BCEA ABIERT 16-35 (200"},{"$f":"'[1]87-0-14'!E3249","v":"ELESCUERZO"},{"$f":"'[1]87-0-14'!F3249","v":"PITON"},{"$f":"'[1]87-0-14'!G3249*(1+$E$13)","v":33874.2425}]
[{"$f":"'[1]87-0-14'!B3250","v":"PBA1740E"},{"$f":"'[1]87-0-14'!D3250","v":"PI BCEA ABIERT 17-40 (200"},{"$f":"'[1]87-0-14'!E3250","v":"ELESCUERZO"},{"$f":"'[1]87-0-14'!F3250","v":"PITON"},{"$f":"'[1]87-0-14'!G3250*(1+$E$13)","v":36588.199500000002}]
[{"$f":"'[1]87-0-14'!B3251","v":"PBA1845E"},{"$f":"'[1]87-0-14'!D3251","v":"PI BCEA ABIERT 18-45 (100"},{"$f":"'[1]87-0-14'!E3251","v":"ELESCUERZO"},{"$f":"'[1]87-0-14'!F3251","v":"PITON"},{"$f":"'[1]87-0-14'!G3251*(1+$E$13)","v":21008.0645}]
[{"$f":"'[1]87-0-14'!B3252","v":"PBA1950E"},{"$f":"'[1]87-0-14'!D3252","v":"PI BCEA ABIERT 19-50 (100"},{"$f":"'[1]87-0-14'!E3252","v":"ELESCUERZO"},{"$f":"'[1]87-0-14'!F3252","v":"PITON"},{"$f":"'[1]87-0-14'!G3252*(1+$E$13)","v":22716.846500000003}]
[{"$f":"'[1]87-0-14'!B3253","v":"PBA2160E"},{"$f":"'[1]87-0-14'!D3253","v":"PI BCEA ABIERT 21-60 (50)"},{"$f":"'[1]87-0-14'!E3253","v":"ELESCUERZO"},{"$f":"'[1]87-0-14'!F3253","v":"PITON"},{"$f":"'[1]87-0-14'!G3253*(1+$E$13)","v":15881.6875}]
[{"$f":"'[1]87-0-14'!B3254","v":"PBA2170E"},{"$f":"'[1]87-0-14'!D3254","v":"PI BCEA ABIERT 21-70 (50)"},{"$f":"'[1]87-0-14'!E3254","v":"ELESCUERZO"},{"$f":"'[1]87-0-14'!F3254","v":"PITON"},{"$f":"'[1]87-0-14'!G3254*(1+$E$13)","v":16886.862499999999}]
[{"$f":"'[1]87-0-14'!B3255","v":"PBA2380E"},{"$f":"'[1]87-0-14'!D3255","v":"PI BCEA ABIERT 23-80 (25)"},{"$f":"'[1]87-0-14'!E3255","v":"ELESCUERZO"},{"$f":"'[1]87-0-14'!F3255","v":"PITON"},{"$f":"'[1]87-0-14'!G3255*(1+$E$13)","v":12062.038}]
[{"$f":"'[1]87-0-14'!B3256","v":"PBC1635E"},{"$f":"'[1]87-0-14'!D3256","v":"PI BCEA CERRAD 16-35 (200"},{"$f":"'[1]87-0-14'!E3256","v":"ELESCUERZO"},{"$f":"'[1]87-0-14'!F3256","v":"PITON"},{"$f":"'[1]87-0-14'!G3256*(1+$E$13)","v":33874.2425}]
[{"$f":"'[1]87-0-14'!B3257","v":"PBC1740E"},{"$f":"'[1]87-0-14'!D3257","v":"PI BCEA CERRAD 17-40 (200"},{"$f":"'[1]87-0-14'!E3257","v":"ELESCUERZO"},{"$f":"'[1]87-0-14'!F3257","v":"PITON"},{"$f":"'[1]87-0-14'!G3257*(1+$E$13)","v":36588.199500000002}]
[{"$f":"'[1]87-0-14'!B3258","v":"PBC1845E"},{"$f":"'[1]87-0-14'!D3258","v":"PI BCEA CERRAD 18-45 (100"},{"$f":"'[1]87-0-14'!E3258","v":"ELESCUERZO"},{"$f":"'[1]87-0-14'!F3258","v":"PITON"},{"$f":"'[1]87-0-14'!G3258*(1+$E$13)","v":21008.0645}]
[{"$f":"'[1]87-0-14'!B3259","v":"PBC1950E"},{"$f":"'[1]87-0-14'!D3259","v":"PI BCEA CERRAD 19-50 (100"},{"$f":"'[1]87-0-14'!E3259","v":"ELESCUERZO"},{"$f":"'[1]87-0-14'!F3259","v":"PITON"},{"$f":"'[1]87-0-14'!G3259*(1+$E$13)","v":22716.846500000003}]
[{"$f":"'[1]87-0-14'!B3260","v":"PBC2160E"},{"$f":"'[1]87-0-14'!D3260","v":"PI BCEA CERRAD 21-60 (50)"},{"$f":"'[1]87-0-14'!E3260","v":"ELESCUERZO"},{"$f":"'[1]87-0-14'!F3260","v":"PITON"},{"$f":"'[1]87-0-14'!G3260*(1+$E$13)","v":15881.6875}]
[{"$f":"'[1]87-0-14'!B3261","v":"PBC2170E"},{"$f":"'[1]87-0-14'!D3261","v":"PI BCEA CERRAD 21-70 (50)"},{"$f":"'[1]87-0-14'!E3261","v":"ELESCUERZO"},{"$f":"'[1]87-0-14'!F3261","v":"PITON"},{"$f":"'[1]87-0-14'!G3261*(1+$E$13)","v":16886.862499999999}]
[{"$f":"'[1]87-0-14'!B3262","v":"PBC2380E"},{"$f":"'[1]87-0-14'!D3262","v":"PI BCEA CERRAD 23-80 (25)"},{"$f":"'[1]87-0-14'!E3262","v":"ELESCUERZO"},{"$f":"'[1]87-0-14'!F3262","v":"PITON"},{"$f":"'[1]87-0-14'!G3262*(1+$E$13)","v":12062.038}]
[{"$f":"'[1]87-0-14'!B3263","v":"PBE1635E"},{"$f":"'[1]87-0-14'!D3263","v":"PI BCEA ESCUAD 16-35 (200"},{"$f":"'[1]87-0-14'!E3263","v":"ELESCUERZO"},{"$f":"'[1]87-0-14'!F3263","v":"PITON"},{"$f":"'[1]87-0-14'!G3263*(1+$E$13)","v":33874.2425}]
[{"$f":"'[1]87-0-14'!B3264","v":"PBE1740E"},{"$f":"'[1]87-0-14'!D3264","v":"PI BCEA ESCUAD 17-40 (200"},{"$f":"'[1]87-0-14'!E3264","v":"ELESCUERZO"},{"$f":"'[1]87-0-14'!F3264","v":"PITON"},{"$f":"'[1]87-0-14'!G3264*(1+$E$13)","v":36588.199500000002}]
[{"$f":"'[1]87-0-14'!B3265","v":"PBE1845E"},{"$f":"'[1]87-0-14'!D3265","v":"PI BCEA ESCUAD 18-45 (100"},{"$f":"'[1]87-0-14'!E3265","v":"ELESCUERZO"},{"$f":"'[1]87-0-14'!F3265","v":"PITON"},{"$f":"'[1]87-0-14'!G3265*(1+$E$13)","v":21008.0645}]
[{"$f":"'[1]87-0-14'!B3266","v":"PBE1950E"},{"$f":"'[1]87-0-14'!D3266","v":"PI BCEA ESCUAD 19-50 (100"},{"$f":"'[1]87-0-14'!E3266","v":"ELESCUERZO"},{"$f":"'[1]87-0-14'!F3266","v":"PITON"},{"$f":"'[1]87-0-14'!G3266*(1+$E$13)","v":22716.846500000003}]
[{"$f":"'[1]87-0-14'!B3267","v":"PBE2160E"},{"$f":"'[1]87-0-14'!D3267","v":"PI BCEA ESCUAD 21-60 (50)"},{"$f":"'[1]87-0-14'!E3267","v":"ELESCUERZO"},{"$f":"'[1]87-0-14'!F3267","v":"PITON"},{"$f":"'[1]87-0-14'!G3267*(1+$E$13)","v":15881.6875}]
[{"$f":"'[1]87-0-14'!B3268","v":"PBE2170E"},{"$f":"'[1]87-0-14'!D3268","v":"PI BCEA ESCUAD 21-70 (50)"},{"$f":"'[1]87-0-14'!E3268","v":"ELESCUERZO"},{"$f":"'[1]87-0-14'!F3268","v":"PITON"},{"$f":"'[1]87-0-14'!G3268*(1+$E$13)","v":16886.862499999999}]
[{"$f":"'[1]87-0-14'!B3269","v":"PBE2380E"},{"$f":"'[1]87-0-14'!D3269","v":"PI BCEA ESCUAD 23-80 (25)"},{"$f":"'[1]87-0-14'!E3269","v":"ELESCUERZO"},{"$f":"'[1]87-0-14'!F3269","v":"PITON"},{"$f":"'[1]87-0-14'!G3269*(1+$E$13)","v":12062.038}]
[{"$f":"'[1]87-0-14'!B3270","v":"PCCPH76G"},{"$f":"'[1]87-0-14'!D3270","v":"PI C/CAB PA/HACH  76"},{"$f":"'[1]87-0-14'!E3270","v":"GHERARDI"},{"$f":"'[1]87-0-14'!F3270","v":"PICO"},{"$f":"'[1]87-0-14'!G3270*(1+$E$13)","v":98941.491000000009}]
[{"$f":"'[1]87-0-14'!B3271","v":"PCCPH102"},{"$f":"'[1]87-0-14'!D3271","v":"PI C/CAB PA/HACH 102"},{"$f":"'[1]87-0-14'!E3271","v":"GHERARDI"},{"$f":"'[1]87-0-14'!F3271","v":"PICO"},{"$f":"'[1]87-0-14'!G3271*(1+$E$13)","v":99990.670500000007}]
[{"$f":"'[1]87-0-14'!B3272","v":"PCCPUHG"},{"$f":"'[1]87-0-14'!D3272","v":"PI C/CAB PUN/HACH 76"},{"$f":"'[1]87-0-14'!E3272","v":"GHERARDI"},{"$f":"'[1]87-0-14'!F3272","v":"PICO"},{"$f":"'[1]87-0-14'!G3272*(1+$E$13)","v":100508.97500000001}]
[{"$f":"'[1]87-0-14'!B3273","v":"PCCPPG"},{"$f":"'[1]87-0-14'!D3273","v":"PI C/CAB PUNTA/PIZON"},{"$f":"'[1]87-0-14'!E3273","v":"GHERARDI"},{"$f":"'[1]87-0-14'!F3273","v":"PICO"},{"$f":"'[1]87-0-14'!G3273*(1+$E$13)","v":113344.6955}]
[{"$f":"'[1]87-0-14'!B3274","v":"PER1630E"},{"$f":"'[1]87-0-14'!D3274","v":"PI ESC C/ROSC 16-30 (200)"},{"$f":"'[1]87-0-14'!E3274","v":"ELESCUERZO"},{"$f":"'[1]87-0-14'!F3274","v":"PITON"},{"$f":"'[1]87-0-14'!G3274*(1+$E$13)","v":13268.248}]
[{"$f":"'[1]87-0-14'!B3275","v":"PER1740E"},{"$f":"'[1]87-0-14'!D3275","v":"PI ESC C/ROSC 17-40 (200)"},{"$f":"'[1]87-0-14'!E3275","v":"ELESCUERZO"},{"$f":"'[1]87-0-14'!F3275","v":"PITON"},{"$f":"'[1]87-0-14'!G3275*(1+$E$13)","v":15781.17}]
[{"$f":"'[1]87-0-14'!B3276","v":"PER1845E"},{"$f":"'[1]87-0-14'!D3276","v":"PI ESC C/ROSC 18-45 (100)"},{"$f":"'[1]87-0-14'!E3276","v":"ELESCUERZO"},{"$f":"'[1]87-0-14'!F3276","v":"PITON"},{"$f":"'[1]87-0-14'!G3276*(1+$E$13)","v":12665.143000000002}]
[{"$f":"'[1]87-0-14'!B3277","v":"PER1950E"},{"$f":"'[1]87-0-14'!D3277","v":"PI ESC C/ROSC 19-50 (100)"},{"$f":"'[1]87-0-14'!E3277","v":"ELESCUERZO"},{"$f":"'[1]87-0-14'!F3277","v":"PITON"},{"$f":"'[1]87-0-14'!G3277*(1+$E$13)","v":12966.695500000002}]
[{"$f":"'[1]87-0-14'!B3278","v":"PER2160E"},{"$f":"'[1]87-0-14'!D3278","v":"PI ESC C/ROSC 21-60 (100)"},{"$f":"'[1]87-0-14'!E3278","v":"ELESCUERZO"},{"$f":"'[1]87-0-14'!F3278","v":"PITON"},{"$f":"'[1]87-0-14'!G3278*(1+$E$13)","v":15580.1505}]
[{"$f":"'[1]87-0-14'!B3279","v":"PER2170E"},{"$f":"'[1]87-0-14'!D3279","v":"PI ESC C/ROSC 21-70 (100)"},{"$f":"'[1]87-0-14'!E3279","v":"ELESCUERZO"},{"$f":"'[1]87-0-14'!F3279","v":"PITON"},{"$f":"'[1]87-0-14'!G3279*(1+$E$13)","v":17892.037500000002}]
[{"$f":"'[1]87-0-14'!B3280","v":"PER2380E"},{"$f":"'[1]87-0-14'!D3280","v":"PI ESC C/ROSC 23-80 (50)"},{"$f":"'[1]87-0-14'!E3280","v":"ELESCUERZO"},{"$f":"'[1]87-0-14'!F3280","v":"PITON"},{"$f":"'[1]87-0-14'!G3280*(1+$E$13)","v":12564.641000000001}]
[{"$f":"'[1]87-0-14'!B3281","v":"PER2390E"},{"$f":"'[1]87-0-14'!D3281","v":"PI ESC C/ROSC 23-90 (50)"},{"$f":"'[1]87-0-14'!E3281","v":"ELESCUERZO"},{"$f":"'[1]87-0-14'!F3281","v":"PITON"},{"$f":"'[1]87-0-14'!G3281*(1+$E$13)","v":13368.765500000001}]
[{"$f":"'[1]87-0-14'!B3282","v":"PER24100"},{"$f":"'[1]87-0-14'!D3282","v":"PI ESC C/ROSC 24-100 (25)"},{"$f":"'[1]87-0-14'!E3282","v":"ELESCUERZO"},{"$f":"'[1]87-0-14'!F3282","v":"PITON"},{"$f":"'[1]87-0-14'!G3282*(1+$E$13)","v":8644.4585000000006}]
[{"$f":"'[1]87-0-14'!B3283","v":"PA31740E"},{"$f":"'[1]87-0-14'!D3283","v":"PI S/S ABIER 3,17x40 (50)"},{"$f":"'[1]87-0-14'!E3283","v":"ELESCUERZO"},{"$f":"'[1]87-0-14'!F3283","v":"PITON"},{"$f":"'[1]87-0-14'!G3283*(1+$E$13)","v":13814.809000000001}]
[{"$f":"'[1]87-0-14'!B3284","v":"PA39750E"},{"$f":"'[1]87-0-14'!D3284","v":"PI S/S ABIER 3,97x50 (50)"},{"$f":"'[1]87-0-14'!E3284","v":"ELESCUERZO"},{"$f":"'[1]87-0-14'!F3284","v":"PITON"},{"$f":"'[1]87-0-14'!G3284*(1+$E$13)","v":14892.229499999999}]
[{"$f":"'[1]87-0-14'!B3285","v":"PA47660E"},{"$f":"'[1]87-0-14'!D3285","v":"PI S/S ABIER 4,76x60 (50)"},{"$f":"'[1]87-0-14'!E3285","v":"ELESCUERZO"},{"$f":"'[1]87-0-14'!F3285","v":"PITON"},{"$f":"'[1]87-0-14'!G3285*(1+$E$13)","v":20185.076499999999}]
[{"$f":"'[1]87-0-14'!B3286","v":"PA47670E"},{"$f":"'[1]87-0-14'!D3286","v":"PI S/S ABIER 4,76x70 (50)"},{"$f":"'[1]87-0-14'!E3286","v":"ELESCUERZO"},{"$f":"'[1]87-0-14'!F3286","v":"PITON"},{"$f":"'[1]87-0-14'!G3286*(1+$E$13)","v":22427.8645}]
[{"$f":"'[1]87-0-14'!B3287","v":"PA63570E"},{"$f":"'[1]87-0-14'!D3287","v":"PI S/S ABIER 6,35x70 (25)"},{"$f":"'[1]87-0-14'!E3287","v":"ELESCUERZO"},{"$f":"'[1]87-0-14'!F3287","v":"PITON"},{"$f":"'[1]87-0-14'!G3287*(1+$E$13)","v":20634.266500000002}]
[{"$f":"'[1]87-0-14'!B3288","v":"PA63580E"},{"$f":"'[1]87-0-14'!D3288","v":"PI S/S ABIER 6,35x80 (25)"},{"$f":"'[1]87-0-14'!E3288","v":"ELESCUERZO"},{"$f":"'[1]87-0-14'!F3288","v":"PITON"},{"$f":"'[1]87-0-14'!G3288*(1+$E$13)","v":21260.916000000001}]
[{"$f":"'[1]87-0-14'!B3289","v":"PA63590E"},{"$f":"'[1]87-0-14'!D3289","v":"PI S/S ABIER 6,35x90 (25)"},{"$f":"'[1]87-0-14'!E3289","v":"ELESCUERZO"},{"$f":"'[1]87-0-14'!F3289","v":"PITON"},{"$f":"'[1]87-0-14'!G3289*(1+$E$13)","v":23684.325499999999}]
[{"$f":"'[1]87-0-14'!B3290","v":"PA794100"},{"$f":"'[1]87-0-14'!D3290","v":"PI S/S ABIER 7,94x100 (25"},{"$f":"'[1]87-0-14'!E3290","v":"ELESCUERZO"},{"$f":"'[1]87-0-14'!F3290","v":"PITON"},{"$f":"'[1]87-0-14'!G3290*(1+$E$13)","v":34628.116000000002}]
[{"$f":"'[1]87-0-14'!B3291","v":"PA794110"},{"$f":"'[1]87-0-14'!D3291","v":"PI S/S ABIER 7,94x110 (25"},{"$f":"'[1]87-0-14'!E3291","v":"ELESCUERZO"},{"$f":"'[1]87-0-14'!F3291","v":"PITON"},{"$f":"'[1]87-0-14'!G3291*(1+$E$13)","v":36691.863499999999}]
[{"$f":"'[1]87-0-14'!B3292","v":"PA79490E"},{"$f":"'[1]87-0-14'!D3292","v":"PI S/S ABIER 7,94x90 (25)"},{"$f":"'[1]87-0-14'!E3292","v":"ELESCUERZO"},{"$f":"'[1]87-0-14'!F3292","v":"PITON"},{"$f":"'[1]87-0-14'!G3292*(1+$E$13)","v":32744.99}]
[{"$f":"'[1]87-0-14'!B3293","v":"PC31740E"},{"$f":"'[1]87-0-14'!D3293","v":"PI S/S CERRAD 3,17x40 (50"},{"$f":"'[1]87-0-14'!E3293","v":"ELESCUERZO"},{"$f":"'[1]87-0-14'!F3293","v":"PITON"},{"$f":"'[1]87-0-14'!G3293*(1+$E$13)","v":13814.809000000001}]
[{"$f":"'[1]87-0-14'!B3294","v":"PC31750E"},{"$f":"'[1]87-0-14'!D3294","v":"PI S/S CERRAD 3,17x50 (50"},{"$f":"'[1]87-0-14'!E3294","v":"ELESCUERZO"},{"$f":"'[1]87-0-14'!F3294","v":"PITON"},{"$f":"'[1]87-0-14'!G3294*(1+$E$13)","v":14353.511500000001}]
[{"$f":"'[1]87-0-14'!B3295","v":"PC39750E"},{"$f":"'[1]87-0-14'!D3295","v":"PI S/S CERRAD 3,97x50 (50"},{"$f":"'[1]87-0-14'!E3295","v":"ELESCUERZO"},{"$f":"'[1]87-0-14'!F3295","v":"PITON"},{"$f":"'[1]87-0-14'!G3295*(1+$E$13)","v":14892.229499999999}]
[{"$f":"'[1]87-0-14'!B3296","v":"PC39760E"},{"$f":"'[1]87-0-14'!D3296","v":"PI S/S CERRAD 3,97x60 (50"},{"$f":"'[1]87-0-14'!E3296","v":"ELESCUERZO"},{"$f":"'[1]87-0-14'!F3296","v":"PITON"},{"$f":"'[1]87-0-14'!G3296*(1+$E$13)","v":16057.597}]
[{"$f":"'[1]87-0-14'!B3297","v":"PC47650E"},{"$f":"'[1]87-0-14'!D3297","v":"PI S/S CERRAD 4,76x50 (50"},{"$f":"'[1]87-0-14'!E3297","v":"ELESCUERZO"},{"$f":"'[1]87-0-14'!F3297","v":"PITON"},{"$f":"'[1]87-0-14'!G3297*(1+$E$13)","v":19556.846000000001}]
[{"$f":"'[1]87-0-14'!B3298","v":"PC47660E"},{"$f":"'[1]87-0-14'!D3298","v":"PI S/S CERRAD 4,76x60 (50"},{"$f":"'[1]87-0-14'!E3298","v":"ELESCUERZO"},{"$f":"'[1]87-0-14'!F3298","v":"PITON"},{"$f":"'[1]87-0-14'!G3298*(1+$E$13)","v":20185.076499999999}]
[{"$f":"'[1]87-0-14'!B3299","v":"PC47670E"},{"$f":"'[1]87-0-14'!D3299","v":"PI S/S CERRAD 4,76x70 (50"},{"$f":"'[1]87-0-14'!E3299","v":"ELESCUERZO"},{"$f":"'[1]87-0-14'!F3299","v":"PITON"},{"$f":"'[1]87-0-14'!G3299*(1+$E$13)","v":22427.8645}]
[{"$f":"'[1]87-0-14'!B3300","v":"PC47680E"},{"$f":"'[1]87-0-14'!D3300","v":"PI S/S CERRAD 4,76x80 (50"},{"$f":"'[1]87-0-14'!E3300","v":"ELESCUERZO"},{"$f":"'[1]87-0-14'!F3300","v":"PITON"},{"$f":"'[1]87-0-14'!G3300*(1+$E$13)","v":24939.221000000001}]
[{"$f":"'[1]87-0-14'!B3301","v":"PE31740E"},{"$f":"'[1]87-0-14'!D3301","v":"PI S/S ESCUAD 3,17x40 (50"},{"$f":"'[1]87-0-14'!E3301","v":"ELESCUERZO"},{"$f":"'[1]87-0-14'!F3301","v":"PITON"},{"$f":"'[1]87-0-14'!G3301*(1+$E$13)","v":13814.809000000001}]
[{"$f":"'[1]87-0-14'!B3302","v":"PE39750E"},{"$f":"'[1]87-0-14'!D3302","v":"PI S/S ESCUAD 3,97x50 (50"},{"$f":"'[1]87-0-14'!E3302","v":"ELESCUERZO"},{"$f":"'[1]87-0-14'!F3302","v":"PITON"},{"$f":"'[1]87-0-14'!G3302*(1+$E$13)","v":17224.530000000002}]
[{"$f":"'[1]87-0-14'!B3303","v":"PE47660E"},{"$f":"'[1]87-0-14'!D3303","v":"PI S/S ESCUAD 4,76x60 (50"},{"$f":"'[1]87-0-14'!E3303","v":"ELESCUERZO"},{"$f":"'[1]87-0-14'!F3303","v":"PITON"},{"$f":"'[1]87-0-14'!G3303*(1+$E$13)","v":20185.076499999999}]
[{"$f":"'[1]87-0-14'!B3304","v":"PE47680E"},{"$f":"'[1]87-0-14'!D3304","v":"PI S/S ESCUAD 4,76x80 (50"},{"$f":"'[1]87-0-14'!E3304","v":"ELESCUERZO"},{"$f":"'[1]87-0-14'!F3304","v":"PITON"},{"$f":"'[1]87-0-14'!G3304*(1+$E$13)","v":21171.4035}]
[{"$f":"'[1]87-0-14'!B3305","v":"C108P"},{"$f":"'[1]87-0-14'!D3305","v":"PICAPORTE TIPO #ASCENSOR#"},{"$f":"'[1]87-0-14'!E3305","v":"PRIVE"},{"$f":"'[1]87-0-14'!F3305","v":"PICAPORTE"},{"$f":"'[1]87-0-14'!G3305*(1+$E$13)","v":16919.164499999999}]
[{"$f":"'[1]87-0-14'!B3306","v":"PCC2PG"},{"$f":"'[1]87-0-14'!D3306","v":"PICO 2 PUNTAS C/CABO"},{"$f":"'[1]87-0-14'!E3306","v":"GHERARDI"},{"$f":"'[1]87-0-14'!F3306","v":"PICO"},{"$f":"'[1]87-0-14'!G3306*(1+$E$13)","v":98941.491000000009}]
[{"$f":"'[1]87-0-14'!B3307","v":"P2PG"},{"$f":"'[1]87-0-14'!D3307","v":"PICO 2 PUNTAS SIN CABO"},{"$f":"'[1]87-0-14'!E3307","v":"GHERARDI"},{"$f":"'[1]87-0-14'!F3307","v":"PICO"},{"$f":"'[1]87-0-14'!G3307*(1+$E$13)","v":72550.059500000003}]
[{"$f":"'[1]87-0-14'!B3308","v":"PCC63"},{"$f":"'[1]87-0-14'!D3308","v":"PICO CON CABO  63"},{"$f":"'[1]87-0-14'!E3308","v":"GHERARDI"},{"$f":"'[1]87-0-14'!F3308","v":"PICO"},{"$f":"'[1]87-0-14'!G3308*(1+$E$13)","v":97016.515000000014}]
[{"$f":"'[1]87-0-14'!B3309","v":"PCC76G"},{"$f":"'[1]87-0-14'!D3309","v":"PICO CON CABO  76"},{"$f":"'[1]87-0-14'!E3309","v":"GHERARDI"},{"$f":"'[1]87-0-14'!F3309","v":"PICO"},{"$f":"'[1]87-0-14'!G3309*(1+$E$13)","v":98941.491000000009}]
[{"$f":"'[1]87-0-14'!B3310","v":"PCCV"},{"$f":"'[1]87-0-14'!D3310","v":"PICO CON CABO **75mm**"},{"$f":"'[1]87-0-14'!E3310","v":"VIRGA"},{"$f":"'[1]87-0-14'!F3310","v":"PICO"},{"$f":"'[1]87-0-14'!G3310*(1+$E$13)","v":70057.179000000004}]
[{"$f":"'[1]87-0-14'!B3311","v":"PCC102G"},{"$f":"'[1]87-0-14'!D3311","v":"PICO CON CABO 102"},{"$f":"'[1]87-0-14'!E3311","v":"GHERARDI"},{"$f":"'[1]87-0-14'!F3311","v":"PICO"},{"$f":"'[1]87-0-14'!G3311*(1+$E$13)","v":101893.91549999999}]
[{"$f":"'[1]87-0-14'!B3312","v":"PL175G"},{"$f":"'[1]87-0-14'!D3312","v":"PICO LORO C/AISL 175"},{"$f":"'[1]87-0-14'!E3312","v":"GHERARDI"},{"$f":"'[1]87-0-14'!F3312","v":"PICO LORO"},{"$f":"'[1]87-0-14'!G3312*(1+$E$13)","v":33006.955500000004}]
[{"$f":"'[1]87-0-14'!B3313","v":"PL250G"},{"$f":"'[1]87-0-14'!D3313","v":"PICO LORO C/AISL 250"},{"$f":"'[1]87-0-14'!E3313","v":"GHERARDI"},{"$f":"'[1]87-0-14'!F3313","v":"PICO LORO"},{"$f":"'[1]87-0-14'!G3313*(1+$E$13)","v":36684.004999999997}]
[{"$f":"'[1]87-0-14'!B3314","v":"PL300G"},{"$f":"'[1]87-0-14'!D3314","v":"PICO LORO C/AISL 300"},{"$f":"'[1]87-0-14'!E3314","v":"GHERARDI"},{"$f":"'[1]87-0-14'!F3314","v":"PICO LORO"},{"$f":"'[1]87-0-14'!G3314*(1+$E$13)","v":63924.170000000006}]
[{"$f":"'[1]87-0-14'!B3315","v":"PLCG"},{"$f":"'[1]87-0-14'!D3315","v":"PICO LORO CLASIC S/A"},{"$f":"'[1]87-0-14'!E3315","v":"GHERARDI"},{"$f":"'[1]87-0-14'!F3315","v":"PICO LORO"},{"$f":"'[1]87-0-14'!G3315*(1+$E$13)","v":37654.940499999997}]
[{"$f":"'[1]87-0-14'!B3316","v":"PLCAM"},{"$f":"'[1]87-0-14'!D3316","v":"PICO LORO CO/AISL 10"},{"$f":"'[1]87-0-14'!E3316","v":"METZ"},{"$f":"'[1]87-0-14'!F3316","v":"PICO LORO"},{"$f":"'[1]87-0-14'!G3316*(1+$E$13)","v":17528.283500000001}]
[{"$f":"'[1]87-0-14'!B3317","v":"PLB10M"},{"$f":"'[1]87-0-14'!D3317","v":"PICO LORO P/BOMBA AGUA 10"},{"$f":"'[1]87-0-14'!E3317","v":"METZ"},{"$f":"'[1]87-0-14'!F3317","v":"PICO LORO"},{"$f":"'[1]87-0-14'!G3317*(1+$E$13)","v":21689.15}]
[{"$f":"'[1]87-0-14'!B3318","v":"P102G"},{"$f":"'[1]87-0-14'!D3318","v":"PICO N  102  SIN CABO"},{"$f":"'[1]87-0-14'!E3318","v":"GHERARDI"},{"$f":"'[1]87-0-14'!F3318","v":"PICO"},{"$f":"'[1]87-0-14'!G3318*(1+$E$13)","v":75750.344500000007}]
[{"$f":"'[1]87-0-14'!B3319","v":"P50G"},{"$f":"'[1]87-0-14'!D3319","v":"PICO N  50 SIN CABO"},{"$f":"'[1]87-0-14'!E3319","v":"GHERARDI"},{"$f":"'[1]87-0-14'!F3319","v":"PICO"},{"$f":"'[1]87-0-14'!G3319*(1+$E$13)","v":69255.658500000005}]
[{"$f":"'[1]87-0-14'!B3320","v":"P63G"},{"$f":"'[1]87-0-14'!D3320","v":"PICO N  63 SIN CABO"},{"$f":"'[1]87-0-14'!E3320","v":"GHERARDI"},{"$f":"'[1]87-0-14'!F3320","v":"PICO"},{"$f":"'[1]87-0-14'!G3320*(1+$E$13)","v":70640.676500000001}]
[{"$f":"'[1]87-0-14'!B3321","v":"P76G"},{"$f":"'[1]87-0-14'!D3321","v":"PICO N  76 SIN CABO"},{"$f":"'[1]87-0-14'!E3321","v":"GHERARDI"},{"$f":"'[1]87-0-14'!F3321","v":"PICO"},{"$f":"'[1]87-0-14'!G3321*(1+$E$13)","v":72550.059500000003}]
[{"$f":"'[1]87-0-14'!B3322","v":"PPH76G"},{"$f":"'[1]87-0-14'!D3322","v":"PICO PALA/HACHA  76 S/CAB"},{"$f":"'[1]87-0-14'!E3322","v":"GHERARDI"},{"$f":"'[1]87-0-14'!F3322","v":"PICO"},{"$f":"'[1]87-0-14'!G3322*(1+$E$13)","v":72550.059500000003}]
[{"$f":"'[1]87-0-14'!B3323","v":"PPH102G"},{"$f":"'[1]87-0-14'!D3323","v":"PICO PALA/HACHA 102 S/CAB"},{"$f":"'[1]87-0-14'!E3323","v":"GHERARDI"},{"$f":"'[1]87-0-14'!F3323","v":"PICO"},{"$f":"'[1]87-0-14'!G3323*(1+$E$13)","v":73563.713000000003}]
[{"$f":"'[1]87-0-14'!B3324","v":"PPUH76G"},{"$f":"'[1]87-0-14'!D3324","v":"PICO PUNTA HACHA 76 S/CAB"},{"$f":"'[1]87-0-14'!E3324","v":"GHERARDI"},{"$f":"'[1]87-0-14'!F3324","v":"PICO"},{"$f":"'[1]87-0-14'!G3324*(1+$E$13)","v":74051.420500000007}]
[{"$f":"'[1]87-0-14'!B3325","v":"PPPG"},{"$f":"'[1]87-0-14'!D3325","v":"PICO PUNTA Y PIZON"},{"$f":"'[1]87-0-14'!E3325","v":"GHERARDI"},{"$f":"'[1]87-0-14'!F3325","v":"PICO"},{"$f":"'[1]87-0-14'!G3325*(1+$E$13)","v":86953.527500000011}]
[{"$f":"'[1]87-0-14'!B3326","v":"PSCM"},{"$f":"'[1]87-0-14'!D3326","v":"PICO SIN CABO"},{"$f":"'[1]87-0-14'!E3326","v":"MAZZUCA"},{"$f":"'[1]87-0-14'!F3326","v":"PICO"},{"$f":"'[1]87-0-14'!G3326*(1+$E$13)","v":80326.409499999994}]
[{"$f":"'[1]87-0-14'!B3327","v":"PLGD"},{"$f":"'[1]87-0-14'!D3327","v":"PILE LAVATORI GRANDE"},{"$f":"'[1]87-0-14'!E3327","v":"DUKE"},{"$f":"'[1]87-0-14'!F3327","v":"PILETA LAVATORIO"},{"$f":"'[1]87-0-14'!G3327*(1+$E$13)","v":24256.3685}]
[{"$f":"'[1]87-0-14'!B3328","v":"PLCD"},{"$f":"'[1]87-0-14'!D3328","v":"PILE LAVATORIO CHICA"},{"$f":"'[1]87-0-14'!E3328","v":"DUKE"},{"$f":"'[1]87-0-14'!F3328","v":"PILETA LAVATORIO"},{"$f":"'[1]87-0-14'!G3328*(1+$E$13)","v":15280.442500000001}]
[{"$f":"'[1]87-0-14'!B3329","v":"PLKED"},{"$f":"'[1]87-0-14'!D3329","v":"PILET LAVAT KIT ECON"},{"$f":"'[1]87-0-14'!E3329","v":"DUKE"},{"$f":"'[1]87-0-14'!F3329","v":"PILETA LAVATORIO"},{"$f":"'[1]87-0-14'!G3329*(1+$E$13)","v":28334.480500000001}]
[{"$f":"'[1]87-0-14'!B3330","v":"PLKFD"},{"$f":"'[1]87-0-14'!D3330","v":"PILET LAVAT KIT FULL"},{"$f":"'[1]87-0-14'!E3330","v":"DUKE"},{"$f":"'[1]87-0-14'!F3330","v":"PILETA LAVATORIO"},{"$f":"'[1]87-0-14'!G3330*(1+$E$13)","v":33759.4185}]
[{"$f":"'[1]87-0-14'!B3331","v":"PL15D"},{"$f":"'[1]87-0-14'!D3331","v":"PILETA LAVADERO 15 l"},{"$f":"'[1]87-0-14'!E3331","v":"DUKE"},{"$f":"'[1]87-0-14'!F3331","v":"PILETA LAVADERO"},{"$f":"'[1]87-0-14'!G3331*(1+$E$13)","v":27882.5625}]
[{"$f":"'[1]87-0-14'!B3332","v":"PL24D"},{"$f":"'[1]87-0-14'!D3332","v":"PILETA LAVADERO 24 l"},{"$f":"'[1]87-0-14'!E3332","v":"DUKE"},{"$f":"'[1]87-0-14'!F3332","v":"PILETA LAVADERO"},{"$f":"'[1]87-0-14'!G3332*(1+$E$13)","v":41994.15}]
[{"$f":"'[1]87-0-14'!B3333","v":"PBC09V"},{"$f":"'[1]87-0-14'!D3333","v":"PIN BANO/COCINA 0,9L"},{"$f":"'[1]87-0-14'!E3333","v":"VENIER"},{"$f":"'[1]87-0-14'!F3333","v":"PINTURAS"},{"$f":"'[1]87-0-14'!G3333*(1+$E$13)","v":9965.8955000000005}]
[{"$f":"'[1]87-0-14'!B3334","v":"PBC36V"},{"$f":"'[1]87-0-14'!D3334","v":"PIN BANO/COCINA 3,6L"},{"$f":"'[1]87-0-14'!E3334","v":"VENIER"},{"$f":"'[1]87-0-14'!F3334","v":"PINTURAS"},{"$f":"'[1]87-0-14'!G3334*(1+$E$13)","v":36581.844499999999}]
[{"$f":"'[1]87-0-14'!B3335","v":"PPP360V"},{"$f":"'[1]87-0-14'!D3335","v":"PIN PIL PLASTIC 3,60"},{"$f":"'[1]87-0-14'!E3335","v":"VENIER"},{"$f":"'[1]87-0-14'!F3335","v":"PINTURAS"},{"$f":"'[1]87-0-14'!G3335*(1+$E$13)","v":98576.016499999998}]
[{"$f":"'[1]87-0-14'!B3336","v":"PPP09V"},{"$f":"'[1]87-0-14'!D3336","v":"PIN PIL PLASTICA 0,9"},{"$f":"'[1]87-0-14'!E3336","v":"VENIER"},{"$f":"'[1]87-0-14'!F3336","v":"PINTURAS"},{"$f":"'[1]87-0-14'!G3336*(1+$E$13)","v":26602.774000000005}]
[{"$f":"'[1]87-0-14'!B3337","v":"PEP10EG"},{"$f":"'[1]87-0-14'!D3337","v":"PINC PROFES #ELEFANTE# 10"},{"$f":"'[1]87-0-14'!E3337","v":"EL GALGO"},{"$f":"'[1]87-0-14'!F3337","v":"PINCEL"},{"$f":"'[1]87-0-14'!G3337*(1+$E$13)","v":2482.4490000000001}]
[{"$f":"'[1]87-0-14'!B3338","v":"PEP15EG"},{"$f":"'[1]87-0-14'!D3338","v":"PINC PROFES #ELEFANTE# 15"},{"$f":"'[1]87-0-14'!E3338","v":"EL GALGO"},{"$f":"'[1]87-0-14'!F3338","v":"PINCEL"},{"$f":"'[1]87-0-14'!G3338*(1+$E$13)","v":3630.4409999999998}]
[{"$f":"'[1]87-0-14'!B3339","v":"PEP20EG"},{"$f":"'[1]87-0-14'!D3339","v":"PINC PROFES #ELEFANTE# 20"},{"$f":"'[1]87-0-14'!E3339","v":"EL GALGO"},{"$f":"'[1]87-0-14'!F3339","v":"PINCEL"},{"$f":"'[1]87-0-14'!G3339*(1+$E$13)","v":4712.1859999999997}]
[{"$f":"'[1]87-0-14'!B3340","v":"PEP25EG"},{"$f":"'[1]87-0-14'!D3340","v":"PINC PROFES #ELEFANTE# 25"},{"$f":"'[1]87-0-14'!E3340","v":"EL GALGO"},{"$f":"'[1]87-0-14'!F3340","v":"PINCEL"},{"$f":"'[1]87-0-14'!G3340*(1+$E$13)","v":6458.1990000000005}]
[{"$f":"'[1]87-0-14'!B3341","v":"PEP30EG"},{"$f":"'[1]87-0-14'!D3341","v":"PINC PROFES #ELEFANTE# 30"},{"$f":"'[1]87-0-14'!E3341","v":"EL GALGO"},{"$f":"'[1]87-0-14'!F3341","v":"PINCEL"},{"$f":"'[1]87-0-14'!G3341*(1+$E$13)","v":8024.1020000000008}]
[{"$f":"'[1]87-0-14'!B3342","v":"PP212C"},{"$f":"'[1]87-0-14'!D3342","v":"PINC PROFESIO C/BCA 2 1/2"},{"$f":"'[1]87-0-14'!E3342","v":"CHINAC"},{"$f":"'[1]87-0-14'!F3342","v":"PINCEL"},{"$f":"'[1]87-0-14'!G3342*(1+$E$13)","v":3532.4500000000003}]
[{"$f":"'[1]87-0-14'!B3343","v":"PE17EG"},{"$f":"'[1]87-0-14'!D3343","v":"PINC S-1000 #ELEFANTE#  7"},{"$f":"'[1]87-0-14'!E3343","v":"EL GALGO"},{"$f":"'[1]87-0-14'!F3343","v":"PINCEL"},{"$f":"'[1]87-0-14'!G3343*(1+$E$13)","v":1669.1795000000002}]
[{"$f":"'[1]87-0-14'!B3344","v":"PE110EG"},{"$f":"'[1]87-0-14'!D3344","v":"PINC S-1000 #ELEFANTE# 10"},{"$f":"'[1]87-0-14'!E3344","v":"EL GALGO"},{"$f":"'[1]87-0-14'!F3344","v":"PINCEL"},{"$f":"'[1]87-0-14'!G3344*(1+$E$13)","v":1975.413}]
[{"$f":"'[1]87-0-14'!B3345","v":"PE115EG"},{"$f":"'[1]87-0-14'!D3345","v":"PINC S-1000 #ELEFANTE# 15"},{"$f":"'[1]87-0-14'!E3345","v":"EL GALGO"},{"$f":"'[1]87-0-14'!F3345","v":"PINCEL"},{"$f":"'[1]87-0-14'!G3345*(1+$E$13)","v":2417.4730000000004}]
[{"$f":"'[1]87-0-14'!B3346","v":"PE120EG"},{"$f":"'[1]87-0-14'!D3346","v":"PINC S-1000 #ELEFANTE# 20"},{"$f":"'[1]87-0-14'!E3346","v":"EL GALGO"},{"$f":"'[1]87-0-14'!F3346","v":"PINCEL"},{"$f":"'[1]87-0-14'!G3346*(1+$E$13)","v":2927.4850000000001}]
[{"$f":"'[1]87-0-14'!B3347","v":"PE125EG"},{"$f":"'[1]87-0-14'!D3347","v":"PINC S-1000 #ELEFANTE# 25"},{"$f":"'[1]87-0-14'!E3347","v":"EL GALGO"},{"$f":"'[1]87-0-14'!F3347","v":"PINCEL"},{"$f":"'[1]87-0-14'!G3347*(1+$E$13)","v":4041.5320000000002}]
[{"$f":"'[1]87-0-14'!B3348","v":"PE130EG"},{"$f":"'[1]87-0-14'!D3348","v":"PINC S-1000 #ELEFANTE# 30"},{"$f":"'[1]87-0-14'!E3348","v":"EL GALGO"},{"$f":"'[1]87-0-14'!F3348","v":"PINCEL"},{"$f":"'[1]87-0-14'!G3348*(1+$E$13)","v":5082.1710000000003}]
[{"$f":"'[1]87-0-14'!B3349","v":"PO10EG"},{"$f":"'[1]87-0-14'!D3349","v":"PINCEL #OBRA# VIROLA 2 10"},{"$f":"'[1]87-0-14'!E3349","v":"EL GALGO"},{"$f":"'[1]87-0-14'!F3349","v":"PINCEL"},{"$f":"'[1]87-0-14'!G3349*(1+$E$13)","v":2764.9674999999997}]
[{"$f":"'[1]87-0-14'!B3350","v":"PO15EG"},{"$f":"'[1]87-0-14'!D3350","v":"PINCEL #OBRA# VIROLA 2 15"},{"$f":"'[1]87-0-14'!E3350","v":"EL GALGO"},{"$f":"'[1]87-0-14'!F3350","v":"PINCEL"},{"$f":"'[1]87-0-14'!G3350*(1+$E$13)","v":4043.4695000000002}]
[{"$f":"'[1]87-0-14'!B3351","v":"PO20EG"},{"$f":"'[1]87-0-14'!D3351","v":"PINCEL #OBRA# VIROLA 2 20"},{"$f":"'[1]87-0-14'!E3351","v":"EL GALGO"},{"$f":"'[1]87-0-14'!F3351","v":"PINCEL"},{"$f":"'[1]87-0-14'!G3351*(1+$E$13)","v":5247.37}]
[{"$f":"'[1]87-0-14'!B3352","v":"PO25EG"},{"$f":"'[1]87-0-14'!D3352","v":"PINCEL #OBRA# VIROLA 2 25"},{"$f":"'[1]87-0-14'!E3352","v":"EL GALGO"},{"$f":"'[1]87-0-14'!F3352","v":"PINCEL"},{"$f":"'[1]87-0-14'!G3352*(1+$E$13)","v":6347.2655000000004}]
[{"$f":"'[1]87-0-14'!B3353","v":"PO30EG"},{"$f":"'[1]87-0-14'!D3353","v":"PINCEL #OBRA# VIROLA 2 30"},{"$f":"'[1]87-0-14'!E3353","v":"EL GALGO"},{"$f":"'[1]87-0-14'!F3353","v":"PINCEL"},{"$f":"'[1]87-0-14'!G3353*(1+$E$13)","v":7884.8810000000012}]
[{"$f":"'[1]87-0-14'!B3354","v":"PP7EG"},{"$f":"'[1]87-0-14'!D3354","v":"PINCEL PERSIANERO V-1   7"},{"$f":"'[1]87-0-14'!E3354","v":"EL GALGO"},{"$f":"'[1]87-0-14'!F3354","v":"PINCEL"},{"$f":"'[1]87-0-14'!G3354*(1+$E$13)","v":1932.2920000000001}]
[{"$f":"'[1]87-0-14'!B3355","v":"PP10EG"},{"$f":"'[1]87-0-14'!D3355","v":"PINCEL PERSIANERO V-1  10"},{"$f":"'[1]87-0-14'!E3355","v":"EL GALGO"},{"$f":"'[1]87-0-14'!F3355","v":"PINCEL"},{"$f":"'[1]87-0-14'!G3355*(1+$E$13)","v":2085.9899999999998}]
[{"$f":"'[1]87-0-14'!B3356","v":"PP15EG"},{"$f":"'[1]87-0-14'!D3356","v":"PINCEL PERSIANERO V-1  15"},{"$f":"'[1]87-0-14'!E3356","v":"EL GALGO"},{"$f":"'[1]87-0-14'!F3356","v":"PINCEL"},{"$f":"'[1]87-0-14'!G3356*(1+$E$13)","v":2415.241}]
[{"$f":"'[1]87-0-14'!B3357","v":"PP20EG"},{"$f":"'[1]87-0-14'!D3357","v":"PINCEL PERSIANERO V-1  20"},{"$f":"'[1]87-0-14'!E3357","v":"EL GALGO"},{"$f":"'[1]87-0-14'!F3357","v":"PINCEL"},{"$f":"'[1]87-0-14'!G3357*(1+$E$13)","v":3125.5905000000002}]
[{"$f":"'[1]87-0-14'!B3358","v":"PP25EG"},{"$f":"'[1]87-0-14'!D3358","v":"PINCEL PERSIANERO V-1  25"},{"$f":"'[1]87-0-14'!E3358","v":"EL GALGO"},{"$f":"'[1]87-0-14'!F3358","v":"PINCEL"},{"$f":"'[1]87-0-14'!G3358*(1+$E$13)","v":3757.82}]
[{"$f":"'[1]87-0-14'!B3359","v":"PP30EG"},{"$f":"'[1]87-0-14'!D3359","v":"PINCEL PERSIANERO V-1  30"},{"$f":"'[1]87-0-14'!E3359","v":"EL GALGO"},{"$f":"'[1]87-0-14'!F3359","v":"PINCEL"},{"$f":"'[1]87-0-14'!G3359*(1+$E$13)","v":5865.8975}]
[{"$f":"'[1]87-0-14'!B3360","v":"PPBP"},{"$f":"'[1]87-0-14'!D3360","v":"PINCELETA PROFESI #BLANCA"},{"$f":"'[1]87-0-14'!E3360","v":"PAINTROLER"},{"$f":"'[1]87-0-14'!F3360","v":"PINCELETA"},{"$f":"'[1]87-0-14'!G3360*(1+$E$13)","v":4122.1475}]
[{"$f":"'[1]87-0-14'!B3361","v":"PPGP"},{"$f":"'[1]87-0-14'!D3361","v":"PINCELETA PROFESION #GRIS"},{"$f":"'[1]87-0-14'!E3361","v":"PAINTROLER"},{"$f":"'[1]87-0-14'!F3361","v":"PINCELETA"},{"$f":"'[1]87-0-14'!G3361*(1+$E$13)","v":3957.6770000000001}]
[{"$f":"'[1]87-0-14'!B3362","v":"PA87001V"},{"$f":"'[1]87-0-14'!D3362","v":"PINT ASFAL D/8700 1L"},{"$f":"'[1]87-0-14'!E3362","v":"VENIER"},{"$f":"'[1]87-0-14'!F3362","v":"IMPERMEABILIZANTE"},{"$f":"'[1]87-0-14'!G3362*(1+$E$13)","v":10785.768}]
[{"$f":"'[1]87-0-14'!B3363","v":"PA870020"},{"$f":"'[1]87-0-14'!D3363","v":"PINT ASFAL D/8700 20"},{"$f":"'[1]87-0-14'!E3363","v":"VENIER"},{"$f":"'[1]87-0-14'!F3363","v":"IMPERMEABILIZANTE"},{"$f":"'[1]87-0-14'!G3363*(1+$E$13)","v":146514.24600000001}]
[{"$f":"'[1]87-0-14'!B3364","v":"PA87004V"},{"$f":"'[1]87-0-14'!D3364","v":"PINT ASFAL D/8700 4L"},{"$f":"'[1]87-0-14'!E3364","v":"VENIER"},{"$f":"'[1]87-0-14'!F3364","v":"IMPERMEABILIZANTE"},{"$f":"'[1]87-0-14'!G3364*(1+$E$13)","v":34326.625500000002}]
[{"$f":"'[1]87-0-14'!B3365","v":"PFP4V"},{"$f":"'[1]87-0-14'!D3365","v":"PINT FREN PREMIUM  4"},{"$f":"'[1]87-0-14'!E3365","v":"VENIER"},{"$f":"'[1]87-0-14'!F3365","v":"IMPERMEABILIZANTE"},{"$f":"'[1]87-0-14'!G3365*(1+$E$13)","v":45081.889500000005}]
[{"$f":"'[1]87-0-14'!B3366","v":"PFP20V"},{"$f":"'[1]87-0-14'!D3366","v":"PINT FREN PREMIUM 20"},{"$f":"'[1]87-0-14'!E3366","v":"VENIER"},{"$f":"'[1]87-0-14'!F3366","v":"IMPERMEABILIZANTE"},{"$f":"'[1]87-0-14'!G3366*(1+$E$13)","v":197391.198}]
[{"$f":"'[1]87-0-14'!B3367","v":"PNSP"},{"$f":"'[1]87-0-14'!D3367","v":"PINTUR AER Ne/Satinad 240"},{"$f":"'[1]87-0-14'!E3367","v":"PINTURIC"},{"$f":"'[1]87-0-14'!F3367","v":"PINTURA"},{"$f":"'[1]87-0-14'!G3367*(1+$E$13)","v":3809.962}]
[{"$f":"'[1]87-0-14'!B3368","v":"PNMP"},{"$f":"'[1]87-0-14'!D3368","v":"PINTUR AERO Negr/Mate 240"},{"$f":"'[1]87-0-14'!E3368","v":"PINTURIC"},{"$f":"'[1]87-0-14'!F3368","v":"PINTURA"},{"$f":"'[1]87-0-14'!G3368*(1+$E$13)","v":3809.962}]
[{"$f":"'[1]87-0-14'!B3369","v":"PBP"},{"$f":"'[1]87-0-14'!D3369","v":"PINTUR AEROSOL Blanca 240"},{"$f":"'[1]87-0-14'!E3369","v":"PINTURIC"},{"$f":"'[1]87-0-14'!F3369","v":"PINTURA"},{"$f":"'[1]87-0-14'!G3369*(1+$E$13)","v":3809.962}]
[{"$f":"'[1]87-0-14'!B3370","v":"PNP"},{"$f":"'[1]87-0-14'!D3370","v":"PINTUR AEROSOL Negro 240c"},{"$f":"'[1]87-0-14'!E3370","v":"PINTURIC"},{"$f":"'[1]87-0-14'!F3370","v":"PINTURA"},{"$f":"'[1]87-0-14'!G3370*(1+$E$13)","v":3809.962}]
[{"$f":"'[1]87-0-14'!B3371","v":"PCR1V"},{"$f":"'[1]87-0-14'!D3371","v":"PINTURA CIELORASO  1"},{"$f":"'[1]87-0-14'!E3371","v":"VENIER"},{"$f":"'[1]87-0-14'!F3371","v":"LATEX"},{"$f":"'[1]87-0-14'!G3371*(1+$E$13)","v":9033.5395000000008}]
[{"$f":"'[1]87-0-14'!B3372","v":"PCR4V"},{"$f":"'[1]87-0-14'!D3372","v":"PINTURA CIELORASO  4"},{"$f":"'[1]87-0-14'!E3372","v":"VENIER"},{"$f":"'[1]87-0-14'!F3372","v":"LATEX"},{"$f":"'[1]87-0-14'!G3372*(1+$E$13)","v":27467.86}]
[{"$f":"'[1]87-0-14'!B3373","v":"PCR10V"},{"$f":"'[1]87-0-14'!D3373","v":"PINTURA CIELORASO 10"},{"$f":"'[1]87-0-14'!E3373","v":"VENIER"},{"$f":"'[1]87-0-14'!F3373","v":"LATEX"},{"$f":"'[1]87-0-14'!G3373*(1+$E$13)","v":64644.501499999998}]
[{"$f":"'[1]87-0-14'!B3374","v":"PCR20V"},{"$f":"'[1]87-0-14'!D3374","v":"PINTURA CIELORASO 20"},{"$f":"'[1]87-0-14'!E3374","v":"VENIER"},{"$f":"'[1]87-0-14'!F3374","v":"LATEX"},{"$f":"'[1]87-0-14'!G3374*(1+$E$13)","v":117168.70050000001}]
[{"$f":"'[1]87-0-14'!B3375","v":"PCCK"},{"$f":"'[1]87-0-14'!D3375","v":"PINZ CORT CERAMIC **K-10*"},{"$f":"'[1]87-0-14'!E3375","v":"NEIKE"},{"$f":"'[1]87-0-14'!F3375","v":"PINZA CORT. CERAM"},{"$f":"'[1]87-0-14'!G3375*(1+$E$13)","v":17384.567500000001}]
[{"$f":"'[1]87-0-14'!B3376","v":"P120S"},{"$f":"'[1]87-0-14'!D3376","v":"PIOLIN ALB. N 120"},{"$f":"'[1]87-0-14'!E3376","v":"SELSA"},{"$f":"'[1]87-0-14'!F3376","v":"PIOLIN"},{"$f":"'[1]87-0-14'!G3376*(1+$E$13)","v":24776.781000000003}]
[{"$f":"'[1]87-0-14'!B3377","v":"P144S"},{"$f":"'[1]87-0-14'!D3377","v":"PIOLIN ALB. N 144"},{"$f":"'[1]87-0-14'!E3377","v":"SELSA"},{"$f":"'[1]87-0-14'!F3377","v":"PIOLIN"},{"$f":"'[1]87-0-14'!G3377*(1+$E$13)","v":24776.781000000003}]
[{"$f":"'[1]87-0-14'!B3378","v":"P6S"},{"$f":"'[1]87-0-14'!D3378","v":"PIOLIN ALBANIL  6"},{"$f":"'[1]87-0-14'!E3378","v":"SELSA"},{"$f":"'[1]87-0-14'!F3378","v":"PIOLIN"},{"$f":"'[1]87-0-14'!G3378*(1+$E$13)","v":22792.021500000003}]
[{"$f":"'[1]87-0-14'!B3379","v":"P18S"},{"$f":"'[1]87-0-14'!D3379","v":"PIOLIN ALBANIL 18"},{"$f":"'[1]87-0-14'!E3379","v":"SELSA"},{"$f":"'[1]87-0-14'!F3379","v":"PIOLIN"},{"$f":"'[1]87-0-14'!G3379*(1+$E$13)","v":22792.021500000003}]
[{"$f":"'[1]87-0-14'!B3380","v":"P21S"},{"$f":"'[1]87-0-14'!D3380","v":"PIOLIN ALBANIL 21"},{"$f":"'[1]87-0-14'!E3380","v":"SELSA"},{"$f":"'[1]87-0-14'!F3380","v":"PIOLIN"},{"$f":"'[1]87-0-14'!G3380*(1+$E$13)","v":22792.021500000003}]
[{"$f":"'[1]87-0-14'!B3381","v":"P24S"},{"$f":"'[1]87-0-14'!D3381","v":"PIOLIN ALBANIL 24"},{"$f":"'[1]87-0-14'!E3381","v":"SELSA"},{"$f":"'[1]87-0-14'!F3381","v":"PIOLIN"},{"$f":"'[1]87-0-14'!G3381*(1+$E$13)","v":19661.347000000002}]
[{"$f":"'[1]87-0-14'!B3382","v":"P27S"},{"$f":"'[1]87-0-14'!D3382","v":"PIOLIN ALBANIL 27"},{"$f":"'[1]87-0-14'!E3382","v":"SELSA"},{"$f":"'[1]87-0-14'!F3382","v":"PIOLIN"},{"$f":"'[1]87-0-14'!G3382*(1+$E$13)","v":19661.347000000002}]
[{"$f":"'[1]87-0-14'!B3383","v":"P30S"},{"$f":"'[1]87-0-14'!D3383","v":"PIOLIN ALBANIL 30"},{"$f":"'[1]87-0-14'!E3383","v":"SELSA"},{"$f":"'[1]87-0-14'!F3383","v":"PIOLIN"},{"$f":"'[1]87-0-14'!G3383*(1+$E$13)","v":19661.347000000002}]
[{"$f":"'[1]87-0-14'!B3384","v":"P36S"},{"$f":"'[1]87-0-14'!D3384","v":"PIOLIN ALBANIL 36"},{"$f":"'[1]87-0-14'!E3384","v":"SELSA"},{"$f":"'[1]87-0-14'!F3384","v":"PIOLIN"},{"$f":"'[1]87-0-14'!G3384*(1+$E$13)","v":19661.347000000002}]
[{"$f":"'[1]87-0-14'!B3385","v":"P42S"},{"$f":"'[1]87-0-14'!D3385","v":"PIOLIN ALBANIL 42"},{"$f":"'[1]87-0-14'!E3385","v":"SELSA"},{"$f":"'[1]87-0-14'!F3385","v":"PIOLIN"},{"$f":"'[1]87-0-14'!G3385*(1+$E$13)","v":19661.347000000002}]
[{"$f":"'[1]87-0-14'!B3386","v":"P48S"},{"$f":"'[1]87-0-14'!D3386","v":"PIOLIN ALBANIL 48"},{"$f":"'[1]87-0-14'!E3386","v":"SELSA"},{"$f":"'[1]87-0-14'!F3386","v":"PIOLIN"},{"$f":"'[1]87-0-14'!G3386*(1+$E$13)","v":19661.347000000002}]
[{"$f":"'[1]87-0-14'!B3387","v":"P60S"},{"$f":"'[1]87-0-14'!D3387","v":"PIOLIN ALBANIL 60"},{"$f":"'[1]87-0-14'!E3387","v":"SELSA"},{"$f":"'[1]87-0-14'!F3387","v":"PIOLIN"},{"$f":"'[1]87-0-14'!G3387*(1+$E$13)","v":19661.347000000002}]
[{"$f":"'[1]87-0-14'!B3388","v":"P72S"},{"$f":"'[1]87-0-14'!D3388","v":"PIOLIN ALBANIL 72"},{"$f":"'[1]87-0-14'!E3388","v":"SELSA"},{"$f":"'[1]87-0-14'!F3388","v":"PIOLIN"},{"$f":"'[1]87-0-14'!G3388*(1+$E$13)","v":19661.347000000002}]
[{"$f":"'[1]87-0-14'!B3389","v":"P84S"},{"$f":"'[1]87-0-14'!D3389","v":"PIOLIN ALBANIL 84"},{"$f":"'[1]87-0-14'!E3389","v":"SELSA"},{"$f":"'[1]87-0-14'!F3389","v":"PIOLIN"},{"$f":"'[1]87-0-14'!G3389*(1+$E$13)","v":19661.347000000002}]
[{"$f":"'[1]87-0-14'!B3390","v":"P96S"},{"$f":"'[1]87-0-14'!D3390","v":"PIOLIN ALBANIL 96"},{"$f":"'[1]87-0-14'!E3390","v":"SELSA"},{"$f":"'[1]87-0-14'!F3390","v":"PIOLIN"},{"$f":"'[1]87-0-14'!G3390*(1+$E$13)","v":24776.781000000003}]
[{"$f":"'[1]87-0-14'!B3391","v":"PO21S"},{"$f":"'[1]87-0-14'!D3391","v":"PIOLIN OVILLOS N 21"},{"$f":"'[1]87-0-14'!E3391","v":"SELSA"},{"$f":"'[1]87-0-14'!F3391","v":"PIOLIN OVILLOS"},{"$f":"'[1]87-0-14'!G3391*(1+$E$13)","v":26793.997500000001}]
[{"$f":"'[1]87-0-14'!B3392","v":"PO24S"},{"$f":"'[1]87-0-14'!D3392","v":"PIOLIN OVILLOS N 24"},{"$f":"'[1]87-0-14'!E3392","v":"SELSA"},{"$f":"'[1]87-0-14'!F3392","v":"PIOLIN OVILLOS"},{"$f":"'[1]87-0-14'!G3392*(1+$E$13)","v":24156.533000000003}]
[{"$f":"'[1]87-0-14'!B3393","v":"PO27S"},{"$f":"'[1]87-0-14'!D3393","v":"PIOLIN OVILLOS N 27"},{"$f":"'[1]87-0-14'!E3393","v":"SELSA"},{"$f":"'[1]87-0-14'!F3393","v":"PIOLIN OVILLOS"},{"$f":"'[1]87-0-14'!G3393*(1+$E$13)","v":24156.533000000003}]
[{"$f":"'[1]87-0-14'!B3394","v":"PS"},{"$f":"'[1]87-0-14'!D3394","v":"PIQUETA SOLDADOR"},{"$f":"'[1]87-0-14'!E3394","v":"EL ROBLE"},{"$f":"'[1]87-0-14'!F3394","v":"PIQUETA"},{"$f":"'[1]87-0-14'!G3394*(1+$E$13)","v":14878.217500000001}]
[{"$f":"'[1]87-0-14'!B3395","v":"PSM"},{"$f":"'[1]87-0-14'!D3395","v":"PIQUETA SOLDADOR"},{"$f":"'[1]87-0-14'!E3395","v":"MAZZUCA"},{"$f":"'[1]87-0-14'!F3395","v":"PIQUETA SOLDADOR"},{"$f":"'[1]87-0-14'!G3395*(1+$E$13)","v":21647.641}]
[{"$f":"'[1]87-0-14'!B3396","v":"PACH"},{"$f":"'[1]87-0-14'!D3396","v":"PIS APLIC SIL *REFORZADA*"},{"$f":"'[1]87-0-14'!E3396","v":"NEIKE"},{"$f":"'[1]87-0-14'!F3396","v":"PISTOLA APLICADOR"},{"$f":"'[1]87-0-14'!G3396*(1+$E$13)","v":16820.662}]
[{"$f":"'[1]87-0-14'!B3397","v":"PAA"},{"$f":"'[1]87-0-14'!D3397","v":"PIST APLICADOR PROF SILIC"},{"$f":"'[1]87-0-14'!E3397","v":"ARGENRAP"},{"$f":"'[1]87-0-14'!F3397","v":"PISTOLA APLICADOR"},{"$f":"'[1]87-0-14'!G3397*(1+$E$13)","v":7664.3314999999993}]
[{"$f":"'[1]87-0-14'!B3398","v":"PP7V"},{"$f":"'[1]87-0-14'!D3398","v":"PISTOL PULVERIZADOR 7 FUN"},{"$f":"'[1]87-0-14'!E3398","v":"VITAL GAS"},{"$f":"'[1]87-0-14'!F3398","v":"RIEGO"},{"$f":"'[1]87-0-14'!G3398*(1+$E$13)","v":7712.924}]
[{"$f":"'[1]87-0-14'!B3399","v":"PCTA10EE"},{"$f":"'[1]87-0-14'!D3399","v":"PIT C/TOPE ABIERTO 10 (25"},{"$f":"'[1]87-0-14'!E3399","v":"ELESCUERZO"},{"$f":"'[1]87-0-14'!F3399","v":"PITON"},{"$f":"'[1]87-0-14'!G3399*(1+$E$13)","v":22038.364999999998}]
[{"$f":"'[1]87-0-14'!B3400","v":"PCTA12EE"},{"$f":"'[1]87-0-14'!D3400","v":"PIT C/TOPE ABIERTO 12 (20"},{"$f":"'[1]87-0-14'!E3400","v":"ELESCUERZO"},{"$f":"'[1]87-0-14'!F3400","v":"PITON"},{"$f":"'[1]87-0-14'!G3400*(1+$E$13)","v":28546.830500000004}]
[{"$f":"'[1]87-0-14'!B3401","v":"PCTA4EE"},{"$f":"'[1]87-0-14'!D3401","v":"PIT C/TOPE ABIERTO 4 (100"},{"$f":"'[1]87-0-14'!E3401","v":"ELESCUERZO"},{"$f":"'[1]87-0-14'!F3401","v":"PITON"},{"$f":"'[1]87-0-14'!G3401*(1+$E$13)","v":16886.862499999999}]
[{"$f":"'[1]87-0-14'!B3402","v":"PCTA5EE"},{"$f":"'[1]87-0-14'!D3402","v":"PIT C/TOPE ABIERTO 5 (50)"},{"$f":"'[1]87-0-14'!E3402","v":"ELESCUERZO"},{"$f":"'[1]87-0-14'!F3402","v":"PITON"},{"$f":"'[1]87-0-14'!G3402*(1+$E$13)","v":10805.577000000001}]
[{"$f":"'[1]87-0-14'!B3403","v":"PCTA6EE"},{"$f":"'[1]87-0-14'!D3403","v":"PIT C/TOPE ABIERTO 6 (50)"},{"$f":"'[1]87-0-14'!E3403","v":"ELESCUERZO"},{"$f":"'[1]87-0-14'!F3403","v":"PITON"},{"$f":"'[1]87-0-14'!G3403*(1+$E$13)","v":14260.868}]
[{"$f":"'[1]87-0-14'!B3404","v":"PCTA8EE"},{"$f":"'[1]87-0-14'!D3404","v":"PIT C/TOPE ABIERTO 8 (50)"},{"$f":"'[1]87-0-14'!E3404","v":"ELESCUERZO"},{"$f":"'[1]87-0-14'!F3404","v":"PITON"},{"$f":"'[1]87-0-14'!G3404*(1+$E$13)","v":23118.916499999999}]
[{"$f":"'[1]87-0-14'!B3405","v":"PCTC10EE"},{"$f":"'[1]87-0-14'!D3405","v":"PIT C/TOPE CERRADO 10 (25"},{"$f":"'[1]87-0-14'!E3405","v":"ELESCUERZO"},{"$f":"'[1]87-0-14'!F3405","v":"PITON"},{"$f":"'[1]87-0-14'!G3405*(1+$E$13)","v":22038.364999999998}]
[{"$f":"'[1]87-0-14'!B3406","v":"PCTC12EE"},{"$f":"'[1]87-0-14'!D3406","v":"PIT C/TOPE CERRADO 12 (20"},{"$f":"'[1]87-0-14'!E3406","v":"ELESCUERZO"},{"$f":"'[1]87-0-14'!F3406","v":"PITON"},{"$f":"'[1]87-0-14'!G3406*(1+$E$13)","v":28546.830500000004}]
[{"$f":"'[1]87-0-14'!B3407","v":"PCTC4EE"},{"$f":"'[1]87-0-14'!D3407","v":"PIT C/TOPE CERRADO 4 (100"},{"$f":"'[1]87-0-14'!E3407","v":"ELESCUERZO"},{"$f":"'[1]87-0-14'!F3407","v":"PITON"},{"$f":"'[1]87-0-14'!G3407*(1+$E$13)","v":16886.862499999999}]
[{"$f":"'[1]87-0-14'!B3408","v":"PCTC5EE"},{"$f":"'[1]87-0-14'!D3408","v":"PIT C/TOPE CERRADO 5 (50)"},{"$f":"'[1]87-0-14'!E3408","v":"ELESCUERZO"},{"$f":"'[1]87-0-14'!F3408","v":"PITON"},{"$f":"'[1]87-0-14'!G3408*(1+$E$13)","v":10805.577000000001}]
[{"$f":"'[1]87-0-14'!B3409","v":"PCTC6EE"},{"$f":"'[1]87-0-14'!D3409","v":"PIT C/TOPE CERRADO 6 (50)"},{"$f":"'[1]87-0-14'!E3409","v":"ELESCUERZO"},{"$f":"'[1]87-0-14'!F3409","v":"PITON"},{"$f":"'[1]87-0-14'!G3409*(1+$E$13)","v":14260.868}]
[{"$f":"'[1]87-0-14'!B3410","v":"PCTC8EE"},{"$f":"'[1]87-0-14'!D3410","v":"PIT C/TOPE CERRADO 8 (50)"},{"$f":"'[1]87-0-14'!E3410","v":"ELESCUERZO"},{"$f":"'[1]87-0-14'!F3410","v":"PITON"},{"$f":"'[1]87-0-14'!G3410*(1+$E$13)","v":23118.916499999999}]
[{"$f":"'[1]87-0-14'!B3411","v":"PCTE10EE"},{"$f":"'[1]87-0-14'!D3411","v":"PIT C/TOPE ESCUADR 10 (25"},{"$f":"'[1]87-0-14'!E3411","v":"ELESCUERZO"},{"$f":"'[1]87-0-14'!F3411","v":"PITON"},{"$f":"'[1]87-0-14'!G3411*(1+$E$13)","v":22038.364999999998}]
[{"$f":"'[1]87-0-14'!B3412","v":"PCTE12EE"},{"$f":"'[1]87-0-14'!D3412","v":"PIT C/TOPE ESCUADR 12 (20"},{"$f":"'[1]87-0-14'!E3412","v":"ELESCUERZO"},{"$f":"'[1]87-0-14'!F3412","v":"PITON"},{"$f":"'[1]87-0-14'!G3412*(1+$E$13)","v":28546.830500000004}]
[{"$f":"'[1]87-0-14'!B3413","v":"PCTE4EE"},{"$f":"'[1]87-0-14'!D3413","v":"PIT C/TOPE ESCUADR 4 (100"},{"$f":"'[1]87-0-14'!E3413","v":"ELESCUERZO"},{"$f":"'[1]87-0-14'!F3413","v":"PITON"},{"$f":"'[1]87-0-14'!G3413*(1+$E$13)","v":16886.862499999999}]
[{"$f":"'[1]87-0-14'!B3414","v":"PCTE5EE"},{"$f":"'[1]87-0-14'!D3414","v":"PIT C/TOPE ESCUADR 5 (50)"},{"$f":"'[1]87-0-14'!E3414","v":"ELESCUERZO"},{"$f":"'[1]87-0-14'!F3414","v":"PITON"},{"$f":"'[1]87-0-14'!G3414*(1+$E$13)","v":10805.577000000001}]
[{"$f":"'[1]87-0-14'!B3415","v":"PCTE6EE"},{"$f":"'[1]87-0-14'!D3415","v":"PIT C/TOPE ESCUADR 6 (50)"},{"$f":"'[1]87-0-14'!E3415","v":"ELESCUERZO"},{"$f":"'[1]87-0-14'!F3415","v":"PITON"},{"$f":"'[1]87-0-14'!G3415*(1+$E$13)","v":14260.868}]
[{"$f":"'[1]87-0-14'!B3416","v":"PCTE8EE"},{"$f":"'[1]87-0-14'!D3416","v":"PIT C/TOPE ESCUADR 8 (50)"},{"$f":"'[1]87-0-14'!E3416","v":"ELESCUERZO"},{"$f":"'[1]87-0-14'!F3416","v":"PITON"},{"$f":"'[1]87-0-14'!G3416*(1+$E$13)","v":23118.916499999999}]
[{"$f":"'[1]87-0-14'!B3417","v":"PS47670E"},{"$f":"'[1]87-0-14'!D3417","v":"PIT SOLDADO 4,76x 70 (50)"},{"$f":"'[1]87-0-14'!E3417","v":"ELESCUERZO"},{"$f":"'[1]87-0-14'!F3417","v":"PITON"},{"$f":"'[1]87-0-14'!G3417*(1+$E$13)","v":27899.752}]
[{"$f":"'[1]87-0-14'!B3418","v":"PS47680E"},{"$f":"'[1]87-0-14'!D3418","v":"PIT SOLDADO 4,76x 80 (50)"},{"$f":"'[1]87-0-14'!E3418","v":"ELESCUERZO"},{"$f":"'[1]87-0-14'!F3418","v":"PITON"},{"$f":"'[1]87-0-14'!G3418*(1+$E$13)","v":30142.555500000002}]
[{"$f":"'[1]87-0-14'!B3419","v":"PS63570E"},{"$f":"'[1]87-0-14'!D3419","v":"PIT SOLDADO 6,35x 70 (25)"},{"$f":"'[1]87-0-14'!E3419","v":"ELESCUERZO"},{"$f":"'[1]87-0-14'!F3419","v":"PITON"},{"$f":"'[1]87-0-14'!G3419*(1+$E$13)","v":26195.681999999997}]
[{"$f":"'[1]87-0-14'!B3420","v":"PS63580E"},{"$f":"'[1]87-0-14'!D3420","v":"PIT SOLDADO 6,35x 80 (25)"},{"$f":"'[1]87-0-14'!E3420","v":"ELESCUERZO"},{"$f":"'[1]87-0-14'!F3420","v":"PITON"},{"$f":"'[1]87-0-14'!G3420*(1+$E$13)","v":27541.671000000002}]
[{"$f":"'[1]87-0-14'!B3421","v":"PS63590E"},{"$f":"'[1]87-0-14'!D3421","v":"PIT SOLDADO 6,35x 90 (25)"},{"$f":"'[1]87-0-14'!E3421","v":"ELESCUERZO"},{"$f":"'[1]87-0-14'!F3421","v":"PITON"},{"$f":"'[1]87-0-14'!G3421*(1+$E$13)","v":29066.700499999999}]
[{"$f":"'[1]87-0-14'!B3422","v":"PS635100"},{"$f":"'[1]87-0-14'!D3422","v":"PIT SOLDADO 6,35x100 (25)"},{"$f":"'[1]87-0-14'!E3422","v":"ELESCUERZO"},{"$f":"'[1]87-0-14'!F3422","v":"PITON"},{"$f":"'[1]87-0-14'!G3422*(1+$E$13)","v":30770.770500000002}]
[{"$f":"'[1]87-0-14'!B3423","v":"PS79480E"},{"$f":"'[1]87-0-14'!D3423","v":"PIT SOLDADO 7,94x 80 (25)"},{"$f":"'[1]87-0-14'!E3423","v":"ELESCUERZO"},{"$f":"'[1]87-0-14'!F3423","v":"PITON"},{"$f":"'[1]87-0-14'!G3423*(1+$E$13)","v":34090.978999999999}]
[{"$f":"'[1]87-0-14'!B3424","v":"PS79490E"},{"$f":"'[1]87-0-14'!D3424","v":"PIT SOLDADO 7,94x 90 (25)"},{"$f":"'[1]87-0-14'!E3424","v":"ELESCUERZO"},{"$f":"'[1]87-0-14'!F3424","v":"PITON"},{"$f":"'[1]87-0-14'!G3424*(1+$E$13)","v":36333.767}]
[{"$f":"'[1]87-0-14'!B3425","v":"PS794100"},{"$f":"'[1]87-0-14'!D3425","v":"PIT SOLDADO 7,94x100 (25)"},{"$f":"'[1]87-0-14'!E3425","v":"ELESCUERZO"},{"$f":"'[1]87-0-14'!F3425","v":"PITON"},{"$f":"'[1]87-0-14'!G3425*(1+$E$13)","v":38845.108}]
[{"$f":"'[1]87-0-14'!B3426","v":"PS794110"},{"$f":"'[1]87-0-14'!D3426","v":"PIT SOLDADO 7,94x110 (25)"},{"$f":"'[1]87-0-14'!E3426","v":"ELESCUERZO"},{"$f":"'[1]87-0-14'!F3426","v":"PITON"},{"$f":"'[1]87-0-14'!G3426*(1+$E$13)","v":41626.614000000001}]
[{"$f":"'[1]87-0-14'!B3427","v":"PA1525EE"},{"$f":"'[1]87-0-14'!D3427","v":"PITON ABIERTO 15-25 (300)"},{"$f":"'[1]87-0-14'!E3427","v":"ELESCUERZO"},{"$f":"'[1]87-0-14'!F3427","v":"PITON"},{"$f":"'[1]87-0-14'!G3427*(1+$E$13)","v":15278.5825}]
[{"$f":"'[1]87-0-14'!B3428","v":"PA1630EE"},{"$f":"'[1]87-0-14'!D3428","v":"PITON ABIERTO 16-30 (200)"},{"$f":"'[1]87-0-14'!E3428","v":"ELESCUERZO"},{"$f":"'[1]87-0-14'!F3428","v":"PITON"},{"$f":"'[1]87-0-14'!G3428*(1+$E$13)","v":13268.248}]
[{"$f":"'[1]87-0-14'!B3429","v":"PA1740EE"},{"$f":"'[1]87-0-14'!D3429","v":"PITON ABIERTO 17-40 (200)"},{"$f":"'[1]87-0-14'!E3429","v":"ELESCUERZO"},{"$f":"'[1]87-0-14'!F3429","v":"PITON"},{"$f":"'[1]87-0-14'!G3429*(1+$E$13)","v":15781.17}]
[{"$f":"'[1]87-0-14'!B3430","v":"PA1845EE"},{"$f":"'[1]87-0-14'!D3430","v":"PITON ABIERTO 18-45 (100)"},{"$f":"'[1]87-0-14'!E3430","v":"ELESCUERZO"},{"$f":"'[1]87-0-14'!F3430","v":"PITON"},{"$f":"'[1]87-0-14'!G3430*(1+$E$13)","v":12665.143000000002}]
[{"$f":"'[1]87-0-14'!B3431","v":"PA1950EE"},{"$f":"'[1]87-0-14'!D3431","v":"PITON ABIERTO 19-50 (100)"},{"$f":"'[1]87-0-14'!E3431","v":"ELESCUERZO"},{"$f":"'[1]87-0-14'!F3431","v":"PITON"},{"$f":"'[1]87-0-14'!G3431*(1+$E$13)","v":12966.695500000002}]
[{"$f":"'[1]87-0-14'!B3432","v":"PA2160EE"},{"$f":"'[1]87-0-14'!D3432","v":"PITON ABIERTO 21-60 (100)"},{"$f":"'[1]87-0-14'!E3432","v":"ELESCUERZO"},{"$f":"'[1]87-0-14'!F3432","v":"PITON"},{"$f":"'[1]87-0-14'!G3432*(1+$E$13)","v":15580.1505}]
[{"$f":"'[1]87-0-14'!B3433","v":"PA2170EE"},{"$f":"'[1]87-0-14'!D3433","v":"PITON ABIERTO 21-70 (100)"},{"$f":"'[1]87-0-14'!E3433","v":"ELESCUERZO"},{"$f":"'[1]87-0-14'!F3433","v":"PITON"},{"$f":"'[1]87-0-14'!G3433*(1+$E$13)","v":17892.037500000002}]
[{"$f":"'[1]87-0-14'!B3434","v":"PA2380EE"},{"$f":"'[1]87-0-14'!D3434","v":"PITON ABIERTO 23-80 (50)"},{"$f":"'[1]87-0-14'!E3434","v":"ELESCUERZO"},{"$f":"'[1]87-0-14'!F3434","v":"PITON"},{"$f":"'[1]87-0-14'!G3434*(1+$E$13)","v":12564.641000000001}]
[{"$f":"'[1]87-0-14'!B3435","v":"PA24100E"},{"$f":"'[1]87-0-14'!D3435","v":"PITON ABIERTO 24-100 (25)"},{"$f":"'[1]87-0-14'!E3435","v":"ELESCUERZO"},{"$f":"'[1]87-0-14'!F3435","v":"PITON"},{"$f":"'[1]87-0-14'!G3435*(1+$E$13)","v":8644.4585000000006}]
[{"$f":"'[1]87-0-14'!B3436","v":"PC1525EE"},{"$f":"'[1]87-0-14'!D3436","v":"PITON CERRADO 15-25 (300)"},{"$f":"'[1]87-0-14'!E3436","v":"ELESCUERZO"},{"$f":"'[1]87-0-14'!F3436","v":"PITON"},{"$f":"'[1]87-0-14'!G3436*(1+$E$13)","v":15278.5825}]
[{"$f":"'[1]87-0-14'!B3437","v":"PC1630EE"},{"$f":"'[1]87-0-14'!D3437","v":"PITON CERRADO 16-30 (200)"},{"$f":"'[1]87-0-14'!E3437","v":"ELESCUERZO"},{"$f":"'[1]87-0-14'!F3437","v":"PITON"},{"$f":"'[1]87-0-14'!G3437*(1+$E$13)","v":13268.248}]
[{"$f":"'[1]87-0-14'!B3438","v":"PC1635EE"},{"$f":"'[1]87-0-14'!D3438","v":"PITON CERRADO 16-35 (200)"},{"$f":"'[1]87-0-14'!E3438","v":"ELESCUERZO"},{"$f":"'[1]87-0-14'!F3438","v":"PITON"},{"$f":"'[1]87-0-14'!G3438*(1+$E$13)","v":13971.870500000001}]
[{"$f":"'[1]87-0-14'!B3439","v":"PC1740EE"},{"$f":"'[1]87-0-14'!D3439","v":"PITON CERRADO 17-40 (200)"},{"$f":"'[1]87-0-14'!E3439","v":"ELESCUERZO"},{"$f":"'[1]87-0-14'!F3439","v":"PITON"},{"$f":"'[1]87-0-14'!G3439*(1+$E$13)","v":15781.17}]
[{"$f":"'[1]87-0-14'!B3440","v":"PC1840EE"},{"$f":"'[1]87-0-14'!D3440","v":"PITON CERRADO 18-40 (100)"},{"$f":"'[1]87-0-14'!E3440","v":"ELESCUERZO"},{"$f":"'[1]87-0-14'!F3440","v":"PITON"},{"$f":"'[1]87-0-14'!G3440*(1+$E$13)","v":10453.773499999999}]
[{"$f":"'[1]87-0-14'!B3441","v":"PC1845EE"},{"$f":"'[1]87-0-14'!D3441","v":"PITON CERRADO 18-45 (100)"},{"$f":"'[1]87-0-14'!E3441","v":"ELESCUERZO"},{"$f":"'[1]87-0-14'!F3441","v":"PITON"},{"$f":"'[1]87-0-14'!G3441*(1+$E$13)","v":12665.143000000002}]
[{"$f":"'[1]87-0-14'!B3442","v":"PC1950EE"},{"$f":"'[1]87-0-14'!D3442","v":"PITON CERRADO 19-50 (100)"},{"$f":"'[1]87-0-14'!E3442","v":"ELESCUERZO"},{"$f":"'[1]87-0-14'!F3442","v":"PITON"},{"$f":"'[1]87-0-14'!G3442*(1+$E$13)","v":12966.695500000002}]
[{"$f":"'[1]87-0-14'!B3443","v":"PC2160EE"},{"$f":"'[1]87-0-14'!D3443","v":"PITON CERRADO 21-60 (100)"},{"$f":"'[1]87-0-14'!E3443","v":"ELESCUERZO"},{"$f":"'[1]87-0-14'!F3443","v":"PITON"},{"$f":"'[1]87-0-14'!G3443*(1+$E$13)","v":15580.1505}]
[{"$f":"'[1]87-0-14'!B3444","v":"PC2170EE"},{"$f":"'[1]87-0-14'!D3444","v":"PITON CERRADO 21-70 (100)"},{"$f":"'[1]87-0-14'!E3444","v":"ELESCUERZO"},{"$f":"'[1]87-0-14'!F3444","v":"PITON"},{"$f":"'[1]87-0-14'!G3444*(1+$E$13)","v":17892.037500000002}]
[{"$f":"'[1]87-0-14'!B3445","v":"PC2380EE"},{"$f":"'[1]87-0-14'!D3445","v":"PITON CERRADO 23-80 (50)"},{"$f":"'[1]87-0-14'!E3445","v":"ELESCUERZO"},{"$f":"'[1]87-0-14'!F3445","v":"PITON"},{"$f":"'[1]87-0-14'!G3445*(1+$E$13)","v":12564.641000000001}]
[{"$f":"'[1]87-0-14'!B3446","v":"PC24100E"},{"$f":"'[1]87-0-14'!D3446","v":"PITON CERRADO 24-100 (25)"},{"$f":"'[1]87-0-14'!E3446","v":"ELESCUERZO"},{"$f":"'[1]87-0-14'!F3446","v":"PITON"},{"$f":"'[1]87-0-14'!G3446*(1+$E$13)","v":8644.4585000000006}]
[{"$f":"'[1]87-0-14'!B3447","v":"PG"},{"$f":"'[1]87-0-14'!D3447","v":"PIZON DE ACERO"},{"$f":"'[1]87-0-14'!E3447","v":"GHERARDI"},{"$f":"'[1]87-0-14'!F3447","v":"PIZON"},{"$f":"'[1]87-0-14'!G3447*(1+$E$13)","v":65144.485000000001}]
[{"$f":"'[1]87-0-14'!B3448","v":"P50SC"},{"$f":"'[1]87-0-14'!D3448","v":"PLANCHUELA CROMA  50"},{"$f":"'[1]87-0-14'!E3448","v":"SC"},{"$f":"'[1]87-0-14'!F3448","v":"PLANCHUELA"},{"$f":"'[1]87-0-14'!G3448*(1+$E$13)","v":2687.3434999999999}]
[{"$f":"'[1]87-0-14'!B3449","v":"P76SC"},{"$f":"'[1]87-0-14'!D3449","v":"PLANCHUELA CROMA  76"},{"$f":"'[1]87-0-14'!E3449","v":"SC"},{"$f":"'[1]87-0-14'!F3449","v":"PLANCHUELA"},{"$f":"'[1]87-0-14'!G3449*(1+$E$13)","v":4129.7580000000007}]
[{"$f":"'[1]87-0-14'!B3450","v":"P100SC"},{"$f":"'[1]87-0-14'!D3450","v":"PLANCHUELA CROMA 100"},{"$f":"'[1]87-0-14'!E3450","v":"SC"},{"$f":"'[1]87-0-14'!F3450","v":"PLANCHUELA"},{"$f":"'[1]87-0-14'!G3450*(1+$E$13)","v":6636.5420000000004}]
[{"$f":"'[1]87-0-14'!B3451","v":"P125SC"},{"$f":"'[1]87-0-14'!D3451","v":"PLANCHUELA CROMA 125"},{"$f":"'[1]87-0-14'!E3451","v":"SC"},{"$f":"'[1]87-0-14'!F3451","v":"PLANCHUELA"},{"$f":"'[1]87-0-14'!G3451*(1+$E$13)","v":8418.36}]
[{"$f":"'[1]87-0-14'!B3452","v":"P150SC"},{"$f":"'[1]87-0-14'!D3452","v":"PLANCHUELA CROMA 150"},{"$f":"'[1]87-0-14'!E3452","v":"SC"},{"$f":"'[1]87-0-14'!F3452","v":"PLANCHUELA"},{"$f":"'[1]87-0-14'!G3452*(1+$E$13)","v":12732.056500000001}]
[{"$f":"'[1]87-0-14'!B3453","v":"P175SC"},{"$f":"'[1]87-0-14'!D3453","v":"PLANCHUELA CROMA 175"},{"$f":"'[1]87-0-14'!E3453","v":"SC"},{"$f":"'[1]87-0-14'!F3453","v":"PLANCHUELA"},{"$f":"'[1]87-0-14'!G3453*(1+$E$13)","v":17643.231499999998}]
[{"$f":"'[1]87-0-14'!B3454","v":"P200SC"},{"$f":"'[1]87-0-14'!D3454","v":"PLANCHUELA CROMA 200"},{"$f":"'[1]87-0-14'!E3454","v":"SC"},{"$f":"'[1]87-0-14'!F3454","v":"PLANCHUELA"},{"$f":"'[1]87-0-14'!G3454*(1+$E$13)","v":19876.316500000001}]
[{"$f":"'[1]87-0-14'!B3455","v":"P250SC"},{"$f":"'[1]87-0-14'!D3455","v":"PLANCHUELA CROMA 250"},{"$f":"'[1]87-0-14'!E3455","v":"SC"},{"$f":"'[1]87-0-14'!F3455","v":"PLANCHUELA"},{"$f":"'[1]87-0-14'!G3455*(1+$E$13)","v":30837.467000000001}]
[{"$f":"'[1]87-0-14'!B3456","v":"P300SC"},{"$f":"'[1]87-0-14'!D3456","v":"PLANCHUELA CROMA 300"},{"$f":"'[1]87-0-14'!E3456","v":"SC"},{"$f":"'[1]87-0-14'!F3456","v":"PLANCHUELA"},{"$f":"'[1]87-0-14'!G3456*(1+$E$13)","v":36919.155500000001}]
[{"$f":"'[1]87-0-14'!B3457","v":"P200"},{"$f":"'[1]87-0-14'!D3457","v":"PLOMADA ALBANIL  200gr"},{"$f":"'[1]87-0-14'!E3457","v":"TOTH"},{"$f":"'[1]87-0-14'!F3457","v":"PLOMADA"},{"$f":"'[1]87-0-14'!G3457*(1+$E$13)","v":7457.9180000000006}]
[{"$f":"'[1]87-0-14'!B3458","v":"P300"},{"$f":"'[1]87-0-14'!D3458","v":"PLOMADA ALBANIL  300gr"},{"$f":"'[1]87-0-14'!E3458","v":"TOTH"},{"$f":"'[1]87-0-14'!F3458","v":"PLOMADA"},{"$f":"'[1]87-0-14'!G3458*(1+$E$13)","v":8923.4120000000003}]
[{"$f":"'[1]87-0-14'!B3459","v":"P400"},{"$f":"'[1]87-0-14'!D3459","v":"PLOMADA ALBANIL  400gr"},{"$f":"'[1]87-0-14'!E3459","v":"TOTH"},{"$f":"'[1]87-0-14'!F3459","v":"PLOMADA"},{"$f":"'[1]87-0-14'!G3459*(1+$E$13)","v":9649.277}]
[{"$f":"'[1]87-0-14'!B3460","v":"P500"},{"$f":"'[1]87-0-14'!D3460","v":"PLOMADA ALBANIL  500gr"},{"$f":"'[1]87-0-14'!E3460","v":"TOTH"},{"$f":"'[1]87-0-14'!F3460","v":"PLOMADA"},{"$f":"'[1]87-0-14'!G3460*(1+$E$13)","v":11568.983}]
[{"$f":"'[1]87-0-14'!B3461","v":"P700"},{"$f":"'[1]87-0-14'!D3461","v":"PLOMADA ALBANIL  700gr"},{"$f":"'[1]87-0-14'!E3461","v":"TOTH"},{"$f":"'[1]87-0-14'!F3461","v":"PLOMADA"},{"$f":"'[1]87-0-14'!G3461*(1+$E$13)","v":13862.967500000001}]
[{"$f":"'[1]87-0-14'!B3462","v":"P1000"},{"$f":"'[1]87-0-14'!D3462","v":"PLOMADA ALBANIL 1000gr"},{"$f":"'[1]87-0-14'!E3462","v":"TOTH"},{"$f":"'[1]87-0-14'!F3462","v":"PLOMADA"},{"$f":"'[1]87-0-14'!G3462*(1+$E$13)","v":16266.862500000001}]
[{"$f":"'[1]87-0-14'!B3463","v":"PLEV"},{"$f":"'[1]87-0-14'!D3463","v":"POLEA P/LAVARROP P/EQUIPO"},{"$f":"'[1]87-0-14'!E3463","v":"VITAL GAS"},{"$f":"'[1]87-0-14'!F3463","v":"CORREA"},{"$f":"'[1]87-0-14'!G3463*(1+$E$13)","v":2335.6795000000002}]
[{"$f":"'[1]87-0-14'!B3464","v":"PLMV"},{"$f":"'[1]87-0-14'!D3464","v":"POLEA P/LAVARROPA P/MOTOR"},{"$f":"'[1]87-0-14'!E3464","v":"VITAL GAS"},{"$f":"'[1]87-0-14'!F3464","v":"CORREA"},{"$f":"'[1]87-0-14'!G3464*(1+$E$13)","v":2859.8429999999998}]
[{"$f":"'[1]87-0-14'!B3465","v":"P20F"},{"$f":"'[1]87-0-14'!D3465","v":"POLEA P/PERSIAN N 20"},{"$f":"'[1]87-0-14'!E3465","v":"SIRA"},{"$f":"'[1]87-0-14'!F3465","v":"POLEA"},{"$f":"'[1]87-0-14'!G3465*(1+$E$13)","v":8378.5249999999996}]
[{"$f":"'[1]87-0-14'!B3466","v":"P23F"},{"$f":"'[1]87-0-14'!D3466","v":"POLEA P/PERSIAN N 23"},{"$f":"'[1]87-0-14'!E3466","v":"SIRA"},{"$f":"'[1]87-0-14'!F3466","v":"POLEA"},{"$f":"'[1]87-0-14'!G3466*(1+$E$13)","v":9827.6045000000013}]
[{"$f":"'[1]87-0-14'!B3467","v":"PRDB"},{"$f":"'[1]87-0-14'!D3467","v":"POMO REDO D/BALA PUL"},{"$f":"'[1]87-0-14'!E3467","v":"LUPUM"},{"$f":"'[1]87-0-14'!F3467","v":"POMO"},{"$f":"'[1]87-0-14'!G3467*(1+$E$13)","v":61209.128000000004}]
[{"$f":"'[1]87-0-14'!B3468","v":"PRG"},{"$f":"'[1]87-0-14'!D3468","v":"POMO REDON GIRAT PUL"},{"$f":"'[1]87-0-14'!E3468","v":"LUPUM"},{"$f":"'[1]87-0-14'!F3468","v":"POMO"},{"$f":"'[1]87-0-14'!G3468*(1+$E$13)","v":36733.155500000001}]
[{"$f":"'[1]87-0-14'!B3469","v":"PRF"},{"$f":"'[1]87-0-14'!D3469","v":"POMO REDOND FIJO PUL"},{"$f":"'[1]87-0-14'!E3469","v":"LUPUM"},{"$f":"'[1]87-0-14'!F3469","v":"POMO"},{"$f":"'[1]87-0-14'!G3469*(1+$E$13)","v":36733.155500000001}]
[{"$f":"'[1]87-0-14'!B3470","v":"PB25100C"},{"$f":"'[1]87-0-14'!D3470","v":"PRECIN BLANC 2,5x100"},{"$f":"'[1]87-0-14'!E3470","v":"CRECCHIO"},{"$f":"'[1]87-0-14'!F3470","v":"PRECINTO"},{"$f":"'[1]87-0-14'!G3470*(1+$E$13)","v":1134.8634999999999}]
[{"$f":"'[1]87-0-14'!B3471","v":"PB25140C"},{"$f":"'[1]87-0-14'!D3471","v":"PRECIN BLANC 2,5x140"},{"$f":"'[1]87-0-14'!E3471","v":"CRECCHIO"},{"$f":"'[1]87-0-14'!F3471","v":"PRECINTO"},{"$f":"'[1]87-0-14'!G3471*(1+$E$13)","v":2028.95}]
[{"$f":"'[1]87-0-14'!B3472","v":"PB36150C"},{"$f":"'[1]87-0-14'!D3472","v":"PRECIN BLANC 3,6x150"},{"$f":"'[1]87-0-14'!E3472","v":"CRECCHIO"},{"$f":"'[1]87-0-14'!F3472","v":"PRECINTO"},{"$f":"'[1]87-0-14'!G3472*(1+$E$13)","v":2545.1}]
[{"$f":"'[1]87-0-14'!B3473","v":"PB36200C"},{"$f":"'[1]87-0-14'!D3473","v":"PRECIN BLANC 3,6x200"},{"$f":"'[1]87-0-14'!E3473","v":"CRECCHIO"},{"$f":"'[1]87-0-14'!F3473","v":"PRECINTO"},{"$f":"'[1]87-0-14'!G3473*(1+$E$13)","v":3891.9724999999999}]
[{"$f":"'[1]87-0-14'!B3474","v":"PB36250C"},{"$f":"'[1]87-0-14'!D3474","v":"PRECIN BLANC 3,6x250"},{"$f":"'[1]87-0-14'!E3474","v":"CRECCHIO"},{"$f":"'[1]87-0-14'!F3474","v":"PRECINTO"},{"$f":"'[1]87-0-14'!G3474*(1+$E$13)","v":4978.4605000000001}]
[{"$f":"'[1]87-0-14'!B3475","v":"PB36300C"},{"$f":"'[1]87-0-14'!D3475","v":"PRECIN BLANC 3,6x300"},{"$f":"'[1]87-0-14'!E3475","v":"CRECCHIO"},{"$f":"'[1]87-0-14'!F3475","v":"PRECINTO"},{"$f":"'[1]87-0-14'!G3475*(1+$E$13)","v":6536.1640000000007}]
[{"$f":"'[1]87-0-14'!B3476","v":"PB36350C"},{"$f":"'[1]87-0-14'!D3476","v":"PRECIN BLANC 3,6x350"},{"$f":"'[1]87-0-14'!E3476","v":"CRECCHIO"},{"$f":"'[1]87-0-14'!F3476","v":"PRECINTO"},{"$f":"'[1]87-0-14'!G3476*(1+$E$13)","v":8196.415500000001}]
[{"$f":"'[1]87-0-14'!B3477","v":"PB48180C"},{"$f":"'[1]87-0-14'!D3477","v":"PRECIN BLANC 4,8x180"},{"$f":"'[1]87-0-14'!E3477","v":"CRECCHIO"},{"$f":"'[1]87-0-14'!F3477","v":"PRECINTO"},{"$f":"'[1]87-0-14'!G3477*(1+$E$13)","v":4398.9155000000001}]
[{"$f":"'[1]87-0-14'!B3478","v":"PB48200C"},{"$f":"'[1]87-0-14'!D3478","v":"PRECIN BLANC 4,8x200"},{"$f":"'[1]87-0-14'!E3478","v":"CRECCHIO"},{"$f":"'[1]87-0-14'!F3478","v":"PRECINTO"},{"$f":"'[1]87-0-14'!G3478*(1+$E$13)","v":4762.9949999999999}]
[{"$f":"'[1]87-0-14'!B3479","v":"PB48250C"},{"$f":"'[1]87-0-14'!D3479","v":"PRECIN BLANC 4,8x250"},{"$f":"'[1]87-0-14'!E3479","v":"CRECCHIO"},{"$f":"'[1]87-0-14'!F3479","v":"PRECINTO"},{"$f":"'[1]87-0-14'!G3479*(1+$E$13)","v":6664.0545000000011}]
[{"$f":"'[1]87-0-14'!B3480","v":"PB48300C"},{"$f":"'[1]87-0-14'!D3480","v":"PRECIN BLANC 4,8x300"},{"$f":"'[1]87-0-14'!E3480","v":"CRECCHIO"},{"$f":"'[1]87-0-14'!F3480","v":"PRECINTO"},{"$f":"'[1]87-0-14'!G3480*(1+$E$13)","v":8055.8459999999995}]
[{"$f":"'[1]87-0-14'!B3481","v":"PB48350C"},{"$f":"'[1]87-0-14'!D3481","v":"PRECIN BLANC 4,8x350"},{"$f":"'[1]87-0-14'!E3481","v":"CRECCHIO"},{"$f":"'[1]87-0-14'!F3481","v":"PRECINTO"},{"$f":"'[1]87-0-14'!G3481*(1+$E$13)","v":10779.537}]
[{"$f":"'[1]87-0-14'!B3482","v":"PB48400C"},{"$f":"'[1]87-0-14'!D3482","v":"PRECIN BLANC 4,8x400"},{"$f":"'[1]87-0-14'!E3482","v":"CRECCHIO"},{"$f":"'[1]87-0-14'!F3482","v":"PRECINTO"},{"$f":"'[1]87-0-14'!G3482*(1+$E$13)","v":12031.937}]
[{"$f":"'[1]87-0-14'!B3483","v":"PB48450C"},{"$f":"'[1]87-0-14'!D3483","v":"PRECIN BLANC 4,8x450"},{"$f":"'[1]87-0-14'!E3483","v":"CRECCHIO"},{"$f":"'[1]87-0-14'!F3483","v":"PRECINTO"},{"$f":"'[1]87-0-14'!G3483*(1+$E$13)","v":15063.241}]
[{"$f":"'[1]87-0-14'!B3484","v":"PB75300C"},{"$f":"'[1]87-0-14'!D3484","v":"PRECIN BLANC 7,5x300"},{"$f":"'[1]87-0-14'!E3484","v":"CRECCHIO"},{"$f":"'[1]87-0-14'!F3484","v":"PRECINTO"},{"$f":"'[1]87-0-14'!G3484*(1+$E$13)","v":13654.1515}]
[{"$f":"'[1]87-0-14'!B3485","v":"PB75350C"},{"$f":"'[1]87-0-14'!D3485","v":"PRECIN BLANC 7,5x350"},{"$f":"'[1]87-0-14'!E3485","v":"CRECCHIO"},{"$f":"'[1]87-0-14'!F3485","v":"PRECINTO"},{"$f":"'[1]87-0-14'!G3485*(1+$E$13)","v":17534.607499999998}]
[{"$f":"'[1]87-0-14'!B3486","v":"PB75400C"},{"$f":"'[1]87-0-14'!D3486","v":"PRECIN BLANC 7,5x400"},{"$f":"'[1]87-0-14'!E3486","v":"CRECCHIO"},{"$f":"'[1]87-0-14'!F3486","v":"PRECINTO"},{"$f":"'[1]87-0-14'!G3486*(1+$E$13)","v":20439.183499999999}]
[{"$f":"'[1]87-0-14'!B3487","v":"PB75450C"},{"$f":"'[1]87-0-14'!D3487","v":"PRECIN BLANC 7,5x450"},{"$f":"'[1]87-0-14'!E3487","v":"CRECCHIO"},{"$f":"'[1]87-0-14'!F3487","v":"PRECINTO"},{"$f":"'[1]87-0-14'!G3487*(1+$E$13)","v":11731.206}]
[{"$f":"'[1]87-0-14'!B3488","v":"PB75500C"},{"$f":"'[1]87-0-14'!D3488","v":"PRECIN BLANC 7,5x500"},{"$f":"'[1]87-0-14'!E3488","v":"CRECCHIO"},{"$f":"'[1]87-0-14'!F3488","v":"PRECINTO"},{"$f":"'[1]87-0-14'!G3488*(1+$E$13)","v":15208.413999999999}]
[{"$f":"'[1]87-0-14'!B3489","v":"PB95400C"},{"$f":"'[1]87-0-14'!D3489","v":"PRECIN BLANC 9,5x400"},{"$f":"'[1]87-0-14'!E3489","v":"CRECCHIO"},{"$f":"'[1]87-0-14'!F3489","v":"PRECINTO"},{"$f":"'[1]87-0-14'!G3489*(1+$E$13)","v":13271.642500000002}]
[{"$f":"'[1]87-0-14'!B3490","v":"PB95500C"},{"$f":"'[1]87-0-14'!D3490","v":"PRECIN BLANC 9,5x500"},{"$f":"'[1]87-0-14'!E3490","v":"CRECCHIO"},{"$f":"'[1]87-0-14'!F3490","v":"PRECINTO"},{"$f":"'[1]87-0-14'!G3490*(1+$E$13)","v":19769.785000000003}]
[{"$f":"'[1]87-0-14'!B3491","v":"PB95600C"},{"$f":"'[1]87-0-14'!D3491","v":"PRECIN BLANC 9,5x600"},{"$f":"'[1]87-0-14'!E3491","v":"CRECCHIO"},{"$f":"'[1]87-0-14'!F3491","v":"PRECINTO"},{"$f":"'[1]87-0-14'!G3491*(1+$E$13)","v":25955.68}]
[{"$f":"'[1]87-0-14'!B3492","v":"PN25100C"},{"$f":"'[1]87-0-14'!D3492","v":"PRECINT NEGR 2,5x100"},{"$f":"'[1]87-0-14'!E3492","v":"CRECCHIO"},{"$f":"'[1]87-0-14'!F3492","v":"PRECINTO"},{"$f":"'[1]87-0-14'!G3492*(1+$E$13)","v":1134.8634999999999}]
[{"$f":"'[1]87-0-14'!B3493","v":"PN25140C"},{"$f":"'[1]87-0-14'!D3493","v":"PRECINT NEGR 2,5x140"},{"$f":"'[1]87-0-14'!E3493","v":"CRECCHIO"},{"$f":"'[1]87-0-14'!F3493","v":"PRECINTO"},{"$f":"'[1]87-0-14'!G3493*(1+$E$13)","v":2028.95}]
[{"$f":"'[1]87-0-14'!B3494","v":"PN36150C"},{"$f":"'[1]87-0-14'!D3494","v":"PRECINT NEGR 3,6x150"},{"$f":"'[1]87-0-14'!E3494","v":"CRECCHIO"},{"$f":"'[1]87-0-14'!F3494","v":"PRECINTO"},{"$f":"'[1]87-0-14'!G3494*(1+$E$13)","v":2545.1}]
[{"$f":"'[1]87-0-14'!B3495","v":"PN36200C"},{"$f":"'[1]87-0-14'!D3495","v":"PRECINT NEGR 3,6x200"},{"$f":"'[1]87-0-14'!E3495","v":"CRECCHIO"},{"$f":"'[1]87-0-14'!F3495","v":"PRECINTO"},{"$f":"'[1]87-0-14'!G3495*(1+$E$13)","v":3891.9724999999999}]
[{"$f":"'[1]87-0-14'!B3496","v":"PN36250C"},{"$f":"'[1]87-0-14'!D3496","v":"PRECINT NEGR 3,6x250"},{"$f":"'[1]87-0-14'!E3496","v":"CRECCHIO"},{"$f":"'[1]87-0-14'!F3496","v":"PRECINTO"},{"$f":"'[1]87-0-14'!G3496*(1+$E$13)","v":4978.4605000000001}]
[{"$f":"'[1]87-0-14'!B3497","v":"PN36300C"},{"$f":"'[1]87-0-14'!D3497","v":"PRECINT NEGR 3,6x300"},{"$f":"'[1]87-0-14'!E3497","v":"CRECCHIO"},{"$f":"'[1]87-0-14'!F3497","v":"PRECINTO"},{"$f":"'[1]87-0-14'!G3497*(1+$E$13)","v":6536.1640000000007}]
[{"$f":"'[1]87-0-14'!B3498","v":"PN36350C"},{"$f":"'[1]87-0-14'!D3498","v":"PRECINT NEGR 3,6x350"},{"$f":"'[1]87-0-14'!E3498","v":"CRECCHIO"},{"$f":"'[1]87-0-14'!F3498","v":"PRECINTO"},{"$f":"'[1]87-0-14'!G3498*(1+$E$13)","v":8196.415500000001}]
[{"$f":"'[1]87-0-14'!B3499","v":"PN48180C"},{"$f":"'[1]87-0-14'!D3499","v":"PRECINT NEGR 4,8x180"},{"$f":"'[1]87-0-14'!E3499","v":"CRECCHIO"},{"$f":"'[1]87-0-14'!F3499","v":"PRECINTO"},{"$f":"'[1]87-0-14'!G3499*(1+$E$13)","v":4398.9155000000001}]
[{"$f":"'[1]87-0-14'!B3500","v":"PN48200C"},{"$f":"'[1]87-0-14'!D3500","v":"PRECINT NEGR 4,8x200"},{"$f":"'[1]87-0-14'!E3500","v":"CRECCHIO"},{"$f":"'[1]87-0-14'!F3500","v":"PRECINTO"},{"$f":"'[1]87-0-14'!G3500*(1+$E$13)","v":4762.9949999999999}]
[{"$f":"'[1]87-0-14'!B3501","v":"PN48250C"},{"$f":"'[1]87-0-14'!D3501","v":"PRECINT NEGR 4,8x250"},{"$f":"'[1]87-0-14'!E3501","v":"CRECCHIO"},{"$f":"'[1]87-0-14'!F3501","v":"PRECINTO"},{"$f":"'[1]87-0-14'!G3501*(1+$E$13)","v":6664.0545000000011}]
[{"$f":"'[1]87-0-14'!B3502","v":"PN48300C"},{"$f":"'[1]87-0-14'!D3502","v":"PRECINT NEGR 4,8x300"},{"$f":"'[1]87-0-14'!E3502","v":"CRECCHIO"},{"$f":"'[1]87-0-14'!F3502","v":"PRECINTO"},{"$f":"'[1]87-0-14'!G3502*(1+$E$13)","v":8055.8459999999995}]
[{"$f":"'[1]87-0-14'!B3503","v":"PN48350C"},{"$f":"'[1]87-0-14'!D3503","v":"PRECINT NEGR 4,8x350"},{"$f":"'[1]87-0-14'!E3503","v":"CRECCHIO"},{"$f":"'[1]87-0-14'!F3503","v":"PRECINTO"},{"$f":"'[1]87-0-14'!G3503*(1+$E$13)","v":10779.537}]
[{"$f":"'[1]87-0-14'!B3504","v":"PN48400C"},{"$f":"'[1]87-0-14'!D3504","v":"PRECINT NEGR 4,8x400"},{"$f":"'[1]87-0-14'!E3504","v":"CRECCHIO"},{"$f":"'[1]87-0-14'!F3504","v":"PRECINTO"},{"$f":"'[1]87-0-14'!G3504*(1+$E$13)","v":12031.937}]
[{"$f":"'[1]87-0-14'!B3505","v":"PN48450C"},{"$f":"'[1]87-0-14'!D3505","v":"PRECINT NEGR 4,8x450"},{"$f":"'[1]87-0-14'!E3505","v":"CRECCHIO"},{"$f":"'[1]87-0-14'!F3505","v":"PRECINTO"},{"$f":"'[1]87-0-14'!G3505*(1+$E$13)","v":15063.241}]
[{"$f":"'[1]87-0-14'!B3506","v":"PN75300C"},{"$f":"'[1]87-0-14'!D3506","v":"PRECINT NEGR 7,5x300"},{"$f":"'[1]87-0-14'!E3506","v":"CRECCHIO"},{"$f":"'[1]87-0-14'!F3506","v":"PRECINTO"},{"$f":"'[1]87-0-14'!G3506*(1+$E$13)","v":13654.1515}]
[{"$f":"'[1]87-0-14'!B3507","v":"PN75350C"},{"$f":"'[1]87-0-14'!D3507","v":"PRECINT NEGR 7,5x350"},{"$f":"'[1]87-0-14'!E3507","v":"CRECCHIO"},{"$f":"'[1]87-0-14'!F3507","v":"PRECINTO"},{"$f":"'[1]87-0-14'!G3507*(1+$E$13)","v":17534.607499999998}]
[{"$f":"'[1]87-0-14'!B3508","v":"PN75400C"},{"$f":"'[1]87-0-14'!D3508","v":"PRECINT NEGR 7,5x400"},{"$f":"'[1]87-0-14'!E3508","v":"CRECCHIO"},{"$f":"'[1]87-0-14'!F3508","v":"PRECINTO"},{"$f":"'[1]87-0-14'!G3508*(1+$E$13)","v":20439.183499999999}]
[{"$f":"'[1]87-0-14'!B3509","v":"PN75450C"},{"$f":"'[1]87-0-14'!D3509","v":"PRECINT NEGR 7,5x450"},{"$f":"'[1]87-0-14'!E3509","v":"CRECCHIO"},{"$f":"'[1]87-0-14'!F3509","v":"PRECINTO"},{"$f":"'[1]87-0-14'!G3509*(1+$E$13)","v":11731.206}]
[{"$f":"'[1]87-0-14'!B3510","v":"PN75500C"},{"$f":"'[1]87-0-14'!D3510","v":"PRECINT NEGR 7,5x500"},{"$f":"'[1]87-0-14'!E3510","v":"CRECCHIO"},{"$f":"'[1]87-0-14'!F3510","v":"PRECINTO"},{"$f":"'[1]87-0-14'!G3510*(1+$E$13)","v":15208.413999999999}]
[{"$f":"'[1]87-0-14'!B3511","v":"PN95400C"},{"$f":"'[1]87-0-14'!D3511","v":"PRECINT NEGR 9,5x400"},{"$f":"'[1]87-0-14'!E3511","v":"CRECCHIO"},{"$f":"'[1]87-0-14'!F3511","v":"PRECINTO"},{"$f":"'[1]87-0-14'!G3511*(1+$E$13)","v":13271.642500000002}]
[{"$f":"'[1]87-0-14'!B3512","v":"PN95500C"},{"$f":"'[1]87-0-14'!D3512","v":"PRECINT NEGR 9,5x500"},{"$f":"'[1]87-0-14'!E3512","v":"CRECCHIO"},{"$f":"'[1]87-0-14'!F3512","v":"PRECINTO"},{"$f":"'[1]87-0-14'!G3512*(1+$E$13)","v":19769.785000000003}]
[{"$f":"'[1]87-0-14'!B3513","v":"PN95600C"},{"$f":"'[1]87-0-14'!D3513","v":"PRECINT NEGR 9,5x600"},{"$f":"'[1]87-0-14'!E3513","v":"CRECCHIO"},{"$f":"'[1]87-0-14'!F3513","v":"PRECINTO"},{"$f":"'[1]87-0-14'!G3513*(1+$E$13)","v":25955.68}]
[{"$f":"'[1]87-0-14'!B3514","v":"PG48400C"},{"$f":"'[1]87-0-14'!D3514","v":"PRECINTO #GRIS# 4,8x400"},{"$f":"'[1]87-0-14'!E3514","v":"CRECCHIO"},{"$f":"'[1]87-0-14'!F3514","v":"PRECINTO"},{"$f":"'[1]87-0-14'!G3514*(1+$E$13)","v":12031.937}]
[{"$f":"'[1]87-0-14'!B3515","v":"PC50EE"},{"$f":"'[1]87-0-14'!D3515","v":"PRENSA CALAR  50mm (x6)"},{"$f":"'[1]87-0-14'!E3515","v":"ELESCUERZO"},{"$f":"'[1]87-0-14'!F3515","v":"PRENSA"},{"$f":"'[1]87-0-14'!G3515*(1+$E$13)","v":47412.624500000005}]
[{"$f":"'[1]87-0-14'!B3516","v":"PC75EE"},{"$f":"'[1]87-0-14'!D3516","v":"PRENSA CALAR  75mm (x6)"},{"$f":"'[1]87-0-14'!E3516","v":"ELESCUERZO"},{"$f":"'[1]87-0-14'!F3516","v":"PRENSA"},{"$f":"'[1]87-0-14'!G3516*(1+$E$13)","v":57976.339499999995}]
[{"$f":"'[1]87-0-14'!B3517","v":"PC100EE"},{"$f":"'[1]87-0-14'!D3517","v":"PRENSA CALAR 100mm (x6)"},{"$f":"'[1]87-0-14'!E3517","v":"ELESCUERZO"},{"$f":"'[1]87-0-14'!F3517","v":"PRENSA"},{"$f":"'[1]87-0-14'!G3517*(1+$E$13)","v":68584.028000000006}]
[{"$f":"'[1]87-0-14'!B3518","v":"PSCB1V"},{"$f":"'[1]87-0-14'!D3518","v":"PRO SUBCARRO Blanc 1"},{"$f":"'[1]87-0-14'!E3518","v":"VENIER"},{"$f":"'[1]87-0-14'!F3518","v":"PROTECTOR SUBCARR"},{"$f":"'[1]87-0-14'!G3518*(1+$E$13)","v":34511.385500000004}]
[{"$f":"'[1]87-0-14'!B3519","v":"PSCB4V"},{"$f":"'[1]87-0-14'!D3519","v":"PRO SUBCARRO Blanc 4"},{"$f":"'[1]87-0-14'!E3519","v":"VENIER"},{"$f":"'[1]87-0-14'!F3519","v":"PROTECTOR SUBCARR"},{"$f":"'[1]87-0-14'!G3519*(1+$E$13)","v":107705.70250000001}]
[{"$f":"'[1]87-0-14'!B3520","v":"PSCN1V"},{"$f":"'[1]87-0-14'!D3520","v":"PRO SUBCARRO Negro 1"},{"$f":"'[1]87-0-14'!E3520","v":"VENIER"},{"$f":"'[1]87-0-14'!F3520","v":"PROTECTOR SUBCARR"},{"$f":"'[1]87-0-14'!G3520*(1+$E$13)","v":9251.7020000000011}]
[{"$f":"'[1]87-0-14'!B3521","v":"PSCN4V"},{"$f":"'[1]87-0-14'!D3521","v":"PRO SUBCARRO Negro 4"},{"$f":"'[1]87-0-14'!E3521","v":"VENIER"},{"$f":"'[1]87-0-14'!F3521","v":"PROTECTOR SUBCARR"},{"$f":"'[1]87-0-14'!G3521*(1+$E$13)","v":31097.572500000002}]
[{"$f":"'[1]87-0-14'!B3522","v":"PCV"},{"$f":"'[1]87-0-14'!D3522","v":"PROLONG ELEC CALEF M/H 2m"},{"$f":"'[1]87-0-14'!E3522","v":"VITAL GAS"},{"$f":"'[1]87-0-14'!F3522","v":"REPUESTO CALEFON"},{"$f":"'[1]87-0-14'!G3522*(1+$E$13)","v":5703.38}]
[{"$f":"'[1]87-0-14'!B3523","v":"P3R"},{"$f":"'[1]87-0-14'!D3523","v":"PROLONGACION P/TUBO  3\""},{"$f":"'[1]87-0-14'!E3523","v":"RHEIN"},{"$f":"'[1]87-0-14'!F3523","v":"TUBO"},{"$f":"'[1]87-0-14'!G3523*(1+$E$13)","v":5094.6795000000002}]
[{"$f":"'[1]87-0-14'!B3524","v":"P6R"},{"$f":"'[1]87-0-14'!D3524","v":"PROLONGACION P/TUBO  6\""},{"$f":"'[1]87-0-14'!E3524","v":"RHEIN"},{"$f":"'[1]87-0-14'!F3524","v":"TUBO"},{"$f":"'[1]87-0-14'!G3524*(1+$E$13)","v":7024.9255000000003}]
[{"$f":"'[1]87-0-14'!B3525","v":"P10R"},{"$f":"'[1]87-0-14'!D3525","v":"PROLONGACION P/TUBO 10\""},{"$f":"'[1]87-0-14'!E3525","v":"RHEIN"},{"$f":"'[1]87-0-14'!F3525","v":"TUBO"},{"$f":"'[1]87-0-14'!G3525*(1+$E$13)","v":12388.080500000002}]
[{"$f":"'[1]87-0-14'!B3526","v":"PLT10V"},{"$f":"'[1]87-0-14'!D3526","v":"PROTECTO LADR/TEJ 10"},{"$f":"'[1]87-0-14'!E3526","v":"VENIER"},{"$f":"'[1]87-0-14'!F3526","v":"IMPERMEABILIZANTE"},{"$f":"'[1]87-0-14'!G3526*(1+$E$13)","v":69275.405499999993}]
[{"$f":"'[1]87-0-14'!B3527","v":"PLT20V"},{"$f":"'[1]87-0-14'!D3527","v":"PROTECTO LADR/TEJ 20"},{"$f":"'[1]87-0-14'!E3527","v":"VENIER"},{"$f":"'[1]87-0-14'!F3527","v":"IMPERMEABILIZANTE"},{"$f":"'[1]87-0-14'!G3527*(1+$E$13)","v":127040.9295}]
[{"$f":"'[1]87-0-14'!B3528","v":"PLT1V"},{"$f":"'[1]87-0-14'!D3528","v":"PROTECTO LADR/TEJA 1"},{"$f":"'[1]87-0-14'!E3528","v":"VENIER"},{"$f":"'[1]87-0-14'!F3528","v":"IMPERMEABILIZANTE"},{"$f":"'[1]87-0-14'!G3528*(1+$E$13)","v":10954.6715}]
[{"$f":"'[1]87-0-14'!B3529","v":"PLT4V"},{"$f":"'[1]87-0-14'!D3529","v":"PROTECTO LADR/TEJA 4"},{"$f":"'[1]87-0-14'!E3529","v":"VENIER"},{"$f":"'[1]87-0-14'!F3529","v":"IMPERMEABILIZANTE"},{"$f":"'[1]87-0-14'!G3529*(1+$E$13)","v":32820.2425}]
[{"$f":"'[1]87-0-14'!B3530","v":"PFV"},{"$f":"'[1]87-0-14'!D3530","v":"PROTECTOR FACIAL"},{"$f":"'[1]87-0-14'!E3530","v":"VITAL GAS"},{"$f":"'[1]87-0-14'!F3530","v":"PROTECTOR"},{"$f":"'[1]87-0-14'!G3530*(1+$E$13)","v":2212.9504999999999}]
[{"$f":"'[1]87-0-14'!B3531","v":"PBV"},{"$f":"'[1]87-0-14'!D3531","v":"PROTECTOR P/BRONCE"},{"$f":"'[1]87-0-14'!E3531","v":"VENIER"},{"$f":"'[1]87-0-14'!F3531","v":"PROTECTOR BRONCE"},{"$f":"'[1]87-0-14'!G3531*(1+$E$13)","v":8076.0425000000005}]
[{"$f":"'[1]87-0-14'!B3532","v":"PAP2100M"},{"$f":"'[1]87-0-14'!D3532","v":"PUN ATORN S2 PHIL PH2x100"},{"$f":"'[1]87-0-14'!E3532","v":"METZ"},{"$f":"'[1]87-0-14'!F3532","v":"PUNTA ATORNILLAR"},{"$f":"'[1]87-0-14'!G3532*(1+$E$13)","v":4811.5255000000006}]
[{"$f":"'[1]87-0-14'!B3533","v":"PAP225M"},{"$f":"'[1]87-0-14'!D3533","v":"PUN ATORN S2 PHILI PH2x25"},{"$f":"'[1]87-0-14'!E3533","v":"METZ"},{"$f":"'[1]87-0-14'!F3533","v":"PUNTA ATORNILLAR"},{"$f":"'[1]87-0-14'!G3533*(1+$E$13)","v":744.65100000000007}]
[{"$f":"'[1]87-0-14'!B3534","v":"PAP250M"},{"$f":"'[1]87-0-14'!D3534","v":"PUN ATORN S2 PHILI PH2x50"},{"$f":"'[1]87-0-14'!E3534","v":"METZ"},{"$f":"'[1]87-0-14'!F3534","v":"PUNTA ATORNILLAR"},{"$f":"'[1]87-0-14'!G3534*(1+$E$13)","v":1048.7455}]
[{"$f":"'[1]87-0-14'!B3535","v":"PAP275M"},{"$f":"'[1]87-0-14'!D3535","v":"PUN ATORN S2 PHILI PH2x75"},{"$f":"'[1]87-0-14'!E3535","v":"METZ"},{"$f":"'[1]87-0-14'!F3535","v":"PUNTA ATORNILLAR"},{"$f":"'[1]87-0-14'!G3535*(1+$E$13)","v":3161.0079999999998}]
[{"$f":"'[1]87-0-14'!B3536","v":"P20"},{"$f":"'[1]87-0-14'!D3536","v":"PUNTA 20 cm."},{"$f":"'[1]87-0-14'!E3536","v":"EL ROBLE"},{"$f":"'[1]87-0-14'!F3536","v":"PUNTA"},{"$f":"'[1]87-0-14'!G3536*(1+$E$13)","v":9000.9430000000011}]
[{"$f":"'[1]87-0-14'!B3537","v":"P20G"},{"$f":"'[1]87-0-14'!D3537","v":"PUNTA 20cm"},{"$f":"'[1]87-0-14'!E3537","v":"GHERARDI"},{"$f":"'[1]87-0-14'!F3537","v":"PUNTA"},{"$f":"'[1]87-0-14'!G3537*(1+$E$13)","v":11222.914500000001}]
[{"$f":"'[1]87-0-14'!B3538","v":"P25"},{"$f":"'[1]87-0-14'!D3538","v":"PUNTA 25 cm."},{"$f":"'[1]87-0-14'!E3538","v":"EL ROBLE"},{"$f":"'[1]87-0-14'!F3538","v":"PUNTA"},{"$f":"'[1]87-0-14'!G3538*(1+$E$13)","v":9527.8810000000012}]
[{"$f":"'[1]87-0-14'!B3539","v":"P25G"},{"$f":"'[1]87-0-14'!D3539","v":"PUNTA 25cm"},{"$f":"'[1]87-0-14'!E3539","v":"GHERARDI"},{"$f":"'[1]87-0-14'!F3539","v":"PUNTA"},{"$f":"'[1]87-0-14'!G3539*(1+$E$13)","v":11843.86}]
[{"$f":"'[1]87-0-14'!B3540","v":"P25V"},{"$f":"'[1]87-0-14'!D3540","v":"PUNTA 3/4  **25cm**"},{"$f":"'[1]87-0-14'!E3540","v":"VIRGA"},{"$f":"'[1]87-0-14'!F3540","v":"PUNTA"},{"$f":"'[1]87-0-14'!G3540*(1+$E$13)","v":5161.0659999999998}]
[{"$f":"'[1]87-0-14'!B3541","v":"P30V"},{"$f":"'[1]87-0-14'!D3541","v":"PUNTA 3/4  **30cm**"},{"$f":"'[1]87-0-14'!E3541","v":"VIRGA"},{"$f":"'[1]87-0-14'!F3541","v":"PUNTA"},{"$f":"'[1]87-0-14'!G3541*(1+$E$13)","v":5734.5195000000003}]
[{"$f":"'[1]87-0-14'!B3542","v":"P35V"},{"$f":"'[1]87-0-14'!D3542","v":"PUNTA 3/4  **35cm**"},{"$f":"'[1]87-0-14'!E3542","v":"VIRGA"},{"$f":"'[1]87-0-14'!F3542","v":"PUNTA"},{"$f":"'[1]87-0-14'!G3542*(1+$E$13)","v":6307.9885000000004}]
[{"$f":"'[1]87-0-14'!B3543","v":"P20M"},{"$f":"'[1]87-0-14'!D3543","v":"PUNTA 3/4  20cm"},{"$f":"'[1]87-0-14'!E3543","v":"MAZZUCA"},{"$f":"'[1]87-0-14'!F3543","v":"PUNTA"},{"$f":"'[1]87-0-14'!G3543*(1+$E$13)","v":9320.692500000001}]
[{"$f":"'[1]87-0-14'!B3544","v":"P40M"},{"$f":"'[1]87-0-14'!D3544","v":"PUNTA 3/4  40cm"},{"$f":"'[1]87-0-14'!E3544","v":"MAZZUCA"},{"$f":"'[1]87-0-14'!F3544","v":"PUNTA"},{"$f":"'[1]87-0-14'!G3544*(1+$E$13)","v":14271.2065}]
[{"$f":"'[1]87-0-14'!B3545","v":"P45M"},{"$f":"'[1]87-0-14'!D3545","v":"PUNTA 3/4  45cm"},{"$f":"'[1]87-0-14'!E3545","v":"MAZZUCA"},{"$f":"'[1]87-0-14'!F3545","v":"PUNTA"},{"$f":"'[1]87-0-14'!G3545*(1+$E$13)","v":16089.387500000001}]
[{"$f":"'[1]87-0-14'!B3546","v":"P50M"},{"$f":"'[1]87-0-14'!D3546","v":"PUNTA 3/4  50cm"},{"$f":"'[1]87-0-14'!E3546","v":"MAZZUCA"},{"$f":"'[1]87-0-14'!F3546","v":"PUNTA"},{"$f":"'[1]87-0-14'!G3546*(1+$E$13)","v":18284.482}]
[{"$f":"'[1]87-0-14'!B3547","v":"P30"},{"$f":"'[1]87-0-14'!D3547","v":"PUNTA 30 cm."},{"$f":"'[1]87-0-14'!E3547","v":"EL ROBLE"},{"$f":"'[1]87-0-14'!F3547","v":"PUNTA"},{"$f":"'[1]87-0-14'!G3547*(1+$E$13)","v":11016.718000000001}]
[{"$f":"'[1]87-0-14'!B3548","v":"P30G"},{"$f":"'[1]87-0-14'!D3548","v":"PUNTA 30cm"},{"$f":"'[1]87-0-14'!E3548","v":"GHERARDI"},{"$f":"'[1]87-0-14'!F3548","v":"PUNTA"},{"$f":"'[1]87-0-14'!G3548*(1+$E$13)","v":12323.228500000001}]
[{"$f":"'[1]87-0-14'!B3549","v":"P35"},{"$f":"'[1]87-0-14'!D3549","v":"PUNTA 35 cm."},{"$f":"'[1]87-0-14'!E3549","v":"EL ROBLE"},{"$f":"'[1]87-0-14'!F3549","v":"PUNTA"},{"$f":"'[1]87-0-14'!G3549*(1+$E$13)","v":12552.954000000002}]
[{"$f":"'[1]87-0-14'!B3550","v":"P35G"},{"$f":"'[1]87-0-14'!D3550","v":"PUNTA 35cm"},{"$f":"'[1]87-0-14'!E3550","v":"GHERARDI"},{"$f":"'[1]87-0-14'!F3550","v":"PUNTA"},{"$f":"'[1]87-0-14'!G3550*(1+$E$13)","v":13813.6}]
[{"$f":"'[1]87-0-14'!B3551","v":"P40G"},{"$f":"'[1]87-0-14'!D3551","v":"PUNTA 40 cm"},{"$f":"'[1]87-0-14'!E3551","v":"GHERARDI"},{"$f":"'[1]87-0-14'!F3551","v":"PUNTA"},{"$f":"'[1]87-0-14'!G3551*(1+$E$13)","v":15471.541999999999}]
[{"$f":"'[1]87-0-14'!B3552","v":"P40"},{"$f":"'[1]87-0-14'!D3552","v":"PUNTA 40 cm."},{"$f":"'[1]87-0-14'!E3552","v":"EL ROBLE"},{"$f":"'[1]87-0-14'!F3552","v":"PUNTA"},{"$f":"'[1]87-0-14'!G3552*(1+$E$13)","v":13160.166500000001}]
[{"$f":"'[1]87-0-14'!B3553","v":"P45"},{"$f":"'[1]87-0-14'!D3553","v":"PUNTA 45 cm."},{"$f":"'[1]87-0-14'!E3553","v":"EL ROBLE"},{"$f":"'[1]87-0-14'!F3553","v":"PUNTA"},{"$f":"'[1]87-0-14'!G3553*(1+$E$13)","v":14818.682000000001}]
[{"$f":"'[1]87-0-14'!B3554","v":"PAS325M"},{"$f":"'[1]87-0-14'!D3554","v":"PUNTA ATORN S2 PLANA 3x25"},{"$f":"'[1]87-0-14'!E3554","v":"METZ"},{"$f":"'[1]87-0-14'!F3554","v":"PUNTA ATORNILLAR"},{"$f":"'[1]87-0-14'!G3554*(1+$E$13)","v":1052.3725000000002}]
[{"$f":"'[1]87-0-14'!B3555","v":"PAS425M"},{"$f":"'[1]87-0-14'!D3555","v":"PUNTA ATORN S2 PLANA 4x25"},{"$f":"'[1]87-0-14'!E3555","v":"METZ"},{"$f":"'[1]87-0-14'!F3555","v":"PUNTA ATORNILLAR"},{"$f":"'[1]87-0-14'!G3555*(1+$E$13)","v":1722.4839999999999}]
[{"$f":"'[1]87-0-14'!B3556","v":"PAS525M"},{"$f":"'[1]87-0-14'!D3556","v":"PUNTA ATORN S2 PLANA 5x25"},{"$f":"'[1]87-0-14'!E3556","v":"METZ"},{"$f":"'[1]87-0-14'!F3556","v":"PUNTA ATORNILLAR"},{"$f":"'[1]87-0-14'!G3556*(1+$E$13)","v":1722.4839999999999}]
[{"$f":"'[1]87-0-14'!B3557","v":"PAS625M"},{"$f":"'[1]87-0-14'!D3557","v":"PUNTA ATORN S2 PLANA 6x25"},{"$f":"'[1]87-0-14'!E3557","v":"METZ"},{"$f":"'[1]87-0-14'!F3557","v":"PUNTA ATORNILLAR"},{"$f":"'[1]87-0-14'!G3557*(1+$E$13)","v":1052.3725000000002}]
[{"$f":"'[1]87-0-14'!B3558","v":"PER"},{"$f":"'[1]87-0-14'!D3558","v":"PUNTA EJE REFORZADA"},{"$f":"'[1]87-0-14'!E3558","v":"SIRA"},{"$f":"'[1]87-0-14'!F3558","v":"PUNTA DE EJE"},{"$f":"'[1]87-0-14'!G3558*(1+$E$13)","v":1689.7015000000001}]
[{"$f":"'[1]87-0-14'!B3559","v":"PM2670T"},{"$f":"'[1]87-0-14'!D3559","v":"PUNTA MONTADA 26x70mm"},{"$f":"'[1]87-0-14'!E3559","v":"TYROLIT"},{"$f":"'[1]87-0-14'!F3559","v":"PUNTA MONTADA"},{"$f":"'[1]87-0-14'!G3559*(1+$E$13)","v":11309.947}]
[{"$f":"'[1]87-0-14'!B3560","v":"PBMCR"},{"$f":"'[1]87-0-14'!D3560","v":"PUNTA PARA BASE MECH COPA"},{"$f":"'[1]87-0-14'!E3560","v":"RHEIN"},{"$f":"'[1]87-0-14'!F3560","v":"MECHA COPA"},{"$f":"'[1]87-0-14'!G3560*(1+$E$13)","v":5528.4780000000001}]
[{"$f":"'[1]87-0-14'!B3561","v":"PBSP"},{"$f":"'[1]87-0-14'!D3561","v":"PÍNTUR AER Bco/Satina 240"},{"$f":"'[1]87-0-14'!E3561","v":"PINTURIC"},{"$f":"'[1]87-0-14'!F3561","v":"PINTURA"},{"$f":"'[1]87-0-14'!G3561*(1+$E$13)","v":3809.962}]
[{"$f":"'[1]87-0-14'!B3562","v":"PAMP"},{"$f":"'[1]87-0-14'!D3562","v":"PÍNTUR AERO Az/Marino 240"},{"$f":"'[1]87-0-14'!E3562","v":"PINTURIC"},{"$f":"'[1]87-0-14'!F3562","v":"PINTURA"},{"$f":"'[1]87-0-14'!G3562*(1+$E$13)","v":3809.962}]
[{"$f":"'[1]87-0-14'!B3563","v":"PATP"},{"$f":"'[1]87-0-14'!D3563","v":"PÍNTUR AERO Az/Traful 240"},{"$f":"'[1]87-0-14'!E3563","v":"PINTURIC"},{"$f":"'[1]87-0-14'!F3563","v":"PINTURA"},{"$f":"'[1]87-0-14'!G3563*(1+$E$13)","v":3809.962}]
[{"$f":"'[1]87-0-14'!B3564","v":"PBEP"},{"$f":"'[1]87-0-14'!D3564","v":"PÍNTUR AERO Bermellon 240"},{"$f":"'[1]87-0-14'!E3564","v":"PINTURIC"},{"$f":"'[1]87-0-14'!F3564","v":"PINTURA"},{"$f":"'[1]87-0-14'!G3564*(1+$E$13)","v":3809.962}]
[{"$f":"'[1]87-0-14'!B3565","v":"PBMP"},{"$f":"'[1]87-0-14'!D3565","v":"PÍNTUR AERO Blco/Mate 240"},{"$f":"'[1]87-0-14'!E3565","v":"PINTURIC"},{"$f":"'[1]87-0-14'!F3565","v":"PINTURA"},{"$f":"'[1]87-0-14'!G3565*(1+$E$13)","v":3809.962}]
[{"$f":"'[1]87-0-14'!B3566","v":"PGOP"},{"$f":"'[1]87-0-14'!D3566","v":"PÍNTUR AERO Gr/Oscuro 240"},{"$f":"'[1]87-0-14'!E3566","v":"PINTURIC"},{"$f":"'[1]87-0-14'!F3566","v":"PINTURA"},{"$f":"'[1]87-0-14'!G3566*(1+$E$13)","v":3809.962}]
[{"$f":"'[1]87-0-14'!B3567","v":"PRVP"},{"$f":"'[1]87-0-14'!D3567","v":"PÍNTUR AERO Rojo Vivo 240"},{"$f":"'[1]87-0-14'!E3567","v":"PINTURIC"},{"$f":"'[1]87-0-14'!F3567","v":"PINTURA"},{"$f":"'[1]87-0-14'!G3567*(1+$E$13)","v":3809.962}]
[{"$f":"'[1]87-0-14'!B3568","v":"QS1T"},{"$f":"'[1]87-0-14'!D3568","v":"QUITA SARRO/OXIDO   1 lt"},{"$f":"'[1]87-0-14'!E3568","v":"TF3"},{"$f":"'[1]87-0-14'!F3568","v":"QUITA SARRO"},{"$f":"'[1]87-0-14'!G3568*(1+$E$13)","v":3398.4525000000003}]
[{"$f":"'[1]87-0-14'!B3569","v":"QS12T"},{"$f":"'[1]87-0-14'!D3569","v":"QUITA SARRO/OXIDO  1/2 lt"},{"$f":"'[1]87-0-14'!E3569","v":"TF3"},{"$f":"'[1]87-0-14'!F3569","v":"QUITA SARRO"},{"$f":"'[1]87-0-14'!G3569*(1+$E$13)","v":2401.8490000000002}]
[{"$f":"'[1]87-0-14'!B3570","v":"RM"},{"$f":"'[1]87-0-14'!D3570","v":"RAFIA VERDE 150 X 100mts"},{"$f":"'[1]87-0-14'!E3570","v":"MISA"},{"$f":"'[1]87-0-14'!F3570","v":"RAFIA"},{"$f":"'[1]87-0-14'!G3570*(1+$E$13)","v":223923.91200000001}]
[{"$f":"'[1]87-0-14'!B3571","v":"RSR14F"},{"$f":"'[1]87-0-14'!D3571","v":"RASTRILLO \"SIN\" RIENDA 14"},{"$f":"'[1]87-0-14'!E3571","v":"FERCAS"},{"$f":"'[1]87-0-14'!F3571","v":"RASTR SIN RIENDA"},{"$f":"'[1]87-0-14'!G3571*(1+$E$13)","v":9698.2104999999992}]
[{"$f":"'[1]87-0-14'!B3572","v":"RSR16F"},{"$f":"'[1]87-0-14'!D3572","v":"RASTRILLO \"SIN\" RIENDA 16"},{"$f":"'[1]87-0-14'!E3572","v":"FERCAS"},{"$f":"'[1]87-0-14'!F3572","v":"RASTR SIN RIENDA"},{"$f":"'[1]87-0-14'!G3572*(1+$E$13)","v":10404.855500000001}]
[{"$f":"'[1]87-0-14'!B3573","v":"RCR14F"},{"$f":"'[1]87-0-14'!D3573","v":"RASTRILLO CON RIENDA 14"},{"$f":"'[1]87-0-14'!E3573","v":"FERCAS"},{"$f":"'[1]87-0-14'!F3573","v":"RASTR CON RIENDA"},{"$f":"'[1]87-0-14'!G3573*(1+$E$13)","v":12207.49}]
[{"$f":"'[1]87-0-14'!B3574","v":"RCR16F"},{"$f":"'[1]87-0-14'!D3574","v":"RASTRILLO CON RIENDA 16"},{"$f":"'[1]87-0-14'!E3574","v":"FERCAS"},{"$f":"'[1]87-0-14'!F3574","v":"RASTR CON RIENDA"},{"$f":"'[1]87-0-14'!G3574*(1+$E$13)","v":13079.954000000002}]
[{"$f":"'[1]87-0-14'!B3575","v":"RCR18F"},{"$f":"'[1]87-0-14'!D3575","v":"RASTRILLO CON RIENDA 18"},{"$f":"'[1]87-0-14'!E3575","v":"FERCAS"},{"$f":"'[1]87-0-14'!F3575","v":"RASTR CON RIENDA"},{"$f":"'[1]87-0-14'!G3575*(1+$E$13)","v":13995.694}]
[{"$f":"'[1]87-0-14'!B3576","v":"RAV"},{"$f":"'[1]87-0-14'!D3576","v":"REDUCT ADAPT MANG 1/2a3/4"},{"$f":"'[1]87-0-14'!E3576","v":"VITAL GAS"},{"$f":"'[1]87-0-14'!F3576","v":"RIEGO"},{"$f":"'[1]87-0-14'!G3576*(1+$E$13)","v":1237.086}]
[{"$f":"'[1]87-0-14'!B3577","v":"R2P"},{"$f":"'[1]87-0-14'!D3577","v":"REGUL COM \"2\" METROS"},{"$f":"'[1]87-0-14'!E3577","v":"PAZ"},{"$f":"'[1]87-0-14'!F3577","v":"REGULADOR COMUN"},{"$f":"'[1]87-0-14'!G3577*(1+$E$13)","v":18492.615999999998}]
[{"$f":"'[1]87-0-14'!B3578","v":"R150A"},{"$f":"'[1]87-0-14'!D3578","v":"REGUL MANG #1,50m# *ECON*"},{"$f":"'[1]87-0-14'!E3578","v":"VITAL GAS"},{"$f":"'[1]87-0-14'!F3578","v":"REGULADOR"},{"$f":"'[1]87-0-14'!G3578*(1+$E$13)","v":13531.949500000002}]
[{"$f":"'[1]87-0-14'!B3579","v":"R2A"},{"$f":"'[1]87-0-14'!D3579","v":"REGUL MANG #2 Mts# *ECON*"},{"$f":"'[1]87-0-14'!E3579","v":"VITAL GAS"},{"$f":"'[1]87-0-14'!F3579","v":"REGULADOR"},{"$f":"'[1]87-0-14'!G3579*(1+$E$13)","v":14202.789500000001}]
[{"$f":"'[1]87-0-14'!B3580","v":"R150P"},{"$f":"'[1]87-0-14'!D3580","v":"REGULADOR **1,50mts**"},{"$f":"'[1]87-0-14'!E3580","v":"PAZ"},{"$f":"'[1]87-0-14'!F3580","v":"REGULADOR COMUN"},{"$f":"'[1]87-0-14'!G3580*(1+$E$13)","v":17541.442999999999}]
[{"$f":"'[1]87-0-14'!B3581","v":"RCP"},{"$f":"'[1]87-0-14'!D3581","v":"REGULADOR COMUN"},{"$f":"'[1]87-0-14'!E3581","v":"PAZ"},{"$f":"'[1]87-0-14'!F3581","v":"REGULADOR COMUN"},{"$f":"'[1]87-0-14'!G3581*(1+$E$13)","v":16236.342999999999}]
[{"$f":"'[1]87-0-14'!B3582","v":"RCA"},{"$f":"'[1]87-0-14'!D3582","v":"REGULADOR COMUN *ECONOM*"},{"$f":"'[1]87-0-14'!E3582","v":"VITAL GAS"},{"$f":"'[1]87-0-14'!F3582","v":"REGULADOR"},{"$f":"'[1]87-0-14'!G3582*(1+$E$13)","v":12775.5805}]
[{"$f":"'[1]87-0-14'!B3583","v":"RGNP"},{"$f":"'[1]87-0-14'!D3583","v":"REGULADOR GAS NATUR."},{"$f":"'[1]87-0-14'!E3583","v":"PAZ"},{"$f":"'[1]87-0-14'!F3583","v":"REGULADOR GAS/NAT"},{"$f":"'[1]87-0-14'!G3583*(1+$E$13)","v":87574.535000000003}]
[{"$f":"'[1]87-0-14'!B3584","v":"RSGP"},{"$f":"'[1]87-0-14'!D3584","v":"REGULADOR SUPER-GAS"},{"$f":"'[1]87-0-14'!E3584","v":"PAZ"},{"$f":"'[1]87-0-14'!F3584","v":"REGULADOR SUPER"},{"$f":"'[1]87-0-14'!G3584*(1+$E$13)","v":128629.912}]
[{"$f":"'[1]87-0-14'!B3585","v":"RA9V"},{"$f":"'[1]87-0-14'!D3585","v":"REJILLA ACERO INOXI  9x9"},{"$f":"'[1]87-0-14'!E3585","v":"VITAL GAS"},{"$f":"'[1]87-0-14'!F3585","v":"REJILLA"},{"$f":"'[1]87-0-14'!G3585*(1+$E$13)","v":2555.6554999999998}]
[{"$f":"'[1]87-0-14'!B3586","v":"RA10V"},{"$f":"'[1]87-0-14'!D3586","v":"REJILLA ACERO INOXI 10x10"},{"$f":"'[1]87-0-14'!E3586","v":"VITAL GAS"},{"$f":"'[1]87-0-14'!F3586","v":"REJILLA"},{"$f":"'[1]87-0-14'!G3586*(1+$E$13)","v":2555.6554999999998}]
[{"$f":"'[1]87-0-14'!B3587","v":"RA12V"},{"$f":"'[1]87-0-14'!D3587","v":"REJILLA ACERO INOXI 12x12"},{"$f":"'[1]87-0-14'!E3587","v":"VITAL GAS"},{"$f":"'[1]87-0-14'!F3587","v":"REJILLA"},{"$f":"'[1]87-0-14'!G3587*(1+$E$13)","v":3883.7265000000002}]
[{"$f":"'[1]87-0-14'!B3588","v":"RA15V"},{"$f":"'[1]87-0-14'!D3588","v":"REJILLA ACERO INOXI 15x15"},{"$f":"'[1]87-0-14'!E3588","v":"VITAL GAS"},{"$f":"'[1]87-0-14'!F3588","v":"REJILLA"},{"$f":"'[1]87-0-14'!G3588*(1+$E$13)","v":5243.0455000000002}]
[{"$f":"'[1]87-0-14'!B3589","v":"RA20V"},{"$f":"'[1]87-0-14'!D3589","v":"REJILLA ACERO INOXI 20x20"},{"$f":"'[1]87-0-14'!E3589","v":"VITAL GAS"},{"$f":"'[1]87-0-14'!F3589","v":"REJILLA"},{"$f":"'[1]87-0-14'!G3589*(1+$E$13)","v":6751.7224999999999}]
[{"$f":"'[1]87-0-14'!B3590","v":"RP10V"},{"$f":"'[1]87-0-14'!D3590","v":"REJILLA PLASTIC C/M 10x10"},{"$f":"'[1]87-0-14'!E3590","v":"VITAL GAS"},{"$f":"'[1]87-0-14'!F3590","v":"REJILLA"},{"$f":"'[1]87-0-14'!G3590*(1+$E$13)","v":1385.1110000000001}]
[{"$f":"'[1]87-0-14'!B3591","v":"RP15V"},{"$f":"'[1]87-0-14'!D3591","v":"REJILLA PLASTIC C/M 15X15"},{"$f":"'[1]87-0-14'!E3591","v":"VITAL GAS"},{"$f":"'[1]87-0-14'!F3591","v":"REJILLA"},{"$f":"'[1]87-0-14'!G3591*(1+$E$13)","v":1539.9095}]
[{"$f":"'[1]87-0-14'!B3592","v":"RP20V"},{"$f":"'[1]87-0-14'!D3592","v":"REJILLA PLASTIC C/M 20X20"},{"$f":"'[1]87-0-14'!E3592","v":"VITAL GAS"},{"$f":"'[1]87-0-14'!F3592","v":"REJILLA"},{"$f":"'[1]87-0-14'!G3592*(1+$E$13)","v":2110.2474999999999}]
[{"$f":"'[1]87-0-14'!B3593","v":"R280A"},{"$f":"'[1]87-0-14'!D3593","v":"REMACHADORA AR280"},{"$f":"'[1]87-0-14'!E3593","v":"ARGENRAP"},{"$f":"'[1]87-0-14'!F3593","v":"REMACHADORA"},{"$f":"'[1]87-0-14'!G3593*(1+$E$13)","v":19797.902000000002}]
[{"$f":"'[1]87-0-14'!B3594","v":"RR358A"},{"$f":"'[1]87-0-14'!D3594","v":"REMACHE RAPIDO 3,5 x  8"},{"$f":"'[1]87-0-14'!E3594","v":"ARGENRAP"},{"$f":"'[1]87-0-14'!F3594","v":"REMACHE RAPIDO"},{"$f":"'[1]87-0-14'!G3594*(1+$E$13)","v":18961.274000000001}]
[{"$f":"'[1]87-0-14'!B3595","v":"RR3510A"},{"$f":"'[1]87-0-14'!D3595","v":"REMACHE RAPIDO 3,5 x 10"},{"$f":"'[1]87-0-14'!E3595","v":"ARGENRAP"},{"$f":"'[1]87-0-14'!F3595","v":"REMACHE RAPIDO"},{"$f":"'[1]87-0-14'!G3595*(1+$E$13)","v":19975.764500000001}]
[{"$f":"'[1]87-0-14'!B3596","v":"RR3512A"},{"$f":"'[1]87-0-14'!D3596","v":"REMACHE RAPIDO 3,5 x 12"},{"$f":"'[1]87-0-14'!E3596","v":"ARGENRAP"},{"$f":"'[1]87-0-14'!F3596","v":"REMACHE RAPIDO"},{"$f":"'[1]87-0-14'!G3596*(1+$E$13)","v":21349.529500000001}]
[{"$f":"'[1]87-0-14'!B3597","v":"RR3514A"},{"$f":"'[1]87-0-14'!D3597","v":"REMACHE RAPIDO 3,5 x 14"},{"$f":"'[1]87-0-14'!E3597","v":"ARGENRAP"},{"$f":"'[1]87-0-14'!F3597","v":"REMACHE RAPIDO"},{"$f":"'[1]87-0-14'!G3597*(1+$E$13)","v":22361.4935}]
[{"$f":"'[1]87-0-14'!B3598","v":"RR3516A"},{"$f":"'[1]87-0-14'!D3598","v":"REMACHE RAPIDO 3,5 x 16"},{"$f":"'[1]87-0-14'!E3598","v":"ARGENRAP"},{"$f":"'[1]87-0-14'!F3598","v":"REMACHE RAPIDO"},{"$f":"'[1]87-0-14'!G3598*(1+$E$13)","v":23730.949500000002}]
[{"$f":"'[1]87-0-14'!B3599","v":"RR3519A"},{"$f":"'[1]87-0-14'!D3599","v":"REMACHE RAPIDO 3,5 x 19"},{"$f":"'[1]87-0-14'!E3599","v":"ARGENRAP"},{"$f":"'[1]87-0-14'!F3599","v":"REMACHE RAPIDO"},{"$f":"'[1]87-0-14'!G3599*(1+$E$13)","v":26007.109}]
[{"$f":"'[1]87-0-14'!B3600","v":"RR48A"},{"$f":"'[1]87-0-14'!D3600","v":"REMACHE RAPIDO 4 x  8"},{"$f":"'[1]87-0-14'!E3600","v":"ARGENRAP"},{"$f":"'[1]87-0-14'!F3600","v":"REMACHE RAPIDO"},{"$f":"'[1]87-0-14'!G3600*(1+$E$13)","v":23126.480500000001}]
[{"$f":"'[1]87-0-14'!B3601","v":"RR410A"},{"$f":"'[1]87-0-14'!D3601","v":"REMACHE RAPIDO 4 x 10"},{"$f":"'[1]87-0-14'!E3601","v":"ARGENRAP"},{"$f":"'[1]87-0-14'!F3601","v":"REMACHE RAPIDO"},{"$f":"'[1]87-0-14'!G3601*(1+$E$13)","v":24092.750499999998}]
[{"$f":"'[1]87-0-14'!B3602","v":"RR412A"},{"$f":"'[1]87-0-14'!D3602","v":"REMACHE RAPIDO 4 x 12"},{"$f":"'[1]87-0-14'!E3602","v":"ARGENRAP"},{"$f":"'[1]87-0-14'!F3602","v":"REMACHE RAPIDO"},{"$f":"'[1]87-0-14'!G3602*(1+$E$13)","v":25830.517499999998}]
[{"$f":"'[1]87-0-14'!B3603","v":"RR414A"},{"$f":"'[1]87-0-14'!D3603","v":"REMACHE RAPIDO 4 x 14"},{"$f":"'[1]87-0-14'!E3603","v":"ARGENRAP"},{"$f":"'[1]87-0-14'!F3603","v":"REMACHE RAPIDO"},{"$f":"'[1]87-0-14'!G3603*(1+$E$13)","v":27344.635000000002}]
[{"$f":"'[1]87-0-14'!B3604","v":"RR416A"},{"$f":"'[1]87-0-14'!D3604","v":"REMACHE RAPIDO 4 x 16"},{"$f":"'[1]87-0-14'!E3604","v":"ARGENRAP"},{"$f":"'[1]87-0-14'!F3604","v":"REMACHE RAPIDO"},{"$f":"'[1]87-0-14'!G3604*(1+$E$13)","v":28881.800999999999}]
[{"$f":"'[1]87-0-14'!B3605","v":"RR420A"},{"$f":"'[1]87-0-14'!D3605","v":"REMACHE RAPIDO 4 x 20"},{"$f":"'[1]87-0-14'!E3605","v":"ARGENRAP"},{"$f":"'[1]87-0-14'!F3605","v":"REMACHE RAPIDO"},{"$f":"'[1]87-0-14'!G3605*(1+$E$13)","v":31470.642}]
[{"$f":"'[1]87-0-14'!B3606","v":"RR425A"},{"$f":"'[1]87-0-14'!D3606","v":"REMACHE RAPIDO 4 x 25"},{"$f":"'[1]87-0-14'!E3606","v":"ARGENRAP"},{"$f":"'[1]87-0-14'!F3606","v":"REMACHE RAPIDO"},{"$f":"'[1]87-0-14'!G3606*(1+$E$13)","v":22236.3}]
[{"$f":"'[1]87-0-14'!B3607","v":"RR58A"},{"$f":"'[1]87-0-14'!D3607","v":"REMACHE RAPIDO 5 x  8"},{"$f":"'[1]87-0-14'!E3607","v":"ARGENRAP"},{"$f":"'[1]87-0-14'!F3607","v":"REMACHE RAPIDO"},{"$f":"'[1]87-0-14'!G3607*(1+$E$13)","v":20227.298500000001}]
[{"$f":"'[1]87-0-14'!B3608","v":"RR510A"},{"$f":"'[1]87-0-14'!D3608","v":"REMACHE RAPIDO 5 x 10"},{"$f":"'[1]87-0-14'!E3608","v":"ARGENRAP"},{"$f":"'[1]87-0-14'!F3608","v":"REMACHE RAPIDO"},{"$f":"'[1]87-0-14'!G3608*(1+$E$13)","v":21489.649500000003}]
[{"$f":"'[1]87-0-14'!B3609","v":"RR512A"},{"$f":"'[1]87-0-14'!D3609","v":"REMACHE RAPIDO 5 x 12"},{"$f":"'[1]87-0-14'!E3609","v":"ARGENRAP"},{"$f":"'[1]87-0-14'!F3609","v":"REMACHE RAPIDO"},{"$f":"'[1]87-0-14'!G3609*(1+$E$13)","v":22761.982500000002}]
[{"$f":"'[1]87-0-14'!B3610","v":"RR514A"},{"$f":"'[1]87-0-14'!D3610","v":"REMACHE RAPIDO 5 x 14"},{"$f":"'[1]87-0-14'!E3610","v":"ARGENRAP"},{"$f":"'[1]87-0-14'!F3610","v":"REMACHE RAPIDO"},{"$f":"'[1]87-0-14'!G3610*(1+$E$13)","v":24025.263500000001}]
[{"$f":"'[1]87-0-14'!B3611","v":"RR516A"},{"$f":"'[1]87-0-14'!D3611","v":"REMACHE RAPIDO 5 x 16"},{"$f":"'[1]87-0-14'!E3611","v":"ARGENRAP"},{"$f":"'[1]87-0-14'!F3611","v":"REMACHE RAPIDO"},{"$f":"'[1]87-0-14'!G3611*(1+$E$13)","v":25164.017500000002}]
[{"$f":"'[1]87-0-14'!B3612","v":"RR520A"},{"$f":"'[1]87-0-14'!D3612","v":"REMACHE RAPIDO 5 x 20"},{"$f":"'[1]87-0-14'!E3612","v":"ARGENRAP"},{"$f":"'[1]87-0-14'!F3612","v":"REMACHE RAPIDO"},{"$f":"'[1]87-0-14'!G3612*(1+$E$13)","v":29911.000999999997}]
[{"$f":"'[1]87-0-14'!B3613","v":"RR525A"},{"$f":"'[1]87-0-14'!D3613","v":"REMACHE RAPIDO 5 x 25"},{"$f":"'[1]87-0-14'!E3613","v":"ARGENRAP"},{"$f":"'[1]87-0-14'!F3613","v":"REMACHE RAPIDO"},{"$f":"'[1]87-0-14'!G3613*(1+$E$13)","v":33784.373500000002}]
[{"$f":"'[1]87-0-14'!B3614","v":"RR528A"},{"$f":"'[1]87-0-14'!D3614","v":"REMACHE RAPIDO 5 x 28"},{"$f":"'[1]87-0-14'!E3614","v":"ARGENRAP"},{"$f":"'[1]87-0-14'!F3614","v":"REMACHE RAPIDO"},{"$f":"'[1]87-0-14'!G3614*(1+$E$13)","v":35454.235000000001}]
[{"$f":"'[1]87-0-14'!B3615","v":"RR530A"},{"$f":"'[1]87-0-14'!D3615","v":"REMACHE RAPIDO 5 x 30"},{"$f":"'[1]87-0-14'!E3615","v":"ARGENRAP"},{"$f":"'[1]87-0-14'!F3615","v":"REMACHE RAPIDO"},{"$f":"'[1]87-0-14'!G3615*(1+$E$13)","v":38554.452000000005}]
[{"$f":"'[1]87-0-14'!B3616","v":"RR612A"},{"$f":"'[1]87-0-14'!D3616","v":"REMACHE RAPIDO 6 x 12"},{"$f":"'[1]87-0-14'!E3616","v":"ARGENRAP"},{"$f":"'[1]87-0-14'!F3616","v":"REMACHE RAPIDO"},{"$f":"'[1]87-0-14'!G3616*(1+$E$13)","v":28169.607}]
[{"$f":"'[1]87-0-14'!B3617","v":"RR614A"},{"$f":"'[1]87-0-14'!D3617","v":"REMACHE RAPIDO 6 x 14"},{"$f":"'[1]87-0-14'!E3617","v":"ARGENRAP"},{"$f":"'[1]87-0-14'!F3617","v":"REMACHE RAPIDO"},{"$f":"'[1]87-0-14'!G3617*(1+$E$13)","v":30701.346000000001}]
[{"$f":"'[1]87-0-14'!B3618","v":"RR616A"},{"$f":"'[1]87-0-14'!D3618","v":"REMACHE RAPIDO 6 x 16"},{"$f":"'[1]87-0-14'!E3618","v":"ARGENRAP"},{"$f":"'[1]87-0-14'!F3618","v":"REMACHE RAPIDO"},{"$f":"'[1]87-0-14'!G3618*(1+$E$13)","v":35266.343999999997}]
[{"$f":"'[1]87-0-14'!B3619","v":"RR620A"},{"$f":"'[1]87-0-14'!D3619","v":"REMACHE RAPIDO 6 x 20"},{"$f":"'[1]87-0-14'!E3619","v":"ARGENRAP"},{"$f":"'[1]87-0-14'!F3619","v":"REMACHE RAPIDO"},{"$f":"'[1]87-0-14'!G3619*(1+$E$13)","v":37497.445}]
[{"$f":"'[1]87-0-14'!B3620","v":"RR630A"},{"$f":"'[1]87-0-14'!D3620","v":"REMACHE RAPIDO 6 x 30"},{"$f":"'[1]87-0-14'!E3620","v":"ARGENRAP"},{"$f":"'[1]87-0-14'!F3620","v":"REMACHE RAPIDO"},{"$f":"'[1]87-0-14'!G3620*(1+$E$13)","v":23019.375499999998}]
[{"$f":"'[1]87-0-14'!B3621","v":"R1V"},{"$f":"'[1]87-0-14'!D3621","v":"REMOVEDOR GEL 1 Kg"},{"$f":"'[1]87-0-14'!E3621","v":"VENIER"},{"$f":"'[1]87-0-14'!F3621","v":"REMOVEDOR"},{"$f":"'[1]87-0-14'!G3621*(1+$E$13)","v":21610.069}]
[{"$f":"'[1]87-0-14'!B3622","v":"R4V"},{"$f":"'[1]87-0-14'!D3622","v":"REMOVEDOR GEL 4 Kg"},{"$f":"'[1]87-0-14'!E3622","v":"VENIER"},{"$f":"'[1]87-0-14'!F3622","v":"REMOVEDOR"},{"$f":"'[1]87-0-14'!G3622*(1+$E$13)","v":80287.675000000003}]
[{"$f":"'[1]87-0-14'!B3623","v":"RPEFC"},{"$f":"'[1]87-0-14'!D3623","v":"REP PI/ENCOL FINA  7,5mm"},{"$f":"'[1]87-0-14'!E3623","v":"TF3"},{"$f":"'[1]87-0-14'!F3623","v":"REPUES PIST ENCOL"},{"$f":"'[1]87-0-14'!G3623*(1+$E$13)","v":43919.033000000003}]
[{"$f":"'[1]87-0-14'!B3624","v":"RPEGC"},{"$f":"'[1]87-0-14'!D3624","v":"REP PI/ENCOL GRUESA 11,5m"},{"$f":"'[1]87-0-14'!E3624","v":"TF3"},{"$f":"'[1]87-0-14'!F3624","v":"REPUES PIST ENCOL"},{"$f":"'[1]87-0-14'!G3624*(1+$E$13)","v":32987.627}]
[{"$f":"'[1]87-0-14'!B3625","v":"RM12V"},{"$f":"'[1]87-0-14'!D3625","v":"REPARADOR MANGUERA 1/2"},{"$f":"'[1]87-0-14'!E3625","v":"VITAL GAS"},{"$f":"'[1]87-0-14'!F3625","v":"RIEGO"},{"$f":"'[1]87-0-14'!G3625*(1+$E$13)","v":1524.3630000000001}]
[{"$f":"'[1]87-0-14'!B3626","v":"RM34V"},{"$f":"'[1]87-0-14'!D3626","v":"REPARADOR MANGUERA 3/4"},{"$f":"'[1]87-0-14'!E3626","v":"VITAL GAS"},{"$f":"'[1]87-0-14'!F3626","v":"RIEGO"},{"$f":"'[1]87-0-14'!G3626*(1+$E$13)","v":1995.4079999999999}]
[{"$f":"'[1]87-0-14'!B3627","v":"RM127911"},{"$f":"'[1]87-0-14'!D3627","v":"REPELENTE MOSQUITO 127grs"},{"$f":"'[1]87-0-14'!E3627","v":"911"},{"$f":"'[1]87-0-14'!F3627","v":"REPELENTE"},{"$f":"'[1]87-0-14'!G3627*(1+$E$13)","v":5340.4319999999998}]
[{"$f":"'[1]87-0-14'!B3628","v":"RU26F"},{"$f":"'[1]87-0-14'!D3628","v":"RESINA UREICA 26Kg"},{"$f":"'[1]87-0-14'!E3628","v":"FORTEX"},{"$f":"'[1]87-0-14'!F3628","v":"RESINA"},{"$f":"'[1]87-0-14'!G3628*(1+$E$13)","v":218863.58050000001}]
[{"$f":"'[1]87-0-14'!B3629","v":"RAIV"},{"$f":"'[1]87-0-14'!D3629","v":"RESISTENCIA ACERO INOXIDA"},{"$f":"'[1]87-0-14'!E3629","v":"VITAL GAS"},{"$f":"'[1]87-0-14'!F3629","v":"RESISTENCIA"},{"$f":"'[1]87-0-14'!G3629*(1+$E$13)","v":5281.7645000000002}]
[{"$f":"'[1]87-0-14'!B3630","v":"RAA"},{"$f":"'[1]87-0-14'!D3630","v":"RESISTENCIA ALUMINIO"},{"$f":"'[1]87-0-14'!E3630","v":"VITAL GAS"},{"$f":"'[1]87-0-14'!F3630","v":"RESISTENCIA"},{"$f":"'[1]87-0-14'!G3630*(1+$E$13)","v":4177.0484999999999}]
[{"$f":"'[1]87-0-14'!B3631","v":"RBA"},{"$f":"'[1]87-0-14'!D3631","v":"RESISTENCIA BRONCE"},{"$f":"'[1]87-0-14'!E3631","v":"VITAL GAS"},{"$f":"'[1]87-0-14'!F3631","v":"RESISTENCIA"},{"$f":"'[1]87-0-14'!G3631*(1+$E$13)","v":8015.1430000000009}]
[{"$f":"'[1]87-0-14'!B3632","v":"RPP"},{"$f":"'[1]87-0-14'!D3632","v":"RESPALD CON PANO UNI"},{"$f":"'[1]87-0-14'!E3632","v":"PAINTROLER"},{"$f":"'[1]87-0-14'!F3632","v":"RESPALDO CON PAÑO"},{"$f":"'[1]87-0-14'!G3632*(1+$E$13)","v":5748.3609999999999}]
[{"$f":"'[1]87-0-14'!B3633","v":"RN115H"},{"$f":"'[1]87-0-14'!D3633","v":"RESPALDO NYLON M/ELEC 115"},{"$f":"'[1]87-0-14'!E3633","v":"HUNTER"},{"$f":"'[1]87-0-14'!F3633","v":"RESPALDO NYLON"},{"$f":"'[1]87-0-14'!G3633*(1+$E$13)","v":70.587000000000003}]
[{"$f":"'[1]87-0-14'!B3634","v":"RN180H"},{"$f":"'[1]87-0-14'!D3634","v":"RESPALDO NYLON M/ELEC 180"},{"$f":"'[1]87-0-14'!E3634","v":"HUNTER"},{"$f":"'[1]87-0-14'!F3634","v":"RESPALDO NYLON"},{"$f":"'[1]87-0-14'!G3634*(1+$E$13)","v":74.384500000000003}]
[{"$f":"'[1]87-0-14'!B3635","v":"RP1EE"},{"$f":"'[1]87-0-14'!D3635","v":"RETEN POSTIGO N 1  90 (12"},{"$f":"'[1]87-0-14'!E3635","v":"ELESCUERZO"},{"$f":"'[1]87-0-14'!F3635","v":"RETEN"},{"$f":"'[1]87-0-14'!G3635*(1+$E$13)","v":25644.409}]
[{"$f":"'[1]87-0-14'!B3636","v":"RP2EE"},{"$f":"'[1]87-0-14'!D3636","v":"RETEN POSTIGO N 2 120 (12"},{"$f":"'[1]87-0-14'!E3636","v":"ELESCUERZO"},{"$f":"'[1]87-0-14'!F3636","v":"RETEN"},{"$f":"'[1]87-0-14'!G3636*(1+$E$13)","v":28195.027000000002}]
[{"$f":"'[1]87-0-14'!B3637","v":"RP3EE"},{"$f":"'[1]87-0-14'!D3637","v":"RETEN POSTIGO N 3 160 (12"},{"$f":"'[1]87-0-14'!E3637","v":"ELESCUERZO"},{"$f":"'[1]87-0-14'!F3637","v":"RETEN"},{"$f":"'[1]87-0-14'!G3637*(1+$E$13)","v":33170.620000000003}]
[{"$f":"'[1]87-0-14'!B3638","v":"RPA4P"},{"$f":"'[1]87-0-14'!D3638","v":"REVEST PISCINA B/AGUA  4l"},{"$f":"'[1]87-0-14'!E3638","v":"PREMIER"},{"$f":"'[1]87-0-14'!F3638","v":"PISCINA"},{"$f":"'[1]87-0-14'!G3638*(1+$E$13)","v":46265.981}]
[{"$f":"'[1]87-0-14'!B3639","v":"RPA20P"},{"$f":"'[1]87-0-14'!D3639","v":"REVEST PISCINA B/AGUA 20l"},{"$f":"'[1]87-0-14'!E3639","v":"PREMIER"},{"$f":"'[1]87-0-14'!F3639","v":"PISCINA"},{"$f":"'[1]87-0-14'!G3639*(1+$E$13)","v":216793.91200000001}]
[{"$f":"'[1]87-0-14'!B3640","v":"RPC4P"},{"$f":"'[1]87-0-14'!D3640","v":"REVEST PISCINA CAUCHO  4l"},{"$f":"'[1]87-0-14'!E3640","v":"PREMIER"},{"$f":"'[1]87-0-14'!F3640","v":"PISCINA"},{"$f":"'[1]87-0-14'!G3640*(1+$E$13)","v":114585.6565}]
[{"$f":"'[1]87-0-14'!B3641","v":"RPC20P"},{"$f":"'[1]87-0-14'!D3641","v":"REVEST PISCINA CAUCHO 20l"},{"$f":"'[1]87-0-14'!E3641","v":"PREMIER"},{"$f":"'[1]87-0-14'!F3641","v":"PISCINA"},{"$f":"'[1]87-0-14'!G3641*(1+$E$13)","v":562405.68900000001}]
[{"$f":"'[1]87-0-14'!B3642","v":"RMB1SC"},{"$f":"'[1]87-0-14'!D3642","v":"RIEL MENSULA BLANCO 1,0mt"},{"$f":"'[1]87-0-14'!E3642","v":"SC"},{"$f":"'[1]87-0-14'!F3642","v":"RIEL MENSULA"},{"$f":"'[1]87-0-14'!G3642*(1+$E$13)","v":7273.2199999999993}]
[{"$f":"'[1]87-0-14'!B3643","v":"RMB150S"},{"$f":"'[1]87-0-14'!D3643","v":"RIEL MENSULA BLANCO 1,50m"},{"$f":"'[1]87-0-14'!E3643","v":"SC"},{"$f":"'[1]87-0-14'!F3643","v":"RIEL MENSULA"},{"$f":"'[1]87-0-14'!G3643*(1+$E$13)","v":11216.497499999999}]
[{"$f":"'[1]87-0-14'!B3644","v":"RMB2SC"},{"$f":"'[1]87-0-14'!D3644","v":"RIEL MENSULA BLANCO 2,0mt"},{"$f":"'[1]87-0-14'!E3644","v":"SC"},{"$f":"'[1]87-0-14'!F3644","v":"RIEL MENSULA"},{"$f":"'[1]87-0-14'!G3644*(1+$E$13)","v":14962.196500000002}]
[{"$f":"'[1]87-0-14'!B3645","v":"RMB250SC"},{"$f":"'[1]87-0-14'!D3645","v":"RIEL MENSULA BLANCO 2,50m"},{"$f":"'[1]87-0-14'!E3645","v":"SC"},{"$f":"'[1]87-0-14'!F3645","v":"RIEL MENSULA"},{"$f":"'[1]87-0-14'!G3645*(1+$E$13)","v":18844.744999999999}]
[{"$f":"'[1]87-0-14'!B3646","v":"RMG1SC"},{"$f":"'[1]87-0-14'!D3646","v":"RIEL MENSULA GRIS  1,00mt"},{"$f":"'[1]87-0-14'!E3646","v":"SC"},{"$f":"'[1]87-0-14'!F3646","v":"RIEL MENSULA"},{"$f":"'[1]87-0-14'!G3646*(1+$E$13)","v":8034.7660000000005}]
[{"$f":"'[1]87-0-14'!B3647","v":"RMG150SC"},{"$f":"'[1]87-0-14'!D3647","v":"RIEL MENSULA GRIS  1,50mt"},{"$f":"'[1]87-0-14'!E3647","v":"SC"},{"$f":"'[1]87-0-14'!F3647","v":"RIEL MENSULA"},{"$f":"'[1]87-0-14'!G3647*(1+$E$13)","v":12056.039500000001}]
[{"$f":"'[1]87-0-14'!B3648","v":"RMG2SC"},{"$f":"'[1]87-0-14'!D3648","v":"RIEL MENSULA GRIS  2,00mt"},{"$f":"'[1]87-0-14'!E3648","v":"SC"},{"$f":"'[1]87-0-14'!F3648","v":"RIEL MENSULA"},{"$f":"'[1]87-0-14'!G3648*(1+$E$13)","v":16135.128000000001}]
[{"$f":"'[1]87-0-14'!B3649","v":"RMG250SC"},{"$f":"'[1]87-0-14'!D3649","v":"RIEL MENSULA GRIS  2,50mt"},{"$f":"'[1]87-0-14'!E3649","v":"SC"},{"$f":"'[1]87-0-14'!F3649","v":"RIEL MENSULA"},{"$f":"'[1]87-0-14'!G3649*(1+$E$13)","v":21362.844000000001}]
[{"$f":"'[1]87-0-14'!B3650","v":"RMN1SC"},{"$f":"'[1]87-0-14'!D3650","v":"RIEL MENSULA NEGRO 1,00mt"},{"$f":"'[1]87-0-14'!E3650","v":"SC"},{"$f":"'[1]87-0-14'!F3650","v":"RIEL MENSULA"},{"$f":"'[1]87-0-14'!G3650*(1+$E$13)","v":7273.2199999999993}]
[{"$f":"'[1]87-0-14'!B3651","v":"RMN150SC"},{"$f":"'[1]87-0-14'!D3651","v":"RIEL MENSULA NEGRO 1,50mt"},{"$f":"'[1]87-0-14'!E3651","v":"SC"},{"$f":"'[1]87-0-14'!F3651","v":"RIEL MENSULA"},{"$f":"'[1]87-0-14'!G3651*(1+$E$13)","v":11216.497499999999}]
[{"$f":"'[1]87-0-14'!B3652","v":"RMN2SC"},{"$f":"'[1]87-0-14'!D3652","v":"RIEL MENSULA NEGRO 2,00mt"},{"$f":"'[1]87-0-14'!E3652","v":"SC"},{"$f":"'[1]87-0-14'!F3652","v":"RIEL MENSULA"},{"$f":"'[1]87-0-14'!G3652*(1+$E$13)","v":14962.196500000002}]
[{"$f":"'[1]87-0-14'!B3653","v":"RMN250SC"},{"$f":"'[1]87-0-14'!D3653","v":"RIEL MENSULA NEGRO 2,50mt"},{"$f":"'[1]87-0-14'!E3653","v":"SC"},{"$f":"'[1]87-0-14'!F3653","v":"RIEL MENSULA"},{"$f":"'[1]87-0-14'!G3653*(1+$E$13)","v":18844.744999999999}]
[{"$f":"'[1]87-0-14'!B3654","v":"RBT3V"},{"$f":"'[1]87-0-14'!D3654","v":"ROCIA B/TRINEO 3 BRAZOS"},{"$f":"'[1]87-0-14'!E3654","v":"VITAL GAS"},{"$f":"'[1]87-0-14'!F3654","v":"RIEGO"},{"$f":"'[1]87-0-14'!G3654*(1+$E$13)","v":13226.584000000001}]
[{"$f":"'[1]87-0-14'!B3655","v":"RJ3V"},{"$f":"'[1]87-0-14'!D3655","v":"ROCIA BAS/JABALINA 3 BRAZ"},{"$f":"'[1]87-0-14'!E3655","v":"VITAL GAS"},{"$f":"'[1]87-0-14'!F3655","v":"RIEGO"},{"$f":"'[1]87-0-14'!G3655*(1+$E$13)","v":7926.0645000000004}]
[{"$f":"'[1]87-0-14'!B3656","v":"RLS17"},{"$f":"'[1]87-0-14'!D3656","v":"ROD. LANA SINT.17"},{"$f":"'[1]87-0-14'!E3656","v":"PAINTROLER"},{"$f":"'[1]87-0-14'!F3656","v":"ROD. LANA SINT."},{"$f":"'[1]87-0-14'!G3656*(1+$E$13)","v":3119.4679999999998}]
[{"$f":"'[1]87-0-14'!B3657","v":"RLS22"},{"$f":"'[1]87-0-14'!D3657","v":"ROD. LANA SINT.22"},{"$f":"'[1]87-0-14'!E3657","v":"PAINTROLER"},{"$f":"'[1]87-0-14'!F3657","v":"ROD. LANA SINT."},{"$f":"'[1]87-0-14'!G3657*(1+$E$13)","v":3388.2534999999998}]
[{"$f":"'[1]87-0-14'!B3658","v":"RP17"},{"$f":"'[1]87-0-14'!D3658","v":"ROD. POLIESTER 17"},{"$f":"'[1]87-0-14'!E3658","v":"PAINTROLER"},{"$f":"'[1]87-0-14'!F3658","v":"RODIL. POLIESTER"},{"$f":"'[1]87-0-14'!G3658*(1+$E$13)","v":2905.4749999999999}]
[{"$f":"'[1]87-0-14'!B3659","v":"RP22"},{"$f":"'[1]87-0-14'!D3659","v":"ROD. POLIESTER 22"},{"$f":"'[1]87-0-14'!E3659","v":"PAINTROLER"},{"$f":"'[1]87-0-14'!F3659","v":"RODIL. POLIESTER"},{"$f":"'[1]87-0-14'!G3659*(1+$E$13)","v":3161.8915000000002}]
[{"$f":"'[1]87-0-14'!B3660","v":"R50LN10P"},{"$f":"'[1]87-0-14'!D3660","v":"RODI 50diam LANA NATUR 10"},{"$f":"'[1]87-0-14'!E3660","v":"PAINTROLER"},{"$f":"'[1]87-0-14'!F3660","v":"ROD. LANA NATURAL"},{"$f":"'[1]87-0-14'!G3660*(1+$E$13)","v":2620.7710000000002}]
[{"$f":"'[1]87-0-14'!B3661","v":"R50LN17P"},{"$f":"'[1]87-0-14'!D3661","v":"RODI 50diam LANA NATUR 17"},{"$f":"'[1]87-0-14'!E3661","v":"PAINTROLER"},{"$f":"'[1]87-0-14'!F3661","v":"ROD. LANA NATURAL"},{"$f":"'[1]87-0-14'!G3661*(1+$E$13)","v":3504.9684999999999}]
[{"$f":"'[1]87-0-14'!B3662","v":"R50LN22P"},{"$f":"'[1]87-0-14'!D3662","v":"RODI 50diam LANA NATUR 22"},{"$f":"'[1]87-0-14'!E3662","v":"PAINTROLER"},{"$f":"'[1]87-0-14'!F3662","v":"ROD. LANA NATURAL"},{"$f":"'[1]87-0-14'!G3662*(1+$E$13)","v":3840.962}]
[{"$f":"'[1]87-0-14'!B3663","v":"RE17P"},{"$f":"'[1]87-0-14'!D3663","v":"RODILLO EPOXI 17cm"},{"$f":"'[1]87-0-14'!E3663","v":"PAINTROLER"},{"$f":"'[1]87-0-14'!F3663","v":"ROD. EPOXI"},{"$f":"'[1]87-0-14'!G3663*(1+$E$13)","v":2988.6015000000002}]
[{"$f":"'[1]87-0-14'!B3664","v":"RE22P"},{"$f":"'[1]87-0-14'!D3664","v":"RODILLO EPOXI 22cm"},{"$f":"'[1]87-0-14'!E3664","v":"PAINTROLER"},{"$f":"'[1]87-0-14'!F3664","v":"ROD. EPOXI"},{"$f":"'[1]87-0-14'!G3664*(1+$E$13)","v":3359.9659999999999}]
[{"$f":"'[1]87-0-14'!B3665","v":"RA17P"},{"$f":"'[1]87-0-14'!D3665","v":"RODILLO LANA ANTIGOTA 17c"},{"$f":"'[1]87-0-14'!E3665","v":"PAINTROLER"},{"$f":"'[1]87-0-14'!F3665","v":"ROD. LANA NATURAL"},{"$f":"'[1]87-0-14'!G3665*(1+$E$13)","v":3222.0315000000001}]
[{"$f":"'[1]87-0-14'!B3666","v":"RA22P"},{"$f":"'[1]87-0-14'!D3666","v":"RODILLO LANA ANTIGOTA 22c"},{"$f":"'[1]87-0-14'!E3666","v":"PAINTROLER"},{"$f":"'[1]87-0-14'!F3666","v":"ROD. LANA NATURAL"},{"$f":"'[1]87-0-14'!G3666*(1+$E$13)","v":3591.6289999999999}]
[{"$f":"'[1]87-0-14'!B3667","v":"RLN10P"},{"$f":"'[1]87-0-14'!D3667","v":"RODILLO LANA NATURAL 10cm"},{"$f":"'[1]87-0-14'!E3667","v":"PAINTROLER"},{"$f":"'[1]87-0-14'!F3667","v":"ROD. LANA NATURAL"},{"$f":"'[1]87-0-14'!G3667*(1+$E$13)","v":2472.2190000000001}]
[{"$f":"'[1]87-0-14'!B3668","v":"RLN17"},{"$f":"'[1]87-0-14'!D3668","v":"RODILLO LANA NATURAL 17cm"},{"$f":"'[1]87-0-14'!E3668","v":"PAINTROLER"},{"$f":"'[1]87-0-14'!F3668","v":"ROD. LANA NATURAL"},{"$f":"'[1]87-0-14'!G3668*(1+$E$13)","v":3232.6335000000004}]
[{"$f":"'[1]87-0-14'!B3669","v":"RLN22"},{"$f":"'[1]87-0-14'!D3669","v":"RODILLO LANA NATURAL 22cm"},{"$f":"'[1]87-0-14'!E3669","v":"PAINTROLER"},{"$f":"'[1]87-0-14'!F3669","v":"ROD. LANA NATURAL"},{"$f":"'[1]87-0-14'!G3669*(1+$E$13)","v":3538.5724999999998}]
[{"$f":"'[1]87-0-14'!B3670","v":"RF"},{"$f":"'[1]87-0-14'!D3670","v":"RODILLO MAQ. SALPIC."},{"$f":"'[1]87-0-14'!E3670","v":"NEIKE"},{"$f":"'[1]87-0-14'!F3670","v":"RODILLO"},{"$f":"'[1]87-0-14'!G3670*(1+$E$13)","v":6963.9175000000005}]
[{"$f":"'[1]87-0-14'!B3671","v":"R16"},{"$f":"'[1]87-0-14'!D3671","v":"ROLDANA FUNDICION 16cm"},{"$f":"'[1]87-0-14'!E3671","v":"TOTH"},{"$f":"'[1]87-0-14'!F3671","v":"ROLDANA"},{"$f":"'[1]87-0-14'!G3671*(1+$E$13)","v":22680.746999999999}]
[{"$f":"'[1]87-0-14'!B3672","v":"R18"},{"$f":"'[1]87-0-14'!D3672","v":"ROLDANA FUNDICION 18cm"},{"$f":"'[1]87-0-14'!E3672","v":"TOTH"},{"$f":"'[1]87-0-14'!F3672","v":"ROLDANA"},{"$f":"'[1]87-0-14'!G3672*(1+$E$13)","v":25304.989999999998}]
[{"$f":"'[1]87-0-14'!B3673","v":"R20"},{"$f":"'[1]87-0-14'!D3673","v":"ROLDANA FUNDICION 20cm"},{"$f":"'[1]87-0-14'!E3673","v":"TOTH"},{"$f":"'[1]87-0-14'!F3673","v":"ROLDANA"},{"$f":"'[1]87-0-14'!G3673*(1+$E$13)","v":31601.864999999998}]
[{"$f":"'[1]87-0-14'!B3674","v":"R1251960"},{"$f":"'[1]87-0-14'!D3674","v":"RUEDA RECTA 125x19x19 g60"},{"$f":"'[1]87-0-14'!E3674","v":"TYROLIT"},{"$f":"'[1]87-0-14'!F3674","v":"RUEDA RECTA"},{"$f":"'[1]87-0-14'!G3674*(1+$E$13)","v":37767.981999999996}]
[{"$f":"'[1]87-0-14'!B3675","v":"R1501936"},{"$f":"'[1]87-0-14'!D3675","v":"RUEDA RECTA 150x19x19 g36"},{"$f":"'[1]87-0-14'!E3675","v":"TYROLIT"},{"$f":"'[1]87-0-14'!F3675","v":"RUEDA RECTA"},{"$f":"'[1]87-0-14'!G3675*(1+$E$13)","v":41720.544000000002}]
[{"$f":"'[1]87-0-14'!B3676","v":"R1501960"},{"$f":"'[1]87-0-14'!D3676","v":"RUEDA RECTA 150x19x19 g60"},{"$f":"'[1]87-0-14'!E3676","v":"TYROLIT"},{"$f":"'[1]87-0-14'!F3676","v":"RUEDA RECTA"},{"$f":"'[1]87-0-14'!G3676*(1+$E$13)","v":41720.544000000002}]
[{"$f":"'[1]87-0-14'!B3677","v":"R1501980"},{"$f":"'[1]87-0-14'!D3677","v":"RUEDA RECTA 150x19x19 g80"},{"$f":"'[1]87-0-14'!E3677","v":"TYROLIT"},{"$f":"'[1]87-0-14'!F3677","v":"RUEDA RECTA"},{"$f":"'[1]87-0-14'!G3677*(1+$E$13)","v":41720.544000000002}]
[{"$f":"'[1]87-0-14'!B3678","v":"R1502546"},{"$f":"'[1]87-0-14'!D3678","v":"RUEDA RECTA 150x25x19 g46"},{"$f":"'[1]87-0-14'!E3678","v":"TYROLIT"},{"$f":"'[1]87-0-14'!F3678","v":"RUEDA RECTA"},{"$f":"'[1]87-0-14'!G3678*(1+$E$13)","v":47412.779499999997}]
[{"$f":"'[1]87-0-14'!B3679","v":"R1751960"},{"$f":"'[1]87-0-14'!D3679","v":"RUEDA RECTA 175x19x19 g60"},{"$f":"'[1]87-0-14'!E3679","v":"TYROLIT"},{"$f":"'[1]87-0-14'!F3679","v":"RUEDA RECTA"},{"$f":"'[1]87-0-14'!G3679*(1+$E$13)","v":50799.792999999998}]
[{"$f":"'[1]87-0-14'!B3680","v":"R1751980"},{"$f":"'[1]87-0-14'!D3680","v":"RUEDA RECTA 175x19x19 g80"},{"$f":"'[1]87-0-14'!E3680","v":"TYROLIT"},{"$f":"'[1]87-0-14'!F3680","v":"RUEDA RECTA"},{"$f":"'[1]87-0-14'!G3680*(1+$E$13)","v":50799.792999999998}]
[{"$f":"'[1]87-0-14'!B3681","v":"R2001960"},{"$f":"'[1]87-0-14'!D3681","v":"RUEDA RECTA 200X19X19 g60"},{"$f":"'[1]87-0-14'!E3681","v":"TYROLIT"},{"$f":"'[1]87-0-14'!F3681","v":"RUEDA RECTA"},{"$f":"'[1]87-0-14'!G3681*(1+$E$13)","v":68651.05}]
[{"$f":"'[1]87-0-14'!B3682","v":"SK"},{"$f":"'[1]87-0-14'!D3682","v":"S.O.S. STOP FIRE 285ml"},{"$f":"'[1]87-0-14'!E3682","v":"KUWAIT"},{"$f":"'[1]87-0-14'!F3682","v":"S.O.S."},{"$f":"'[1]87-0-14'!G3682*(1+$E$13)","v":16864.480500000001}]
[{"$f":"'[1]87-0-14'!B3683","v":"SBB10015"},{"$f":"'[1]87-0-14'!D3683","v":"S/BRACKE BCO 100x150"},{"$f":"'[1]87-0-14'!E3683","v":"SC"},{"$f":"'[1]87-0-14'!F3683","v":"SOPORTE BRACKET"},{"$f":"'[1]87-0-14'!G3683*(1+$E$13)","v":33303.718500000003}]
[{"$f":"'[1]87-0-14'!B3684","v":"SBB15020"},{"$f":"'[1]87-0-14'!D3684","v":"S/BRACKE BCO 150x200"},{"$f":"'[1]87-0-14'!E3684","v":"SC"},{"$f":"'[1]87-0-14'!F3684","v":"SOPORTE BRACKET"},{"$f":"'[1]87-0-14'!G3684*(1+$E$13)","v":47989.999500000005}]
[{"$f":"'[1]87-0-14'!B3685","v":"SBB20025"},{"$f":"'[1]87-0-14'!D3685","v":"S/BRACKE BCO 200x250"},{"$f":"'[1]87-0-14'!E3685","v":"SC"},{"$f":"'[1]87-0-14'!F3685","v":"SOPORTE BRACKET"},{"$f":"'[1]87-0-14'!G3685*(1+$E$13)","v":59166.801499999994}]
[{"$f":"'[1]87-0-14'!B3686","v":"SBB25030"},{"$f":"'[1]87-0-14'!D3686","v":"S/BRACKE BCO 250x300"},{"$f":"'[1]87-0-14'!E3686","v":"SC"},{"$f":"'[1]87-0-14'!F3686","v":"SOPORTE BRACKET"},{"$f":"'[1]87-0-14'!G3686*(1+$E$13)","v":69648.009999999995}]
[{"$f":"'[1]87-0-14'!B3687","v":"SBB25035"},{"$f":"'[1]87-0-14'!D3687","v":"S/BRACKE BCO 250x350"},{"$f":"'[1]87-0-14'!E3687","v":"SC"},{"$f":"'[1]87-0-14'!F3687","v":"SOPORTE BRACKET"},{"$f":"'[1]87-0-14'!G3687*(1+$E$13)","v":75484.271500000003}]
[{"$f":"'[1]87-0-14'!B3688","v":"SBN10015"},{"$f":"'[1]87-0-14'!D3688","v":"S/BRACKE NEG 100x150"},{"$f":"'[1]87-0-14'!E3688","v":"SC"},{"$f":"'[1]87-0-14'!F3688","v":"SOPORTE BRACKET"},{"$f":"'[1]87-0-14'!G3688*(1+$E$13)","v":33303.718500000003}]
[{"$f":"'[1]87-0-14'!B3689","v":"SBN15020"},{"$f":"'[1]87-0-14'!D3689","v":"S/BRACKE NEG 150x200"},{"$f":"'[1]87-0-14'!E3689","v":"SC"},{"$f":"'[1]87-0-14'!F3689","v":"SOPORTE BRACKET"},{"$f":"'[1]87-0-14'!G3689*(1+$E$13)","v":47989.999500000005}]
[{"$f":"'[1]87-0-14'!B3690","v":"SBN20025"},{"$f":"'[1]87-0-14'!D3690","v":"S/BRACKE NEG 200x250"},{"$f":"'[1]87-0-14'!E3690","v":"SC"},{"$f":"'[1]87-0-14'!F3690","v":"SOPORTE BRACKET"},{"$f":"'[1]87-0-14'!G3690*(1+$E$13)","v":59166.801499999994}]
[{"$f":"'[1]87-0-14'!B3691","v":"SBN25030"},{"$f":"'[1]87-0-14'!D3691","v":"S/BRACKE NEG 250x300"},{"$f":"'[1]87-0-14'!E3691","v":"SC"},{"$f":"'[1]87-0-14'!F3691","v":"SOPORTE BRACKET"},{"$f":"'[1]87-0-14'!G3691*(1+$E$13)","v":69648.009999999995}]
[{"$f":"'[1]87-0-14'!B3692","v":"SBN25035"},{"$f":"'[1]87-0-14'!D3692","v":"S/BRACKE NEG 250x350"},{"$f":"'[1]87-0-14'!E3692","v":"SC"},{"$f":"'[1]87-0-14'!F3692","v":"SOPORTE BRACKET"},{"$f":"'[1]87-0-14'!G3692*(1+$E$13)","v":75484.271500000003}]
[{"$f":"'[1]87-0-14'!B3693","v":"S1V"},{"$f":"'[1]87-0-14'!D3693","v":"SAL DE LIMON GEL 1 L"},{"$f":"'[1]87-0-14'!E3693","v":"VENIER"},{"$f":"'[1]87-0-14'!F3693","v":"SAL DE LIMON"},{"$f":"'[1]87-0-14'!G3693*(1+$E$13)","v":9363.7980000000007}]
[{"$f":"'[1]87-0-14'!B3694","v":"SRV"},{"$f":"'[1]87-0-14'!D3694","v":"SAPITO REGADOR"},{"$f":"'[1]87-0-14'!E3694","v":"VITAL GAS"},{"$f":"'[1]87-0-14'!F3694","v":"SAPITO"},{"$f":"'[1]87-0-14'!G3694*(1+$E$13)","v":1193.8565000000001}]
[{"$f":"'[1]87-0-14'!B3695","v":"SSB50F"},{"$f":"'[1]87-0-14'!D3695","v":"SEL SILIC Blanco 50g"},{"$f":"'[1]87-0-14'!E3695","v":"FORTEX"},{"$f":"'[1]87-0-14'!F3695","v":"SELLADOR SILICONA"},{"$f":"'[1]87-0-14'!G3695*(1+$E$13)","v":2856.0920000000001}]
[{"$f":"'[1]87-0-14'!B3696","v":"SSN300F"},{"$f":"'[1]87-0-14'!D3696","v":"SEL SILIC Negro 300g"},{"$f":"'[1]87-0-14'!E3696","v":"FORTEX"},{"$f":"'[1]87-0-14'!F3696","v":"SELLADOR SILICONA"},{"$f":"'[1]87-0-14'!G3696*(1+$E$13)","v":11673.127500000001}]
[{"$f":"'[1]87-0-14'!B3697","v":"SSN50F"},{"$f":"'[1]87-0-14'!D3697","v":"SEL SILICO Negro 50g"},{"$f":"'[1]87-0-14'!E3697","v":"FORTEX"},{"$f":"'[1]87-0-14'!F3697","v":"SELLADOR SILICONA"},{"$f":"'[1]87-0-14'!G3697*(1+$E$13)","v":2856.0920000000001}]
[{"$f":"'[1]87-0-14'!B3698","v":"SSB300F"},{"$f":"'[1]87-0-14'!D3698","v":"SELL SIL Blanco 300g"},{"$f":"'[1]87-0-14'!E3698","v":"FORTEX"},{"$f":"'[1]87-0-14'!F3698","v":"SELLADOR SILICONA"},{"$f":"'[1]87-0-14'!G3698*(1+$E$13)","v":11673.127500000001}]
[{"$f":"'[1]87-0-14'!B3699","v":"SST300F"},{"$f":"'[1]87-0-14'!D3699","v":"SELL SIL Transp 300g"},{"$f":"'[1]87-0-14'!E3699","v":"FORTEX"},{"$f":"'[1]87-0-14'!F3699","v":"SELLADOR SILICONA"},{"$f":"'[1]87-0-14'!G3699*(1+$E$13)","v":11673.127500000001}]
[{"$f":"'[1]87-0-14'!B3700","v":"SST50F"},{"$f":"'[1]87-0-14'!D3700","v":"SELL SILI Transp 50g"},{"$f":"'[1]87-0-14'!E3700","v":"FORTEX"},{"$f":"'[1]87-0-14'!F3700","v":"SELLADOR SILICONA"},{"$f":"'[1]87-0-14'!G3700*(1+$E$13)","v":2856.0920000000001}]
[{"$f":"'[1]87-0-14'!B3701","v":"SN300F"},{"$f":"'[1]87-0-14'!D3701","v":"SELL. SILICON NEUTRO"},{"$f":"'[1]87-0-14'!E3701","v":"FORTEX"},{"$f":"'[1]87-0-14'!F3701","v":"SELLADOR SILICONA"},{"$f":"'[1]87-0-14'!G3701*(1+$E$13)","v":14215.0345}]
[{"$f":"'[1]87-0-14'!B3702","v":"SPBD"},{"$f":"'[1]87-0-14'!D3702","v":"SELLAD POLIURETANO BLANCO"},{"$f":"'[1]87-0-14'!E3702","v":"DOBLE A"},{"$f":"'[1]87-0-14'!F3702","v":"SELLADOR"},{"$f":"'[1]87-0-14'!G3702*(1+$E$13)","v":15635.5785}]
[{"$f":"'[1]87-0-14'!B3703","v":"SR25T"},{"$f":"'[1]87-0-14'!D3703","v":"SELLADOR DE ROSCA 25"},{"$f":"'[1]87-0-14'!E3703","v":"TF3"},{"$f":"'[1]87-0-14'!F3703","v":"SELLADOR DE ROSCA"},{"$f":"'[1]87-0-14'!G3703*(1+$E$13)","v":1952.7984999999999}]
[{"$f":"'[1]87-0-14'!B3704","v":"SR25D"},{"$f":"'[1]87-0-14'!D3704","v":"SELLADOR ROSCAS 25gr"},{"$f":"'[1]87-0-14'!E3704","v":"DUKE"},{"$f":"'[1]87-0-14'!F3704","v":"SELLADOR ROSCAS"},{"$f":"'[1]87-0-14'!G3704*(1+$E$13)","v":6369.0585000000001}]
[{"$f":"'[1]87-0-14'!B3705","v":"SR90D"},{"$f":"'[1]87-0-14'!D3705","v":"SELLADOR ROSCAS 90gr"},{"$f":"'[1]87-0-14'!E3705","v":"DUKE"},{"$f":"'[1]87-0-14'!F3705","v":"SELLADOR ROSCAS"},{"$f":"'[1]87-0-14'!G3705*(1+$E$13)","v":10506.551000000001}]
[{"$f":"'[1]87-0-14'!B3706","v":"ST25T"},{"$f":"'[1]87-0-14'!D3706","v":"SELLADOR SILIC TRANS 25cc"},{"$f":"'[1]87-0-14'!E3706","v":"TF3"},{"$f":"'[1]87-0-14'!F3706","v":"SELLADOR SILICONA"},{"$f":"'[1]87-0-14'!G3706*(1+$E$13)","v":2388.0075000000002}]
[{"$f":"'[1]87-0-14'!B3707","v":"STR"},{"$f":"'[1]87-0-14'!D3707","v":"SELLADOR TRANSPARENTE 280"},{"$f":"'[1]87-0-14'!E3707","v":"RAPTOR"},{"$f":"'[1]87-0-14'!F3707","v":"SELLADOR"},{"$f":"'[1]87-0-14'!G3707*(1+$E$13)","v":4519.0560000000005}]
[{"$f":"'[1]87-0-14'!B3708","v":"ST2C"},{"$f":"'[1]87-0-14'!D3708","v":"SEPARADOR *T*  2,00mm"},{"$f":"'[1]87-0-14'!E3708","v":"CRECCHIO"},{"$f":"'[1]87-0-14'!F3708","v":"SEPARADOR"},{"$f":"'[1]87-0-14'!G3708*(1+$E$13)","v":2322.8765000000003}]
[{"$f":"'[1]87-0-14'!B3709","v":"ST11C"},{"$f":"'[1]87-0-14'!D3709","v":"SEPARADOR *T* 11,00mm"},{"$f":"'[1]87-0-14'!E3709","v":"CRECCHIO"},{"$f":"'[1]87-0-14'!F3709","v":"SEPARADOR"},{"$f":"'[1]87-0-14'!G3709*(1+$E$13)","v":1599.1970000000001}]
[{"$f":"'[1]87-0-14'!B3710","v":"ST15C"},{"$f":"'[1]87-0-14'!D3710","v":"SEPARADOR *T* 15,00mm"},{"$f":"'[1]87-0-14'!E3710","v":"CRECCHIO"},{"$f":"'[1]87-0-14'!F3710","v":"SEPARADOR"},{"$f":"'[1]87-0-14'!G3710*(1+$E$13)","v":1599.1970000000001}]
[{"$f":"'[1]87-0-14'!B3711","v":"SC15C"},{"$f":"'[1]87-0-14'!D3711","v":"SEPARADOR CRUZ 1,50mm"},{"$f":"'[1]87-0-14'!E3711","v":"CRECCHIO"},{"$f":"'[1]87-0-14'!F3711","v":"SEPARADOR"},{"$f":"'[1]87-0-14'!G3711*(1+$E$13)","v":2322.8765000000003}]
[{"$f":"'[1]87-0-14'!B3712","v":"SC2C"},{"$f":"'[1]87-0-14'!D3712","v":"SEPARADOR CRUZ 2,00mm"},{"$f":"'[1]87-0-14'!E3712","v":"CRECCHIO"},{"$f":"'[1]87-0-14'!F3712","v":"SEPARADOR"},{"$f":"'[1]87-0-14'!G3712*(1+$E$13)","v":2322.8765000000003}]
[{"$f":"'[1]87-0-14'!B3713","v":"SC25C"},{"$f":"'[1]87-0-14'!D3713","v":"SEPARADOR CRUZ 2,50mm"},{"$f":"'[1]87-0-14'!E3713","v":"CRECCHIO"},{"$f":"'[1]87-0-14'!F3713","v":"SEPARADOR"},{"$f":"'[1]87-0-14'!G3713*(1+$E$13)","v":2896.8879999999999}]
[{"$f":"'[1]87-0-14'!B3714","v":"SC3C"},{"$f":"'[1]87-0-14'!D3714","v":"SEPARADOR CRUZ 3,00mm"},{"$f":"'[1]87-0-14'!E3714","v":"CRECCHIO"},{"$f":"'[1]87-0-14'!F3714","v":"SEPARADOR"},{"$f":"'[1]87-0-14'!G3714*(1+$E$13)","v":3811.6205000000004}]
[{"$f":"'[1]87-0-14'!B3715","v":"SC4C"},{"$f":"'[1]87-0-14'!D3715","v":"SEPARADOR CRUZ 4,00mm"},{"$f":"'[1]87-0-14'!E3715","v":"CRECCHIO"},{"$f":"'[1]87-0-14'!F3715","v":"SEPARADOR"},{"$f":"'[1]87-0-14'!G3715*(1+$E$13)","v":3976.4940000000001}]
[{"$f":"'[1]87-0-14'!B3716","v":"SC55C"},{"$f":"'[1]87-0-14'!D3716","v":"SEPARADOR CRUZ 5,50mm"},{"$f":"'[1]87-0-14'!E3716","v":"CRECCHIO"},{"$f":"'[1]87-0-14'!F3716","v":"SEPARADOR"},{"$f":"'[1]87-0-14'!G3716*(1+$E$13)","v":2976.2635}]
[{"$f":"'[1]87-0-14'!B3717","v":"SC85C"},{"$f":"'[1]87-0-14'!D3717","v":"SEPARADOR CRUZ 8,50mm"},{"$f":"'[1]87-0-14'!E3717","v":"CRECCHIO"},{"$f":"'[1]87-0-14'!F3717","v":"SEPARADOR"},{"$f":"'[1]87-0-14'!G3717*(1+$E$13)","v":1599.1970000000001}]
[{"$f":"'[1]87-0-14'!B3718","v":"ST45SJ"},{"$f":"'[1]87-0-14'!D3718","v":"SERR. D/TIBURON 45 cm."},{"$f":"'[1]87-0-14'!E3718","v":"STA. JUANA"},{"$f":"'[1]87-0-14'!F3718","v":"SERRUCHO"},{"$f":"'[1]87-0-14'!G3718*(1+$E$13)","v":20211.922500000001}]
[{"$f":"'[1]87-0-14'!B3719","v":"ST50SJ"},{"$f":"'[1]87-0-14'!D3719","v":"SERR. D/TIBURON 50 cm."},{"$f":"'[1]87-0-14'!E3719","v":"STA. JUANA"},{"$f":"'[1]87-0-14'!F3719","v":"SERRUCHO"},{"$f":"'[1]87-0-14'!G3719*(1+$E$13)","v":22016.556499999999}]
[{"$f":"'[1]87-0-14'!B3720","v":"S30"},{"$f":"'[1]87-0-14'!D3720","v":"SERRUCHO 30cm"},{"$f":"'[1]87-0-14'!E3720","v":"STA. JUANA"},{"$f":"'[1]87-0-14'!F3720","v":"SERRUCHO"},{"$f":"'[1]87-0-14'!G3720*(1+$E$13)","v":13842.368}]
[{"$f":"'[1]87-0-14'!B3721","v":"S35"},{"$f":"'[1]87-0-14'!D3721","v":"SERRUCHO 35cm"},{"$f":"'[1]87-0-14'!E3721","v":"STA. JUANA"},{"$f":"'[1]87-0-14'!F3721","v":"SERRUCHO"},{"$f":"'[1]87-0-14'!G3721*(1+$E$13)","v":15084.289999999999}]
[{"$f":"'[1]87-0-14'!B3722","v":"S40"},{"$f":"'[1]87-0-14'!D3722","v":"SERRUCHO 40cm"},{"$f":"'[1]87-0-14'!E3722","v":"STA. JUANA"},{"$f":"'[1]87-0-14'!F3722","v":"SERRUCHO"},{"$f":"'[1]87-0-14'!G3722*(1+$E$13)","v":16901.2775}]
[{"$f":"'[1]87-0-14'!B3723","v":"S45"},{"$f":"'[1]87-0-14'!D3723","v":"SERRUCHO 45cm"},{"$f":"'[1]87-0-14'!E3723","v":"STA. JUANA"},{"$f":"'[1]87-0-14'!F3723","v":"SERRUCHO"},{"$f":"'[1]87-0-14'!G3723*(1+$E$13)","v":17552.649500000003}]
[{"$f":"'[1]87-0-14'!B3724","v":"S50"},{"$f":"'[1]87-0-14'!D3724","v":"SERRUCHO 50cm"},{"$f":"'[1]87-0-14'!E3724","v":"STA. JUANA"},{"$f":"'[1]87-0-14'!F3724","v":"SERRUCHO"},{"$f":"'[1]87-0-14'!G3724*(1+$E$13)","v":19651.2255}]
[{"$f":"'[1]87-0-14'!B3725","v":"S55"},{"$f":"'[1]87-0-14'!D3725","v":"SERRUCHO 55cm"},{"$f":"'[1]87-0-14'!E3725","v":"STA. JUANA"},{"$f":"'[1]87-0-14'!F3725","v":"SERRUCHO"},{"$f":"'[1]87-0-14'!G3725*(1+$E$13)","v":20809.478500000001}]
[{"$f":"'[1]87-0-14'!B3726","v":"S60"},{"$f":"'[1]87-0-14'!D3726","v":"SERRUCHO 60cm"},{"$f":"'[1]87-0-14'!E3726","v":"STA. JUANA"},{"$f":"'[1]87-0-14'!F3726","v":"SERRUCHO"},{"$f":"'[1]87-0-14'!G3726*(1+$E$13)","v":22386.494999999999}]
[{"$f":"'[1]87-0-14'!B3727","v":"SC60"},{"$f":"'[1]87-0-14'!D3727","v":"SERRUCHO CEMENTIS 60"},{"$f":"'[1]87-0-14'!E3727","v":"STA. JUANA"},{"$f":"'[1]87-0-14'!F3727","v":"SERRUCHO"},{"$f":"'[1]87-0-14'!G3727*(1+$E$13)","v":32476.034}]
[{"$f":"'[1]87-0-14'!B3728","v":"SC65"},{"$f":"'[1]87-0-14'!D3728","v":"SERRUCHO CEMENTIS 65"},{"$f":"'[1]87-0-14'!E3728","v":"STA. JUANA"},{"$f":"'[1]87-0-14'!F3728","v":"SERRUCHO"},{"$f":"'[1]87-0-14'!G3728*(1+$E$13)","v":34449.385500000004}]
[{"$f":"'[1]87-0-14'!B3729","v":"SC70"},{"$f":"'[1]87-0-14'!D3729","v":"SERRUCHO CEMENTIS 70"},{"$f":"'[1]87-0-14'!E3729","v":"STA. JUANA"},{"$f":"'[1]87-0-14'!F3729","v":"SERRUCHO"},{"$f":"'[1]87-0-14'!G3729*(1+$E$13)","v":37691.830500000004}]
[{"$f":"'[1]87-0-14'!B3730","v":"SC25"},{"$f":"'[1]87-0-14'!D3730","v":"SERRUCHO COSTILLA 25"},{"$f":"'[1]87-0-14'!E3730","v":"STA. JUANA"},{"$f":"'[1]87-0-14'!F3730","v":"SERRUCHO"},{"$f":"'[1]87-0-14'!G3730*(1+$E$13)","v":17490.107}]
[{"$f":"'[1]87-0-14'!B3731","v":"SC30"},{"$f":"'[1]87-0-14'!D3731","v":"SERRUCHO COSTILLA 30"},{"$f":"'[1]87-0-14'!E3731","v":"STA. JUANA"},{"$f":"'[1]87-0-14'!F3731","v":"SERRUCHO"},{"$f":"'[1]87-0-14'!G3731*(1+$E$13)","v":19470.123500000002}]
[{"$f":"'[1]87-0-14'!B3732","v":"SC35"},{"$f":"'[1]87-0-14'!D3732","v":"SERRUCHO COSTILLA 35"},{"$f":"'[1]87-0-14'!E3732","v":"STA. JUANA"},{"$f":"'[1]87-0-14'!F3732","v":"SERRUCHO"},{"$f":"'[1]87-0-14'!G3732*(1+$E$13)","v":20790.1345}]
[{"$f":"'[1]87-0-14'!B3733","v":"SPC"},{"$f":"'[1]87-0-14'!D3733","v":"SERRUCHO PODAR CURVO"},{"$f":"'[1]87-0-14'!E3733","v":"STA. JUANA"},{"$f":"'[1]87-0-14'!F3733","v":"SERRUCHO"},{"$f":"'[1]87-0-14'!G3733*(1+$E$13)","v":15969.665500000001}]
[{"$f":"'[1]87-0-14'!B3734","v":"SPCN"},{"$f":"'[1]87-0-14'!D3734","v":"SERRUCHO PODAR CURVO 30cm"},{"$f":"'[1]87-0-14'!E3734","v":"NEIKE"},{"$f":"'[1]87-0-14'!F3734","v":"SERRUCHO"},{"$f":"'[1]87-0-14'!G3734*(1+$E$13)","v":15123.4275}]
[{"$f":"'[1]87-0-14'!B3735","v":"SPR"},{"$f":"'[1]87-0-14'!D3735","v":"SERRUCHO PODAR RECTO"},{"$f":"'[1]87-0-14'!E3735","v":"STA. JUANA"},{"$f":"'[1]87-0-14'!F3735","v":"SERRUCHO"},{"$f":"'[1]87-0-14'!G3735*(1+$E$13)","v":10238.199500000001}]
[{"$f":"'[1]87-0-14'!B3736","v":"SP"},{"$f":"'[1]87-0-14'!D3736","v":"SERRUCHO PUNTA"},{"$f":"'[1]87-0-14'!E3736","v":"STA. JUANA"},{"$f":"'[1]87-0-14'!F3736","v":"SERRUCHO"},{"$f":"'[1]87-0-14'!G3736*(1+$E$13)","v":8837.3405000000002}]
[{"$f":"'[1]87-0-14'!B3737","v":"SYSJ"},{"$f":"'[1]87-0-14'!D3737","v":"SERRUCHO YESO/DURLOCK"},{"$f":"'[1]87-0-14'!E3737","v":"STA. JUANA"},{"$f":"'[1]87-0-14'!F3737","v":"SERRUCHO"},{"$f":"'[1]87-0-14'!G3737*(1+$E$13)","v":10714.3595}]
[{"$f":"'[1]87-0-14'!B3738","v":"SD412T"},{"$f":"'[1]87-0-14'!D3738","v":"SET DISCO C/EXHIBID 4 1/2"},{"$f":"'[1]87-0-14'!E3738","v":"TYROLIT"},{"$f":"'[1]87-0-14'!F3738","v":"DISCO DIAMANTADO"},{"$f":"'[1]87-0-14'!G3738*(1+$E$13)","v":661027.30649999995}]
[{"$f":"'[1]87-0-14'!B3739","v":"S258070S"},{"$f":"'[1]87-0-14'!D3739","v":"SIERR CIRC 25X8X0,70"},{"$f":"'[1]87-0-14'!E3739","v":"SIN-PAR"},{"$f":"'[1]87-0-14'!F3739","v":"SIERRA CIRCULAR"},{"$f":"'[1]87-0-14'!G3739*(1+$E$13)","v":182423.1115}]
[{"$f":"'[1]87-0-14'!B3740","v":"SC115R"},{"$f":"'[1]87-0-14'!D3740","v":"SIERRA CIRC C/DE 115"},{"$f":"'[1]87-0-14'!E3740","v":"ROLL'S"},{"$f":"'[1]87-0-14'!F3740","v":"SIERRA CIRCULAR"},{"$f":"'[1]87-0-14'!G3740*(1+$E$13)","v":2969.366}]
[{"$f":"'[1]87-0-14'!B3741","v":"SC178R"},{"$f":"'[1]87-0-14'!D3741","v":"SIERRA CIRC C/DE 178"},{"$f":"'[1]87-0-14'!E3741","v":"ROLL'S"},{"$f":"'[1]87-0-14'!F3741","v":"SIERRA CIRCULAR"},{"$f":"'[1]87-0-14'!G3741*(1+$E$13)","v":6412.1640000000007}]
[{"$f":"'[1]87-0-14'!B3742","v":"SC1252S"},{"$f":"'[1]87-0-14'!D3742","v":"SIERRA CIRCUL  125x2"},{"$f":"'[1]87-0-14'!E3742","v":"SIN-PAR"},{"$f":"'[1]87-0-14'!F3742","v":"SIERRA CIRCULAR"},{"$f":"'[1]87-0-14'!G3742*(1+$E$13)","v":360278.125}]
[{"$f":"'[1]87-0-14'!B3743","v":"SC2502S"},{"$f":"'[1]87-0-14'!D3743","v":"SIERRA CIRCUL  250x2"},{"$f":"'[1]87-0-14'!E3743","v":"SIN-PAR"},{"$f":"'[1]87-0-14'!F3743","v":"SIERRA CIRCULAR"},{"$f":"'[1]87-0-14'!G3743*(1+$E$13)","v":780472.84849999996}]
[{"$f":"'[1]87-0-14'!B3744","v":"SC80R"},{"$f":"'[1]87-0-14'!D3744","v":"SIERRA CIRCULAR  80m"},{"$f":"'[1]87-0-14'!E3744","v":"ROLL'S"},{"$f":"'[1]87-0-14'!F3744","v":"SIERRA CIRCULAR"},{"$f":"'[1]87-0-14'!G3744*(1+$E$13)","v":3132.7204999999999}]
[{"$f":"'[1]87-0-14'!B3745","v":"SC100R"},{"$f":"'[1]87-0-14'!D3745","v":"SIERRA CIRCULAR 100m"},{"$f":"'[1]87-0-14'!E3745","v":"ROLL'S"},{"$f":"'[1]87-0-14'!F3745","v":"SIERRA CIRCULAR"},{"$f":"'[1]87-0-14'!G3745*(1+$E$13)","v":3662.1695}]
[{"$f":"'[1]87-0-14'!B3746","v":"SC120R"},{"$f":"'[1]87-0-14'!D3746","v":"SIERRA CIRCULAR 120m"},{"$f":"'[1]87-0-14'!E3746","v":"ROLL'S"},{"$f":"'[1]87-0-14'!F3746","v":"SIERRA CIRCULAR"},{"$f":"'[1]87-0-14'!G3746*(1+$E$13)","v":3883.835}]
[{"$f":"'[1]87-0-14'!B3747","v":"S631516S"},{"$f":"'[1]87-0-14'!D3747","v":"SIERRA CIRCULAR 63x1,5x16"},{"$f":"'[1]87-0-14'!E3747","v":"SIN-PAR"},{"$f":"'[1]87-0-14'!F3747","v":"SIERRA CIRCULAR"},{"$f":"'[1]87-0-14'!G3747*(1+$E$13)","v":237950.38900000002}]
[{"$f":"'[1]87-0-14'!B3748","v":"S5204S"},{"$f":"'[1]87-0-14'!D3748","v":"SIERRA FRICCIO 520x4"},{"$f":"'[1]87-0-14'!E3748","v":"SIN-PAR"},{"$f":"'[1]87-0-14'!F3748","v":"SIERRA CIRCULAR"},{"$f":"'[1]87-0-14'!G3748*(1+$E$13)","v":2283186.6574999997}]
[{"$f":"'[1]87-0-14'!B3749","v":"SW41224R"},{"$f":"'[1]87-0-14'!D3749","v":"SIERRA WIDIA 4 1/2 x24"},{"$f":"'[1]87-0-14'!E3749","v":"RHEIN"},{"$f":"'[1]87-0-14'!F3749","v":"SIERRA WIDIA"},{"$f":"'[1]87-0-14'!G3749*(1+$E$13)","v":7347.2945}]
[{"$f":"'[1]87-0-14'!B3750","v":"SW41230R"},{"$f":"'[1]87-0-14'!D3750","v":"SIERRA WIDIA 4 1/2 x30"},{"$f":"'[1]87-0-14'!E3750","v":"RHEIN"},{"$f":"'[1]87-0-14'!F3750","v":"SIERRA WIDIA"},{"$f":"'[1]87-0-14'!G3750*(1+$E$13)","v":7915.6020000000008}]
[{"$f":"'[1]87-0-14'!B3751","v":"SW41240R"},{"$f":"'[1]87-0-14'!D3751","v":"SIERRA WIDIA 4 1/2 x40"},{"$f":"'[1]87-0-14'!E3751","v":"RHEIN"},{"$f":"'[1]87-0-14'!F3751","v":"SIERRA WIDIA"},{"$f":"'[1]87-0-14'!G3751*(1+$E$13)","v":10042.2485}]
[{"$f":"'[1]87-0-14'!B3752","v":"SW51224R"},{"$f":"'[1]87-0-14'!D3752","v":"SIERRA WIDIA 5 1/2 x24"},{"$f":"'[1]87-0-14'!E3752","v":"RHEIN"},{"$f":"'[1]87-0-14'!F3752","v":"SIERRA WIDIA"},{"$f":"'[1]87-0-14'!G3752*(1+$E$13)","v":9161.9570000000003}]
[{"$f":"'[1]87-0-14'!B3753","v":"SW71424R"},{"$f":"'[1]87-0-14'!D3753","v":"SIERRA WIDIA 7 1/4\" X 24"},{"$f":"'[1]87-0-14'!E3753","v":"RHEIN"},{"$f":"'[1]87-0-14'!F3753","v":"SIERRA WIDIA"},{"$f":"'[1]87-0-14'!G3753*(1+$E$13)","v":11155.35}]
[{"$f":"'[1]87-0-14'!B3754","v":"SW71430R"},{"$f":"'[1]87-0-14'!D3754","v":"SIERRA WIDIA 7 1/4\" X 30"},{"$f":"'[1]87-0-14'!E3754","v":"RHEIN"},{"$f":"'[1]87-0-14'!F3754","v":"SIERRA WIDIA"},{"$f":"'[1]87-0-14'!G3754*(1+$E$13)","v":12846.167500000001}]
[{"$f":"'[1]87-0-14'!B3755","v":"SW71440R"},{"$f":"'[1]87-0-14'!D3755","v":"SIERRA WIDIA 7 1/4\" x 40"},{"$f":"'[1]87-0-14'!E3755","v":"RHEIN"},{"$f":"'[1]87-0-14'!F3755","v":"SIERRA WIDIA"},{"$f":"'[1]87-0-14'!G3755*(1+$E$13)","v":14847.760000000002}]
[{"$f":"'[1]87-0-14'!B3756","v":"SW940R"},{"$f":"'[1]87-0-14'!D3756","v":"SIERRA WIDIA 9\"x40"},{"$f":"'[1]87-0-14'!E3756","v":"RHEIN"},{"$f":"'[1]87-0-14'!F3756","v":"SIERRA WIDIA"},{"$f":"'[1]87-0-14'!G3756*(1+$E$13)","v":20785.856500000002}]
[{"$f":"'[1]87-0-14'!B3757","v":"SE1D"},{"$f":"'[1]87-0-14'!D3757","v":"SIFO *BLACK* OFERTA 1 VIA"},{"$f":"'[1]87-0-14'!E3757","v":"DUKE"},{"$f":"'[1]87-0-14'!F3757","v":"SIFON"},{"$f":"'[1]87-0-14'!G3757*(1+$E$13)","v":7089.049}]
[{"$f":"'[1]87-0-14'!B3758","v":"SE2D"},{"$f":"'[1]87-0-14'!D3758","v":"SIFO *BLACK* OFERTA 2 VIA"},{"$f":"'[1]87-0-14'!E3758","v":"DUKE"},{"$f":"'[1]87-0-14'!F3758","v":"SIFON"},{"$f":"'[1]87-0-14'!G3758*(1+$E$13)","v":11737.762500000001}]
[{"$f":"'[1]87-0-14'!B3759","v":"SDV"},{"$f":"'[1]87-0-14'!D3759","v":"SIFO DOBLE GOMA C/ABR MET"},{"$f":"'[1]87-0-14'!E3759","v":"VITAL GAS"},{"$f":"'[1]87-0-14'!F3759","v":"SIFON"},{"$f":"'[1]87-0-14'!G3759*(1+$E$13)","v":14934.715}]
[{"$f":"'[1]87-0-14'!B3760","v":"SSV"},{"$f":"'[1]87-0-14'!D3760","v":"SIFO SIMPL GOMA C/ABR MET"},{"$f":"'[1]87-0-14'!E3760","v":"VITAL GAS"},{"$f":"'[1]87-0-14'!F3760","v":"SIFON"},{"$f":"'[1]87-0-14'!G3760*(1+$E$13)","v":8134.1210000000001}]
[{"$f":"'[1]87-0-14'!B3761","v":"S2D"},{"$f":"'[1]87-0-14'!D3761","v":"SIFON C/VASO Y FLE 2 VIAS"},{"$f":"'[1]87-0-14'!E3761","v":"DUKE"},{"$f":"'[1]87-0-14'!F3761","v":"SIFON"},{"$f":"'[1]87-0-14'!G3761*(1+$E$13)","v":13777.500499999998}]
[{"$f":"'[1]87-0-14'!B3762","v":"S1D"},{"$f":"'[1]87-0-14'!D3762","v":"SIFON C/VASO Y FLEX 1 VIA"},{"$f":"'[1]87-0-14'!E3762","v":"DUKE"},{"$f":"'[1]87-0-14'!F3762","v":"SIFON"},{"$f":"'[1]87-0-14'!G3762*(1+$E$13)","v":9460.8280000000013}]
[{"$f":"'[1]87-0-14'!B3763","v":"SM15RCV"},{"$f":"'[1]87-0-14'!D3763","v":"SIMI MADE R/Clar 1,5"},{"$f":"'[1]87-0-14'!E3763","v":"VENIER"},{"$f":"'[1]87-0-14'!F3763","v":"SIMIL MADERA"},{"$f":"'[1]87-0-14'!G3763*(1+$E$13)","v":51117.108999999997}]
[{"$f":"'[1]87-0-14'!B3764","v":"SM750RCV"},{"$f":"'[1]87-0-14'!D3764","v":"SIMI MADE R/Clar 750"},{"$f":"'[1]87-0-14'!E3764","v":"VENIER"},{"$f":"'[1]87-0-14'!F3764","v":"SIMIL MADERA"},{"$f":"'[1]87-0-14'!G3764*(1+$E$13)","v":32464.827499999999}]
[{"$f":"'[1]87-0-14'!B3765","v":"SM15ROV"},{"$f":"'[1]87-0-14'!D3765","v":"SIMI MADE R/Oscu 1,5"},{"$f":"'[1]87-0-14'!E3765","v":"VENIER"},{"$f":"'[1]87-0-14'!F3765","v":"SIMIL MADERA"},{"$f":"'[1]87-0-14'!G3765*(1+$E$13)","v":217422.31299999999}]
[{"$f":"'[1]87-0-14'!B3766","v":"SM750ROV"},{"$f":"'[1]87-0-14'!D3766","v":"SIMI MADE R/Oscu 750"},{"$f":"'[1]87-0-14'!E3766","v":"VENIER"},{"$f":"'[1]87-0-14'!F3766","v":"SIMIL MADERA"},{"$f":"'[1]87-0-14'!G3766*(1+$E$13)","v":217422.31299999999}]
[{"$f":"'[1]87-0-14'!B3767","v":"SM15CAV"},{"$f":"'[1]87-0-14'!D3767","v":"SIMIL MADE Caoba 1,5"},{"$f":"'[1]87-0-14'!E3767","v":"VENIER"},{"$f":"'[1]87-0-14'!F3767","v":"SIMIL MADERA"},{"$f":"'[1]87-0-14'!G3767*(1+$E$13)","v":51117.108999999997}]
[{"$f":"'[1]87-0-14'!B3768","v":"SM750CAV"},{"$f":"'[1]87-0-14'!D3768","v":"SIMIL MADE Caoba 750"},{"$f":"'[1]87-0-14'!E3768","v":"VENIER"},{"$f":"'[1]87-0-14'!F3768","v":"SIMIL MADERA"},{"$f":"'[1]87-0-14'!G3768*(1+$E$13)","v":32464.827499999999}]
[{"$f":"'[1]87-0-14'!B3769","v":"SM15CEV"},{"$f":"'[1]87-0-14'!D3769","v":"SIMIL MADE Cedro 1,5"},{"$f":"'[1]87-0-14'!E3769","v":"VENIER"},{"$f":"'[1]87-0-14'!F3769","v":"SIMIL MADERA"},{"$f":"'[1]87-0-14'!G3769*(1+$E$13)","v":217422.31299999999}]
[{"$f":"'[1]87-0-14'!B3770","v":"SM750CEV"},{"$f":"'[1]87-0-14'!D3770","v":"SIMIL MADE Cedro 750"},{"$f":"'[1]87-0-14'!E3770","v":"VENIER"},{"$f":"'[1]87-0-14'!F3770","v":"SIMIL MADERA"},{"$f":"'[1]87-0-14'!G3770*(1+$E$13)","v":32464.827499999999}]
[{"$f":"'[1]87-0-14'!B3771","v":"SM15NV"},{"$f":"'[1]87-0-14'!D3771","v":"SIMIL MADE Nogal 1,5"},{"$f":"'[1]87-0-14'!E3771","v":"VENIER"},{"$f":"'[1]87-0-14'!F3771","v":"SIMIL MADERA"},{"$f":"'[1]87-0-14'!G3771*(1+$E$13)","v":217422.31299999999}]
[{"$f":"'[1]87-0-14'!B3772","v":"SM750NV"},{"$f":"'[1]87-0-14'!D3772","v":"SIMIL MADE Nogal 750"},{"$f":"'[1]87-0-14'!E3772","v":"VENIER"},{"$f":"'[1]87-0-14'!F3772","v":"SIMIL MADERA"},{"$f":"'[1]87-0-14'!G3772*(1+$E$13)","v":32464.827499999999}]
[{"$f":"'[1]87-0-14'!B3773","v":"SMVI250V"},{"$f":"'[1]87-0-14'!D3773","v":"SIMU MET VE IRON 2,5"},{"$f":"'[1]87-0-14'!E3773","v":"VENIER"},{"$f":"'[1]87-0-14'!F3773","v":"SIMULTANEO METALI"},{"$f":"'[1]87-0-14'!G3773*(1+$E$13)","v":61395.267500000002}]
[{"$f":"'[1]87-0-14'!B3774","v":"SMB1V"},{"$f":"'[1]87-0-14'!D3774","v":"SIMU METAL BCE 1L"},{"$f":"'[1]87-0-14'!E3774","v":"VENIER"},{"$f":"'[1]87-0-14'!F3774","v":"SIMULTANEO METALI"},{"$f":"'[1]87-0-14'!G3774*(1+$E$13)","v":56290.11}]
[{"$f":"'[1]87-0-14'!B3775","v":"SBE20V"},{"$f":"'[1]87-0-14'!D3775","v":"SIMUL Bermel 20l"},{"$f":"'[1]87-0-14'!E3775","v":"VENIER"},{"$f":"'[1]87-0-14'!F3775","v":"SIMULTANEO"},{"$f":"'[1]87-0-14'!G3775*(1+$E$13)","v":421215.36749999999}]
[{"$f":"'[1]87-0-14'!B3776","v":"SMA12V"},{"$f":"'[1]87-0-14'!D3776","v":"SIMUL METAL ACER 1/2"},{"$f":"'[1]87-0-14'!E3776","v":"VENIER"},{"$f":"'[1]87-0-14'!F3776","v":"SIMULTANEO"},{"$f":"'[1]87-0-14'!G3776*(1+$E$13)","v":52840.925999999999}]
[{"$f":"'[1]87-0-14'!B3777","v":"SMA1V"},{"$f":"'[1]87-0-14'!D3777","v":"SIMUL METAL ACERO 1L"},{"$f":"'[1]87-0-14'!E3777","v":"VENIER"},{"$f":"'[1]87-0-14'!F3777","v":"SIMULTANEO"},{"$f":"'[1]87-0-14'!G3777*(1+$E$13)","v":81919.546000000002}]
[{"$f":"'[1]87-0-14'!B3778","v":"SMN12V"},{"$f":"'[1]87-0-14'!D3778","v":"SIMUL METAL NEGR 1/2"},{"$f":"'[1]87-0-14'!E3778","v":"VENIER"},{"$f":"'[1]87-0-14'!F3778","v":"SIMULTANEO"},{"$f":"'[1]87-0-14'!G3778*(1+$E$13)","v":22133.550499999998}]
[{"$f":"'[1]87-0-14'!B3779","v":"SMN1V"},{"$f":"'[1]87-0-14'!D3779","v":"SIMUL METAL NEGRO 1L"},{"$f":"'[1]87-0-14'!E3779","v":"VENIER"},{"$f":"'[1]87-0-14'!F3779","v":"SIMULTANEO"},{"$f":"'[1]87-0-14'!G3779*(1+$E$13)","v":34314.1325}]
[{"$f":"'[1]87-0-14'!B3780","v":"SMP12V"},{"$f":"'[1]87-0-14'!D3780","v":"SIMUL METAL PLAT 1/2"},{"$f":"'[1]87-0-14'!E3780","v":"VENIER"},{"$f":"'[1]87-0-14'!F3780","v":"SIMULTANEO"},{"$f":"'[1]87-0-14'!G3780*(1+$E$13)","v":52840.925999999999}]
[{"$f":"'[1]87-0-14'!B3781","v":"SMP1V"},{"$f":"'[1]87-0-14'!D3781","v":"SIMUL METAL PLATA 1L"},{"$f":"'[1]87-0-14'!E3781","v":"VENIER"},{"$f":"'[1]87-0-14'!F3781","v":"SIMULTANEO"},{"$f":"'[1]87-0-14'!G3781*(1+$E$13)","v":81919.546000000002}]
[{"$f":"'[1]87-0-14'!B3782","v":"SA4V"},{"$f":"'[1]87-0-14'!D3782","v":"SIMULTAN Aluminio 4L"},{"$f":"'[1]87-0-14'!E3782","v":"VENIER"},{"$f":"'[1]87-0-14'!F3782","v":"SIMULTANEO"},{"$f":"'[1]87-0-14'!G3782*(1+$E$13)","v":112893.58350000001}]
[{"$f":"'[1]87-0-14'!B3783","v":"SAM12V"},{"$f":"'[1]87-0-14'!D3783","v":"SIMULTANE A/Mari 1/2"},{"$f":"'[1]87-0-14'!E3783","v":"VENIER"},{"$f":"'[1]87-0-14'!F3783","v":"SIMULTANEO"},{"$f":"'[1]87-0-14'!G3783*(1+$E$13)","v":47834.3485}]
[{"$f":"'[1]87-0-14'!B3784","v":"SAM14V"},{"$f":"'[1]87-0-14'!D3784","v":"SIMULTANE A/Mari 1/4"},{"$f":"'[1]87-0-14'!E3784","v":"VENIER"},{"$f":"'[1]87-0-14'!F3784","v":"SIMULTANEO"},{"$f":"'[1]87-0-14'!G3784*(1+$E$13)","v":10341.398499999999}]
[{"$f":"'[1]87-0-14'!B3785","v":"SGE12V"},{"$f":"'[1]87-0-14'!D3785","v":"SIMULTANE G/Espa 1/2"},{"$f":"'[1]87-0-14'!E3785","v":"VENIER"},{"$f":"'[1]87-0-14'!F3785","v":"SIMULTANEO"},{"$f":"'[1]87-0-14'!G3785*(1+$E$13)","v":47834.3485}]
[{"$f":"'[1]87-0-14'!B3786","v":"SGE14V"},{"$f":"'[1]87-0-14'!D3786","v":"SIMULTANE G/Espa 1/4"},{"$f":"'[1]87-0-14'!E3786","v":"VENIER"},{"$f":"'[1]87-0-14'!F3786","v":"SIMULTANEO"},{"$f":"'[1]87-0-14'!G3786*(1+$E$13)","v":10341.398499999999}]
[{"$f":"'[1]87-0-14'!B3787","v":"SGE1V"},{"$f":"'[1]87-0-14'!D3787","v":"SIMULTANE G/Espac 1L"},{"$f":"'[1]87-0-14'!E3787","v":"VENIER"},{"$f":"'[1]87-0-14'!F3787","v":"SIMULTANEO"},{"$f":"'[1]87-0-14'!G3787*(1+$E$13)","v":25704.502499999999}]
[{"$f":"'[1]87-0-14'!B3788","v":"SGE4V"},{"$f":"'[1]87-0-14'!D3788","v":"SIMULTANE G/Espac 4L"},{"$f":"'[1]87-0-14'!E3788","v":"VENIER"},{"$f":"'[1]87-0-14'!F3788","v":"SIMULTANEO"},{"$f":"'[1]87-0-14'!G3788*(1+$E$13)","v":97936.005999999994}]
[{"$f":"'[1]87-0-14'!B3789","v":"SGO12V"},{"$f":"'[1]87-0-14'!D3789","v":"SIMULTANE G/Oscu 1/2"},{"$f":"'[1]87-0-14'!E3789","v":"VENIER"},{"$f":"'[1]87-0-14'!F3789","v":"SIMULTANEO"},{"$f":"'[1]87-0-14'!G3789*(1+$E$13)","v":47834.3485}]
[{"$f":"'[1]87-0-14'!B3790","v":"SGO14V"},{"$f":"'[1]87-0-14'!D3790","v":"SIMULTANE G/Oscu 1/4"},{"$f":"'[1]87-0-14'!E3790","v":"VENIER"},{"$f":"'[1]87-0-14'!F3790","v":"SIMULTANEO"},{"$f":"'[1]87-0-14'!G3790*(1+$E$13)","v":7834.3975}]
[{"$f":"'[1]87-0-14'!B3791","v":"SGO1V"},{"$f":"'[1]87-0-14'!D3791","v":"SIMULTANE G/Oscur 1L"},{"$f":"'[1]87-0-14'!E3791","v":"VENIER"},{"$f":"'[1]87-0-14'!F3791","v":"SIMULTANEO"},{"$f":"'[1]87-0-14'!G3791*(1+$E$13)","v":56290.11}]
[{"$f":"'[1]87-0-14'!B3792","v":"SGO4V"},{"$f":"'[1]87-0-14'!D3792","v":"SIMULTANE G/Oscur 4L"},{"$f":"'[1]87-0-14'!E3792","v":"VENIER"},{"$f":"'[1]87-0-14'!F3792","v":"SIMULTANEO"},{"$f":"'[1]87-0-14'!G3792*(1+$E$13)","v":74193.958500000008}]
[{"$f":"'[1]87-0-14'!B3793","v":"SVI12V"},{"$f":"'[1]87-0-14'!D3793","v":"SIMULTANE V/Ingl 1/2"},{"$f":"'[1]87-0-14'!E3793","v":"VENIER"},{"$f":"'[1]87-0-14'!F3793","v":"SIMULTANEO"},{"$f":"'[1]87-0-14'!G3793*(1+$E$13)","v":12535.625}]
[{"$f":"'[1]87-0-14'!B3794","v":"SVI14V"},{"$f":"'[1]87-0-14'!D3794","v":"SIMULTANE V/Ingl 1/4"},{"$f":"'[1]87-0-14'!E3794","v":"VENIER"},{"$f":"'[1]87-0-14'!F3794","v":"SIMULTANEO"},{"$f":"'[1]87-0-14'!G3794*(1+$E$13)","v":7834.3975}]
[{"$f":"'[1]87-0-14'!B3795","v":"SVI1V"},{"$f":"'[1]87-0-14'!D3795","v":"SIMULTANE V/Ingle 1L"},{"$f":"'[1]87-0-14'!E3795","v":"VENIER"},{"$f":"'[1]87-0-14'!F3795","v":"SIMULTANEO"},{"$f":"'[1]87-0-14'!G3795*(1+$E$13)","v":56290.11}]
[{"$f":"'[1]87-0-14'!B3796","v":"SVI4V"},{"$f":"'[1]87-0-14'!D3796","v":"SIMULTANE V/Ingle 4L"},{"$f":"'[1]87-0-14'!E3796","v":"VENIER"},{"$f":"'[1]87-0-14'!F3796","v":"SIMULTANEO"},{"$f":"'[1]87-0-14'!G3796*(1+$E$13)","v":74193.958500000008}]
[{"$f":"'[1]87-0-14'!B3797","v":"SVN12V"},{"$f":"'[1]87-0-14'!D3797","v":"SIMULTANE V/Noch 1/2"},{"$f":"'[1]87-0-14'!E3797","v":"VENIER"},{"$f":"'[1]87-0-14'!F3797","v":"SIMULTANEO"},{"$f":"'[1]87-0-14'!G3797*(1+$E$13)","v":12535.625}]
[{"$f":"'[1]87-0-14'!B3798","v":"SVN14V"},{"$f":"'[1]87-0-14'!D3798","v":"SIMULTANE V/Noch 1/4"},{"$f":"'[1]87-0-14'!E3798","v":"VENIER"},{"$f":"'[1]87-0-14'!F3798","v":"SIMULTANEO"},{"$f":"'[1]87-0-14'!G3798*(1+$E$13)","v":7834.3975}]
[{"$f":"'[1]87-0-14'!B3799","v":"SVN1V"},{"$f":"'[1]87-0-14'!D3799","v":"SIMULTANE V/Noche 1L"},{"$f":"'[1]87-0-14'!E3799","v":"VENIER"},{"$f":"'[1]87-0-14'!F3799","v":"SIMULTANEO"},{"$f":"'[1]87-0-14'!G3799*(1+$E$13)","v":56290.11}]
[{"$f":"'[1]87-0-14'!B3800","v":"SVN4V"},{"$f":"'[1]87-0-14'!D3800","v":"SIMULTANE V/Noche 4L"},{"$f":"'[1]87-0-14'!E3800","v":"VENIER"},{"$f":"'[1]87-0-14'!F3800","v":"SIMULTANEO"},{"$f":"'[1]87-0-14'!G3800*(1+$E$13)","v":74193.958500000008}]
[{"$f":"'[1]87-0-14'!B3801","v":"SAM1V"},{"$f":"'[1]87-0-14'!D3801","v":"SIMULTANEO A/Mari 1L"},{"$f":"'[1]87-0-14'!E3801","v":"VENIER"},{"$f":"'[1]87-0-14'!F3801","v":"SIMULTANEO"},{"$f":"'[1]87-0-14'!G3801*(1+$E$13)","v":56290.11}]
[{"$f":"'[1]87-0-14'!B3802","v":"SAM4V"},{"$f":"'[1]87-0-14'!D3802","v":"SIMULTANEO A/Mari 4L"},{"$f":"'[1]87-0-14'!E3802","v":"VENIER"},{"$f":"'[1]87-0-14'!F3802","v":"SIMULTANEO"},{"$f":"'[1]87-0-14'!G3802*(1+$E$13)","v":74193.958500000008}]
[{"$f":"'[1]87-0-14'!B3803","v":"SBE12V"},{"$f":"'[1]87-0-14'!D3803","v":"SIMULTANEO Berme 1/2"},{"$f":"'[1]87-0-14'!E3803","v":"VENIER"},{"$f":"'[1]87-0-14'!F3803","v":"SIMULTANEO"},{"$f":"'[1]87-0-14'!G3803*(1+$E$13)","v":36238.147499999999}]
[{"$f":"'[1]87-0-14'!B3804","v":"SBE14V"},{"$f":"'[1]87-0-14'!D3804","v":"SIMULTANEO Berme 1/4"},{"$f":"'[1]87-0-14'!E3804","v":"VENIER"},{"$f":"'[1]87-0-14'!F3804","v":"SIMULTANEO"},{"$f":"'[1]87-0-14'!G3804*(1+$E$13)","v":7834.3975}]
[{"$f":"'[1]87-0-14'!B3805","v":"SBE1V"},{"$f":"'[1]87-0-14'!D3805","v":"SIMULTANEO Bermel 1L"},{"$f":"'[1]87-0-14'!E3805","v":"VENIER"},{"$f":"'[1]87-0-14'!F3805","v":"SIMULTANEO"},{"$f":"'[1]87-0-14'!G3805*(1+$E$13)","v":56290.11}]
[{"$f":"'[1]87-0-14'!B3806","v":"SBE4V"},{"$f":"'[1]87-0-14'!D3806","v":"SIMULTANEO Bermel 4L"},{"$f":"'[1]87-0-14'!E3806","v":"VENIER"},{"$f":"'[1]87-0-14'!F3806","v":"SIMULTANEO"},{"$f":"'[1]87-0-14'!G3806*(1+$E$13)","v":74193.958500000008}]
[{"$f":"'[1]87-0-14'!B3807","v":"SB12V"},{"$f":"'[1]87-0-14'!D3807","v":"SIMULTANEO Blanc 1/2"},{"$f":"'[1]87-0-14'!E3807","v":"VENIER"},{"$f":"'[1]87-0-14'!F3807","v":"SIMULTANEO"},{"$f":"'[1]87-0-14'!G3807*(1+$E$13)","v":40457.495500000005}]
[{"$f":"'[1]87-0-14'!B3808","v":"SB14V"},{"$f":"'[1]87-0-14'!D3808","v":"SIMULTANEO Blanc 1/4"},{"$f":"'[1]87-0-14'!E3808","v":"VENIER"},{"$f":"'[1]87-0-14'!F3808","v":"SIMULTANEO"},{"$f":"'[1]87-0-14'!G3808*(1+$E$13)","v":8736.7610000000004}]
[{"$f":"'[1]87-0-14'!B3809","v":"SB1V"},{"$f":"'[1]87-0-14'!D3809","v":"SIMULTANEO Blanco 1L"},{"$f":"'[1]87-0-14'!E3809","v":"VENIER"},{"$f":"'[1]87-0-14'!F3809","v":"SIMULTANEO"},{"$f":"'[1]87-0-14'!G3809*(1+$E$13)","v":62494.124500000005}]
[{"$f":"'[1]87-0-14'!B3810","v":"SB4V"},{"$f":"'[1]87-0-14'!D3810","v":"SIMULTANEO Blanco 4L"},{"$f":"'[1]87-0-14'!E3810","v":"VENIER"},{"$f":"'[1]87-0-14'!F3810","v":"SIMULTANEO"},{"$f":"'[1]87-0-14'!G3810*(1+$E$13)","v":82777.300499999998}]
[{"$f":"'[1]87-0-14'!B3811","v":"SM12V"},{"$f":"'[1]87-0-14'!D3811","v":"SIMULTANEO Marro 1/2"},{"$f":"'[1]87-0-14'!E3811","v":"VENIER"},{"$f":"'[1]87-0-14'!F3811","v":"SIMULTANEO"},{"$f":"'[1]87-0-14'!G3811*(1+$E$13)","v":40457.495500000005}]
[{"$f":"'[1]87-0-14'!B3812","v":"SM14V"},{"$f":"'[1]87-0-14'!D3812","v":"SIMULTANEO Marro 1/4"},{"$f":"'[1]87-0-14'!E3812","v":"VENIER"},{"$f":"'[1]87-0-14'!F3812","v":"SIMULTANEO"},{"$f":"'[1]87-0-14'!G3812*(1+$E$13)","v":56290.11}]
[{"$f":"'[1]87-0-14'!B3813","v":"SM1V"},{"$f":"'[1]87-0-14'!D3813","v":"SIMULTANEO Marron 1L"},{"$f":"'[1]87-0-14'!E3813","v":"VENIER"},{"$f":"'[1]87-0-14'!F3813","v":"SIMULTANEO"},{"$f":"'[1]87-0-14'!G3813*(1+$E$13)","v":19473.0995}]
[{"$f":"'[1]87-0-14'!B3814","v":"SM4V"},{"$f":"'[1]87-0-14'!D3814","v":"SIMULTANEO Marron 4L"},{"$f":"'[1]87-0-14'!E3814","v":"VENIER"},{"$f":"'[1]87-0-14'!F3814","v":"SIMULTANEO"},{"$f":"'[1]87-0-14'!G3814*(1+$E$13)","v":74193.958500000008}]
[{"$f":"'[1]87-0-14'!B3815","v":"SN12V"},{"$f":"'[1]87-0-14'!D3815","v":"SIMULTANEO Negro 1/2"},{"$f":"'[1]87-0-14'!E3815","v":"VENIER"},{"$f":"'[1]87-0-14'!F3815","v":"SIMULTANEO"},{"$f":"'[1]87-0-14'!G3815*(1+$E$13)","v":36238.147499999999}]
[{"$f":"'[1]87-0-14'!B3816","v":"SN14V"},{"$f":"'[1]87-0-14'!D3816","v":"SIMULTANEO Negro 1/4"},{"$f":"'[1]87-0-14'!E3816","v":"VENIER"},{"$f":"'[1]87-0-14'!F3816","v":"SIMULTANEO"},{"$f":"'[1]87-0-14'!G3816*(1+$E$13)","v":7834.3975}]
[{"$f":"'[1]87-0-14'!B3817","v":"SN1V"},{"$f":"'[1]87-0-14'!D3817","v":"SIMULTANEO Negro 1Lt"},{"$f":"'[1]87-0-14'!E3817","v":"VENIER"},{"$f":"'[1]87-0-14'!F3817","v":"SIMULTANEO"},{"$f":"'[1]87-0-14'!G3817*(1+$E$13)","v":56290.11}]
[{"$f":"'[1]87-0-14'!B3818","v":"SN4V"},{"$f":"'[1]87-0-14'!D3818","v":"SIMULTANEO Negro 4Lt"},{"$f":"'[1]87-0-14'!E3818","v":"VENIER"},{"$f":"'[1]87-0-14'!F3818","v":"SIMULTANEO"},{"$f":"'[1]87-0-14'!G3818*(1+$E$13)","v":74193.958500000008}]
[{"$f":"'[1]87-0-14'!B3819","v":"SFB10015"},{"$f":"'[1]87-0-14'!D3819","v":"SO #FORTE# BLANCO 100x150"},{"$f":"'[1]87-0-14'!E3819","v":"SC"},{"$f":"'[1]87-0-14'!F3819","v":"SOPORTE"},{"$f":"'[1]87-0-14'!G3819*(1+$E$13)","v":78978.436500000011}]
[{"$f":"'[1]87-0-14'!B3820","v":"SFB10020"},{"$f":"'[1]87-0-14'!D3820","v":"SO #FORTE# BLANCO 100x200"},{"$f":"'[1]87-0-14'!E3820","v":"SC"},{"$f":"'[1]87-0-14'!F3820","v":"SOPORTE"},{"$f":"'[1]87-0-14'!G3820*(1+$E$13)","v":95420.418000000005}]
[{"$f":"'[1]87-0-14'!B3821","v":"SFB10025"},{"$f":"'[1]87-0-14'!D3821","v":"SO #FORTE# BLANCO 100x250"},{"$f":"'[1]87-0-14'!E3821","v":"SC"},{"$f":"'[1]87-0-14'!F3821","v":"SOPORTE"},{"$f":"'[1]87-0-14'!G3821*(1+$E$13)","v":109991.78200000001}]
[{"$f":"'[1]87-0-14'!B3822","v":"SFB15030"},{"$f":"'[1]87-0-14'!D3822","v":"SO #FORTE# BLANCO 150x300"},{"$f":"'[1]87-0-14'!E3822","v":"SC"},{"$f":"'[1]87-0-14'!F3822","v":"SOPORTE"},{"$f":"'[1]87-0-14'!G3822*(1+$E$13)","v":139012.86600000001}]
[{"$f":"'[1]87-0-14'!B3823","v":"SN810M"},{"$f":"'[1]87-0-14'!D3823","v":"SO EST NEG 200x250 #8x10#"},{"$f":"'[1]87-0-14'!E3823","v":"MERRELS"},{"$f":"'[1]87-0-14'!F3823","v":"SOPORTE ESTANTE"},{"$f":"'[1]87-0-14'!G3823*(1+$E$13)","v":2503.7305000000001}]
[{"$f":"'[1]87-0-14'!B3824","v":"SN1012M"},{"$f":"'[1]87-0-14'!D3824","v":"SO EST NEG 250x300 #10x12"},{"$f":"'[1]87-0-14'!E3824","v":"MERRELS"},{"$f":"'[1]87-0-14'!F3824","v":"SOPORTE ESTANTE"},{"$f":"'[1]87-0-14'!G3824*(1+$E$13)","v":3487.3914999999997}]
[{"$f":"'[1]87-0-14'!B3825","v":"SN1214M"},{"$f":"'[1]87-0-14'!D3825","v":"SO EST NEG 300x350 #12x14"},{"$f":"'[1]87-0-14'!E3825","v":"MERRELS"},{"$f":"'[1]87-0-14'!F3825","v":"SOPORTE ESTANTE"},{"$f":"'[1]87-0-14'!G3825*(1+$E$13)","v":4420.4450000000006}]
[{"$f":"'[1]87-0-14'!B3826","v":"SN34M"},{"$f":"'[1]87-0-14'!D3826","v":"SO EST NEGR  75x100 #3x4#"},{"$f":"'[1]87-0-14'!E3826","v":"MERRELS"},{"$f":"'[1]87-0-14'!F3826","v":"SOPORTE ESTANTE"},{"$f":"'[1]87-0-14'!G3826*(1+$E$13)","v":932.2165}]
[{"$f":"'[1]87-0-14'!B3827","v":"SN45M"},{"$f":"'[1]87-0-14'!D3827","v":"SO EST NEGR 100x125 #4x5#"},{"$f":"'[1]87-0-14'!E3827","v":"MERRELS"},{"$f":"'[1]87-0-14'!F3827","v":"SOPORTE ESTANTE"},{"$f":"'[1]87-0-14'!G3827*(1+$E$13)","v":1057.4565}]
[{"$f":"'[1]87-0-14'!B3828","v":"SN56M"},{"$f":"'[1]87-0-14'!D3828","v":"SO EST NEGR 125x150 #5x6#"},{"$f":"'[1]87-0-14'!E3828","v":"MERRELS"},{"$f":"'[1]87-0-14'!F3828","v":"SOPORTE ESTANTE"},{"$f":"'[1]87-0-14'!G3828*(1+$E$13)","v":1219.7104999999999}]
[{"$f":"'[1]87-0-14'!B3829","v":"SN68M"},{"$f":"'[1]87-0-14'!D3829","v":"SO EST NEGR 150x200 #6x8#"},{"$f":"'[1]87-0-14'!E3829","v":"MERRELS"},{"$f":"'[1]87-0-14'!F3829","v":"SOPORTE ESTANTE"},{"$f":"'[1]87-0-14'!G3829*(1+$E$13)","v":1544.9935}]
[{"$f":"'[1]87-0-14'!B3830","v":"SLB200SC"},{"$f":"'[1]87-0-14'!D3830","v":"SO LATERAL BLANC 200"},{"$f":"'[1]87-0-14'!E3830","v":"SC"},{"$f":"'[1]87-0-14'!F3830","v":"SOPORTE LATERAL"},{"$f":"'[1]87-0-14'!G3830*(1+$E$13)","v":44018.930500000002}]
[{"$f":"'[1]87-0-14'!B3831","v":"SLB300SC"},{"$f":"'[1]87-0-14'!D3831","v":"SO LATERAL BLANC 300"},{"$f":"'[1]87-0-14'!E3831","v":"SC"},{"$f":"'[1]87-0-14'!F3831","v":"SOPORTE LATERAL"},{"$f":"'[1]87-0-14'!G3831*(1+$E$13)","v":64625.746500000001}]
[{"$f":"'[1]87-0-14'!B3832","v":"SLB400SC"},{"$f":"'[1]87-0-14'!D3832","v":"SO LATERAL BLANC 400"},{"$f":"'[1]87-0-14'!E3832","v":"SC"},{"$f":"'[1]87-0-14'!F3832","v":"SOPORTE LATERAL"},{"$f":"'[1]87-0-14'!G3832*(1+$E$13)","v":91068.839500000002}]
[{"$f":"'[1]87-0-14'!B3833","v":"SLN200SC"},{"$f":"'[1]87-0-14'!D3833","v":"SO LATERAL NEGRO 200"},{"$f":"'[1]87-0-14'!E3833","v":"SC"},{"$f":"'[1]87-0-14'!F3833","v":"SOPORTE LATERAL"},{"$f":"'[1]87-0-14'!G3833*(1+$E$13)","v":44018.930500000002}]
[{"$f":"'[1]87-0-14'!B3834","v":"SLN300SC"},{"$f":"'[1]87-0-14'!D3834","v":"SO LATERAL NEGRO 300"},{"$f":"'[1]87-0-14'!E3834","v":"SC"},{"$f":"'[1]87-0-14'!F3834","v":"SOPORTE LATERAL"},{"$f":"'[1]87-0-14'!G3834*(1+$E$13)","v":64625.746500000001}]
[{"$f":"'[1]87-0-14'!B3835","v":"SLN400SC"},{"$f":"'[1]87-0-14'!D3835","v":"SO LATERAL NEGRO 400"},{"$f":"'[1]87-0-14'!E3835","v":"SC"},{"$f":"'[1]87-0-14'!F3835","v":"SOPORTE LATERAL"},{"$f":"'[1]87-0-14'!G3835*(1+$E$13)","v":91068.839500000002}]
[{"$f":"'[1]87-0-14'!B3836","v":"SMB3652S"},{"$f":"'[1]87-0-14'!D3836","v":"SO MI/ONDA BCO 36x52"},{"$f":"'[1]87-0-14'!E3836","v":"SC"},{"$f":"'[1]87-0-14'!F3836","v":"SOPORTE MIC/ONDAS"},{"$f":"'[1]87-0-14'!G3836*(1+$E$13)","v":29767.889500000001}]
[{"$f":"'[1]87-0-14'!B3837","v":"SMB4060S"},{"$f":"'[1]87-0-14'!D3837","v":"SO MI/ONDA BCO 40x60"},{"$f":"'[1]87-0-14'!E3837","v":"SC"},{"$f":"'[1]87-0-14'!F3837","v":"SOPORTE MIC/ONDAS"},{"$f":"'[1]87-0-14'!G3837*(1+$E$13)","v":37125.414000000004}]
[{"$f":"'[1]87-0-14'!B3838","v":"SSB10015"},{"$f":"'[1]87-0-14'!D3838","v":"SO STRON BCO 100x150"},{"$f":"'[1]87-0-14'!E3838","v":"SC"},{"$f":"'[1]87-0-14'!F3838","v":"SOPORTE"},{"$f":"'[1]87-0-14'!G3838*(1+$E$13)","v":46093.078500000003}]
[{"$f":"'[1]87-0-14'!B3839","v":"SSB15020"},{"$f":"'[1]87-0-14'!D3839","v":"SO STRON BCO 150x200"},{"$f":"'[1]87-0-14'!E3839","v":"SC"},{"$f":"'[1]87-0-14'!F3839","v":"SOPORTE"},{"$f":"'[1]87-0-14'!G3839*(1+$E$13)","v":69593.558499999999}]
[{"$f":"'[1]87-0-14'!B3840","v":"SSB20025"},{"$f":"'[1]87-0-14'!D3840","v":"SO STRON BCO 200x250"},{"$f":"'[1]87-0-14'!E3840","v":"SC"},{"$f":"'[1]87-0-14'!F3840","v":"SOPORTE"},{"$f":"'[1]87-0-14'!G3840*(1+$E$13)","v":98724.258499999996}]
[{"$f":"'[1]87-0-14'!B3841","v":"SSB25030"},{"$f":"'[1]87-0-14'!D3841","v":"SO STRON BCO 250x300"},{"$f":"'[1]87-0-14'!E3841","v":"SC"},{"$f":"'[1]87-0-14'!F3841","v":"SOPORTE"},{"$f":"'[1]87-0-14'!G3841*(1+$E$13)","v":136401.85999999999}]
[{"$f":"'[1]87-0-14'!B3842","v":"SSN10015"},{"$f":"'[1]87-0-14'!D3842","v":"SO STRON NEG 100x150"},{"$f":"'[1]87-0-14'!E3842","v":"SC"},{"$f":"'[1]87-0-14'!F3842","v":"SOPORTE"},{"$f":"'[1]87-0-14'!G3842*(1+$E$13)","v":46093.078500000003}]
[{"$f":"'[1]87-0-14'!B3843","v":"SSN15020"},{"$f":"'[1]87-0-14'!D3843","v":"SO STRON NEG 150x200"},{"$f":"'[1]87-0-14'!E3843","v":"SC"},{"$f":"'[1]87-0-14'!F3843","v":"SOPORTE"},{"$f":"'[1]87-0-14'!G3843*(1+$E$13)","v":69593.558499999999}]
[{"$f":"'[1]87-0-14'!B3844","v":"SSN20025"},{"$f":"'[1]87-0-14'!D3844","v":"SO STRON NEG 200x250"},{"$f":"'[1]87-0-14'!E3844","v":"SC"},{"$f":"'[1]87-0-14'!F3844","v":"SOPORTE"},{"$f":"'[1]87-0-14'!G3844*(1+$E$13)","v":98724.258499999996}]
[{"$f":"'[1]87-0-14'!B3845","v":"SSN25030"},{"$f":"'[1]87-0-14'!D3845","v":"SO STRON NEG 250x300"},{"$f":"'[1]87-0-14'!E3845","v":"SC"},{"$f":"'[1]87-0-14'!F3845","v":"SOPORTE"},{"$f":"'[1]87-0-14'!G3845*(1+$E$13)","v":136401.85999999999}]
[{"$f":"'[1]87-0-14'!B3846","v":"ST200300"},{"$f":"'[1]87-0-14'!D3846","v":"SO TRAV S/RE 200x300"},{"$f":"'[1]87-0-14'!E3846","v":"SC"},{"$f":"'[1]87-0-14'!F3846","v":"SOPORTE"},{"$f":"'[1]87-0-14'!G3846*(1+$E$13)","v":106303.69650000001}]
[{"$f":"'[1]87-0-14'!B3847","v":"ST250400"},{"$f":"'[1]87-0-14'!D3847","v":"SO TRAV S/RE 250x400"},{"$f":"'[1]87-0-14'!E3847","v":"SC"},{"$f":"'[1]87-0-14'!F3847","v":"SOPORTE"},{"$f":"'[1]87-0-14'!G3847*(1+$E$13)","v":138189.28900000002}]
[{"$f":"'[1]87-0-14'!B3848","v":"ST330500"},{"$f":"'[1]87-0-14'!D3848","v":"SO TRAV S/RE 330x500"},{"$f":"'[1]87-0-14'!E3848","v":"SC"},{"$f":"'[1]87-0-14'!F3848","v":"SOPORTE"},{"$f":"'[1]87-0-14'!G3848*(1+$E$13)","v":167521.30299999999}]
[{"$f":"'[1]87-0-14'!B3849","v":"STB15020"},{"$f":"'[1]87-0-14'!D3849","v":"SO TRAVE BCO 150x200"},{"$f":"'[1]87-0-14'!E3849","v":"SC"},{"$f":"'[1]87-0-14'!F3849","v":"SOPORTE"},{"$f":"'[1]87-0-14'!G3849*(1+$E$13)","v":70065.548999999999}]
[{"$f":"'[1]87-0-14'!B3850","v":"STB20025"},{"$f":"'[1]87-0-14'!D3850","v":"SO TRAVE BCO 200x250"},{"$f":"'[1]87-0-14'!E3850","v":"SC"},{"$f":"'[1]87-0-14'!F3850","v":"SOPORTE"},{"$f":"'[1]87-0-14'!G3850*(1+$E$13)","v":86721.3995}]
[{"$f":"'[1]87-0-14'!B3851","v":"STB25030"},{"$f":"'[1]87-0-14'!D3851","v":"SO TRAVE BCO 250x300"},{"$f":"'[1]87-0-14'!E3851","v":"SC"},{"$f":"'[1]87-0-14'!F3851","v":"SOPORTE"},{"$f":"'[1]87-0-14'!G3851*(1+$E$13)","v":101766.1645}]
[{"$f":"'[1]87-0-14'!B3852","v":"STB25035"},{"$f":"'[1]87-0-14'!D3852","v":"SO TRAVE BCO 250x350"},{"$f":"'[1]87-0-14'!E3852","v":"SC"},{"$f":"'[1]87-0-14'!F3852","v":"SOPORTE"},{"$f":"'[1]87-0-14'!G3852*(1+$E$13)","v":108771.095}]
[{"$f":"'[1]87-0-14'!B3853","v":"STN15020"},{"$f":"'[1]87-0-14'!D3853","v":"SO TRAVE NEG 150x200"},{"$f":"'[1]87-0-14'!E3853","v":"SC"},{"$f":"'[1]87-0-14'!F3853","v":"SOPORTE"},{"$f":"'[1]87-0-14'!G3853*(1+$E$13)","v":70065.548999999999}]
[{"$f":"'[1]87-0-14'!B3854","v":"STN20025"},{"$f":"'[1]87-0-14'!D3854","v":"SO TRAVE NEG 200x250"},{"$f":"'[1]87-0-14'!E3854","v":"SC"},{"$f":"'[1]87-0-14'!F3854","v":"SOPORTE"},{"$f":"'[1]87-0-14'!G3854*(1+$E$13)","v":86721.3995}]
[{"$f":"'[1]87-0-14'!B3855","v":"STN25030"},{"$f":"'[1]87-0-14'!D3855","v":"SO TRAVE NEG 250x300"},{"$f":"'[1]87-0-14'!E3855","v":"SC"},{"$f":"'[1]87-0-14'!F3855","v":"SOPORTE"},{"$f":"'[1]87-0-14'!G3855*(1+$E$13)","v":101766.1645}]
[{"$f":"'[1]87-0-14'!B3856","v":"STN25035"},{"$f":"'[1]87-0-14'!D3856","v":"SO TRAVE NEG 250x350"},{"$f":"'[1]87-0-14'!E3856","v":"SC"},{"$f":"'[1]87-0-14'!F3856","v":"SOPORTE"},{"$f":"'[1]87-0-14'!G3856*(1+$E$13)","v":108771.095}]
[{"$f":"'[1]87-0-14'!B3857","v":"SE5T"},{"$f":"'[1]87-0-14'!D3857","v":"SOGA ELASTICA N 5"},{"$f":"'[1]87-0-14'!E3857","v":"TENSIL"},{"$f":"'[1]87-0-14'!F3857","v":"SOGA ELASTICA"},{"$f":"'[1]87-0-14'!G3857*(1+$E$13)","v":734.6690000000001}]
[{"$f":"'[1]87-0-14'!B3858","v":"SE6T"},{"$f":"'[1]87-0-14'!D3858","v":"SOGA ELASTICA N 6"},{"$f":"'[1]87-0-14'!E3858","v":"TENSIL"},{"$f":"'[1]87-0-14'!F3858","v":"SOGA ELASTICA"},{"$f":"'[1]87-0-14'!G3858*(1+$E$13)","v":752.91250000000002}]
[{"$f":"'[1]87-0-14'!B3859","v":"SE8T"},{"$f":"'[1]87-0-14'!D3859","v":"SOGA ELASTICA N 8"},{"$f":"'[1]87-0-14'!E3859","v":"TENSIL"},{"$f":"'[1]87-0-14'!F3859","v":"SOGA ELASTICA"},{"$f":"'[1]87-0-14'!G3859*(1+$E$13)","v":1064.9585000000002}]
[{"$f":"'[1]87-0-14'!B3860","v":"SJ2N"},{"$f":"'[1]87-0-14'!D3860","v":"SOGA JASPEADA POLIPROP  2"},{"$f":"'[1]87-0-14'!E3860","v":"SELSA"},{"$f":"'[1]87-0-14'!F3860","v":"SOGA JASPEADA"},{"$f":"'[1]87-0-14'!G3860*(1+$E$13)","v":38305.429000000004}]
[{"$f":"'[1]87-0-14'!B3861","v":"SJ28N"},{"$f":"'[1]87-0-14'!D3861","v":"SOGA JASPEADA POLIPROP 28"},{"$f":"'[1]87-0-14'!E3861","v":"SELSA"},{"$f":"'[1]87-0-14'!F3861","v":"SOGA JASPEADA"},{"$f":"'[1]87-0-14'!G3861*(1+$E$13)","v":38305.429000000004}]
[{"$f":"'[1]87-0-14'!B3862","v":"SN2N"},{"$f":"'[1]87-0-14'!D3862","v":"SOGA NATURAL N  2"},{"$f":"'[1]87-0-14'!E3862","v":"NAVEGANTE"},{"$f":"'[1]87-0-14'!F3862","v":"SOGA POLIETILENO"},{"$f":"'[1]87-0-14'!G3862*(1+$E$13)","v":21189.1355}]
[{"$f":"'[1]87-0-14'!B3863","v":"SN24BR"},{"$f":"'[1]87-0-14'!D3863","v":"SOGA NYLON RED N 24"},{"$f":"'[1]87-0-14'!E3863","v":"SELSA"},{"$f":"'[1]87-0-14'!F3863","v":"SOGA NYLON"},{"$f":"'[1]87-0-14'!G3863*(1+$E$13)","v":1073338.4819999998}]
[{"$f":"'[1]87-0-14'!B3864","v":"SN3"},{"$f":"'[1]87-0-14'!D3864","v":"SOGA POLIE NATUR N  3"},{"$f":"'[1]87-0-14'!E3864","v":"NAVEGANTE"},{"$f":"'[1]87-0-14'!F3864","v":"SOGA POLIETILENO"},{"$f":"'[1]87-0-14'!G3864*(1+$E$13)","v":21189.1355}]
[{"$f":"'[1]87-0-14'!B3865","v":"SN4"},{"$f":"'[1]87-0-14'!D3865","v":"SOGA POLIE NATUR N  4"},{"$f":"'[1]87-0-14'!E3865","v":"NAVEGANTE"},{"$f":"'[1]87-0-14'!F3865","v":"SOGA POLIETILENO"},{"$f":"'[1]87-0-14'!G3865*(1+$E$13)","v":21189.1355}]
[{"$f":"'[1]87-0-14'!B3866","v":"SN5"},{"$f":"'[1]87-0-14'!D3866","v":"SOGA POLIE NATUR N  5"},{"$f":"'[1]87-0-14'!E3866","v":"NAVEGANTE"},{"$f":"'[1]87-0-14'!F3866","v":"SOGA POLIETILENO"},{"$f":"'[1]87-0-14'!G3866*(1+$E$13)","v":21189.1355}]
[{"$f":"'[1]87-0-14'!B3867","v":"SN6"},{"$f":"'[1]87-0-14'!D3867","v":"SOGA POLIE NATUR N  6"},{"$f":"'[1]87-0-14'!E3867","v":"NAVEGANTE"},{"$f":"'[1]87-0-14'!F3867","v":"SOGA POLIETILENO"},{"$f":"'[1]87-0-14'!G3867*(1+$E$13)","v":21189.1355}]
[{"$f":"'[1]87-0-14'!B3868","v":"SN8"},{"$f":"'[1]87-0-14'!D3868","v":"SOGA POLIE NATUR N  8"},{"$f":"'[1]87-0-14'!E3868","v":"NAVEGANTE"},{"$f":"'[1]87-0-14'!F3868","v":"SOGA POLIETILENO"},{"$f":"'[1]87-0-14'!G3868*(1+$E$13)","v":21189.1355}]
[{"$f":"'[1]87-0-14'!B3869","v":"SN10"},{"$f":"'[1]87-0-14'!D3869","v":"SOGA POLIE NATUR N 10"},{"$f":"'[1]87-0-14'!E3869","v":"NAVEGANTE"},{"$f":"'[1]87-0-14'!F3869","v":"SOGA POLIETILENO"},{"$f":"'[1]87-0-14'!G3869*(1+$E$13)","v":21189.1355}]
[{"$f":"'[1]87-0-14'!B3870","v":"SR4"},{"$f":"'[1]87-0-14'!D3870","v":"SOGA REVES N 4 ROL X 200m"},{"$f":"'[1]87-0-14'!E3870","v":"TECNOTEX"},{"$f":"'[1]87-0-14'!F3870","v":"SOGA REVESTIDA"},{"$f":"'[1]87-0-14'!G3870*(1+$E$13)","v":53818.588499999998}]
[{"$f":"'[1]87-0-14'!B3871","v":"SR5"},{"$f":"'[1]87-0-14'!D3871","v":"SOGA REVES N 5 ROL X 150m"},{"$f":"'[1]87-0-14'!E3871","v":"TECNOTEX"},{"$f":"'[1]87-0-14'!F3871","v":"SOGA REVESTIDA"},{"$f":"'[1]87-0-14'!G3871*(1+$E$13)","v":53818.728000000003}]
[{"$f":"'[1]87-0-14'!B3872","v":"SR6"},{"$f":"'[1]87-0-14'!D3872","v":"SOGA REVES N 6 ROL X 100m"},{"$f":"'[1]87-0-14'!E3872","v":"TECNOTEX"},{"$f":"'[1]87-0-14'!F3872","v":"SOGA REVESTIDA"},{"$f":"'[1]87-0-14'!G3872*(1+$E$13)","v":53818.588499999998}]
[{"$f":"'[1]87-0-14'!B3873","v":"SR8"},{"$f":"'[1]87-0-14'!D3873","v":"SOGA REVES N 8 ROL X 100m"},{"$f":"'[1]87-0-14'!E3873","v":"TECNOTEX"},{"$f":"'[1]87-0-14'!F3873","v":"SOGA REVESTIDA"},{"$f":"'[1]87-0-14'!G3873*(1+$E$13)","v":86109.599000000002}]
[{"$f":"'[1]87-0-14'!B3874","v":"SJ3N"},{"$f":"'[1]87-0-14'!D3874","v":"SOGA TRENZADA POLIPROP  3"},{"$f":"'[1]87-0-14'!E3874","v":"TENSIL"},{"$f":"'[1]87-0-14'!F3874","v":"SOGA TRENZADA"},{"$f":"'[1]87-0-14'!G3874*(1+$E$13)","v":99.944000000000003}]
[{"$f":"'[1]87-0-14'!B3875","v":"SJ4N"},{"$f":"'[1]87-0-14'!D3875","v":"SOGA TRENZADA POLIPROP  4"},{"$f":"'[1]87-0-14'!E3875","v":"TENSIL"},{"$f":"'[1]87-0-14'!F3875","v":"SOGA TRENZADA"},{"$f":"'[1]87-0-14'!G3875*(1+$E$13)","v":114.018}]
[{"$f":"'[1]87-0-14'!B3876","v":"SJ5N"},{"$f":"'[1]87-0-14'!D3876","v":"SOGA TRENZADA POLIPROP  5"},{"$f":"'[1]87-0-14'!E3876","v":"TENSIL"},{"$f":"'[1]87-0-14'!F3876","v":"SOGA TRENZADA"},{"$f":"'[1]87-0-14'!G3876*(1+$E$13)","v":137.93449999999999}]
[{"$f":"'[1]87-0-14'!B3877","v":"SJ6N"},{"$f":"'[1]87-0-14'!D3877","v":"SOGA TRENZADA POLIPROP  6"},{"$f":"'[1]87-0-14'!E3877","v":"TENSIL"},{"$f":"'[1]87-0-14'!F3877","v":"SOGA TRENZADA"},{"$f":"'[1]87-0-14'!G3877*(1+$E$13)","v":175.584}]
[{"$f":"'[1]87-0-14'!B3878","v":"SJ7N"},{"$f":"'[1]87-0-14'!D3878","v":"SOGA TRENZADA POLIPROP  7"},{"$f":"'[1]87-0-14'!E3878","v":"TENSIL"},{"$f":"'[1]87-0-14'!F3878","v":"SOGA TRENZADA"},{"$f":"'[1]87-0-14'!G3878*(1+$E$13)","v":263.12799999999999}]
[{"$f":"'[1]87-0-14'!B3879","v":"SJ8N"},{"$f":"'[1]87-0-14'!D3879","v":"SOGA TRENZADA POLIPROP  8"},{"$f":"'[1]87-0-14'!E3879","v":"TENSIL"},{"$f":"'[1]87-0-14'!F3879","v":"SOGA TRENZADA"},{"$f":"'[1]87-0-14'!G3879*(1+$E$13)","v":351.10600000000005}]
[{"$f":"'[1]87-0-14'!B3880","v":"SJ10N"},{"$f":"'[1]87-0-14'!D3880","v":"SOGA TRENZADA POLIPROP 10"},{"$f":"'[1]87-0-14'!E3880","v":"TENSIL"},{"$f":"'[1]87-0-14'!F3880","v":"SOGA TRENZADA"},{"$f":"'[1]87-0-14'!G3880*(1+$E$13)","v":526.65899999999999}]
[{"$f":"'[1]87-0-14'!B3881","v":"SJ12N"},{"$f":"'[1]87-0-14'!D3881","v":"SOGA TRENZADA POLIPROP 12"},{"$f":"'[1]87-0-14'!E3881","v":"TENSIL"},{"$f":"'[1]87-0-14'!F3881","v":"SOGA TRENZADA"},{"$f":"'[1]87-0-14'!G3881*(1+$E$13)","v":789.15150000000006}]
[{"$f":"'[1]87-0-14'!B3882","v":"SJ14N"},{"$f":"'[1]87-0-14'!D3882","v":"SOGA TRENZADA POLIPROP 14"},{"$f":"'[1]87-0-14'!E3882","v":"TENSIL"},{"$f":"'[1]87-0-14'!F3882","v":"SOGA TRENZADA"},{"$f":"'[1]87-0-14'!G3882*(1+$E$13)","v":1089.867}]
[{"$f":"'[1]87-0-14'!B3883","v":"SJ16N"},{"$f":"'[1]87-0-14'!D3883","v":"SOGA TRENZADA POLIPROP 16"},{"$f":"'[1]87-0-14'!E3883","v":"TENSIL"},{"$f":"'[1]87-0-14'!F3883","v":"SOGA TRENZADA"},{"$f":"'[1]87-0-14'!G3883*(1+$E$13)","v":1328.2414999999999}]
[{"$f":"'[1]87-0-14'!B3884","v":"SJ18N"},{"$f":"'[1]87-0-14'!D3884","v":"SOGA TRENZADA POLIPROP 18"},{"$f":"'[1]87-0-14'!E3884","v":"TENSIL"},{"$f":"'[1]87-0-14'!F3884","v":"SOGA TRENZADA"},{"$f":"'[1]87-0-14'!G3884*(1+$E$13)","v":1722.7320000000002}]
[{"$f":"'[1]87-0-14'!B3885","v":"SJ20N"},{"$f":"'[1]87-0-14'!D3885","v":"SOGA TRENZADA POLIPROP 20"},{"$f":"'[1]87-0-14'!E3885","v":"TENSIL"},{"$f":"'[1]87-0-14'!F3885","v":"SOGA TRENZADA"},{"$f":"'[1]87-0-14'!G3885*(1+$E$13)","v":2090.7795000000001}]
[{"$f":"'[1]87-0-14'!B3886","v":"SJ22N"},{"$f":"'[1]87-0-14'!D3886","v":"SOGA TRENZADA POLIPROP 22"},{"$f":"'[1]87-0-14'!E3886","v":"TENSIL"},{"$f":"'[1]87-0-14'!F3886","v":"SOGA TRENZADA"},{"$f":"'[1]87-0-14'!G3886*(1+$E$13)","v":2465.4609999999998}]
[{"$f":"'[1]87-0-14'!B3887","v":"SJ24N"},{"$f":"'[1]87-0-14'!D3887","v":"SOGA TRENZADA POLIPROP 24"},{"$f":"'[1]87-0-14'!E3887","v":"TENSIL"},{"$f":"'[1]87-0-14'!F3887","v":"SOGA TRENZADA"},{"$f":"'[1]87-0-14'!G3887*(1+$E$13)","v":2846.5905000000002}]
[{"$f":"'[1]87-0-14'!B3888","v":"SFN10015"},{"$f":"'[1]87-0-14'!D3888","v":"SOP #FORTE# NEGRO 100x150"},{"$f":"'[1]87-0-14'!E3888","v":"SC"},{"$f":"'[1]87-0-14'!F3888","v":"SOPORTE"},{"$f":"'[1]87-0-14'!G3888*(1+$E$13)","v":78978.436500000011}]
[{"$f":"'[1]87-0-14'!B3889","v":"SFN10020"},{"$f":"'[1]87-0-14'!D3889","v":"SOP #FORTE# NEGRO 100x200"},{"$f":"'[1]87-0-14'!E3889","v":"SC"},{"$f":"'[1]87-0-14'!F3889","v":"SOPORTE"},{"$f":"'[1]87-0-14'!G3889*(1+$E$13)","v":95420.418000000005}]
[{"$f":"'[1]87-0-14'!B3890","v":"SFN10025"},{"$f":"'[1]87-0-14'!D3890","v":"SOP #FORTE# NEGRO 100x250"},{"$f":"'[1]87-0-14'!E3890","v":"SC"},{"$f":"'[1]87-0-14'!F3890","v":"SOPORTE"},{"$f":"'[1]87-0-14'!G3890*(1+$E$13)","v":109991.78200000001}]
[{"$f":"'[1]87-0-14'!B3891","v":"SFN15030"},{"$f":"'[1]87-0-14'!D3891","v":"SOP #FORTE# NEGRO 150x300"},{"$f":"'[1]87-0-14'!E3891","v":"SC"},{"$f":"'[1]87-0-14'!F3891","v":"SOPORTE"},{"$f":"'[1]87-0-14'!G3891*(1+$E$13)","v":139012.86600000001}]
[{"$f":"'[1]87-0-14'!B3892","v":"SB125150"},{"$f":"'[1]87-0-14'!D3892","v":"SOP ESTANT BLANCO 100x150"},{"$f":"'[1]87-0-14'!E3892","v":"SC"},{"$f":"'[1]87-0-14'!F3892","v":"SOPORTE"},{"$f":"'[1]87-0-14'!G3892*(1+$E$13)","v":28412.197500000002}]
[{"$f":"'[1]87-0-14'!B3893","v":"SB150200"},{"$f":"'[1]87-0-14'!D3893","v":"SOP ESTANT BLANCO 150x200"},{"$f":"'[1]87-0-14'!E3893","v":"SC"},{"$f":"'[1]87-0-14'!F3893","v":"SOPORTE"},{"$f":"'[1]87-0-14'!G3893*(1+$E$13)","v":38621.040000000001}]
[{"$f":"'[1]87-0-14'!B3894","v":"SB200250"},{"$f":"'[1]87-0-14'!D3894","v":"SOP ESTANT BLANCO 200x250"},{"$f":"'[1]87-0-14'!E3894","v":"SC"},{"$f":"'[1]87-0-14'!F3894","v":"SOPORTE"},{"$f":"'[1]87-0-14'!G3894*(1+$E$13)","v":47405.494500000001}]
[{"$f":"'[1]87-0-14'!B3895","v":"SB250300"},{"$f":"'[1]87-0-14'!D3895","v":"SOP ESTANT BLANCO 250x300"},{"$f":"'[1]87-0-14'!E3895","v":"SC"},{"$f":"'[1]87-0-14'!F3895","v":"SOPORTE"},{"$f":"'[1]87-0-14'!G3895*(1+$E$13)","v":54189.379500000003}]
[{"$f":"'[1]87-0-14'!B3896","v":"SN125150"},{"$f":"'[1]87-0-14'!D3896","v":"SOP ESTANTE NEGRO 100x150"},{"$f":"'[1]87-0-14'!E3896","v":"SC"},{"$f":"'[1]87-0-14'!F3896","v":"SOPORTE"},{"$f":"'[1]87-0-14'!G3896*(1+$E$13)","v":28412.197500000002}]
[{"$f":"'[1]87-0-14'!B3897","v":"SN150200"},{"$f":"'[1]87-0-14'!D3897","v":"SOP ESTANTE NEGRO 150x200"},{"$f":"'[1]87-0-14'!E3897","v":"SC"},{"$f":"'[1]87-0-14'!F3897","v":"SOPORTE"},{"$f":"'[1]87-0-14'!G3897*(1+$E$13)","v":38621.040000000001}]
[{"$f":"'[1]87-0-14'!B3898","v":"SN200250"},{"$f":"'[1]87-0-14'!D3898","v":"SOP ESTANTE NEGRO 200x250"},{"$f":"'[1]87-0-14'!E3898","v":"SC"},{"$f":"'[1]87-0-14'!F3898","v":"SOPORTE"},{"$f":"'[1]87-0-14'!G3898*(1+$E$13)","v":47405.494500000001}]
[{"$f":"'[1]87-0-14'!B3899","v":"SN250300"},{"$f":"'[1]87-0-14'!D3899","v":"SOP ESTANTE NEGRO 250x300"},{"$f":"'[1]87-0-14'!E3899","v":"SC"},{"$f":"'[1]87-0-14'!F3899","v":"SOPORTE"},{"$f":"'[1]87-0-14'!G3899*(1+$E$13)","v":54189.379500000003}]
[{"$f":"'[1]87-0-14'!B3900","v":"SMSC"},{"$f":"'[1]87-0-14'!D3900","v":"SOP MANGUERA METAL BLANCO"},{"$f":"'[1]87-0-14'!E3900","v":"SC"},{"$f":"'[1]87-0-14'!F3900","v":"SOPORTE"},{"$f":"'[1]87-0-14'!G3900*(1+$E$13)","v":100873.33350000001}]
[{"$f":"'[1]87-0-14'!B3901","v":"SVCTBS"},{"$f":"'[1]87-0-14'!D3901","v":"SOP VAR/CH TORN BRON"},{"$f":"'[1]87-0-14'!E3901","v":"SABELCORT"},{"$f":"'[1]87-0-14'!F3901","v":"SOPORTE V/CHATA"},{"$f":"'[1]87-0-14'!G3901*(1+$E$13)","v":58278.031500000005}]
[{"$f":"'[1]87-0-14'!B3902","v":"SVCPBS"},{"$f":"'[1]87-0-14'!D3902","v":"SOP VAR/CHA PRE BRON"},{"$f":"'[1]87-0-14'!E3902","v":"SABELCORT"},{"$f":"'[1]87-0-14'!F3902","v":"SOPORTE V/CHATA"},{"$f":"'[1]87-0-14'!G3902*(1+$E$13)","v":31064.216500000002}]
[{"$f":"'[1]87-0-14'!B3903","v":"SVCPNS"},{"$f":"'[1]87-0-14'!D3903","v":"SOP VAR/CHA PRES NIQ"},{"$f":"'[1]87-0-14'!E3903","v":"SABELCORT"},{"$f":"'[1]87-0-14'!F3903","v":"SOPORTE V/CHATA"},{"$f":"'[1]87-0-14'!G3903*(1+$E$13)","v":31064.216500000002}]
[{"$f":"'[1]87-0-14'!B3904","v":"SVCTNS"},{"$f":"'[1]87-0-14'!D3904","v":"SOP VAR/CHA TORN NIQ"},{"$f":"'[1]87-0-14'!E3904","v":"SABELCORT"},{"$f":"'[1]87-0-14'!F3904","v":"SOPORTE V/CHATA"},{"$f":"'[1]87-0-14'!G3904*(1+$E$13)","v":58278.031500000005}]
[{"$f":"'[1]87-0-14'!B3905","v":"SPCAA"},{"$f":"'[1]87-0-14'!D3905","v":"SOP.PISTOLA C/ACC"},{"$f":"'[1]87-0-14'!E3905","v":"ALIGAS"},{"$f":"'[1]87-0-14'!F3905","v":"SOPLETE PISTOLA"},{"$f":"'[1]87-0-14'!G3905*(1+$E$13)","v":23113.522500000003}]
[{"$f":"'[1]87-0-14'!B3906","v":"SPSAA"},{"$f":"'[1]87-0-14'!D3906","v":"SOP.PISTOLA S/ACC"},{"$f":"'[1]87-0-14'!E3906","v":"ALIGAS"},{"$f":"'[1]87-0-14'!F3906","v":"SOPLETE PISTOLA"},{"$f":"'[1]87-0-14'!G3906*(1+$E$13)","v":23113.522500000003}]
[{"$f":"'[1]87-0-14'!B3907","v":"SP40V"},{"$f":"'[1]87-0-14'!D3907","v":"SOPAPA PLAS REJI/METAL 40"},{"$f":"'[1]87-0-14'!E3907","v":"VITAL GAS"},{"$f":"'[1]87-0-14'!F3907","v":"SOPAPA"},{"$f":"'[1]87-0-14'!G3907*(1+$E$13)","v":1317.221}]
[{"$f":"'[1]87-0-14'!B3908","v":"SP50V"},{"$f":"'[1]87-0-14'!D3908","v":"SOPAPA PLAS REJI/METAL 50"},{"$f":"'[1]87-0-14'!E3908","v":"VITAL GAS"},{"$f":"'[1]87-0-14'!F3908","v":"SOPAPA"},{"$f":"'[1]87-0-14'!G3908*(1+$E$13)","v":1580.6434999999999}]
[{"$f":"'[1]87-0-14'!B3909","v":"SRM40D"},{"$f":"'[1]87-0-14'!D3909","v":"SOPAPA REJI/METAL 40"},{"$f":"'[1]87-0-14'!E3909","v":"DUKE"},{"$f":"'[1]87-0-14'!F3909","v":"SOPAPA"},{"$f":"'[1]87-0-14'!G3909*(1+$E$13)","v":3526.7770000000005}]
[{"$f":"'[1]87-0-14'!B3910","v":"SRM50D"},{"$f":"'[1]87-0-14'!D3910","v":"SOPAPA REJI/METAL 50"},{"$f":"'[1]87-0-14'!E3910","v":"DUKE"},{"$f":"'[1]87-0-14'!F3910","v":"SOPAPA"},{"$f":"'[1]87-0-14'!G3910*(1+$E$13)","v":4136.7484999999997}]
[{"$f":"'[1]87-0-14'!B3911","v":"SRP40D"},{"$f":"'[1]87-0-14'!D3911","v":"SOPAPA REJI/PLAST 40"},{"$f":"'[1]87-0-14'!E3911","v":"DUKE"},{"$f":"'[1]87-0-14'!F3911","v":"SOPAPA"},{"$f":"'[1]87-0-14'!G3911*(1+$E$13)","v":2616.9115000000002}]
[{"$f":"'[1]87-0-14'!B3912","v":"SRP50D"},{"$f":"'[1]87-0-14'!D3912","v":"SOPAPA REJI/PLAST 50"},{"$f":"'[1]87-0-14'!E3912","v":"DUKE"},{"$f":"'[1]87-0-14'!F3912","v":"SOPAPA"},{"$f":"'[1]87-0-14'!G3912*(1+$E$13)","v":3468.4349999999999}]
[{"$f":"'[1]87-0-14'!B3913","v":"SCMC3A"},{"$f":"'[1]87-0-14'!D3913","v":"SOPL ZING C/MART CURVO  3"},{"$f":"'[1]87-0-14'!E3913","v":"ALIGAS"},{"$f":"'[1]87-0-14'!F3913","v":"SOPLETE C/MART."},{"$f":"'[1]87-0-14'!G3913*(1+$E$13)","v":39246.511500000001}]
[{"$f":"'[1]87-0-14'!B3914","v":"SCMC10A"},{"$f":"'[1]87-0-14'!D3914","v":"SOPL ZING C/MART CURVO 10"},{"$f":"'[1]87-0-14'!E3914","v":"ALIGAS"},{"$f":"'[1]87-0-14'!F3914","v":"SOPLETE C/MART."},{"$f":"'[1]87-0-14'!G3914*(1+$E$13)","v":39246.511500000001}]
[{"$f":"'[1]87-0-14'!B3915","v":"SCMR3A"},{"$f":"'[1]87-0-14'!D3915","v":"SOPL ZING C/MART RECTO  3"},{"$f":"'[1]87-0-14'!E3915","v":"ALIGAS"},{"$f":"'[1]87-0-14'!F3915","v":"SOPLETE C/MART."},{"$f":"'[1]87-0-14'!G3915*(1+$E$13)","v":39246.511500000001}]
[{"$f":"'[1]87-0-14'!B3916","v":"SCMR10A"},{"$f":"'[1]87-0-14'!D3916","v":"SOPL ZING C/MART RECTO 10"},{"$f":"'[1]87-0-14'!E3916","v":"ALIGAS"},{"$f":"'[1]87-0-14'!F3916","v":"SOPLETE C/MART."},{"$f":"'[1]87-0-14'!G3916*(1+$E$13)","v":39246.511500000001}]
[{"$f":"'[1]87-0-14'!B3917","v":"SA2200C3"},{"$f":"'[1]87-0-14'!D3917","v":"SOPLE PLOM A2200 CURVO  3"},{"$f":"'[1]87-0-14'!E3917","v":"ALIGAS"},{"$f":"'[1]87-0-14'!F3917","v":"SOPLETE S/MART."},{"$f":"'[1]87-0-14'!G3917*(1+$E$13)","v":22579.935000000001}]
[{"$f":"'[1]87-0-14'!B3918","v":"SA2200C1"},{"$f":"'[1]87-0-14'!D3918","v":"SOPLE PLOM A2200 CURVO 10"},{"$f":"'[1]87-0-14'!E3918","v":"ALIGAS"},{"$f":"'[1]87-0-14'!F3918","v":"SOPLETE S/MART."},{"$f":"'[1]87-0-14'!G3918*(1+$E$13)","v":22579.935000000001}]
[{"$f":"'[1]87-0-14'!B3919","v":"SA2200R3"},{"$f":"'[1]87-0-14'!D3919","v":"SOPLE PLOM A2200 RECTO  3"},{"$f":"'[1]87-0-14'!E3919","v":"ALIGAS"},{"$f":"'[1]87-0-14'!F3919","v":"SOPLETE MEMBRANA"},{"$f":"'[1]87-0-14'!G3919*(1+$E$13)","v":28232.645500000002}]
[{"$f":"'[1]87-0-14'!B3920","v":"SA2200R1"},{"$f":"'[1]87-0-14'!D3920","v":"SOPLE PLOM A2200 RECTO 10"},{"$f":"'[1]87-0-14'!E3920","v":"ALIGAS"},{"$f":"'[1]87-0-14'!F3920","v":"SOPLETE S/MART."},{"$f":"'[1]87-0-14'!G3920*(1+$E$13)","v":22579.935000000001}]
[{"$f":"'[1]87-0-14'!B3921","v":"SA38003A"},{"$f":"'[1]87-0-14'!D3921","v":"SOPLETE A3800  3 kgs"},{"$f":"'[1]87-0-14'!E3921","v":"ALIGAS"},{"$f":"'[1]87-0-14'!F3921","v":"SOPLETE MEMBRANA"},{"$f":"'[1]87-0-14'!G3921*(1+$E$13)","v":24003.346500000003}]
[{"$f":"'[1]87-0-14'!B3922","v":"SA380010"},{"$f":"'[1]87-0-14'!D3922","v":"SOPLETE A3800 10 kgs"},{"$f":"'[1]87-0-14'!E3922","v":"ALIGAS"},{"$f":"'[1]87-0-14'!F3922","v":"SOPLETE MEMBRANA"},{"$f":"'[1]87-0-14'!G3922*(1+$E$13)","v":24003.346500000003}]
[{"$f":"'[1]87-0-14'!B3923","v":"SA3800SM"},{"$f":"'[1]87-0-14'!D3923","v":"SOPLETE A3800 S/MANG"},{"$f":"'[1]87-0-14'!E3923","v":"ALIGAS"},{"$f":"'[1]87-0-14'!F3923","v":"SOPLETE MEMBRANA"},{"$f":"'[1]87-0-14'!G3923*(1+$E$13)","v":20814.4385}]
[{"$f":"'[1]87-0-14'!B3924","v":"SA50003A"},{"$f":"'[1]87-0-14'!D3924","v":"SOPLETE A5000  3 kgs"},{"$f":"'[1]87-0-14'!E3924","v":"ALIGAS"},{"$f":"'[1]87-0-14'!F3924","v":"SOPLETE MEMBRANA"},{"$f":"'[1]87-0-14'!G3924*(1+$E$13)","v":25709.788}]
[{"$f":"'[1]87-0-14'!B3925","v":"SA500010"},{"$f":"'[1]87-0-14'!D3925","v":"SOPLETE A5000 10 kgs"},{"$f":"'[1]87-0-14'!E3925","v":"ALIGAS"},{"$f":"'[1]87-0-14'!F3925","v":"SOPLETE MEMBRANA"},{"$f":"'[1]87-0-14'!G3925*(1+$E$13)","v":25709.788}]
[{"$f":"'[1]87-0-14'!B3926","v":"SA5000GA"},{"$f":"'[1]87-0-14'!D3926","v":"SOPLETE A5000 GATILL"},{"$f":"'[1]87-0-14'!E3926","v":"ALIGAS"},{"$f":"'[1]87-0-14'!F3926","v":"SOPLETE MEMBRANA"},{"$f":"'[1]87-0-14'!G3926*(1+$E$13)","v":31240.4205}]
[{"$f":"'[1]87-0-14'!B3927","v":"SA5000SM"},{"$f":"'[1]87-0-14'!D3927","v":"SOPLETE A5000 S/MANG"},{"$f":"'[1]87-0-14'!E3927","v":"ALIGAS"},{"$f":"'[1]87-0-14'!F3927","v":"SOPLETE MEMBRANA"},{"$f":"'[1]87-0-14'!G3927*(1+$E$13)","v":21876.808499999999}]
[{"$f":"'[1]87-0-14'!B3928","v":"SA6000CM"},{"$f":"'[1]87-0-14'!D3928","v":"SOPLETE A6000 C/MANG"},{"$f":"'[1]87-0-14'!E3928","v":"ALIGAS"},{"$f":"'[1]87-0-14'!F3928","v":"SOPLETE MEMBRANA"},{"$f":"'[1]87-0-14'!G3928*(1+$E$13)","v":30395.221000000001}]
[{"$f":"'[1]87-0-14'!B3929","v":"SA6000GA"},{"$f":"'[1]87-0-14'!D3929","v":"SOPLETE A6000 GATILL"},{"$f":"'[1]87-0-14'!E3929","v":"ALIGAS"},{"$f":"'[1]87-0-14'!F3929","v":"SOPLETE MEMBRANA"},{"$f":"'[1]87-0-14'!G3929*(1+$E$13)","v":36932.578500000003}]
[{"$f":"'[1]87-0-14'!B3930","v":"SA6000SM"},{"$f":"'[1]87-0-14'!D3930","v":"SOPLETE A6000 S/MANG"},{"$f":"'[1]87-0-14'!E3930","v":"ALIGAS"},{"$f":"'[1]87-0-14'!F3930","v":"SOPLETE MEMBRANA"},{"$f":"'[1]87-0-14'!G3930*(1+$E$13)","v":31434.480500000001}]
[{"$f":"'[1]87-0-14'!B3931","v":"SAASC"},{"$f":"'[1]87-0-14'!D3931","v":"SOPOR ALACENA ANGULO"},{"$f":"'[1]87-0-14'!E3931","v":"SC"},{"$f":"'[1]87-0-14'!F3931","v":"SOPORTE"},{"$f":"'[1]87-0-14'!G3931*(1+$E$13)","v":8906.8270000000011}]
[{"$f":"'[1]87-0-14'!B3932","v":"SM12AS"},{"$f":"'[1]87-0-14'!D3932","v":"SOPOR MENSU ABIE 1/2"},{"$f":"'[1]87-0-14'!E3932","v":"SABELCORT"},{"$f":"'[1]87-0-14'!F3932","v":"SOPORTE MENSULA"},{"$f":"'[1]87-0-14'!G3932*(1+$E$13)","v":3757.6960000000004}]
[{"$f":"'[1]87-0-14'!B3933","v":"SMA58S"},{"$f":"'[1]87-0-14'!D3933","v":"SOPOR MENSU ABIE 5/8"},{"$f":"'[1]87-0-14'!E3933","v":"SABELCORT"},{"$f":"'[1]87-0-14'!F3933","v":"SOPORTE MENSULA"},{"$f":"'[1]87-0-14'!G3933*(1+$E$13)","v":3757.6960000000004}]
[{"$f":"'[1]87-0-14'!B3934","v":"SMC12S"},{"$f":"'[1]87-0-14'!D3934","v":"SOPOR MENSU CERR 1/2"},{"$f":"'[1]87-0-14'!E3934","v":"SABELCORT"},{"$f":"'[1]87-0-14'!F3934","v":"SOPORTE MENSULA"},{"$f":"'[1]87-0-14'!G3934*(1+$E$13)","v":3757.6960000000004}]
[{"$f":"'[1]87-0-14'!B3935","v":"SMC58S"},{"$f":"'[1]87-0-14'!D3935","v":"SOPOR MENSU CERR 5/8"},{"$f":"'[1]87-0-14'!E3935","v":"SABELCORT"},{"$f":"'[1]87-0-14'!F3935","v":"SOPORTE MENSULA"},{"$f":"'[1]87-0-14'!G3935*(1+$E$13)","v":3757.6960000000004}]
[{"$f":"'[1]87-0-14'!B3936","v":"SZA12A"},{"$f":"'[1]87-0-14'!D3936","v":"SOPOR ZAMAC ABIE 1/2"},{"$f":"'[1]87-0-14'!E3936","v":"ALEX"},{"$f":"'[1]87-0-14'!F3936","v":"SOPORTE ZAMAC"},{"$f":"'[1]87-0-14'!G3936*(1+$E$13)","v":2098.1575000000003}]
[{"$f":"'[1]87-0-14'!B3937","v":"SZA58A"},{"$f":"'[1]87-0-14'!D3937","v":"SOPOR ZAMAC ABIE 5/8"},{"$f":"'[1]87-0-14'!E3937","v":"ALEX"},{"$f":"'[1]87-0-14'!F3937","v":"SOPORTE ZAMAC"},{"$f":"'[1]87-0-14'!G3937*(1+$E$13)","v":2098.1575000000003}]
[{"$f":"'[1]87-0-14'!B3938","v":"SZC12A"},{"$f":"'[1]87-0-14'!D3938","v":"SOPOR ZAMAC CERR 1/2"},{"$f":"'[1]87-0-14'!E3938","v":"ALEX"},{"$f":"'[1]87-0-14'!F3938","v":"SOPORTE ZAMAC"},{"$f":"'[1]87-0-14'!G3938*(1+$E$13)","v":2098.1575000000003}]
[{"$f":"'[1]87-0-14'!B3939","v":"SZC58A"},{"$f":"'[1]87-0-14'!D3939","v":"SOPOR ZAMAC CERR 5/8"},{"$f":"'[1]87-0-14'!E3939","v":"ALEX"},{"$f":"'[1]87-0-14'!F3939","v":"SOPORTE ZAMAC"},{"$f":"'[1]87-0-14'!G3939*(1+$E$13)","v":2098.1575000000003}]
[{"$f":"'[1]87-0-14'!B3940","v":"SAPSC"},{"$f":"'[1]87-0-14'!D3940","v":"SOPORT ALACENA PLANO"},{"$f":"'[1]87-0-14'!E3940","v":"SC"},{"$f":"'[1]87-0-14'!F3940","v":"SOPORTE"},{"$f":"'[1]87-0-14'!G3940*(1+$E$13)","v":9160.5155000000013}]
[{"$f":"'[1]87-0-14'!B3941","v":"SCA12S"},{"$f":"'[1]87-0-14'!D3941","v":"SOPORT CORT/ABIE 1/2"},{"$f":"'[1]87-0-14'!E3941","v":"SABELCORT"},{"$f":"'[1]87-0-14'!F3941","v":"SOPORTE"},{"$f":"'[1]87-0-14'!G3941*(1+$E$13)","v":774.79849999999999}]
[{"$f":"'[1]87-0-14'!B3942","v":"SCA34S"},{"$f":"'[1]87-0-14'!D3942","v":"SOPORT CORT/ABIE 3/4"},{"$f":"'[1]87-0-14'!E3942","v":"SABELCORT"},{"$f":"'[1]87-0-14'!F3942","v":"SOPORTE"},{"$f":"'[1]87-0-14'!G3942*(1+$E$13)","v":906.81200000000001}]
[{"$f":"'[1]87-0-14'!B3943","v":"SCA58S"},{"$f":"'[1]87-0-14'!D3943","v":"SOPORT CORT/ABIE 5/8"},{"$f":"'[1]87-0-14'!E3943","v":"SABELCORT"},{"$f":"'[1]87-0-14'!F3943","v":"SOPORTE"},{"$f":"'[1]87-0-14'!G3943*(1+$E$13)","v":867.51950000000011}]
[{"$f":"'[1]87-0-14'!B3944","v":"SCC12S"},{"$f":"'[1]87-0-14'!D3944","v":"SOPORT CORT/CERR 1/2"},{"$f":"'[1]87-0-14'!E3944","v":"SABELCORT"},{"$f":"'[1]87-0-14'!F3944","v":"SOPORTE"},{"$f":"'[1]87-0-14'!G3944*(1+$E$13)","v":774.79849999999999}]
[{"$f":"'[1]87-0-14'!B3945","v":"SCC34S"},{"$f":"'[1]87-0-14'!D3945","v":"SOPORT CORT/CERR 3/4"},{"$f":"'[1]87-0-14'!E3945","v":"SABELCORT"},{"$f":"'[1]87-0-14'!F3945","v":"SOPORTE"},{"$f":"'[1]87-0-14'!G3945*(1+$E$13)","v":906.81200000000001}]
[{"$f":"'[1]87-0-14'!B3946","v":"SCC58S"},{"$f":"'[1]87-0-14'!D3946","v":"SOPORT CORT/CERR 5/8"},{"$f":"'[1]87-0-14'!E3946","v":"SABELCORT"},{"$f":"'[1]87-0-14'!F3946","v":"SOPORTE"},{"$f":"'[1]87-0-14'!G3946*(1+$E$13)","v":867.51950000000011}]
[{"$f":"'[1]87-0-14'!B3947","v":"SLA34S"},{"$f":"'[1]87-0-14'!D3947","v":"SOPORT LARG/ABIE 3/4"},{"$f":"'[1]87-0-14'!E3947","v":"SABELCORT"},{"$f":"'[1]87-0-14'!F3947","v":"SOPORTE"},{"$f":"'[1]87-0-14'!G3947*(1+$E$13)","v":906.81200000000001}]
[{"$f":"'[1]87-0-14'!B3948","v":"SLA58S"},{"$f":"'[1]87-0-14'!D3948","v":"SOPORT LARG/ABIE 5/8"},{"$f":"'[1]87-0-14'!E3948","v":"SABELCORT"},{"$f":"'[1]87-0-14'!F3948","v":"SOPORTE"},{"$f":"'[1]87-0-14'!G3948*(1+$E$13)","v":867.51950000000011}]
[{"$f":"'[1]87-0-14'!B3949","v":"SLC12S"},{"$f":"'[1]87-0-14'!D3949","v":"SOPORT LARG/CERR 1/2"},{"$f":"'[1]87-0-14'!E3949","v":"SABELCORT"},{"$f":"'[1]87-0-14'!F3949","v":"SOPORTE"},{"$f":"'[1]87-0-14'!G3949*(1+$E$13)","v":774.79849999999999}]
[{"$f":"'[1]87-0-14'!B3950","v":"SLC34S"},{"$f":"'[1]87-0-14'!D3950","v":"SOPORT LARG/CERR 3/4"},{"$f":"'[1]87-0-14'!E3950","v":"SABELCORT"},{"$f":"'[1]87-0-14'!F3950","v":"SOPORTE"},{"$f":"'[1]87-0-14'!G3950*(1+$E$13)","v":906.81200000000001}]
[{"$f":"'[1]87-0-14'!B3951","v":"SLC58S"},{"$f":"'[1]87-0-14'!D3951","v":"SOPORT LARG/CERR 5/8"},{"$f":"'[1]87-0-14'!E3951","v":"SABELCORT"},{"$f":"'[1]87-0-14'!F3951","v":"SOPORTE"},{"$f":"'[1]87-0-14'!G3951*(1+$E$13)","v":867.51950000000011}]
[{"$f":"'[1]87-0-14'!B3952","v":"SA42SC"},{"$f":"'[1]87-0-14'!D3952","v":"SOPORTE AIRE 29x42 corto"},{"$f":"'[1]87-0-14'!E3952","v":"SC"},{"$f":"'[1]87-0-14'!F3952","v":"SOPORTE AIRE"},{"$f":"'[1]87-0-14'!G3952*(1+$E$13)","v":22682.483}]
[{"$f":"'[1]87-0-14'!B3953","v":"SA49SC"},{"$f":"'[1]87-0-14'!D3953","v":"SOPORTE AIRE 29x49 largo"},{"$f":"'[1]87-0-14'!E3953","v":"SC"},{"$f":"'[1]87-0-14'!F3953","v":"SOPORTE AIRE"},{"$f":"'[1]87-0-14'!G3953*(1+$E$13)","v":25155.941999999999}]
[{"$f":"'[1]87-0-14'!B3954","v":"SBCA"},{"$f":"'[1]87-0-14'!D3954","v":"SOPORTE BARRAL CURVO"},{"$f":"'[1]87-0-14'!E3954","v":"ALEX"},{"$f":"'[1]87-0-14'!F3954","v":"SOPORTE BARRAL"},{"$f":"'[1]87-0-14'!G3954*(1+$E$13)","v":9708.8744999999999}]
[{"$f":"'[1]87-0-14'!B3955","v":"SBCC12S"},{"$f":"'[1]87-0-14'!D3955","v":"SOPORTE C/CDO. 1/2\""},{"$f":"'[1]87-0-14'!E3955","v":"SABELCORT"},{"$f":"'[1]87-0-14'!F3955","v":"SOPORTE CON CODO"},{"$f":"'[1]87-0-14'!G3955*(1+$E$13)","v":4153.7365}]
[{"$f":"'[1]87-0-14'!B3956","v":"SBCC34S"},{"$f":"'[1]87-0-14'!D3956","v":"SOPORTE C/CDO. 3/4\""},{"$f":"'[1]87-0-14'!E3956","v":"SABELCORT"},{"$f":"'[1]87-0-14'!F3956","v":"SOPORTE CON CODO"},{"$f":"'[1]87-0-14'!G3956*(1+$E$13)","v":5425.1549999999997}]
[{"$f":"'[1]87-0-14'!B3957","v":"SBCC58S"},{"$f":"'[1]87-0-14'!D3957","v":"SOPORTE C/CDO. 5/8\""},{"$f":"'[1]87-0-14'!E3957","v":"SABELCORT"},{"$f":"'[1]87-0-14'!F3957","v":"SOPORTE CON CODO"},{"$f":"'[1]87-0-14'!G3957*(1+$E$13)","v":4815.3850000000002}]
[{"$f":"'[1]87-0-14'!B3958","v":"SCOS"},{"$f":"'[1]87-0-14'!D3958","v":"SOPORTE CANO/OVALADO"},{"$f":"'[1]87-0-14'!E3958","v":"SABELCORT"},{"$f":"'[1]87-0-14'!F3958","v":"SOPORTE C/OVALADO"},{"$f":"'[1]87-0-14'!G3958*(1+$E$13)","v":854.94900000000007}]
[{"$f":"'[1]87-0-14'!B3959","v":"SU20SC"},{"$f":"'[1]87-0-14'!D3959","v":"SOPORTE GRANERO #U# 20cm"},{"$f":"'[1]87-0-14'!E3959","v":"SC"},{"$f":"'[1]87-0-14'!F3959","v":"SOPORTE"},{"$f":"'[1]87-0-14'!G3959*(1+$E$13)","v":53526.366999999998}]
[{"$f":"'[1]87-0-14'!B3960","v":"SU25SC"},{"$f":"'[1]87-0-14'!D3960","v":"SOPORTE GRANERO #U# 25cm"},{"$f":"'[1]87-0-14'!E3960","v":"SC"},{"$f":"'[1]87-0-14'!F3960","v":"SOPORTE"},{"$f":"'[1]87-0-14'!G3960*(1+$E$13)","v":60347.576000000001}]
[{"$f":"'[1]87-0-14'!B3961","v":"SLA12S"},{"$f":"'[1]87-0-14'!D3961","v":"SOPORTE LARG/ABI 1/2"},{"$f":"'[1]87-0-14'!E3961","v":"SABELCORT"},{"$f":"'[1]87-0-14'!F3961","v":"SOPORTE"},{"$f":"'[1]87-0-14'!G3961*(1+$E$13)","v":774.79849999999999}]
[{"$f":"'[1]87-0-14'!B3962","v":"SL12"},{"$f":"'[1]87-0-14'!D3962","v":"SOPORTE LAT. 1/2\""},{"$f":"'[1]87-0-14'!E3962","v":"SABELCORT"},{"$f":"'[1]87-0-14'!F3962","v":"SOPORTE LATERAL"},{"$f":"'[1]87-0-14'!G3962*(1+$E$13)","v":3870.8460000000005}]
[{"$f":"'[1]87-0-14'!B3963","v":"SL34"},{"$f":"'[1]87-0-14'!D3963","v":"SOPORTE LAT. 3/4\""},{"$f":"'[1]87-0-14'!E3963","v":"SABELCORT"},{"$f":"'[1]87-0-14'!F3963","v":"SOPORTE LATERAL"},{"$f":"'[1]87-0-14'!G3963*(1+$E$13)","v":5126.5630000000001}]
[{"$f":"'[1]87-0-14'!B3964","v":"SL58"},{"$f":"'[1]87-0-14'!D3964","v":"SOPORTE LAT. 5/8\""},{"$f":"'[1]87-0-14'!E3964","v":"SABELCORT"},{"$f":"'[1]87-0-14'!F3964","v":"SOPORTE LATERAL"},{"$f":"'[1]87-0-14'!G3964*(1+$E$13)","v":4491.6364999999996}]
[{"$f":"'[1]87-0-14'!B3965","v":"SLBS"},{"$f":"'[1]87-0-14'!D3965","v":"SOPORTE LUQUE BLANCO"},{"$f":"'[1]87-0-14'!E3965","v":"SABELCORT"},{"$f":"'[1]87-0-14'!F3965","v":"SOPORTE LUQUE"},{"$f":"'[1]87-0-14'!G3965*(1+$E$13)","v":2288.2494999999999}]
[{"$f":"'[1]87-0-14'!B3966","v":"SLGS"},{"$f":"'[1]87-0-14'!D3966","v":"SOPORTE LUQUE GRIS"},{"$f":"'[1]87-0-14'!E3966","v":"SABELCORT"},{"$f":"'[1]87-0-14'!F3966","v":"SOPORTE LUQUE"},{"$f":"'[1]87-0-14'!G3966*(1+$E$13)","v":2288.2494999999999}]
[{"$f":"'[1]87-0-14'!B3967","v":"SLNS"},{"$f":"'[1]87-0-14'!D3967","v":"SOPORTE LUQUE NEGRO"},{"$f":"'[1]87-0-14'!E3967","v":"SABELCORT"},{"$f":"'[1]87-0-14'!F3967","v":"SOPORTE LUQUE"},{"$f":"'[1]87-0-14'!G3967*(1+$E$13)","v":2288.2494999999999}]
[{"$f":"'[1]87-0-14'!B3968","v":"SMS"},{"$f":"'[1]87-0-14'!D3968","v":"SOPORTE MICROONDAS"},{"$f":"'[1]87-0-14'!E3968","v":"SABELCORT"},{"$f":"'[1]87-0-14'!F3968","v":"SOPORTE"},{"$f":"'[1]87-0-14'!G3968*(1+$E$13)","v":50931.822}]
[{"$f":"'[1]87-0-14'!B3969","v":"SP34S"},{"$f":"'[1]87-0-14'!D3969","v":"SOPORTE PLACARD 3/4\""},{"$f":"'[1]87-0-14'!E3969","v":"SABELCORT"},{"$f":"'[1]87-0-14'!F3969","v":"SOPORTE PLACARD"},{"$f":"'[1]87-0-14'!G3969*(1+$E$13)","v":790.51549999999997}]
[{"$f":"'[1]87-0-14'!B3970","v":"SR45SC"},{"$f":"'[1]87-0-14'!D3970","v":"SOPORTE REPISA 45mm"},{"$f":"'[1]87-0-14'!E3970","v":"SC"},{"$f":"'[1]87-0-14'!F3970","v":"SOPORTE"},{"$f":"'[1]87-0-14'!G3970*(1+$E$13)","v":12800.737000000001}]
[{"$f":"'[1]87-0-14'!B3971","v":"SR75SC"},{"$f":"'[1]87-0-14'!D3971","v":"SOPORTE REPISA 75mm"},{"$f":"'[1]87-0-14'!E3971","v":"SC"},{"$f":"'[1]87-0-14'!F3971","v":"SOPORTE"},{"$f":"'[1]87-0-14'!G3971*(1+$E$13)","v":22415.464500000002}]
[{"$f":"'[1]87-0-14'!B3972","v":"STVS"},{"$f":"'[1]87-0-14'!D3972","v":"SOPORTE T.V."},{"$f":"'[1]87-0-14'!E3972","v":"SABELCORT"},{"$f":"'[1]87-0-14'!F3972","v":"SOPORTE"},{"$f":"'[1]87-0-14'!G3972*(1+$E$13)","v":55250.617999999995}]
[{"$f":"'[1]87-0-14'!B3973","v":"STVYVS"},{"$f":"'[1]87-0-14'!D3973","v":"SOPORTE TELEVI/VIDEO"},{"$f":"'[1]87-0-14'!E3973","v":"SABELCORT"},{"$f":"'[1]87-0-14'!F3973","v":"SOPORTE"},{"$f":"'[1]87-0-14'!G3973*(1+$E$13)","v":104382.64200000001}]
[{"$f":"'[1]87-0-14'!B3974","v":"P41I"},{"$f":"'[1]87-0-14'!D3974","v":"T.PARQUER     4x1"},{"$f":"'[1]87-0-14'!E3974","v":"PROLL"},{"$f":"'[1]87-0-14'!F3974","v":"PARQUER"},{"$f":"'[1]87-0-14'!G3974*(1+$E$13)","v":2784.8230000000003}]
[{"$f":"'[1]87-0-14'!B3975","v":"P61I"},{"$f":"'[1]87-0-14'!D3975","v":"T.PARQUER     6x1"},{"$f":"'[1]87-0-14'!E3975","v":"PROLL"},{"$f":"'[1]87-0-14'!F3975","v":"PARQUER"},{"$f":"'[1]87-0-14'!G3975*(1+$E$13)","v":3929.5445}]
[{"$f":"'[1]87-0-14'!B3976","v":"P71I"},{"$f":"'[1]87-0-14'!D3976","v":"T.PARQUER     7x1"},{"$f":"'[1]87-0-14'!E3976","v":"PROLL"},{"$f":"'[1]87-0-14'!F3976","v":"PARQUER"},{"$f":"'[1]87-0-14'!G3976*(1+$E$13)","v":4869.8365000000003}]
[{"$f":"'[1]87-0-14'!B3977","v":"P81I"},{"$f":"'[1]87-0-14'!D3977","v":"T.PARQUER     8x1"},{"$f":"'[1]87-0-14'!E3977","v":"PROLL"},{"$f":"'[1]87-0-14'!F3977","v":"PARQUER"},{"$f":"'[1]87-0-14'!G3977*(1+$E$13)","v":5365.5264999999999}]
[{"$f":"'[1]87-0-14'!B3978","v":"P82I"},{"$f":"'[1]87-0-14'!D3978","v":"T.PARQUER     8x2"},{"$f":"'[1]87-0-14'!E3978","v":"PROLL"},{"$f":"'[1]87-0-14'!F3978","v":"PARQUER"},{"$f":"'[1]87-0-14'!G3978*(1+$E$13)","v":8979.2584999999999}]
[{"$f":"'[1]87-0-14'!B3979","v":"P101I"},{"$f":"'[1]87-0-14'!D3979","v":"T.PARQUER    10x1"},{"$f":"'[1]87-0-14'!E3979","v":"PROLL"},{"$f":"'[1]87-0-14'!F3979","v":"PARQUER"},{"$f":"'[1]87-0-14'!G3979*(1+$E$13)","v":7145.5930000000008}]
[{"$f":"'[1]87-0-14'!B3980","v":"P102I"},{"$f":"'[1]87-0-14'!D3980","v":"T.PARQUER    10x2"},{"$f":"'[1]87-0-14'!E3980","v":"PROLL"},{"$f":"'[1]87-0-14'!F3980","v":"PARQUER"},{"$f":"'[1]87-0-14'!G3980*(1+$E$13)","v":12796.148999999999}]
[{"$f":"'[1]87-0-14'!B3981","v":"P121I"},{"$f":"'[1]87-0-14'!D3981","v":"T.PARQUER    12x1"},{"$f":"'[1]87-0-14'!E3981","v":"PROLL"},{"$f":"'[1]87-0-14'!F3981","v":"PARQUER"},{"$f":"'[1]87-0-14'!G3981*(1+$E$13)","v":10114.339}]
[{"$f":"'[1]87-0-14'!B3982","v":"P122I"},{"$f":"'[1]87-0-14'!D3982","v":"T.PARQUER    12x2"},{"$f":"'[1]87-0-14'!E3982","v":"PROLL"},{"$f":"'[1]87-0-14'!F3982","v":"PARQUER"},{"$f":"'[1]87-0-14'!G3982*(1+$E$13)","v":17150.300499999998}]
[{"$f":"'[1]87-0-14'!B3983","v":"P141I"},{"$f":"'[1]87-0-14'!D3983","v":"T.PARQUER    14x1"},{"$f":"'[1]87-0-14'!E3983","v":"PROLL"},{"$f":"'[1]87-0-14'!F3983","v":"PARQUER"},{"$f":"'[1]87-0-14'!G3983*(1+$E$13)","v":15182.932000000001}]
[{"$f":"'[1]87-0-14'!B3984","v":"P142I"},{"$f":"'[1]87-0-14'!D3984","v":"T.PARQUER    14x2"},{"$f":"'[1]87-0-14'!E3984","v":"PROLL"},{"$f":"'[1]87-0-14'!F3984","v":"PARQUER"},{"$f":"'[1]87-0-14'!G3984*(1+$E$13)","v":22891.516}]
[{"$f":"'[1]87-0-14'!B3985","v":"P412I"},{"$f":"'[1]87-0-14'!D3985","v":"T.PARQUER   4x1/2"},{"$f":"'[1]87-0-14'!E3985","v":"PROLL"},{"$f":"'[1]87-0-14'!F3985","v":"PARQUER"},{"$f":"'[1]87-0-14'!G3985*(1+$E$13)","v":1904.7795000000001}]
[{"$f":"'[1]87-0-14'!B3986","v":"P414I"},{"$f":"'[1]87-0-14'!D3986","v":"T.PARQUER   4x1/4"},{"$f":"'[1]87-0-14'!E3986","v":"PROLL"},{"$f":"'[1]87-0-14'!F3986","v":"PARQUER"},{"$f":"'[1]87-0-14'!G3986*(1+$E$13)","v":1716.1290000000001}]
[{"$f":"'[1]87-0-14'!B3987","v":"P434I"},{"$f":"'[1]87-0-14'!D3987","v":"T.PARQUER   4x3/4"},{"$f":"'[1]87-0-14'!E3987","v":"PROLL"},{"$f":"'[1]87-0-14'!F3987","v":"PARQUER"},{"$f":"'[1]87-0-14'!G3987*(1+$E$13)","v":2368.2605000000003}]
[{"$f":"'[1]87-0-14'!B3988","v":"P438I"},{"$f":"'[1]87-0-14'!D3988","v":"T.PARQUER   4x3/8"},{"$f":"'[1]87-0-14'!E3988","v":"PROLL"},{"$f":"'[1]87-0-14'!F3988","v":"PARQUER"},{"$f":"'[1]87-0-14'!G3988*(1+$E$13)","v":1716.1290000000001}]
[{"$f":"'[1]87-0-14'!B3989","v":"P458I"},{"$f":"'[1]87-0-14'!D3989","v":"T.PARQUER   4x5/8"},{"$f":"'[1]87-0-14'!E3989","v":"PROLL"},{"$f":"'[1]87-0-14'!F3989","v":"PARQUER"},{"$f":"'[1]87-0-14'!G3989*(1+$E$13)","v":2091.3375000000001}]
[{"$f":"'[1]87-0-14'!B3990","v":"P478I"},{"$f":"'[1]87-0-14'!D3990","v":"T.PARQUER   4x7/8"},{"$f":"'[1]87-0-14'!E3990","v":"PROLL"},{"$f":"'[1]87-0-14'!F3990","v":"PARQUER"},{"$f":"'[1]87-0-14'!G3990*(1+$E$13)","v":2049.7665000000002}]
[{"$f":"'[1]87-0-14'!B3991","v":"P612I"},{"$f":"'[1]87-0-14'!D3991","v":"T.PARQUER   6x1/2"},{"$f":"'[1]87-0-14'!E3991","v":"PROLL"},{"$f":"'[1]87-0-14'!F3991","v":"PARQUER"},{"$f":"'[1]87-0-14'!G3991*(1+$E$13)","v":2727.7829999999999}]
[{"$f":"'[1]87-0-14'!B3992","v":"P614I"},{"$f":"'[1]87-0-14'!D3992","v":"T.PARQUER   6x1/4"},{"$f":"'[1]87-0-14'!E3992","v":"PROLL"},{"$f":"'[1]87-0-14'!F3992","v":"PARQUER"},{"$f":"'[1]87-0-14'!G3992*(1+$E$13)","v":1994.8345000000002}]
[{"$f":"'[1]87-0-14'!B3993","v":"P634I"},{"$f":"'[1]87-0-14'!D3993","v":"T.PARQUER   6x3/4"},{"$f":"'[1]87-0-14'!E3993","v":"PROLL"},{"$f":"'[1]87-0-14'!F3993","v":"PARQUER"},{"$f":"'[1]87-0-14'!G3993*(1+$E$13)","v":3295.3310000000001}]
[{"$f":"'[1]87-0-14'!B3994","v":"P638I"},{"$f":"'[1]87-0-14'!D3994","v":"T.PARQUER   6x3/8"},{"$f":"'[1]87-0-14'!E3994","v":"PROLL"},{"$f":"'[1]87-0-14'!F3994","v":"PARQUER"},{"$f":"'[1]87-0-14'!G3994*(1+$E$13)","v":2568.9855000000002}]
[{"$f":"'[1]87-0-14'!B3995","v":"P658I"},{"$f":"'[1]87-0-14'!D3995","v":"T.PARQUER   6x5/8"},{"$f":"'[1]87-0-14'!E3995","v":"PROLL"},{"$f":"'[1]87-0-14'!F3995","v":"PARQUER"},{"$f":"'[1]87-0-14'!G3995*(1+$E$13)","v":3004.5200000000004}]
[{"$f":"'[1]87-0-14'!B3996","v":"P678I"},{"$f":"'[1]87-0-14'!D3996","v":"T.PARQUER   6x7/8"},{"$f":"'[1]87-0-14'!E3996","v":"PROLL"},{"$f":"'[1]87-0-14'!F3996","v":"PARQUER"},{"$f":"'[1]87-0-14'!G3996*(1+$E$13)","v":3638.0205000000001}]
[{"$f":"'[1]87-0-14'!B3997","v":"P712I"},{"$f":"'[1]87-0-14'!D3997","v":"T.PARQUER   7x1/2"},{"$f":"'[1]87-0-14'!E3997","v":"PROLL"},{"$f":"'[1]87-0-14'!F3997","v":"PARQUER"},{"$f":"'[1]87-0-14'!G3997*(1+$E$13)","v":3049.2065000000002}]
[{"$f":"'[1]87-0-14'!B3998","v":"P714I"},{"$f":"'[1]87-0-14'!D3998","v":"T.PARQUER   7x1/4"},{"$f":"'[1]87-0-14'!E3998","v":"PROLL"},{"$f":"'[1]87-0-14'!F3998","v":"PARQUER"},{"$f":"'[1]87-0-14'!G3998*(1+$E$13)","v":16005.780499999999}]
[{"$f":"'[1]87-0-14'!B3999","v":"P734I"},{"$f":"'[1]87-0-14'!D3999","v":"T.PARQUER   7x3/4"},{"$f":"'[1]87-0-14'!E3999","v":"PROLL"},{"$f":"'[1]87-0-14'!F3999","v":"PARQUER"},{"$f":"'[1]87-0-14'!G3999*(1+$E$13)","v":3741.4054999999998}]
[{"$f":"'[1]87-0-14'!B4000","v":"P738I"},{"$f":"'[1]87-0-14'!D4000","v":"T.PARQUER   7x3/8"},{"$f":"'[1]87-0-14'!E4000","v":"PROLL"},{"$f":"'[1]87-0-14'!F4000","v":"PARQUER"},{"$f":"'[1]87-0-14'!G4000*(1+$E$13)","v":2821.6200000000003}]
[{"$f":"'[1]87-0-14'!B4001","v":"P758I"},{"$f":"'[1]87-0-14'!D4001","v":"T.PARQUER   7x5/8"},{"$f":"'[1]87-0-14'!E4001","v":"PROLL"},{"$f":"'[1]87-0-14'!F4001","v":"PARQUER"},{"$f":"'[1]87-0-14'!G4001*(1+$E$13)","v":3410.7594999999997}]
[{"$f":"'[1]87-0-14'!B4002","v":"P778I"},{"$f":"'[1]87-0-14'!D4002","v":"T.PARQUER   7x7/8"},{"$f":"'[1]87-0-14'!E4002","v":"PROLL"},{"$f":"'[1]87-0-14'!F4002","v":"PARQUER"},{"$f":"'[1]87-0-14'!G4002*(1+$E$13)","v":4433.7905000000001}]
[{"$f":"'[1]87-0-14'!B4003","v":"P812I"},{"$f":"'[1]87-0-14'!D4003","v":"T.PARQUER   8x1/2"},{"$f":"'[1]87-0-14'!E4003","v":"PROLL"},{"$f":"'[1]87-0-14'!F4003","v":"PARQUER"},{"$f":"'[1]87-0-14'!G4003*(1+$E$13)","v":4319.8810000000003}]
[{"$f":"'[1]87-0-14'!B4004","v":"P814I"},{"$f":"'[1]87-0-14'!D4004","v":"T.PARQUER   8x1/4"},{"$f":"'[1]87-0-14'!E4004","v":"PROLL"},{"$f":"'[1]87-0-14'!F4004","v":"PARQUER"},{"$f":"'[1]87-0-14'!G4004*(1+$E$13)","v":2434.7244999999998}]
[{"$f":"'[1]87-0-14'!B4005","v":"P834I"},{"$f":"'[1]87-0-14'!D4005","v":"T.PARQUER   8x3/4"},{"$f":"'[1]87-0-14'!E4005","v":"PROLL"},{"$f":"'[1]87-0-14'!F4005","v":"PARQUER"},{"$f":"'[1]87-0-14'!G4005*(1+$E$13)","v":4403.6120000000001}]
[{"$f":"'[1]87-0-14'!B4006","v":"P838I"},{"$f":"'[1]87-0-14'!D4006","v":"T.PARQUER   8x3/8"},{"$f":"'[1]87-0-14'!E4006","v":"PROLL"},{"$f":"'[1]87-0-14'!F4006","v":"PARQUER"},{"$f":"'[1]87-0-14'!G4006*(1+$E$13)","v":3442.3330000000001}]
[{"$f":"'[1]87-0-14'!B4007","v":"P858I"},{"$f":"'[1]87-0-14'!D4007","v":"T.PARQUER   8x5/8"},{"$f":"'[1]87-0-14'!E4007","v":"PROLL"},{"$f":"'[1]87-0-14'!F4007","v":"PARQUER"},{"$f":"'[1]87-0-14'!G4007*(1+$E$13)","v":4031.9684999999999}]
[{"$f":"'[1]87-0-14'!B4008","v":"P878I"},{"$f":"'[1]87-0-14'!D4008","v":"T.PARQUER   8x7/8"},{"$f":"'[1]87-0-14'!E4008","v":"PROLL"},{"$f":"'[1]87-0-14'!F4008","v":"PARQUER"},{"$f":"'[1]87-0-14'!G4008*(1+$E$13)","v":4887.1190000000006}]
[{"$f":"'[1]87-0-14'!B4009","v":"P1012I"},{"$f":"'[1]87-0-14'!D4009","v":"T.PARQUER  10x1/2"},{"$f":"'[1]87-0-14'!E4009","v":"PROLL"},{"$f":"'[1]87-0-14'!F4009","v":"PARQUER"},{"$f":"'[1]87-0-14'!G4009*(1+$E$13)","v":5124.9974999999995}]
[{"$f":"'[1]87-0-14'!B4010","v":"P10114I"},{"$f":"'[1]87-0-14'!D4010","v":"T.PARQUER  10x11/4"},{"$f":"'[1]87-0-14'!E4010","v":"PROLL"},{"$f":"'[1]87-0-14'!F4010","v":"PARQUER"},{"$f":"'[1]87-0-14'!G4010*(1+$E$13)","v":8238.2035000000014}]
[{"$f":"'[1]87-0-14'!B4011","v":"P1034I"},{"$f":"'[1]87-0-14'!D4011","v":"T.PARQUER  10x3/4"},{"$f":"'[1]87-0-14'!E4011","v":"PROLL"},{"$f":"'[1]87-0-14'!F4011","v":"PARQUER"},{"$f":"'[1]87-0-14'!G4011*(1+$E$13)","v":5987.9290000000001}]
[{"$f":"'[1]87-0-14'!B4012","v":"P1038I"},{"$f":"'[1]87-0-14'!D4012","v":"T.PARQUER  10x3/8"},{"$f":"'[1]87-0-14'!E4012","v":"PROLL"},{"$f":"'[1]87-0-14'!F4012","v":"PARQUER"},{"$f":"'[1]87-0-14'!G4012*(1+$E$13)","v":2859.6415000000002}]
[{"$f":"'[1]87-0-14'!B4013","v":"P1058I"},{"$f":"'[1]87-0-14'!D4013","v":"T.PARQUER  10x5/8"},{"$f":"'[1]87-0-14'!E4013","v":"PROLL"},{"$f":"'[1]87-0-14'!F4013","v":"PARQUER"},{"$f":"'[1]87-0-14'!G4013*(1+$E$13)","v":5590.5245000000004}]
[{"$f":"'[1]87-0-14'!B4014","v":"P1078I"},{"$f":"'[1]87-0-14'!D4014","v":"T.PARQUER  10x7/8"},{"$f":"'[1]87-0-14'!E4014","v":"PROLL"},{"$f":"'[1]87-0-14'!F4014","v":"PARQUER"},{"$f":"'[1]87-0-14'!G4014*(1+$E$13)","v":6708.6170000000011}]
[{"$f":"'[1]87-0-14'!B4015","v":"P1212I"},{"$f":"'[1]87-0-14'!D4015","v":"T.PARQUER  12x1/2"},{"$f":"'[1]87-0-14'!E4015","v":"PROLL"},{"$f":"'[1]87-0-14'!F4015","v":"PARQUER"},{"$f":"'[1]87-0-14'!G4015*(1+$E$13)","v":7757.3005000000003}]
[{"$f":"'[1]87-0-14'!B4016","v":"P1234I"},{"$f":"'[1]87-0-14'!D4016","v":"T.PARQUER  12x3/4"},{"$f":"'[1]87-0-14'!E4016","v":"PROLL"},{"$f":"'[1]87-0-14'!F4016","v":"PARQUER"},{"$f":"'[1]87-0-14'!G4016*(1+$E$13)","v":8809.6574999999993}]
[{"$f":"'[1]87-0-14'!B4017","v":"P1258I"},{"$f":"'[1]87-0-14'!D4017","v":"T.PARQUER  12x5/8"},{"$f":"'[1]87-0-14'!E4017","v":"PROLL"},{"$f":"'[1]87-0-14'!F4017","v":"PARQUER"},{"$f":"'[1]87-0-14'!G4017*(1+$E$13)","v":8352.0820000000003}]
[{"$f":"'[1]87-0-14'!B4018","v":"P1278I"},{"$f":"'[1]87-0-14'!D4018","v":"T.PARQUER  12x7/8"},{"$f":"'[1]87-0-14'!E4018","v":"PROLL"},{"$f":"'[1]87-0-14'!F4018","v":"PARQUER"},{"$f":"'[1]87-0-14'!G4018*(1+$E$13)","v":4832.4349999999995}]
[{"$f":"'[1]87-0-14'!B4019","v":"P1412I"},{"$f":"'[1]87-0-14'!D4019","v":"T.PARQUER  14x1/2"},{"$f":"'[1]87-0-14'!E4019","v":"PROLL"},{"$f":"'[1]87-0-14'!F4019","v":"PARQUER"},{"$f":"'[1]87-0-14'!G4019*(1+$E$13)","v":7476.6729999999998}]
[{"$f":"'[1]87-0-14'!B4020","v":"P1434I"},{"$f":"'[1]87-0-14'!D4020","v":"T.PARQUER  14x3/4"},{"$f":"'[1]87-0-14'!E4020","v":"PROLL"},{"$f":"'[1]87-0-14'!F4020","v":"PARQUER"},{"$f":"'[1]87-0-14'!G4020*(1+$E$13)","v":12924.070500000002}]
[{"$f":"'[1]87-0-14'!B4021","v":"P1458I"},{"$f":"'[1]87-0-14'!D4021","v":"T.PARQUER  14x5/8"},{"$f":"'[1]87-0-14'!E4021","v":"PROLL"},{"$f":"'[1]87-0-14'!F4021","v":"PARQUER"},{"$f":"'[1]87-0-14'!G4021*(1+$E$13)","v":7476.6729999999998}]
[{"$f":"'[1]87-0-14'!B4022","v":"P1478I"},{"$f":"'[1]87-0-14'!D4022","v":"T.PARQUER  14x7/8"},{"$f":"'[1]87-0-14'!E4022","v":"PROLL"},{"$f":"'[1]87-0-14'!F4022","v":"PARQUER"},{"$f":"'[1]87-0-14'!G4022*(1+$E$13)","v":8460.9074999999993}]
[{"$f":"'[1]87-0-14'!B4023","v":"P4516I"},{"$f":"'[1]87-0-14'!D4023","v":"T.PARQUER  4x5/16"},{"$f":"'[1]87-0-14'!E4023","v":"PROLL"},{"$f":"'[1]87-0-14'!F4023","v":"PARQUER"},{"$f":"'[1]87-0-14'!G4023*(1+$E$13)","v":1765.171}]
[{"$f":"'[1]87-0-14'!B4024","v":"P6112I"},{"$f":"'[1]87-0-14'!D4024","v":"T.PARQUER  6x11/2"},{"$f":"'[1]87-0-14'!E4024","v":"PROLL"},{"$f":"'[1]87-0-14'!F4024","v":"PARQUER"},{"$f":"'[1]87-0-14'!G4024*(1+$E$13)","v":5629.2745000000004}]
[{"$f":"'[1]87-0-14'!B4025","v":"P6114I"},{"$f":"'[1]87-0-14'!D4025","v":"T.PARQUER  6x11/4"},{"$f":"'[1]87-0-14'!E4025","v":"PROLL"},{"$f":"'[1]87-0-14'!F4025","v":"PARQUER"},{"$f":"'[1]87-0-14'!G4025*(1+$E$13)","v":4738.2570000000005}]
[{"$f":"'[1]87-0-14'!B4026","v":"P6516I"},{"$f":"'[1]87-0-14'!D4026","v":"T.PARQUER  6x5/16"},{"$f":"'[1]87-0-14'!E4026","v":"PROLL"},{"$f":"'[1]87-0-14'!F4026","v":"PARQUER"},{"$f":"'[1]87-0-14'!G4026*(1+$E$13)","v":1994.8345000000002}]
[{"$f":"'[1]87-0-14'!B4027","v":"P7112I"},{"$f":"'[1]87-0-14'!D4027","v":"T.PARQUER  7x11/2"},{"$f":"'[1]87-0-14'!E4027","v":"PROLL"},{"$f":"'[1]87-0-14'!F4027","v":"PARQUER"},{"$f":"'[1]87-0-14'!G4027*(1+$E$13)","v":6380.0170000000007}]
[{"$f":"'[1]87-0-14'!B4028","v":"P7114I"},{"$f":"'[1]87-0-14'!D4028","v":"T.PARQUER  7x11/4"},{"$f":"'[1]87-0-14'!E4028","v":"PROLL"},{"$f":"'[1]87-0-14'!F4028","v":"PARQUER"},{"$f":"'[1]87-0-14'!G4028*(1+$E$13)","v":5598.6155000000008}]
[{"$f":"'[1]87-0-14'!B4029","v":"P7516I"},{"$f":"'[1]87-0-14'!D4029","v":"T.PARQUER  7x5/16"},{"$f":"'[1]87-0-14'!E4029","v":"PROLL"},{"$f":"'[1]87-0-14'!F4029","v":"PARQUER"},{"$f":"'[1]87-0-14'!G4029*(1+$E$13)","v":16042.267500000002}]
[{"$f":"'[1]87-0-14'!B4030","v":"P8112I"},{"$f":"'[1]87-0-14'!D4030","v":"T.PARQUER  8x11/2"},{"$f":"'[1]87-0-14'!E4030","v":"PROLL"},{"$f":"'[1]87-0-14'!F4030","v":"PARQUER"},{"$f":"'[1]87-0-14'!G4030*(1+$E$13)","v":7072.3710000000001}]
[{"$f":"'[1]87-0-14'!B4031","v":"P8114I"},{"$f":"'[1]87-0-14'!D4031","v":"T.PARQUER  8x11/4"},{"$f":"'[1]87-0-14'!E4031","v":"PROLL"},{"$f":"'[1]87-0-14'!F4031","v":"PARQUER"},{"$f":"'[1]87-0-14'!G4031*(1+$E$13)","v":6103.9465000000009}]
[{"$f":"'[1]87-0-14'!B4032","v":"P8134I"},{"$f":"'[1]87-0-14'!D4032","v":"T.PARQUER  8x13/4"},{"$f":"'[1]87-0-14'!E4032","v":"PROLL"},{"$f":"'[1]87-0-14'!F4032","v":"PARQUER"},{"$f":"'[1]87-0-14'!G4032*(1+$E$13)","v":8240.0015000000003}]
[{"$f":"'[1]87-0-14'!B4033","v":"P8516I"},{"$f":"'[1]87-0-14'!D4033","v":"T.PARQUER  8x5/16"},{"$f":"'[1]87-0-14'!E4033","v":"PROLL"},{"$f":"'[1]87-0-14'!F4033","v":"PARQUER"},{"$f":"'[1]87-0-14'!G4033*(1+$E$13)","v":2195.2494999999999}]
[{"$f":"'[1]87-0-14'!B4034","v":"P10112I"},{"$f":"'[1]87-0-14'!D4034","v":"T.PARQUER 10x11/2"},{"$f":"'[1]87-0-14'!E4034","v":"PROLL"},{"$f":"'[1]87-0-14'!F4034","v":"PARQUER"},{"$f":"'[1]87-0-14'!G4034*(1+$E$13)","v":10131.730000000001}]
[{"$f":"'[1]87-0-14'!B4035","v":"P10134I"},{"$f":"'[1]87-0-14'!D4035","v":"T.PARQUER 10x13/4"},{"$f":"'[1]87-0-14'!E4035","v":"PROLL"},{"$f":"'[1]87-0-14'!F4035","v":"PARQUER"},{"$f":"'[1]87-0-14'!G4035*(1+$E$13)","v":10658.792000000001}]
[{"$f":"'[1]87-0-14'!B4036","v":"P12112I"},{"$f":"'[1]87-0-14'!D4036","v":"T.PARQUER 12x11/2"},{"$f":"'[1]87-0-14'!E4036","v":"PROLL"},{"$f":"'[1]87-0-14'!F4036","v":"PARQUER"},{"$f":"'[1]87-0-14'!G4036*(1+$E$13)","v":13692.452000000001}]
[{"$f":"'[1]87-0-14'!B4037","v":"P12114I"},{"$f":"'[1]87-0-14'!D4037","v":"T.PARQUER 12x11/4"},{"$f":"'[1]87-0-14'!E4037","v":"PROLL"},{"$f":"'[1]87-0-14'!F4037","v":"PARQUER"},{"$f":"'[1]87-0-14'!G4037*(1+$E$13)","v":11882.594499999999}]
[{"$f":"'[1]87-0-14'!B4038","v":"P12134I"},{"$f":"'[1]87-0-14'!D4038","v":"T.PARQUER 12x13/4"},{"$f":"'[1]87-0-14'!E4038","v":"PROLL"},{"$f":"'[1]87-0-14'!F4038","v":"PARQUER"},{"$f":"'[1]87-0-14'!G4038*(1+$E$13)","v":14944.759000000002}]
[{"$f":"'[1]87-0-14'!B4039","v":"P14112I"},{"$f":"'[1]87-0-14'!D4039","v":"T.PARQUER 14x11/2"},{"$f":"'[1]87-0-14'!E4039","v":"PROLL"},{"$f":"'[1]87-0-14'!F4039","v":"PARQUER"},{"$f":"'[1]87-0-14'!G4039*(1+$E$13)","v":20688.066999999999}]
[{"$f":"'[1]87-0-14'!B4040","v":"P14114I"},{"$f":"'[1]87-0-14'!D4040","v":"T.PARQUER 14x11/4"},{"$f":"'[1]87-0-14'!E4040","v":"PROLL"},{"$f":"'[1]87-0-14'!F4040","v":"PARQUER"},{"$f":"'[1]87-0-14'!G4040*(1+$E$13)","v":17561.236499999999}]
[{"$f":"'[1]87-0-14'!B4041","v":"P14134I"},{"$f":"'[1]87-0-14'!D4041","v":"T.PARQUER 14x13/4"},{"$f":"'[1]87-0-14'!E4041","v":"PROLL"},{"$f":"'[1]87-0-14'!F4041","v":"PARQUER"},{"$f":"'[1]87-0-14'!G4041*(1+$E$13)","v":22156.2425}]
[{"$f":"'[1]87-0-14'!B4042","v":"TCLHA6C"},{"$f":"'[1]87-0-14'!D4042","v":"TA L/HUEC C/ARAND  6"},{"$f":"'[1]87-0-14'!E4042","v":"CRECCHIO"},{"$f":"'[1]87-0-14'!F4042","v":"TARUGO L/HUECO"},{"$f":"'[1]87-0-14'!G4042*(1+$E$13)","v":4377.076}]
[{"$f":"'[1]87-0-14'!B4043","v":"TCLHA8C"},{"$f":"'[1]87-0-14'!D4043","v":"TA L/HUEC C/ARAND  8"},{"$f":"'[1]87-0-14'!E4043","v":"CRECCHIO"},{"$f":"'[1]87-0-14'!F4043","v":"TARUGO L/HUECO"},{"$f":"'[1]87-0-14'!G4043*(1+$E$13)","v":4471.5174999999999}]
[{"$f":"'[1]87-0-14'!B4044","v":"TCLHA10C"},{"$f":"'[1]87-0-14'!D4044","v":"TA L/HUEC C/ARAND 10"},{"$f":"'[1]87-0-14'!E4044","v":"CRECCHIO"},{"$f":"'[1]87-0-14'!F4044","v":"TARUGO L/HUECO"},{"$f":"'[1]87-0-14'!G4044*(1+$E$13)","v":4734.1960000000008}]
[{"$f":"'[1]87-0-14'!B4045","v":"TA250D"},{"$f":"'[1]87-0-14'!D4045","v":"TABLON ANDAMIO CHAPA 2,50"},{"$f":"'[1]87-0-14'!E4045","v":"DUROLL"},{"$f":"'[1]87-0-14'!F4045","v":"TABLON ANDAMIO"},{"$f":"'[1]87-0-14'!G4045*(1+$E$13)","v":192751.31950000001}]
[{"$f":"'[1]87-0-14'!B4046","v":"TA300D"},{"$f":"'[1]87-0-14'!D4046","v":"TABLON ANDAMIO CHAPA 3,00"},{"$f":"'[1]87-0-14'!E4046","v":"DUROLL"},{"$f":"'[1]87-0-14'!F4046","v":"TABLON ANDAMIO"},{"$f":"'[1]87-0-14'!G4046*(1+$E$13)","v":287555.82950000005}]
[{"$f":"'[1]87-0-14'!B4047","v":"T1000E"},{"$f":"'[1]87-0-14'!D4047","v":"TAL 13mm,PERCUT,REV 1000W"},{"$f":"'[1]87-0-14'!E4047","v":"EZETA"},{"$f":"'[1]87-0-14'!F4047","v":"TALADRO"},{"$f":"'[1]87-0-14'!G4047*(1+$E$13)","v":472068.80600000004}]
[{"$f":"'[1]87-0-14'!B4048","v":"T710E"},{"$f":"'[1]87-0-14'!D4048","v":"TAL 13mm,PERCUT,REVE 710W"},{"$f":"'[1]87-0-14'!E4048","v":"EZETA"},{"$f":"'[1]87-0-14'!F4048","v":"TALADRO"},{"$f":"'[1]87-0-14'!G4048*(1+$E$13)","v":239002.73050000001}]
[{"$f":"'[1]87-0-14'!B4049","v":"T12E"},{"$f":"'[1]87-0-14'!D4049","v":"TALAD 12V RECARGABLE,10mm"},{"$f":"'[1]87-0-14'!E4049","v":"EZETA"},{"$f":"'[1]87-0-14'!F4049","v":"TALADRO"},{"$f":"'[1]87-0-14'!G4049*(1+$E$13)","v":376226.261}]
[{"$f":"'[1]87-0-14'!B4050","v":"TA080G"},{"$f":"'[1]87-0-14'!D4050","v":"TAN ALBANIL 0,80 CARRETEL"},{"$f":"'[1]87-0-14'!E4050","v":"GRILON"},{"$f":"'[1]87-0-14'!F4050","v":"TANZA ALBANIL"},{"$f":"'[1]87-0-14'!G4050*(1+$E$13)","v":5270.2169999999996}]
[{"$f":"'[1]87-0-14'!B4051","v":"TPN030N"},{"$f":"'[1]87-0-14'!D4051","v":"TANZ Natural 0,30 NITANYL"},{"$f":"'[1]87-0-14'!E4051","v":"GRILON"},{"$f":"'[1]87-0-14'!F4051","v":"TANZA PESCA"},{"$f":"'[1]87-0-14'!G4051*(1+$E$13)","v":1847.29}]
[{"$f":"'[1]87-0-14'!B4052","v":"TPN040N"},{"$f":"'[1]87-0-14'!D4052","v":"TANZ Natural 0,40 NITANYL"},{"$f":"'[1]87-0-14'!E4052","v":"GRILON"},{"$f":"'[1]87-0-14'!F4052","v":"TANZA PESCA"},{"$f":"'[1]87-0-14'!G4052*(1+$E$13)","v":2783.0715}]
[{"$f":"'[1]87-0-14'!B4053","v":"TPN050N"},{"$f":"'[1]87-0-14'!D4053","v":"TANZ Natural 0,50 NITANYL"},{"$f":"'[1]87-0-14'!E4053","v":"GRILON"},{"$f":"'[1]87-0-14'!F4053","v":"TANZA PESCA"},{"$f":"'[1]87-0-14'!G4053*(1+$E$13)","v":3049.9349999999999}]
[{"$f":"'[1]87-0-14'!B4054","v":"TPN060N"},{"$f":"'[1]87-0-14'!D4054","v":"TANZ Natural 0,60 NITANYL"},{"$f":"'[1]87-0-14'!E4054","v":"GRILON"},{"$f":"'[1]87-0-14'!F4054","v":"TANZA PESCA"},{"$f":"'[1]87-0-14'!G4054*(1+$E$13)","v":3969.4570000000003}]
[{"$f":"'[1]87-0-14'!B4055","v":"TDG"},{"$f":"'[1]87-0-14'!D4055","v":"TANZA #DUO# DESMALEZ 3,00"},{"$f":"'[1]87-0-14'!E4055","v":"GRILON"},{"$f":"'[1]87-0-14'!F4055","v":"TANZA BOBINA"},{"$f":"'[1]87-0-14'!G4055*(1+$E$13)","v":39311.410000000003}]
[{"$f":"'[1]87-0-14'!B4056","v":"TC150G"},{"$f":"'[1]87-0-14'!D4056","v":"TANZA CUADRADA 1,50 (410m"},{"$f":"'[1]87-0-14'!E4056","v":"GRILON"},{"$f":"'[1]87-0-14'!F4056","v":"TANZA BOBINA"},{"$f":"'[1]87-0-14'!G4056*(1+$E$13)","v":33414.698499999999}]
[{"$f":"'[1]87-0-14'!B4057","v":"TC2G"},{"$f":"'[1]87-0-14'!D4057","v":"TANZA CUADRADA 2,00 (230m"},{"$f":"'[1]87-0-14'!E4057","v":"GRILON"},{"$f":"'[1]87-0-14'!F4057","v":"TANZA BOBINA"},{"$f":"'[1]87-0-14'!G4057*(1+$E$13)","v":33414.698499999999}]
[{"$f":"'[1]87-0-14'!B4058","v":"TC250G"},{"$f":"'[1]87-0-14'!D4058","v":"TANZA CUADRADA 2,50 (140m"},{"$f":"'[1]87-0-14'!E4058","v":"GRILON"},{"$f":"'[1]87-0-14'!F4058","v":"TANZA BOBINA"},{"$f":"'[1]87-0-14'!G4058*(1+$E$13)","v":33414.698499999999}]
[{"$f":"'[1]87-0-14'!B4059","v":"TC3G"},{"$f":"'[1]87-0-14'!D4059","v":"TANZA CUADRADA 3,00 (100m"},{"$f":"'[1]87-0-14'!E4059","v":"GRILON"},{"$f":"'[1]87-0-14'!F4059","v":"TANZA BOBINA"},{"$f":"'[1]87-0-14'!G4059*(1+$E$13)","v":33414.698499999999}]
[{"$f":"'[1]87-0-14'!B4060","v":"TR150G"},{"$f":"'[1]87-0-14'!D4060","v":"TANZA REDONDA 1,50 (450m)"},{"$f":"'[1]87-0-14'!E4060","v":"GRILON"},{"$f":"'[1]87-0-14'!F4060","v":"TANZA BOBINA"},{"$f":"'[1]87-0-14'!G4060*(1+$E$13)","v":33414.698499999999}]
[{"$f":"'[1]87-0-14'!B4061","v":"TR2G"},{"$f":"'[1]87-0-14'!D4061","v":"TANZA REDONDA 2,00 (270m)"},{"$f":"'[1]87-0-14'!E4061","v":"GRILON"},{"$f":"'[1]87-0-14'!F4061","v":"TANZA BOBINA"},{"$f":"'[1]87-0-14'!G4061*(1+$E$13)","v":33414.698499999999}]
[{"$f":"'[1]87-0-14'!B4062","v":"TR250G"},{"$f":"'[1]87-0-14'!D4062","v":"TANZA REDONDA 2,50 (171m)"},{"$f":"'[1]87-0-14'!E4062","v":"GRILON"},{"$f":"'[1]87-0-14'!F4062","v":"TANZA BOBINA"},{"$f":"'[1]87-0-14'!G4062*(1+$E$13)","v":33414.698499999999}]
[{"$f":"'[1]87-0-14'!B4063","v":"TR3G"},{"$f":"'[1]87-0-14'!D4063","v":"TANZA REDONDA 3,00 (120m)"},{"$f":"'[1]87-0-14'!E4063","v":"GRILON"},{"$f":"'[1]87-0-14'!F4063","v":"TANZA BOBINA"},{"$f":"'[1]87-0-14'!G4063*(1+$E$13)","v":33414.698499999999}]
[{"$f":"'[1]87-0-14'!B4064","v":"TA10V"},{"$f":"'[1]87-0-14'!D4064","v":"TAPA ACERO INOXIDAB 10x10"},{"$f":"'[1]87-0-14'!E4064","v":"VITAL GAS"},{"$f":"'[1]87-0-14'!F4064","v":"TAPA"},{"$f":"'[1]87-0-14'!G4064*(1+$E$13)","v":2555.6554999999998}]
[{"$f":"'[1]87-0-14'!B4065","v":"TA12V"},{"$f":"'[1]87-0-14'!D4065","v":"TAPA ACERO INOXIDAB 12x12"},{"$f":"'[1]87-0-14'!E4065","v":"VITAL GAS"},{"$f":"'[1]87-0-14'!F4065","v":"TAPA"},{"$f":"'[1]87-0-14'!G4065*(1+$E$13)","v":3883.7265000000002}]
[{"$f":"'[1]87-0-14'!B4066","v":"TA15V"},{"$f":"'[1]87-0-14'!D4066","v":"TAPA ACERO INOXIDAB 15x15"},{"$f":"'[1]87-0-14'!E4066","v":"VITAL GAS"},{"$f":"'[1]87-0-14'!F4066","v":"TAPA"},{"$f":"'[1]87-0-14'!G4066*(1+$E$13)","v":5243.0455000000002}]
[{"$f":"'[1]87-0-14'!B4067","v":"TA20V"},{"$f":"'[1]87-0-14'!D4067","v":"TAPA ACERO INOXIDAB 20x20"},{"$f":"'[1]87-0-14'!E4067","v":"VITAL GAS"},{"$f":"'[1]87-0-14'!F4067","v":"TAPA"},{"$f":"'[1]87-0-14'!G4067*(1+$E$13)","v":6751.7224999999999}]
[{"$f":"'[1]87-0-14'!B4068","v":"T3CC6C"},{"$f":"'[1]87-0-14'!D4068","v":"TAR 3 CORTES EN CAJA N  6"},{"$f":"'[1]87-0-14'!E4068","v":"CRECCHIO"},{"$f":"'[1]87-0-14'!F4068","v":"TARUGO 3 COR CAJA"},{"$f":"'[1]87-0-14'!G4068*(1+$E$13)","v":5349.4530000000004}]
[{"$f":"'[1]87-0-14'!B4069","v":"T3CC8C"},{"$f":"'[1]87-0-14'!D4069","v":"TAR 3 CORTES EN CAJA N  8"},{"$f":"'[1]87-0-14'!E4069","v":"CRECCHIO"},{"$f":"'[1]87-0-14'!F4069","v":"TARUGO 3 COR CAJA"},{"$f":"'[1]87-0-14'!G4069*(1+$E$13)","v":4639.7235000000001}]
[{"$f":"'[1]87-0-14'!B4070","v":"T3CC10C"},{"$f":"'[1]87-0-14'!D4070","v":"TAR 3 CORTES EN CAJA N 10"},{"$f":"'[1]87-0-14'!E4070","v":"CRECCHIO"},{"$f":"'[1]87-0-14'!F4070","v":"TARUGO 3 COR CAJA"},{"$f":"'[1]87-0-14'!G4070*(1+$E$13)","v":4140.143}]
[{"$f":"'[1]87-0-14'!B4071","v":"TBCA6C"},{"$f":"'[1]87-0-14'!D4071","v":"TAR BOLSA C/ARAND  6"},{"$f":"'[1]87-0-14'!E4071","v":"CRECCHIO"},{"$f":"'[1]87-0-14'!F4071","v":"TARU EN BOLSA ARA"},{"$f":"'[1]87-0-14'!G4071*(1+$E$13)","v":34879.123}]
[{"$f":"'[1]87-0-14'!B4072","v":"TBCA8C"},{"$f":"'[1]87-0-14'!D4072","v":"TAR BOLSA C/ARAND  8"},{"$f":"'[1]87-0-14'!E4072","v":"CRECCHIO"},{"$f":"'[1]87-0-14'!F4072","v":"TARU EN BOLSA ARA"},{"$f":"'[1]87-0-14'!G4072*(1+$E$13)","v":35444.036}]
[{"$f":"'[1]87-0-14'!B4073","v":"TBCA10C"},{"$f":"'[1]87-0-14'!D4073","v":"TAR BOLSA C/ARAND 10"},{"$f":"'[1]87-0-14'!E4073","v":"CRECCHIO"},{"$f":"'[1]87-0-14'!F4073","v":"TARU EN BOLSA ARA"},{"$f":"'[1]87-0-14'!G4073*(1+$E$13)","v":32377.795000000002}]
[{"$f":"'[1]87-0-14'!B4074","v":"TGA38C"},{"$f":"'[1]87-0-14'!D4074","v":"TARU GRAM AGU/GA 3/8"},{"$f":"'[1]87-0-14'!E4074","v":"CRECCHIO"},{"$f":"'[1]87-0-14'!F4074","v":"TARUGO EN CAJA"},{"$f":"'[1]87-0-14'!G4074*(1+$E$13)","v":16632.647000000001}]
[{"$f":"'[1]87-0-14'!B4075","v":"TCLH6C"},{"$f":"'[1]87-0-14'!D4075","v":"TARU L/HUECO CAJA  6"},{"$f":"'[1]87-0-14'!E4075","v":"CRECCHIO"},{"$f":"'[1]87-0-14'!F4075","v":"TARUGO L/HUECO"},{"$f":"'[1]87-0-14'!G4075*(1+$E$13)","v":3547.826}]
[{"$f":"'[1]87-0-14'!B4076","v":"TCLH8C"},{"$f":"'[1]87-0-14'!D4076","v":"TARU L/HUECO CAJA  8"},{"$f":"'[1]87-0-14'!E4076","v":"CRECCHIO"},{"$f":"'[1]87-0-14'!F4076","v":"TARUGO L/HUECO"},{"$f":"'[1]87-0-14'!G4076*(1+$E$13)","v":3560.1484999999998}]
[{"$f":"'[1]87-0-14'!B4077","v":"TCLH10C"},{"$f":"'[1]87-0-14'!D4077","v":"TARU L/HUECO CAJA 10"},{"$f":"'[1]87-0-14'!E4077","v":"CRECCHIO"},{"$f":"'[1]87-0-14'!F4077","v":"TARUGO L/HUECO"},{"$f":"'[1]87-0-14'!G4077*(1+$E$13)","v":3645.5225}]
[{"$f":"'[1]87-0-14'!B4078","v":"T3CB6C"},{"$f":"'[1]87-0-14'!D4078","v":"TARUG 3 CORTES BOLSA N  6"},{"$f":"'[1]87-0-14'!E4078","v":"CRECCHIO"},{"$f":"'[1]87-0-14'!F4078","v":"TARUGO 3 COR BOLS"},{"$f":"'[1]87-0-14'!G4078*(1+$E$13)","v":30340.769499999999}]
[{"$f":"'[1]87-0-14'!B4079","v":"T3CB8C"},{"$f":"'[1]87-0-14'!D4079","v":"TARUG 3 CORTES BOLSA N  8"},{"$f":"'[1]87-0-14'!E4079","v":"CRECCHIO"},{"$f":"'[1]87-0-14'!F4079","v":"TARUGO 3 COR BOLS"},{"$f":"'[1]87-0-14'!G4079*(1+$E$13)","v":47417.972000000002}]
[{"$f":"'[1]87-0-14'!B4080","v":"T3CB10C"},{"$f":"'[1]87-0-14'!D4080","v":"TARUG 3 CORTES BOLSA N 10"},{"$f":"'[1]87-0-14'!E4080","v":"CRECCHIO"},{"$f":"'[1]87-0-14'!F4080","v":"TARUGO 3 COR BOLS"},{"$f":"'[1]87-0-14'!G4080*(1+$E$13)","v":42344.279499999997}]
[{"$f":"'[1]87-0-14'!B4081","v":"T3CB12C"},{"$f":"'[1]87-0-14'!D4081","v":"TARUG 3 CORTES BOLSA N 12"},{"$f":"'[1]87-0-14'!E4081","v":"CRECCHIO"},{"$f":"'[1]87-0-14'!F4081","v":"TARUGO 3 COR BOLS"},{"$f":"'[1]87-0-14'!G4081*(1+$E$13)","v":64161.258000000002}]
[{"$f":"'[1]87-0-14'!B4082","v":"TCA5C"},{"$f":"'[1]87-0-14'!D4082","v":"TARUGO C/ARANDELA  5"},{"$f":"'[1]87-0-14'!E4082","v":"CRECCHIO"},{"$f":"'[1]87-0-14'!F4082","v":"TARUGO ARANDELA"},{"$f":"'[1]87-0-14'!G4082*(1+$E$13)","v":2950.6575000000003}]
[{"$f":"'[1]87-0-14'!B4083","v":"TCA6C"},{"$f":"'[1]87-0-14'!D4083","v":"TARUGO C/ARANDELA  6"},{"$f":"'[1]87-0-14'!E4083","v":"CRECCHIO"},{"$f":"'[1]87-0-14'!F4083","v":"TARUGO ARANDELA"},{"$f":"'[1]87-0-14'!G4083*(1+$E$13)","v":2381.4974999999999}]
[{"$f":"'[1]87-0-14'!B4084","v":"TCA8C"},{"$f":"'[1]87-0-14'!D4084","v":"TARUGO C/ARANDELA  8"},{"$f":"'[1]87-0-14'!E4084","v":"CRECCHIO"},{"$f":"'[1]87-0-14'!F4084","v":"TARUGO ARANDELA"},{"$f":"'[1]87-0-14'!G4084*(1+$E$13)","v":4162.1219999999994}]
[{"$f":"'[1]87-0-14'!B4085","v":"TCA10C"},{"$f":"'[1]87-0-14'!D4085","v":"TARUGO C/ARANDELA 10"},{"$f":"'[1]87-0-14'!E4085","v":"CRECCHIO"},{"$f":"'[1]87-0-14'!F4085","v":"TARUGO ARANDELA"},{"$f":"'[1]87-0-14'!G4085*(1+$E$13)","v":4105.1130000000003}]
[{"$f":"'[1]87-0-14'!B4086","v":"TB4C"},{"$f":"'[1]87-0-14'!D4086","v":"TARUGO E/BOLSA N   4"},{"$f":"'[1]87-0-14'!E4086","v":"CRECCHIO"},{"$f":"'[1]87-0-14'!F4086","v":"TARUGO EN BOLSA"},{"$f":"'[1]87-0-14'!G4086*(1+$E$13)","v":9277.1375000000007}]
[{"$f":"'[1]87-0-14'!B4087","v":"TB5C"},{"$f":"'[1]87-0-14'!D4087","v":"TARUGO E/BOLSA N   5"},{"$f":"'[1]87-0-14'!E4087","v":"CRECCHIO"},{"$f":"'[1]87-0-14'!F4087","v":"TARUGO EN BOLSA"},{"$f":"'[1]87-0-14'!G4087*(1+$E$13)","v":9953.4490000000005}]
[{"$f":"'[1]87-0-14'!B4088","v":"TB6C"},{"$f":"'[1]87-0-14'!D4088","v":"TARUGO E/BOLSA N   6"},{"$f":"'[1]87-0-14'!E4088","v":"CRECCHIO"},{"$f":"'[1]87-0-14'!F4088","v":"TARUGO EN BOLSA"},{"$f":"'[1]87-0-14'!G4088*(1+$E$13)","v":27237.018500000002}]
[{"$f":"'[1]87-0-14'!B4089","v":"TB8C"},{"$f":"'[1]87-0-14'!D4089","v":"TARUGO E/BOLSA N   8"},{"$f":"'[1]87-0-14'!E4089","v":"CRECCHIO"},{"$f":"'[1]87-0-14'!F4089","v":"TARUGO EN BOLSA"},{"$f":"'[1]87-0-14'!G4089*(1+$E$13)","v":28420.443500000001}]
[{"$f":"'[1]87-0-14'!B4090","v":"TB10C"},{"$f":"'[1]87-0-14'!D4090","v":"TARUGO E/BOLSA N  10"},{"$f":"'[1]87-0-14'!E4090","v":"CRECCHIO"},{"$f":"'[1]87-0-14'!F4090","v":"TARUGO EN BOLSA"},{"$f":"'[1]87-0-14'!G4090*(1+$E$13)","v":27475.377499999999}]
[{"$f":"'[1]87-0-14'!B4091","v":"TB12C"},{"$f":"'[1]87-0-14'!D4091","v":"TARUGO E/BOLSA N  12"},{"$f":"'[1]87-0-14'!E4091","v":"CRECCHIO"},{"$f":"'[1]87-0-14'!F4091","v":"TARUGO EN BOLSA"},{"$f":"'[1]87-0-14'!G4091*(1+$E$13)","v":28359.389000000003}]
[{"$f":"'[1]87-0-14'!B4092","v":"TB14C"},{"$f":"'[1]87-0-14'!D4092","v":"TARUGO E/BOLSA N  14"},{"$f":"'[1]87-0-14'!E4092","v":"CRECCHIO"},{"$f":"'[1]87-0-14'!F4092","v":"TARUGO EN BOLSA"},{"$f":"'[1]87-0-14'!G4092*(1+$E$13)","v":34783.487999999998}]
[{"$f":"'[1]87-0-14'!B4093","v":"TC4C"},{"$f":"'[1]87-0-14'!D4093","v":"TARUGO EN CAJA N   4"},{"$f":"'[1]87-0-14'!E4093","v":"CRECCHIO"},{"$f":"'[1]87-0-14'!F4093","v":"TARUGO EN CAJA"},{"$f":"'[1]87-0-14'!G4093*(1+$E$13)","v":2265.48}]
[{"$f":"'[1]87-0-14'!B4094","v":"TC5C"},{"$f":"'[1]87-0-14'!D4094","v":"TARUGO EN CAJA N   5"},{"$f":"'[1]87-0-14'!E4094","v":"CRECCHIO"},{"$f":"'[1]87-0-14'!F4094","v":"TARUGO EN CAJA"},{"$f":"'[1]87-0-14'!G4094*(1+$E$13)","v":2366.85}]
[{"$f":"'[1]87-0-14'!B4095","v":"TC6C"},{"$f":"'[1]87-0-14'!D4095","v":"TARUGO EN CAJA N   6"},{"$f":"'[1]87-0-14'!E4095","v":"CRECCHIO"},{"$f":"'[1]87-0-14'!F4095","v":"TARUGO EN CAJA"},{"$f":"'[1]87-0-14'!G4095*(1+$E$13)","v":1790.4359999999999}]
[{"$f":"'[1]87-0-14'!B4096","v":"TC8C"},{"$f":"'[1]87-0-14'!D4096","v":"TARUGO EN CAJA N   8"},{"$f":"'[1]87-0-14'!E4096","v":"CRECCHIO"},{"$f":"'[1]87-0-14'!F4096","v":"TARUGO EN CAJA"},{"$f":"'[1]87-0-14'!G4096*(1+$E$13)","v":3599.317}]
[{"$f":"'[1]87-0-14'!B4097","v":"TC10C"},{"$f":"'[1]87-0-14'!D4097","v":"TARUGO EN CAJA N  10"},{"$f":"'[1]87-0-14'!E4097","v":"CRECCHIO"},{"$f":"'[1]87-0-14'!F4097","v":"TARUGO EN CAJA"},{"$f":"'[1]87-0-14'!G4097*(1+$E$13)","v":3478.355}]
[{"$f":"'[1]87-0-14'!B4098","v":"TC12C"},{"$f":"'[1]87-0-14'!D4098","v":"TARUGO EN CAJA N  12"},{"$f":"'[1]87-0-14'!E4098","v":"CRECCHIO"},{"$f":"'[1]87-0-14'!F4098","v":"TARUGO EN CAJA"},{"$f":"'[1]87-0-14'!G4098*(1+$E$13)","v":3541.7190000000001}]
[{"$f":"'[1]87-0-14'!B4099","v":"TC14C"},{"$f":"'[1]87-0-14'!D4099","v":"TARUGO EN CAJA N  14"},{"$f":"'[1]87-0-14'!E4099","v":"CRECCHIO"},{"$f":"'[1]87-0-14'!F4099","v":"TARUGO EN CAJA"},{"$f":"'[1]87-0-14'!G4099*(1+$E$13)","v":4103.9659999999994}]
[{"$f":"'[1]87-0-14'!B4100","v":"TDC"},{"$f":"'[1]87-0-14'!D4100","v":"TARUGO P/DURLOCK"},{"$f":"'[1]87-0-14'!E4100","v":"CRECCHIO"},{"$f":"'[1]87-0-14'!F4100","v":"TARUGO P/DURLOCK"},{"$f":"'[1]87-0-14'!G4100*(1+$E$13)","v":4010.6869999999999}]
[{"$f":"'[1]87-0-14'!B4101","v":"TPC"},{"$f":"'[1]87-0-14'!D4101","v":"TARUGO PASA PRECINT x1000"},{"$f":"'[1]87-0-14'!E4101","v":"CRECCHIO"},{"$f":"'[1]87-0-14'!F4101","v":"TARUGO EN BOLSA"},{"$f":"'[1]87-0-14'!G4101*(1+$E$13)","v":36368.843500000003}]
[{"$f":"'[1]87-0-14'!B4102","v":"T1210B"},{"$f":"'[1]87-0-14'!D4102","v":"TEFLON 1/2\"x 10mt"},{"$f":"'[1]87-0-14'!E4102","v":"TF3"},{"$f":"'[1]87-0-14'!F4102","v":"TEFLON"},{"$f":"'[1]87-0-14'!G4102*(1+$E$13)","v":1018.7375000000001}]
[{"$f":"'[1]87-0-14'!B4103","v":"T1220B"},{"$f":"'[1]87-0-14'!D4103","v":"TEFLON 1/2\"x 20mt"},{"$f":"'[1]87-0-14'!E4103","v":"GOLDFLON"},{"$f":"'[1]87-0-14'!F4103","v":"TEFLON"},{"$f":"'[1]87-0-14'!G4103*(1+$E$13)","v":1993.9665000000002}]
[{"$f":"'[1]87-0-14'!B4104","v":"T3410B"},{"$f":"'[1]87-0-14'!D4104","v":"TEFLON 3/4\"x 10mt"},{"$f":"'[1]87-0-14'!E4104","v":"GOLDFLON"},{"$f":"'[1]87-0-14'!F4104","v":"TEFLON"},{"$f":"'[1]87-0-14'!G4104*(1+$E$13)","v":1993.9665000000002}]
[{"$f":"'[1]87-0-14'!B4105","v":"T3420B"},{"$f":"'[1]87-0-14'!D4105","v":"TEFLON 3/4\"x 20mt"},{"$f":"'[1]87-0-14'!E4105","v":"GOLDFLON"},{"$f":"'[1]87-0-14'!F4105","v":"TEFLON"},{"$f":"'[1]87-0-14'!G4105*(1+$E$13)","v":2807.8250000000003}]
[{"$f":"'[1]87-0-14'!B4106","v":"TS1210T"},{"$f":"'[1]87-0-14'!D4106","v":"TEFLON STANDARD 1/2\"X10mt"},{"$f":"'[1]87-0-14'!E4106","v":"TF3"},{"$f":"'[1]87-0-14'!F4106","v":"CINTA TEFLON"},{"$f":"'[1]87-0-14'!G4106*(1+$E$13)","v":504.60250000000002}]
[{"$f":"'[1]87-0-14'!B4107","v":"TB1010S"},{"$f":"'[1]87-0-14'!D4107","v":"TEJ CERR BLANCO 10x10"},{"$f":"'[1]87-0-14'!E4107","v":"SOLYON"},{"$f":"'[1]87-0-14'!F4107","v":"TEJIDO CERRAMIENT"},{"$f":"'[1]87-0-14'!G4107*(1+$E$13)","v":8454.9089999999997}]
[{"$f":"'[1]87-0-14'!B4108","v":"TB2020S"},{"$f":"'[1]87-0-14'!D4108","v":"TEJ CERR BLANCO 20x20"},{"$f":"'[1]87-0-14'!E4108","v":"SOLYON"},{"$f":"'[1]87-0-14'!F4108","v":"TEJIDO CERRAMIENT"},{"$f":"'[1]87-0-14'!G4108*(1+$E$13)","v":8454.9089999999997}]
[{"$f":"'[1]87-0-14'!B4109","v":"TN1010S"},{"$f":"'[1]87-0-14'!D4109","v":"TEJ CERR NEGRO 10x10"},{"$f":"'[1]87-0-14'!E4109","v":"SOLYON"},{"$f":"'[1]87-0-14'!F4109","v":"TEJIDO CERRAMIENT"},{"$f":"'[1]87-0-14'!G4109*(1+$E$13)","v":8454.9089999999997}]
[{"$f":"'[1]87-0-14'!B4110","v":"TN2020S"},{"$f":"'[1]87-0-14'!D4110","v":"TEJ CERR NEGRO 20x20"},{"$f":"'[1]87-0-14'!E4110","v":"SOLYON"},{"$f":"'[1]87-0-14'!F4110","v":"TEJIDO CERRAMIENT"},{"$f":"'[1]87-0-14'!G4110*(1+$E$13)","v":8454.9089999999997}]
[{"$f":"'[1]87-0-14'!B4111","v":"TV1010S"},{"$f":"'[1]87-0-14'!D4111","v":"TEJ CERR VERDE 10x10"},{"$f":"'[1]87-0-14'!E4111","v":"SOLYON"},{"$f":"'[1]87-0-14'!F4111","v":"TEJIDO CERRAMIENT"},{"$f":"'[1]87-0-14'!G4111*(1+$E$13)","v":8454.9089999999997}]
[{"$f":"'[1]87-0-14'!B4112","v":"TV2020S"},{"$f":"'[1]87-0-14'!D4112","v":"TEJ CERR VERDE 20x20"},{"$f":"'[1]87-0-14'!E4112","v":"SOLYON"},{"$f":"'[1]87-0-14'!F4112","v":"TEJIDO CERRAMIENT"},{"$f":"'[1]87-0-14'!G4112*(1+$E$13)","v":8454.9089999999997}]
[{"$f":"'[1]87-0-14'!B4113","v":"TFG80P"},{"$f":"'[1]87-0-14'!D4113","v":"TEJ F/VIDRIO GR/OSCUR  80"},{"$f":"'[1]87-0-14'!E4113","v":"PEKER"},{"$f":"'[1]87-0-14'!F4113","v":"TEJIDO FIBRA VIDR"},{"$f":"'[1]87-0-14'!G4113*(1+$E$13)","v":2401.0895}]
[{"$f":"'[1]87-0-14'!B4114","v":"TFG100P"},{"$f":"'[1]87-0-14'!D4114","v":"TEJ F/VIDRIO GR/OSCUR 100"},{"$f":"'[1]87-0-14'!E4114","v":"PEKER"},{"$f":"'[1]87-0-14'!F4114","v":"TEJIDO FIBRA VIDR"},{"$f":"'[1]87-0-14'!G4114*(1+$E$13)","v":3000.3969999999999}]
[{"$f":"'[1]87-0-14'!B4115","v":"TFG120P"},{"$f":"'[1]87-0-14'!D4115","v":"TEJ F/VIDRIO GR/OSCUR 120"},{"$f":"'[1]87-0-14'!E4115","v":"PEKER"},{"$f":"'[1]87-0-14'!F4115","v":"TEJIDO FIBRA VIDR"},{"$f":"'[1]87-0-14'!G4115*(1+$E$13)","v":3600.7895000000003}]
[{"$f":"'[1]87-0-14'!B4116","v":"TG2580C"},{"$f":"'[1]87-0-14'!D4116","v":"TEJ HEX GALLI 25x 80"},{"$f":"'[1]87-0-14'!E4116","v":"CHINASOL"},{"$f":"'[1]87-0-14'!F4116","v":"TEJIDO EXAGONAL"},{"$f":"'[1]87-0-14'!G4116*(1+$E$13)","v":12530.7425}]
[{"$f":"'[1]87-0-14'!B4117","v":"TG25120C"},{"$f":"'[1]87-0-14'!D4117","v":"TEJ HEX GALLI 25x120"},{"$f":"'[1]87-0-14'!E4117","v":"CHINASOL"},{"$f":"'[1]87-0-14'!F4117","v":"TEJIDO EXAGONAL"},{"$f":"'[1]87-0-14'!G4117*(1+$E$13)","v":18513.478999999999}]
[{"$f":"'[1]87-0-14'!B4118","v":"TG25150C"},{"$f":"'[1]87-0-14'!D4118","v":"TEJ HEX GALLI 25x150"},{"$f":"'[1]87-0-14'!E4118","v":"CHINASOL"},{"$f":"'[1]87-0-14'!F4118","v":"TEJIDO EXAGONAL"},{"$f":"'[1]87-0-14'!G4118*(1+$E$13)","v":23648.257000000001}]
[{"$f":"'[1]87-0-14'!B4119","v":"TG38120C"},{"$f":"'[1]87-0-14'!D4119","v":"TEJ HEX GALLI 38X120"},{"$f":"'[1]87-0-14'!E4119","v":"CHINASOL"},{"$f":"'[1]87-0-14'!F4119","v":"TEJIDO EXAGONAL"},{"$f":"'[1]87-0-14'!G4119*(1+$E$13)","v":15686.992}]
[{"$f":"'[1]87-0-14'!B4120","v":"TG38100C"},{"$f":"'[1]87-0-14'!D4120","v":"TEJ HEX GALLI 38x100"},{"$f":"'[1]87-0-14'!E4120","v":"CHINASOL"},{"$f":"'[1]87-0-14'!F4120","v":"TEJIDO EXAGONAL"},{"$f":"'[1]87-0-14'!G4120*(1+$E$13)","v":13096.043}]
[{"$f":"'[1]87-0-14'!B4121","v":"TG38150C"},{"$f":"'[1]87-0-14'!D4121","v":"TEJ HEX GALLI 38x150"},{"$f":"'[1]87-0-14'!E4121","v":"CHINASOL"},{"$f":"'[1]87-0-14'!F4121","v":"TEJIDO EXAGONAL"},{"$f":"'[1]87-0-14'!G4121*(1+$E$13)","v":19926.722500000003}]
[{"$f":"'[1]87-0-14'!B4122","v":"TP1380C"},{"$f":"'[1]87-0-14'!D4122","v":"TEJ HEX PAJAR 13x 80"},{"$f":"'[1]87-0-14'!E4122","v":"CHINASOL"},{"$f":"'[1]87-0-14'!F4122","v":"TEJIDO EXAGONAL"},{"$f":"'[1]87-0-14'!G4122*(1+$E$13)","v":13661.343500000001}]
[{"$f":"'[1]87-0-14'!B4123","v":"TP13120C"},{"$f":"'[1]87-0-14'!D4123","v":"TEJ HEX PAJAR 13x120"},{"$f":"'[1]87-0-14'!E4123","v":"CHINASOL"},{"$f":"'[1]87-0-14'!F4123","v":"TEJIDO EXAGONAL"},{"$f":"'[1]87-0-14'!G4123*(1+$E$13)","v":19691.169000000002}]
[{"$f":"'[1]87-0-14'!B4124","v":"TP13150C"},{"$f":"'[1]87-0-14'!D4124","v":"TEJ HEX PAJAR 13x150"},{"$f":"'[1]87-0-14'!E4124","v":"CHINASOL"},{"$f":"'[1]87-0-14'!F4124","v":"TEJIDO EXAGONAL"},{"$f":"'[1]87-0-14'!G4124*(1+$E$13)","v":25768.099000000002}]
[{"$f":"'[1]87-0-14'!B4125","v":"TP1980C"},{"$f":"'[1]87-0-14'!D4125","v":"TEJ HEX POLLI 19x 80"},{"$f":"'[1]87-0-14'!E4125","v":"CHINASOL"},{"$f":"'[1]87-0-14'!F4125","v":"TEJIDO EXAGONAL"},{"$f":"'[1]87-0-14'!G4125*(1+$E$13)","v":13331.581000000002}]
[{"$f":"'[1]87-0-14'!B4126","v":"TP19120C"},{"$f":"'[1]87-0-14'!D4126","v":"TEJ HEX POLLI 19x120"},{"$f":"'[1]87-0-14'!E4126","v":"CHINASOL"},{"$f":"'[1]87-0-14'!F4126","v":"TEJIDO EXAGONAL"},{"$f":"'[1]87-0-14'!G4126*(1+$E$13)","v":19031.659500000002}]
[{"$f":"'[1]87-0-14'!B4127","v":"TP19150C"},{"$f":"'[1]87-0-14'!D4127","v":"TEJ HEX POLLI 19x150"},{"$f":"'[1]87-0-14'!E4127","v":"CHINASOL"},{"$f":"'[1]87-0-14'!F4127","v":"TEJIDO EXAGONAL"},{"$f":"'[1]87-0-14'!G4127*(1+$E$13)","v":23459.823500000002}]
[{"$f":"'[1]87-0-14'!B4128","v":"TG25100P"},{"$f":"'[1]87-0-14'!D4128","v":"TEJ HEXAG GALLINER 25x100"},{"$f":"'[1]87-0-14'!E4128","v":"PEKER"},{"$f":"'[1]87-0-14'!F4128","v":"TEJIDO EXAGONAL"},{"$f":"'[1]87-0-14'!G4128*(1+$E$13)","v":3685.404}]
[{"$f":"'[1]87-0-14'!B4129","v":"TP13100P"},{"$f":"'[1]87-0-14'!D4129","v":"TEJ HEXAG PAJARITO 13x100"},{"$f":"'[1]87-0-14'!E4129","v":"PEKER"},{"$f":"'[1]87-0-14'!F4129","v":"TEJIDO EXAGONAL"},{"$f":"'[1]87-0-14'!G4129*(1+$E$13)","v":3935.2485000000001}]
[{"$f":"'[1]87-0-14'!B4130","v":"TP19100P"},{"$f":"'[1]87-0-14'!D4130","v":"TEJ HEXAG POLLITO 19x100"},{"$f":"'[1]87-0-14'!E4130","v":"PEKER"},{"$f":"'[1]87-0-14'!F4130","v":"TEJIDO EXAGONAL"},{"$f":"'[1]87-0-14'!G4130*(1+$E$13)","v":3511.0755000000004}]
[{"$f":"'[1]87-0-14'!B4131","v":"TMG80P"},{"$f":"'[1]87-0-14'!D4131","v":"TEJ MOSQ PLASTIC GRIS  80"},{"$f":"'[1]87-0-14'!E4131","v":"PEKER"},{"$f":"'[1]87-0-14'!F4131","v":"TEJIDO MOSQUI PLA"},{"$f":"'[1]87-0-14'!G4131*(1+$E$13)","v":2836.6859999999997}]
[{"$f":"'[1]87-0-14'!B4132","v":"TMG100P"},{"$f":"'[1]87-0-14'!D4132","v":"TEJ MOSQ PLASTIC GRIS 100"},{"$f":"'[1]87-0-14'!E4132","v":"PEKER"},{"$f":"'[1]87-0-14'!F4132","v":"TEJIDO MOSQUI PLA"},{"$f":"'[1]87-0-14'!G4132*(1+$E$13)","v":3542.4010000000003}]
[{"$f":"'[1]87-0-14'!B4133","v":"TMG120P"},{"$f":"'[1]87-0-14'!D4133","v":"TEJ MOSQ PLASTIC GRIS 120"},{"$f":"'[1]87-0-14'!E4133","v":"PEKER"},{"$f":"'[1]87-0-14'!F4133","v":"TEJIDO MOSQUI PLA"},{"$f":"'[1]87-0-14'!G4133*(1+$E$13)","v":4248.085}]
[{"$f":"'[1]87-0-14'!B4134","v":"TM80M"},{"$f":"'[1]87-0-14'!D4134","v":"TEJ MOSQU GALV 30mt  80cm"},{"$f":"'[1]87-0-14'!E4134","v":"MISA"},{"$f":"'[1]87-0-14'!F4134","v":"TEJIDO MOSQUITERO"},{"$f":"'[1]87-0-14'!G4134*(1+$E$13)","v":5577.5974999999999}]
[{"$f":"'[1]87-0-14'!B4135","v":"TM100M"},{"$f":"'[1]87-0-14'!D4135","v":"TEJ MOSQU GALV 30mt 100cm"},{"$f":"'[1]87-0-14'!E4135","v":"MISA"},{"$f":"'[1]87-0-14'!F4135","v":"TEJIDO MOSQUITERO"},{"$f":"'[1]87-0-14'!G4135*(1+$E$13)","v":6971.9930000000004}]
[{"$f":"'[1]87-0-14'!B4136","v":"TM120M"},{"$f":"'[1]87-0-14'!D4136","v":"TEJ MOSQU GALV 30mt 120cm"},{"$f":"'[1]87-0-14'!E4136","v":"MISA"},{"$f":"'[1]87-0-14'!F4136","v":"TEJIDO MOSQUITERO"},{"$f":"'[1]87-0-14'!G4136*(1+$E$13)","v":8356.9645}]
[{"$f":"'[1]87-0-14'!B4137","v":"TM150M"},{"$f":"'[1]87-0-14'!D4137","v":"TEJ MOSQU GALV 30mt 150cm"},{"$f":"'[1]87-0-14'!E4137","v":"MISA"},{"$f":"'[1]87-0-14'!F4137","v":"TEJIDO MOSQUITERO"},{"$f":"'[1]87-0-14'!G4137*(1+$E$13)","v":10448.565500000001}]
[{"$f":"'[1]87-0-14'!B4138","v":"TMV80P"},{"$f":"'[1]87-0-14'!D4138","v":"TEJ MOSQU PLAST VERDE  80"},{"$f":"'[1]87-0-14'!E4138","v":"PEKER"},{"$f":"'[1]87-0-14'!F4138","v":"TEJIDO MOSQUI PLA"},{"$f":"'[1]87-0-14'!G4138*(1+$E$13)","v":2553.0205000000001}]
[{"$f":"'[1]87-0-14'!B4139","v":"TMV100P"},{"$f":"'[1]87-0-14'!D4139","v":"TEJ MOSQU PLAST VERDE 100"},{"$f":"'[1]87-0-14'!E4139","v":"PEKER"},{"$f":"'[1]87-0-14'!F4139","v":"TEJIDO MOSQUI PLA"},{"$f":"'[1]87-0-14'!G4139*(1+$E$13)","v":3188.1640000000002}]
[{"$f":"'[1]87-0-14'!B4140","v":"TMV120P"},{"$f":"'[1]87-0-14'!D4140","v":"TEJ MOSQU PLAST VERDE 120"},{"$f":"'[1]87-0-14'!E4140","v":"PEKER"},{"$f":"'[1]87-0-14'!F4140","v":"TEJIDO MOSQUI PLA"},{"$f":"'[1]87-0-14'!G4140*(1+$E$13)","v":3823.2765000000004}]
[{"$f":"'[1]87-0-14'!B4141","v":"TA80P"},{"$f":"'[1]87-0-14'!D4141","v":"TEJID MOSQ #ALUMINIO#  80"},{"$f":"'[1]87-0-14'!E4141","v":"PEKER"},{"$f":"'[1]87-0-14'!F4141","v":"TEJIDO ALUMINIO"},{"$f":"'[1]87-0-14'!G4141*(1+$E$13)","v":6094.1350000000002}]
[{"$f":"'[1]87-0-14'!B4142","v":"TA100P"},{"$f":"'[1]87-0-14'!D4142","v":"TEJID MOSQ #ALUMINIO# 100"},{"$f":"'[1]87-0-14'!E4142","v":"PEKER"},{"$f":"'[1]87-0-14'!F4142","v":"TEJIDO ALUMINIO"},{"$f":"'[1]87-0-14'!G4142*(1+$E$13)","v":7491.5839999999998}]
[{"$f":"'[1]87-0-14'!B4143","v":"TA120P"},{"$f":"'[1]87-0-14'!D4143","v":"TEJID MOSQ #ALUMINIO# 120"},{"$f":"'[1]87-0-14'!E4143","v":"PEKER"},{"$f":"'[1]87-0-14'!F4143","v":"TEJIDO ALUMINIO"},{"$f":"'[1]87-0-14'!G4143*(1+$E$13)","v":8630.0589999999993}]
[{"$f":"'[1]87-0-14'!B4144","v":"TE36D"},{"$f":"'[1]87-0-14'!D4144","v":"TELA ESMERIL N   36"},{"$f":"'[1]87-0-14'!E4144","v":"DOBLE A"},{"$f":"'[1]87-0-14'!F4144","v":"TELA ESMERIL"},{"$f":"'[1]87-0-14'!G4144*(1+$E$13)","v":4035.9364999999998}]
[{"$f":"'[1]87-0-14'!B4145","v":"TE60D"},{"$f":"'[1]87-0-14'!D4145","v":"TELA ESMERIL N   60"},{"$f":"'[1]87-0-14'!E4145","v":"DOBLE A"},{"$f":"'[1]87-0-14'!F4145","v":"TELA ESMERIL"},{"$f":"'[1]87-0-14'!G4145*(1+$E$13)","v":3669.5010000000002}]
[{"$f":"'[1]87-0-14'!B4146","v":"TE80D"},{"$f":"'[1]87-0-14'!D4146","v":"TELA ESMERIL N   80"},{"$f":"'[1]87-0-14'!E4146","v":"DOBLE A"},{"$f":"'[1]87-0-14'!F4146","v":"TELA ESMERIL"},{"$f":"'[1]87-0-14'!G4146*(1+$E$13)","v":3493.6224999999999}]
[{"$f":"'[1]87-0-14'!B4147","v":"TE100D"},{"$f":"'[1]87-0-14'!D4147","v":"TELA ESMERIL N  100"},{"$f":"'[1]87-0-14'!E4147","v":"DOBLE A"},{"$f":"'[1]87-0-14'!F4147","v":"TELA ESMERIL"},{"$f":"'[1]87-0-14'!G4147*(1+$E$13)","v":3493.6224999999999}]
[{"$f":"'[1]87-0-14'!B4148","v":"TE120D"},{"$f":"'[1]87-0-14'!D4148","v":"TELA ESMERIL N  120"},{"$f":"'[1]87-0-14'!E4148","v":"DOBLE A"},{"$f":"'[1]87-0-14'!F4148","v":"TELA ESMERIL"},{"$f":"'[1]87-0-14'!G4148*(1+$E$13)","v":3406.0164999999997}]
[{"$f":"'[1]87-0-14'!B4149","v":"TE150D"},{"$f":"'[1]87-0-14'!D4149","v":"TELA ESMERIL N  150"},{"$f":"'[1]87-0-14'!E4149","v":"DOBLE A"},{"$f":"'[1]87-0-14'!F4149","v":"TELA ESMERIL"},{"$f":"'[1]87-0-14'!G4149*(1+$E$13)","v":3406.0164999999997}]
[{"$f":"'[1]87-0-14'!B4150","v":"TE180D"},{"$f":"'[1]87-0-14'!D4150","v":"TELA ESMERIL N  180"},{"$f":"'[1]87-0-14'!E4150","v":"DOBLE A"},{"$f":"'[1]87-0-14'!F4150","v":"TELA ESMERIL"},{"$f":"'[1]87-0-14'!G4150*(1+$E$13)","v":3322.1150000000002}]
[{"$f":"'[1]87-0-14'!B4151","v":"TE320D"},{"$f":"'[1]87-0-14'!D4151","v":"TELA ESMERIL N  320"},{"$f":"'[1]87-0-14'!E4151","v":"DOBLE A"},{"$f":"'[1]87-0-14'!F4151","v":"TELA ESMERIL"},{"$f":"'[1]87-0-14'!G4151*(1+$E$13)","v":3322.1150000000002}]
[{"$f":"'[1]87-0-14'!B4152","v":"TE60EG"},{"$f":"'[1]87-0-14'!D4152","v":"TELA ESMERIL grano  60"},{"$f":"'[1]87-0-14'!E4152","v":"EL GALGO"},{"$f":"'[1]87-0-14'!F4152","v":"LIJA"},{"$f":"'[1]87-0-14'!G4152*(1+$E$13)","v":1763.7760000000001}]
[{"$f":"'[1]87-0-14'!B4153","v":"TE100EG"},{"$f":"'[1]87-0-14'!D4153","v":"TELA ESMERIL grano 100"},{"$f":"'[1]87-0-14'!E4153","v":"EL GALGO"},{"$f":"'[1]87-0-14'!F4153","v":"LIJA"},{"$f":"'[1]87-0-14'!G4153*(1+$E$13)","v":1763.7760000000001}]
[{"$f":"'[1]87-0-14'!B4154","v":"TE150EG"},{"$f":"'[1]87-0-14'!D4154","v":"TELA ESMERIL grano 150"},{"$f":"'[1]87-0-14'!E4154","v":"EL GALGO"},{"$f":"'[1]87-0-14'!F4154","v":"LIJA"},{"$f":"'[1]87-0-14'!G4154*(1+$E$13)","v":1763.7760000000001}]
[{"$f":"'[1]87-0-14'!B4155","v":"TA9M"},{"$f":"'[1]87-0-14'!D4155","v":"TENAZ ARMA IMPOR  9\""},{"$f":"'[1]87-0-14'!E4155","v":"METZ"},{"$f":"'[1]87-0-14'!F4155","v":"TENAZA"},{"$f":"'[1]87-0-14'!G4155*(1+$E$13)","v":19704.2045}]
[{"$f":"'[1]87-0-14'!B4156","v":"TA12M"},{"$f":"'[1]87-0-14'!D4156","v":"TENAZ ARMA IMPOR 12\""},{"$f":"'[1]87-0-14'!E4156","v":"METZ"},{"$f":"'[1]87-0-14'!F4156","v":"TENAZA"},{"$f":"'[1]87-0-14'!G4156*(1+$E$13)","v":30996.326500000003}]
[{"$f":"'[1]87-0-14'!B4157","v":"TA12CEG"},{"$f":"'[1]87-0-14'!D4157","v":"TENAZA ARM 12\" C/ENT"},{"$f":"'[1]87-0-14'!E4157","v":"GHERARDI"},{"$f":"'[1]87-0-14'!F4157","v":"TENAZA"},{"$f":"'[1]87-0-14'!G4157*(1+$E$13)","v":27008.377999999997}]
[{"$f":"'[1]87-0-14'!B4158","v":"TA12G"},{"$f":"'[1]87-0-14'!D4158","v":"TENAZA ARMADOR 12\""},{"$f":"'[1]87-0-14'!E4158","v":"GHERARDI"},{"$f":"'[1]87-0-14'!F4158","v":"TENAZA"},{"$f":"'[1]87-0-14'!G4158*(1+$E$13)","v":28050.877}]
[{"$f":"'[1]87-0-14'!B4159","v":"TA9G"},{"$f":"'[1]87-0-14'!D4159","v":"TENAZA ARMADOR 9\""},{"$f":"'[1]87-0-14'!E4159","v":"GHERARDI"},{"$f":"'[1]87-0-14'!F4159","v":"TENAZA"},{"$f":"'[1]87-0-14'!G4159*(1+$E$13)","v":25859.053}]
[{"$f":"'[1]87-0-14'!B4160","v":"TA10M"},{"$f":"'[1]87-0-14'!D4160","v":"TENAZA ARMADOR IMPORT 10_"},{"$f":"'[1]87-0-14'!E4160","v":"METZ"},{"$f":"'[1]87-0-14'!F4160","v":"TENAZA"},{"$f":"'[1]87-0-14'!G4160*(1+$E$13)","v":21883.024000000001}]
[{"$f":"'[1]87-0-14'!B4161","v":"TA6G"},{"$f":"'[1]87-0-14'!D4161","v":"TENAZA AZULEJISTA 6\""},{"$f":"'[1]87-0-14'!E4161","v":"GHERARDI"},{"$f":"'[1]87-0-14'!F4161","v":"TENAZA"},{"$f":"'[1]87-0-14'!G4161*(1+$E$13)","v":20317.09}]
[{"$f":"'[1]87-0-14'!B4162","v":"TC10G"},{"$f":"'[1]87-0-14'!D4162","v":"TENAZA CARPINTERO 10"},{"$f":"'[1]87-0-14'!E4162","v":"GHERARDI"},{"$f":"'[1]87-0-14'!F4162","v":"TENAZA"},{"$f":"'[1]87-0-14'!G4162*(1+$E$13)","v":24227.151000000002}]
[{"$f":"'[1]87-0-14'!B4163","v":"TC6G"},{"$f":"'[1]87-0-14'!D4163","v":"TENAZA CARPINTERO 6\""},{"$f":"'[1]87-0-14'!E4163","v":"GHERARDI"},{"$f":"'[1]87-0-14'!F4163","v":"TENAZA"},{"$f":"'[1]87-0-14'!G4163*(1+$E$13)","v":20895.239999999998}]
[{"$f":"'[1]87-0-14'!B4164","v":"TC7G"},{"$f":"'[1]87-0-14'!D4164","v":"TENAZA CARPINTERO 7\""},{"$f":"'[1]87-0-14'!E4164","v":"GHERARDI"},{"$f":"'[1]87-0-14'!F4164","v":"TENAZA"},{"$f":"'[1]87-0-14'!G4164*(1+$E$13)","v":21578.821}]
[{"$f":"'[1]87-0-14'!B4165","v":"TC8G"},{"$f":"'[1]87-0-14'!D4165","v":"TENAZA CARPINTERO 8\""},{"$f":"'[1]87-0-14'!E4165","v":"GHERARDI"},{"$f":"'[1]87-0-14'!F4165","v":"TENAZA"},{"$f":"'[1]87-0-14'!G4165*(1+$E$13)","v":22079.827499999999}]
[{"$f":"'[1]87-0-14'!B4166","v":"TC9G"},{"$f":"'[1]87-0-14'!D4166","v":"TENAZA CARPINTERO 9\""},{"$f":"'[1]87-0-14'!E4166","v":"GHERARDI"},{"$f":"'[1]87-0-14'!F4166","v":"TENAZA"},{"$f":"'[1]87-0-14'!G4166*(1+$E$13)","v":23602.888500000001}]
[{"$f":"'[1]87-0-14'!B4167","v":"TC6M"},{"$f":"'[1]87-0-14'!D4167","v":"TENAZA CARPINTERO L/IN 6\""},{"$f":"'[1]87-0-14'!E4167","v":"METZ"},{"$f":"'[1]87-0-14'!F4167","v":"TENAZA"},{"$f":"'[1]87-0-14'!G4167*(1+$E$13)","v":14916.983000000002}]
[{"$f":"'[1]87-0-14'!B4168","v":"TC7M"},{"$f":"'[1]87-0-14'!D4168","v":"TENAZA CARPINTERO L/IN 7\""},{"$f":"'[1]87-0-14'!E4168","v":"METZ"},{"$f":"'[1]87-0-14'!F4168","v":"TENAZA"},{"$f":"'[1]87-0-14'!G4168*(1+$E$13)","v":17037.972000000002}]
[{"$f":"'[1]87-0-14'!B4169","v":"TC8M"},{"$f":"'[1]87-0-14'!D4169","v":"TENAZA CARPINTERO L/IN 8\""},{"$f":"'[1]87-0-14'!E4169","v":"METZ"},{"$f":"'[1]87-0-14'!F4169","v":"TENAZA"},{"$f":"'[1]87-0-14'!G4169*(1+$E$13)","v":19140.345500000003}]
[{"$f":"'[1]87-0-14'!B4170","v":"TPAS"},{"$f":"'[1]87-0-14'!D4170","v":"TEND PIE \"CON ALAS\" 8 VAR"},{"$f":"'[1]87-0-14'!E4170","v":"SABELCORT"},{"$f":"'[1]87-0-14'!F4170","v":"TENDEDERO"},{"$f":"'[1]87-0-14'!G4170*(1+$E$13)","v":40102.499000000003}]
[{"$f":"'[1]87-0-14'!B4171","v":"TPA9S"},{"$f":"'[1]87-0-14'!D4171","v":"TEND PIE C/ALAS *9* VARIL"},{"$f":"'[1]87-0-14'!E4171","v":"SABELCORT"},{"$f":"'[1]87-0-14'!F4171","v":"TENDEDERO"},{"$f":"'[1]87-0-14'!G4171*(1+$E$13)","v":49901.413}]
[{"$f":"'[1]87-0-14'!B4172","v":"TCS"},{"$f":"'[1]87-0-14'!D4172","v":"TENDEDERO CALESITA"},{"$f":"'[1]87-0-14'!E4172","v":"SABELCORT"},{"$f":"'[1]87-0-14'!F4172","v":"TENDEDERO"},{"$f":"'[1]87-0-14'!G4172*(1+$E$13)","v":127073.216}]
[{"$f":"'[1]87-0-14'!B4173","v":"TPS"},{"$f":"'[1]87-0-14'!D4173","v":"TENDEDERO DE PIE (8 VARI)"},{"$f":"'[1]87-0-14'!E4173","v":"SABELCORT"},{"$f":"'[1]87-0-14'!F4173","v":"TENDEDERO"},{"$f":"'[1]87-0-14'!G4173*(1+$E$13)","v":28771.254999999997}]
[{"$f":"'[1]87-0-14'!B4174","v":"TP9S"},{"$f":"'[1]87-0-14'!D4174","v":"TENDEDERO DE PIE(*9* VAR)"},{"$f":"'[1]87-0-14'!E4174","v":"SABELCORT"},{"$f":"'[1]87-0-14'!F4174","v":"TENDEDERO"},{"$f":"'[1]87-0-14'!G4174*(1+$E$13)","v":34374.0245}]
[{"$f":"'[1]87-0-14'!B4175","v":"TE100S"},{"$f":"'[1]87-0-14'!D4175","v":"TENDEDERO EXTENS 100"},{"$f":"'[1]87-0-14'!E4175","v":"SABELCORT"},{"$f":"'[1]87-0-14'!F4175","v":"TENDEDERO"},{"$f":"'[1]87-0-14'!G4175*(1+$E$13)","v":42499.186500000003}]
[{"$f":"'[1]87-0-14'!B4176","v":"TE45S"},{"$f":"'[1]87-0-14'!D4176","v":"TENDEDERO EXTENS. 45"},{"$f":"'[1]87-0-14'!E4176","v":"SABELCORT"},{"$f":"'[1]87-0-14'!F4176","v":"TENDEDERO"},{"$f":"'[1]87-0-14'!G4176*(1+$E$13)","v":32252.353500000001}]
[{"$f":"'[1]87-0-14'!B4177","v":"TE60S"},{"$f":"'[1]87-0-14'!D4177","v":"TENDEDERO EXTENS. 60"},{"$f":"'[1]87-0-14'!E4177","v":"SABELCORT"},{"$f":"'[1]87-0-14'!F4177","v":"TENDEDERO"},{"$f":"'[1]87-0-14'!G4177*(1+$E$13)","v":34150.855500000005}]
[{"$f":"'[1]87-0-14'!B4178","v":"TE80S"},{"$f":"'[1]87-0-14'!D4178","v":"TENDEDERO EXTENS. 80"},{"$f":"'[1]87-0-14'!E4178","v":"SABELCORT"},{"$f":"'[1]87-0-14'!F4178","v":"TENDEDERO"},{"$f":"'[1]87-0-14'!G4178*(1+$E$13)","v":37946.247500000005}]
[{"$f":"'[1]87-0-14'!B4179","v":"TLS"},{"$f":"'[1]87-0-14'!D4179","v":"TENDEDERO LATERAL"},{"$f":"'[1]87-0-14'!E4179","v":"SABELCORT"},{"$f":"'[1]87-0-14'!F4179","v":"TENDEDERO"},{"$f":"'[1]87-0-14'!G4179*(1+$E$13)","v":19501.976000000002}]
[{"$f":"'[1]87-0-14'!B4180","v":"T6T"},{"$f":"'[1]87-0-14'!D4180","v":"TENSOR 2 PITONES  60mm"},{"$f":"'[1]87-0-14'!E4180","v":"TOTH"},{"$f":"'[1]87-0-14'!F4180","v":"TENSOR"},{"$f":"'[1]87-0-14'!G4180*(1+$E$13)","v":3413.1775000000002}]
[{"$f":"'[1]87-0-14'!B4181","v":"T7T"},{"$f":"'[1]87-0-14'!D4181","v":"TENSOR 2 PITONES  70mm"},{"$f":"'[1]87-0-14'!E4181","v":"TOTH"},{"$f":"'[1]87-0-14'!F4181","v":"TENSOR"},{"$f":"'[1]87-0-14'!G4181*(1+$E$13)","v":3555.8705000000004}]
[{"$f":"'[1]87-0-14'!B4182","v":"T8T"},{"$f":"'[1]87-0-14'!D4182","v":"TENSOR 2 PITONES  80mm"},{"$f":"'[1]87-0-14'!E4182","v":"TOTH"},{"$f":"'[1]87-0-14'!F4182","v":"TENSOR"},{"$f":"'[1]87-0-14'!G4182*(1+$E$13)","v":4258.5784999999996}]
[{"$f":"'[1]87-0-14'!B4183","v":"T10T"},{"$f":"'[1]87-0-14'!D4183","v":"TENSOR 2 PITONES 100mm"},{"$f":"'[1]87-0-14'!E4183","v":"TOTH"},{"$f":"'[1]87-0-14'!F4183","v":"TENSOR"},{"$f":"'[1]87-0-14'!G4183*(1+$E$13)","v":7117.7860000000001}]
[{"$f":"'[1]87-0-14'!B4184","v":"T12T"},{"$f":"'[1]87-0-14'!D4184","v":"TENSOR 2 PITONES 120mm"},{"$f":"'[1]87-0-14'!E4184","v":"TOTH"},{"$f":"'[1]87-0-14'!F4184","v":"TENSOR"},{"$f":"'[1]87-0-14'!G4184*(1+$E$13)","v":7348.5035000000007}]
[{"$f":"'[1]87-0-14'!B4185","v":"TG50EE"},{"$f":"'[1]87-0-14'!D4185","v":"TENSOR GALVANIZ  50mm (10"},{"$f":"'[1]87-0-14'!E4185","v":"ELESCUERZO"},{"$f":"'[1]87-0-14'!F4185","v":"TENSOR"},{"$f":"'[1]87-0-14'!G4185*(1+$E$13)","v":38306.405500000001}]
[{"$f":"'[1]87-0-14'!B4186","v":"TG60EE"},{"$f":"'[1]87-0-14'!D4186","v":"TENSOR GALVANIZ  60mm (10"},{"$f":"'[1]87-0-14'!E4186","v":"ELESCUERZO"},{"$f":"'[1]87-0-14'!F4186","v":"TENSOR"},{"$f":"'[1]87-0-14'!G4186*(1+$E$13)","v":43958.93}]
[{"$f":"'[1]87-0-14'!B4187","v":"TG80EE"},{"$f":"'[1]87-0-14'!D4187","v":"TENSOR GALVANIZ  80mm (10"},{"$f":"'[1]87-0-14'!E4187","v":"ELESCUERZO"},{"$f":"'[1]87-0-14'!F4187","v":"TENSOR"},{"$f":"'[1]87-0-14'!G4187*(1+$E$13)","v":53916.393499999998}]
[{"$f":"'[1]87-0-14'!B4188","v":"TG100EE"},{"$f":"'[1]87-0-14'!D4188","v":"TENSOR GALVANIZ 100mm (10"},{"$f":"'[1]87-0-14'!E4188","v":"ELESCUERZO"},{"$f":"'[1]87-0-14'!F4188","v":"TENSOR"},{"$f":"'[1]87-0-14'!G4188*(1+$E$13)","v":61452.0285}]
[{"$f":"'[1]87-0-14'!B4189","v":"TC12S"},{"$f":"'[1]87-0-14'!D4189","v":"TERMINAL CAN0 1/2"},{"$f":"'[1]87-0-14'!E4189","v":"SABELCORT"},{"$f":"'[1]87-0-14'!F4189","v":"TERMINAL"},{"$f":"'[1]87-0-14'!G4189*(1+$E$13)","v":51056.550499999998}]
[{"$f":"'[1]87-0-14'!B4190","v":"TC58S"},{"$f":"'[1]87-0-14'!D4190","v":"TERMINAL CANO 5/8"},{"$f":"'[1]87-0-14'!E4190","v":"SABELCORT"},{"$f":"'[1]87-0-14'!F4190","v":"TERMINAL"},{"$f":"'[1]87-0-14'!G4190*(1+$E$13)","v":66176.893499999991}]
[{"$f":"'[1]87-0-14'!B4191","v":"TCPT"},{"$f":"'[1]87-0-14'!D4191","v":"TERR P/PLAST GUIA #TITAN#"},{"$f":"'[1]87-0-14'!E4191","v":"VITAL GAS"},{"$f":"'[1]87-0-14'!F4191","v":"TERRAJ P/PLASTICO"},{"$f":"'[1]87-0-14'!G4191*(1+$E$13)","v":13280.725499999999}]
[{"$f":"'[1]87-0-14'!B4192","v":"TPN"},{"$f":"'[1]87-0-14'!D4192","v":"TERRAJ C/PLAST 1/2,3/4,1\""},{"$f":"'[1]87-0-14'!E4192","v":"NEIKE"},{"$f":"'[1]87-0-14'!F4192","v":"TERRAJA"},{"$f":"'[1]87-0-14'!G4192*(1+$E$13)","v":16547.877499999999}]
[{"$f":"'[1]87-0-14'!B4193","v":"TES"},{"$f":"'[1]87-0-14'!D4193","v":"TERRAJA \"ESTRELLA\" SP/"},{"$f":"'[1]87-0-14'!E4193","v":"SANOGASS"},{"$f":"'[1]87-0-14'!F4193","v":"TERRAJA C/PLASTIC"},{"$f":"'[1]87-0-14'!G4193*(1+$E$13)","v":56783.94000000001}]
[{"$f":"'[1]87-0-14'!B4194","v":"TRS"},{"$f":"'[1]87-0-14'!D4194","v":"TERRAJA \"REDONDA\"  SP/1"},{"$f":"'[1]87-0-14'!E4194","v":"SANOGASS"},{"$f":"'[1]87-0-14'!F4194","v":"TERRAJA C/PLASTIC"},{"$f":"'[1]87-0-14'!G4194*(1+$E$13)","v":30528.210999999999}]
[{"$f":"'[1]87-0-14'!B4195","v":"TGS"},{"$f":"'[1]87-0-14'!D4195","v":"TERRAJA C/GALVANIZA SG/4"},{"$f":"'[1]87-0-14'!E4195","v":"SANOGASS"},{"$f":"'[1]87-0-14'!F4195","v":"TERRAJA C/GALVANI"},{"$f":"'[1]87-0-14'!G4195*(1+$E$13)","v":301401.91750000004}]
[{"$f":"'[1]87-0-14'!B4196","v":"TB30V"},{"$f":"'[1]87-0-14'!D4196","v":"TEXTUDECOR BEIGE 30"},{"$f":"'[1]87-0-14'!E4196","v":"VENIER"},{"$f":"'[1]87-0-14'!F4196","v":"TEXTURADOR"},{"$f":"'[1]87-0-14'!G4196*(1+$E$13)","v":106891.99900000001}]
[{"$f":"'[1]87-0-14'!B4197","v":"T1V"},{"$f":"'[1]87-0-14'!D4197","v":"THINNER SELLO ORO 1l"},{"$f":"'[1]87-0-14'!E4197","v":"VENIER"},{"$f":"'[1]87-0-14'!F4197","v":"THINNER"},{"$f":"'[1]87-0-14'!G4197*(1+$E$13)","v":4857.3434999999999}]
[{"$f":"'[1]87-0-14'!B4198","v":"TCP355G"},{"$f":"'[1]87-0-14'!D4198","v":"TIJERA C./PERNO 355"},{"$f":"'[1]87-0-14'!E4198","v":"GHERARDI"},{"$f":"'[1]87-0-14'!F4198","v":"TIJERA C./PERNO"},{"$f":"'[1]87-0-14'!G4198*(1+$E$13)","v":106451.39600000001}]
[{"$f":"'[1]87-0-14'!B4199","v":"TCP610G"},{"$f":"'[1]87-0-14'!D4199","v":"TIJERA C./PERNO 610"},{"$f":"'[1]87-0-14'!E4199","v":"GHERARDI"},{"$f":"'[1]87-0-14'!F4199","v":"TIJERA C./PERNO"},{"$f":"'[1]87-0-14'!G4199*(1+$E$13)","v":137782.66199999998}]
[{"$f":"'[1]87-0-14'!B4200","v":"TC25F"},{"$f":"'[1]87-0-14'!D4200","v":"TIJERA PARA CERCO 25cm"},{"$f":"'[1]87-0-14'!E4200","v":"FERCAS"},{"$f":"'[1]87-0-14'!F4200","v":"TIJERA CERCO"},{"$f":"'[1]87-0-14'!G4200*(1+$E$13)","v":33633.698000000004}]
[{"$f":"'[1]87-0-14'!B4201","v":"TC30F"},{"$f":"'[1]87-0-14'!D4201","v":"TIJERA PARA CERCO 30cm"},{"$f":"'[1]87-0-14'!E4201","v":"FERCAS"},{"$f":"'[1]87-0-14'!F4201","v":"TIJERA CERCO"},{"$f":"'[1]87-0-14'!G4201*(1+$E$13)","v":38387.253500000006}]
[{"$f":"'[1]87-0-14'!B4202","v":"TPG"},{"$f":"'[1]87-0-14'!D4202","v":"TIJERA PODAR"},{"$f":"'[1]87-0-14'!E4202","v":"GHERARDI"},{"$f":"'[1]87-0-14'!F4202","v":"TIJERA PODAR"},{"$f":"'[1]87-0-14'!G4202*(1+$E$13)","v":41127.0645}]
[{"$f":"'[1]87-0-14'!B4203","v":"TPSJ"},{"$f":"'[1]87-0-14'!D4203","v":"TIJERA PODAR 20,5cm"},{"$f":"'[1]87-0-14'!E4203","v":"STA. JUANA"},{"$f":"'[1]87-0-14'!F4203","v":"TIJERA"},{"$f":"'[1]87-0-14'!G4203*(1+$E$13)","v":19022.870999999999}]
[{"$f":"'[1]87-0-14'!B4204","v":"TAL60V"},{"$f":"'[1]87-0-14'!D4204","v":"TINTA Algarrobo  60c"},{"$f":"'[1]87-0-14'!E4204","v":"VENIER"},{"$f":"'[1]87-0-14'!F4204","v":"TINTA COLOR"},{"$f":"'[1]87-0-14'!G4204*(1+$E$13)","v":13307.121999999999}]
[{"$f":"'[1]87-0-14'!B4205","v":"TAL240V"},{"$f":"'[1]87-0-14'!D4205","v":"TINTA Algarrobo 240c"},{"$f":"'[1]87-0-14'!E4205","v":"VENIER"},{"$f":"'[1]87-0-14'!F4205","v":"TINTA COLOR"},{"$f":"'[1]87-0-14'!G4205*(1+$E$13)","v":38091.652999999998}]
[{"$f":"'[1]87-0-14'!B4206","v":"TAZ60V"},{"$f":"'[1]87-0-14'!D4206","v":"TINTA Azul  60cc"},{"$f":"'[1]87-0-14'!E4206","v":"VENIER"},{"$f":"'[1]87-0-14'!F4206","v":"TINTA COLOR"},{"$f":"'[1]87-0-14'!G4206*(1+$E$13)","v":13307.121999999999}]
[{"$f":"'[1]87-0-14'!B4207","v":"TAZ240V"},{"$f":"'[1]87-0-14'!D4207","v":"TINTA Azul 240cc"},{"$f":"'[1]87-0-14'!E4207","v":"VENIER"},{"$f":"'[1]87-0-14'!F4207","v":"TINTA COLOR"},{"$f":"'[1]87-0-14'!G4207*(1+$E$13)","v":38091.652999999998}]
[{"$f":"'[1]87-0-14'!B4208","v":"TA60T"},{"$f":"'[1]87-0-14'!D4208","v":"TINTA COLOR Algarrobo  60"},{"$f":"'[1]87-0-14'!E4208","v":"TF3"},{"$f":"'[1]87-0-14'!F4208","v":"TINTA COLOR"},{"$f":"'[1]87-0-14'!G4208*(1+$E$13)","v":1971.2280000000001}]
[{"$f":"'[1]87-0-14'!B4209","v":"TCA60T"},{"$f":"'[1]87-0-14'!D4209","v":"TINTA COLOR Caoba  60cc"},{"$f":"'[1]87-0-14'!E4209","v":"TF3"},{"$f":"'[1]87-0-14'!F4209","v":"TINTA COLOR"},{"$f":"'[1]87-0-14'!G4209*(1+$E$13)","v":1971.2280000000001}]
[{"$f":"'[1]87-0-14'!B4210","v":"TCE60T"},{"$f":"'[1]87-0-14'!D4210","v":"TINTA COLOR Cedro  60cc"},{"$f":"'[1]87-0-14'!E4210","v":"TF3"},{"$f":"'[1]87-0-14'!F4210","v":"TINTA COLOR"},{"$f":"'[1]87-0-14'!G4210*(1+$E$13)","v":1971.2280000000001}]
[{"$f":"'[1]87-0-14'!B4211","v":"TN60T"},{"$f":"'[1]87-0-14'!D4211","v":"TINTA COLOR Nogal  60cc"},{"$f":"'[1]87-0-14'!E4211","v":"TF3"},{"$f":"'[1]87-0-14'!F4211","v":"TINTA COLOR"},{"$f":"'[1]87-0-14'!G4211*(1+$E$13)","v":1971.2280000000001}]
[{"$f":"'[1]87-0-14'!B4212","v":"TP60T"},{"$f":"'[1]87-0-14'!D4212","v":"TINTA COLOR Petiribi  60c"},{"$f":"'[1]87-0-14'!E4212","v":"TF3"},{"$f":"'[1]87-0-14'!F4212","v":"TINTA COLOR"},{"$f":"'[1]87-0-14'!G4212*(1+$E$13)","v":1971.2280000000001}]
[{"$f":"'[1]87-0-14'!B4213","v":"TRO60T"},{"$f":"'[1]87-0-14'!D4213","v":"TINTA COLOR Ro/Oscuro  60"},{"$f":"'[1]87-0-14'!E4213","v":"TF3"},{"$f":"'[1]87-0-14'!F4213","v":"TINTA COLOR"},{"$f":"'[1]87-0-14'!G4213*(1+$E$13)","v":1971.2280000000001}]
[{"$f":"'[1]87-0-14'!B4214","v":"TRC60T"},{"$f":"'[1]87-0-14'!D4214","v":"TINTA COLOR Rob/Claro  60"},{"$f":"'[1]87-0-14'!E4214","v":"TF3"},{"$f":"'[1]87-0-14'!F4214","v":"TINTA COLOR"},{"$f":"'[1]87-0-14'!G4214*(1+$E$13)","v":1971.2280000000001}]
[{"$f":"'[1]87-0-14'!B4215","v":"TV60T"},{"$f":"'[1]87-0-14'!D4215","v":"TINTA COLOR Viraro  60cc"},{"$f":"'[1]87-0-14'!E4215","v":"TF3"},{"$f":"'[1]87-0-14'!F4215","v":"TINTA COLOR"},{"$f":"'[1]87-0-14'!G4215*(1+$E$13)","v":1971.2280000000001}]
[{"$f":"'[1]87-0-14'!B4216","v":"TW60T"},{"$f":"'[1]87-0-14'!D4216","v":"TINTA COLOR Wengue  60cc"},{"$f":"'[1]87-0-14'!E4216","v":"TF3"},{"$f":"'[1]87-0-14'!F4216","v":"TINTA COLOR"},{"$f":"'[1]87-0-14'!G4216*(1+$E$13)","v":1971.2280000000001}]
[{"$f":"'[1]87-0-14'!B4217","v":"TCA60V"},{"$f":"'[1]87-0-14'!D4217","v":"TINTA Caoba  60cc"},{"$f":"'[1]87-0-14'!E4217","v":"VENIER"},{"$f":"'[1]87-0-14'!F4217","v":"TINTA COLOR"},{"$f":"'[1]87-0-14'!G4217*(1+$E$13)","v":13307.121999999999}]
[{"$f":"'[1]87-0-14'!B4218","v":"TCA240V"},{"$f":"'[1]87-0-14'!D4218","v":"TINTA Caoba 240cc"},{"$f":"'[1]87-0-14'!E4218","v":"VENIER"},{"$f":"'[1]87-0-14'!F4218","v":"TINTA COLOR"},{"$f":"'[1]87-0-14'!G4218*(1+$E$13)","v":38091.652999999998}]
[{"$f":"'[1]87-0-14'!B4219","v":"TCE60V"},{"$f":"'[1]87-0-14'!D4219","v":"TINTA Cedro  60cc"},{"$f":"'[1]87-0-14'!E4219","v":"VENIER"},{"$f":"'[1]87-0-14'!F4219","v":"TINTA COLOR"},{"$f":"'[1]87-0-14'!G4219*(1+$E$13)","v":13307.121999999999}]
[{"$f":"'[1]87-0-14'!B4220","v":"TCE240V"},{"$f":"'[1]87-0-14'!D4220","v":"TINTA Cedro 240cc"},{"$f":"'[1]87-0-14'!E4220","v":"VENIER"},{"$f":"'[1]87-0-14'!F4220","v":"TINTA COLOR"},{"$f":"'[1]87-0-14'!G4220*(1+$E$13)","v":38091.652999999998}]
[{"$f":"'[1]87-0-14'!B4221","v":"TN60V"},{"$f":"'[1]87-0-14'!D4221","v":"TINTA Nogal  60cc"},{"$f":"'[1]87-0-14'!E4221","v":"VENIER"},{"$f":"'[1]87-0-14'!F4221","v":"TINTA COLOR"},{"$f":"'[1]87-0-14'!G4221*(1+$E$13)","v":13307.121999999999}]
[{"$f":"'[1]87-0-14'!B4222","v":"TN240V"},{"$f":"'[1]87-0-14'!D4222","v":"TINTA Nogal 240cc"},{"$f":"'[1]87-0-14'!E4222","v":"VENIER"},{"$f":"'[1]87-0-14'!F4222","v":"TINTA COLOR"},{"$f":"'[1]87-0-14'!G4222*(1+$E$13)","v":38091.652999999998}]
[{"$f":"'[1]87-0-14'!B4223","v":"TP60V"},{"$f":"'[1]87-0-14'!D4223","v":"TINTA Petiribi  60cc"},{"$f":"'[1]87-0-14'!E4223","v":"VENIER"},{"$f":"'[1]87-0-14'!F4223","v":"TINTA COLOR"},{"$f":"'[1]87-0-14'!G4223*(1+$E$13)","v":13307.121999999999}]
[{"$f":"'[1]87-0-14'!B4224","v":"TP240V"},{"$f":"'[1]87-0-14'!D4224","v":"TINTA Petiribi 240cc"},{"$f":"'[1]87-0-14'!E4224","v":"VENIER"},{"$f":"'[1]87-0-14'!F4224","v":"TINTA COLOR"},{"$f":"'[1]87-0-14'!G4224*(1+$E$13)","v":38091.652999999998}]
[{"$f":"'[1]87-0-14'!B4225","v":"TRO240V"},{"$f":"'[1]87-0-14'!D4225","v":"TINTA Robl Oscur 240"},{"$f":"'[1]87-0-14'!E4225","v":"VENIER"},{"$f":"'[1]87-0-14'!F4225","v":"TINTA COLOR"},{"$f":"'[1]87-0-14'!G4225*(1+$E$13)","v":38091.652999999998}]
[{"$f":"'[1]87-0-14'!B4226","v":"TRO60V"},{"$f":"'[1]87-0-14'!D4226","v":"TINTA Robl Oscuro 60"},{"$f":"'[1]87-0-14'!E4226","v":"VENIER"},{"$f":"'[1]87-0-14'!F4226","v":"TINTA COLOR"},{"$f":"'[1]87-0-14'!G4226*(1+$E$13)","v":13307.121999999999}]
[{"$f":"'[1]87-0-14'!B4227","v":"TRC240V"},{"$f":"'[1]87-0-14'!D4227","v":"TINTA Roble Clar 240"},{"$f":"'[1]87-0-14'!E4227","v":"VENIER"},{"$f":"'[1]87-0-14'!F4227","v":"TINTA COLOR"},{"$f":"'[1]87-0-14'!G4227*(1+$E$13)","v":38091.652999999998}]
[{"$f":"'[1]87-0-14'!B4228","v":"TRC60V"},{"$f":"'[1]87-0-14'!D4228","v":"TINTA Roble Claro 60"},{"$f":"'[1]87-0-14'!E4228","v":"VENIER"},{"$f":"'[1]87-0-14'!F4228","v":"TINTA COLOR"},{"$f":"'[1]87-0-14'!G4228*(1+$E$13)","v":13307.121999999999}]
[{"$f":"'[1]87-0-14'!B4229","v":"TVA60V"},{"$f":"'[1]87-0-14'!D4229","v":"TINTA Verde Aust  60"},{"$f":"'[1]87-0-14'!E4229","v":"VENIER"},{"$f":"'[1]87-0-14'!F4229","v":"TINTA COLOR"},{"$f":"'[1]87-0-14'!G4229*(1+$E$13)","v":13307.121999999999}]
[{"$f":"'[1]87-0-14'!B4230","v":"TVA240V"},{"$f":"'[1]87-0-14'!D4230","v":"TINTA Verde Aust 240"},{"$f":"'[1]87-0-14'!E4230","v":"VENIER"},{"$f":"'[1]87-0-14'!F4230","v":"TINTA COLOR"},{"$f":"'[1]87-0-14'!G4230*(1+$E$13)","v":38091.652999999998}]
[{"$f":"'[1]87-0-14'!B4231","v":"TV60V"},{"$f":"'[1]87-0-14'!D4231","v":"TINTA Viraro  60cc"},{"$f":"'[1]87-0-14'!E4231","v":"VENIER"},{"$f":"'[1]87-0-14'!F4231","v":"TINTA COLOR"},{"$f":"'[1]87-0-14'!G4231*(1+$E$13)","v":13307.121999999999}]
[{"$f":"'[1]87-0-14'!B4232","v":"TV240V"},{"$f":"'[1]87-0-14'!D4232","v":"TINTA Viraro 240cc"},{"$f":"'[1]87-0-14'!E4232","v":"VENIER"},{"$f":"'[1]87-0-14'!F4232","v":"TINTA COLOR"},{"$f":"'[1]87-0-14'!G4232*(1+$E$13)","v":38091.652999999998}]
[{"$f":"'[1]87-0-14'!B4233","v":"T141I"},{"$f":"'[1]87-0-14'!D4233","v":"TIRAF 1/4x1  (25)"},{"$f":"'[1]87-0-14'!E4233","v":"PROLL"},{"$f":"'[1]87-0-14'!F4233","v":"TIRAFONDO"},{"$f":"'[1]87-0-14'!G4233*(1+$E$13)","v":3313.373}]
[{"$f":"'[1]87-0-14'!B4234","v":"T14112I"},{"$f":"'[1]87-0-14'!D4234","v":"TIRAF 1/4x1 1/2 (40)"},{"$f":"'[1]87-0-14'!E4234","v":"PROLL"},{"$f":"'[1]87-0-14'!F4234","v":"TIRAFONDO"},{"$f":"'[1]87-0-14'!G4234*(1+$E$13)","v":4326.0190000000002}]
[{"$f":"'[1]87-0-14'!B4235","v":"T14114I"},{"$f":"'[1]87-0-14'!D4235","v":"TIRAF 1/4x1 1/4 (30)"},{"$f":"'[1]87-0-14'!E4235","v":"PROLL"},{"$f":"'[1]87-0-14'!F4235","v":"TIRAFONDO"},{"$f":"'[1]87-0-14'!G4235*(1+$E$13)","v":3600.2159999999999}]
[{"$f":"'[1]87-0-14'!B4236","v":"T14134I"},{"$f":"'[1]87-0-14'!D4236","v":"TIRAF 1/4x1 3/4 (45)"},{"$f":"'[1]87-0-14'!E4236","v":"PROLL"},{"$f":"'[1]87-0-14'!F4236","v":"TIRAFONDO"},{"$f":"'[1]87-0-14'!G4236*(1+$E$13)","v":5185.4630000000006}]
[{"$f":"'[1]87-0-14'!B4237","v":"T142I"},{"$f":"'[1]87-0-14'!D4237","v":"TIRAF 1/4x2  (50)"},{"$f":"'[1]87-0-14'!E4237","v":"PROLL"},{"$f":"'[1]87-0-14'!F4237","v":"TIRAFONDO"},{"$f":"'[1]87-0-14'!G4237*(1+$E$13)","v":5185.4165000000003}]
[{"$f":"'[1]87-0-14'!B4238","v":"T14212I"},{"$f":"'[1]87-0-14'!D4238","v":"TIRAF 1/4x2 1/2 (65)"},{"$f":"'[1]87-0-14'!E4238","v":"PROLL"},{"$f":"'[1]87-0-14'!F4238","v":"TIRAFONDO"},{"$f":"'[1]87-0-14'!G4238*(1+$E$13)","v":7199.0370000000003}]
[{"$f":"'[1]87-0-14'!B4239","v":"T14214I"},{"$f":"'[1]87-0-14'!D4239","v":"TIRAF 1/4x2 1/4 (60)"},{"$f":"'[1]87-0-14'!E4239","v":"PROLL"},{"$f":"'[1]87-0-14'!F4239","v":"TIRAFONDO"},{"$f":"'[1]87-0-14'!G4239*(1+$E$13)","v":5797.8525000000009}]
[{"$f":"'[1]87-0-14'!B4240","v":"T14234I"},{"$f":"'[1]87-0-14'!D4240","v":"TIRAF 1/4x2 3/4 (70)"},{"$f":"'[1]87-0-14'!E4240","v":"PROLL"},{"$f":"'[1]87-0-14'!F4240","v":"TIRAFONDO"},{"$f":"'[1]87-0-14'!G4240*(1+$E$13)","v":6789.8680000000004}]
[{"$f":"'[1]87-0-14'!B4241","v":"T143I"},{"$f":"'[1]87-0-14'!D4241","v":"TIRAF 1/4x3  (75)"},{"$f":"'[1]87-0-14'!E4241","v":"PROLL"},{"$f":"'[1]87-0-14'!F4241","v":"TIRAFONDO"},{"$f":"'[1]87-0-14'!G4241*(1+$E$13)","v":7363.3680000000004}]
[{"$f":"'[1]87-0-14'!B4242","v":"T14312I"},{"$f":"'[1]87-0-14'!D4242","v":"TIRAF 1/4x3 1/2\"(90)"},{"$f":"'[1]87-0-14'!E4242","v":"PROLL"},{"$f":"'[1]87-0-14'!F4242","v":"TIRAFONDO"},{"$f":"'[1]87-0-14'!G4242*(1+$E$13)","v":8697.8560000000016}]
[{"$f":"'[1]87-0-14'!B4243","v":"T144I"},{"$f":"'[1]87-0-14'!D4243","v":"TIRAF 1/4x4\"  (100)"},{"$f":"'[1]87-0-14'!E4243","v":"PROLL"},{"$f":"'[1]87-0-14'!F4243","v":"TIRAFONDO"},{"$f":"'[1]87-0-14'!G4243*(1+$E$13)","v":9744.4470000000001}]
[{"$f":"'[1]87-0-14'!B4244","v":"T145I"},{"$f":"'[1]87-0-14'!D4244","v":"TIRAF 1/4x5\"  (120)"},{"$f":"'[1]87-0-14'!E4244","v":"PROLL"},{"$f":"'[1]87-0-14'!F4244","v":"TIRAFONDO"},{"$f":"'[1]87-0-14'!G4244*(1+$E$13)","v":12226.601500000001}]
[{"$f":"'[1]87-0-14'!B4245","v":"T3161I"},{"$f":"'[1]87-0-14'!D4245","v":"TIRAF 3/16x1 (25)"},{"$f":"'[1]87-0-14'!E4245","v":"PROLL"},{"$f":"'[1]87-0-14'!F4245","v":"TIRAFONDO"},{"$f":"'[1]87-0-14'!G4245*(1+$E$13)","v":6036.0565000000006}]
[{"$f":"'[1]87-0-14'!B4246","v":"T316112I"},{"$f":"'[1]87-0-14'!D4246","v":"TIRAF 3/16x1 1/2(40)"},{"$f":"'[1]87-0-14'!E4246","v":"PROLL"},{"$f":"'[1]87-0-14'!F4246","v":"TIRAFONDO"},{"$f":"'[1]87-0-14'!G4246*(1+$E$13)","v":3230.1844999999998}]
[{"$f":"'[1]87-0-14'!B4247","v":"T316114I"},{"$f":"'[1]87-0-14'!D4247","v":"TIRAF 3/16x1 1/4(30)"},{"$f":"'[1]87-0-14'!E4247","v":"PROLL"},{"$f":"'[1]87-0-14'!F4247","v":"TIRAFONDO"},{"$f":"'[1]87-0-14'!G4247*(1+$E$13)","v":2574.1469999999999}]
[{"$f":"'[1]87-0-14'!B4248","v":"T316134I"},{"$f":"'[1]87-0-14'!D4248","v":"TIRAF 3/16x1 3/4(45)"},{"$f":"'[1]87-0-14'!E4248","v":"PROLL"},{"$f":"'[1]87-0-14'!F4248","v":"TIRAFONDO"},{"$f":"'[1]87-0-14'!G4248*(1+$E$13)","v":3547.857}]
[{"$f":"'[1]87-0-14'!B4249","v":"T3162I"},{"$f":"'[1]87-0-14'!D4249","v":"TIRAF 3/16x2 (50)"},{"$f":"'[1]87-0-14'!E4249","v":"PROLL"},{"$f":"'[1]87-0-14'!F4249","v":"TIRAFONDO"},{"$f":"'[1]87-0-14'!G4249*(1+$E$13)","v":3839.6289999999999}]
[{"$f":"'[1]87-0-14'!B4250","v":"T316212I"},{"$f":"'[1]87-0-14'!D4250","v":"TIRAF 3/16x2 1/2(65)"},{"$f":"'[1]87-0-14'!E4250","v":"PROLL"},{"$f":"'[1]87-0-14'!F4250","v":"TIRAFONDO"},{"$f":"'[1]87-0-14'!G4250*(1+$E$13)","v":5222.5235000000002}]
[{"$f":"'[1]87-0-14'!B4251","v":"T316214I"},{"$f":"'[1]87-0-14'!D4251","v":"TIRAF 3/16x2 1/4(60)"},{"$f":"'[1]87-0-14'!E4251","v":"PROLL"},{"$f":"'[1]87-0-14'!F4251","v":"TIRAFONDO"},{"$f":"'[1]87-0-14'!G4251*(1+$E$13)","v":4686.9364999999998}]
[{"$f":"'[1]87-0-14'!B4252","v":"T316234I"},{"$f":"'[1]87-0-14'!D4252","v":"TIRAF 3/16x2 3/4(70)"},{"$f":"'[1]87-0-14'!E4252","v":"PROLL"},{"$f":"'[1]87-0-14'!F4252","v":"TIRAFONDO"},{"$f":"'[1]87-0-14'!G4252*(1+$E$13)","v":6356.3640000000005}]
[{"$f":"'[1]87-0-14'!B4253","v":"T3163I"},{"$f":"'[1]87-0-14'!D4253","v":"TIRAF 3/16x3 (75)"},{"$f":"'[1]87-0-14'!E4253","v":"PROLL"},{"$f":"'[1]87-0-14'!F4253","v":"TIRAFONDO"},{"$f":"'[1]87-0-14'!G4253*(1+$E$13)","v":6356.3640000000005}]
[{"$f":"'[1]87-0-14'!B4254","v":"T5161I"},{"$f":"'[1]87-0-14'!D4254","v":"TIRAF 5/16x1 (25)"},{"$f":"'[1]87-0-14'!E4254","v":"PROLL"},{"$f":"'[1]87-0-14'!F4254","v":"TIRAFONDO"},{"$f":"'[1]87-0-14'!G4254*(1+$E$13)","v":6796.9825000000001}]
[{"$f":"'[1]87-0-14'!B4255","v":"T516112I"},{"$f":"'[1]87-0-14'!D4255","v":"TIRAF 5/16x1 1/2(40)"},{"$f":"'[1]87-0-14'!E4255","v":"PROLL"},{"$f":"'[1]87-0-14'!F4255","v":"TIRAFONDO"},{"$f":"'[1]87-0-14'!G4255*(1+$E$13)","v":7895.3125}]
[{"$f":"'[1]87-0-14'!B4256","v":"T516114I"},{"$f":"'[1]87-0-14'!D4256","v":"TIRAF 5/16x1 1/4(30)"},{"$f":"'[1]87-0-14'!E4256","v":"PROLL"},{"$f":"'[1]87-0-14'!F4256","v":"TIRAFONDO"},{"$f":"'[1]87-0-14'!G4256*(1+$E$13)","v":6796.9825000000001}]
[{"$f":"'[1]87-0-14'!B4257","v":"T516134I"},{"$f":"'[1]87-0-14'!D4257","v":"TIRAF 5/16x1 3/4(45)"},{"$f":"'[1]87-0-14'!E4257","v":"PROLL"},{"$f":"'[1]87-0-14'!F4257","v":"TIRAFONDO"},{"$f":"'[1]87-0-14'!G4257*(1+$E$13)","v":9297.6594999999998}]
[{"$f":"'[1]87-0-14'!B4258","v":"T5162I"},{"$f":"'[1]87-0-14'!D4258","v":"TIRAF 5/16x2  (50)"},{"$f":"'[1]87-0-14'!E4258","v":"PROLL"},{"$f":"'[1]87-0-14'!F4258","v":"TIRAFONDO"},{"$f":"'[1]87-0-14'!G4258*(1+$E$13)","v":10095.4445}]
[{"$f":"'[1]87-0-14'!B4259","v":"T516212I"},{"$f":"'[1]87-0-14'!D4259","v":"TIRAF 5/16x2 1/2(65)"},{"$f":"'[1]87-0-14'!E4259","v":"PROLL"},{"$f":"'[1]87-0-14'!F4259","v":"TIRAFONDO"},{"$f":"'[1]87-0-14'!G4259*(1+$E$13)","v":12041.609}]
[{"$f":"'[1]87-0-14'!B4260","v":"T516214I"},{"$f":"'[1]87-0-14'!D4260","v":"TIRAF 5/16x2 1/4(60)"},{"$f":"'[1]87-0-14'!E4260","v":"PROLL"},{"$f":"'[1]87-0-14'!F4260","v":"TIRAFONDO"},{"$f":"'[1]87-0-14'!G4260*(1+$E$13)","v":11308.970499999999}]
[{"$f":"'[1]87-0-14'!B4261","v":"T516234I"},{"$f":"'[1]87-0-14'!D4261","v":"TIRAF 5/16x2 3/4(70)"},{"$f":"'[1]87-0-14'!E4261","v":"PROLL"},{"$f":"'[1]87-0-14'!F4261","v":"TIRAFONDO"},{"$f":"'[1]87-0-14'!G4261*(1+$E$13)","v":13435.523999999999}]
[{"$f":"'[1]87-0-14'!B4262","v":"T5163I"},{"$f":"'[1]87-0-14'!D4262","v":"TIRAF 5/16x3  (75)"},{"$f":"'[1]87-0-14'!E4262","v":"PROLL"},{"$f":"'[1]87-0-14'!F4262","v":"TIRAFONDO"},{"$f":"'[1]87-0-14'!G4262*(1+$E$13)","v":13734.860000000002}]
[{"$f":"'[1]87-0-14'!B4263","v":"T516312I"},{"$f":"'[1]87-0-14'!D4263","v":"TIRAF 5/16x3 1/2(90)"},{"$f":"'[1]87-0-14'!E4263","v":"PROLL"},{"$f":"'[1]87-0-14'!F4263","v":"TIRAFONDO"},{"$f":"'[1]87-0-14'!G4263*(1+$E$13)","v":16218.595500000001}]
[{"$f":"'[1]87-0-14'!B4264","v":"T5164I"},{"$f":"'[1]87-0-14'!D4264","v":"TIRAF 5/16x4\" (100)"},{"$f":"'[1]87-0-14'!E4264","v":"PROLL"},{"$f":"'[1]87-0-14'!F4264","v":"TIRAFONDO"},{"$f":"'[1]87-0-14'!G4264*(1+$E$13)","v":17866.075000000001}]
[{"$f":"'[1]87-0-14'!B4265","v":"T5165I"},{"$f":"'[1]87-0-14'!D4265","v":"TIRAF 5/16x5\" (120)"},{"$f":"'[1]87-0-14'!E4265","v":"PROLL"},{"$f":"'[1]87-0-14'!F4265","v":"TIRAFONDO"},{"$f":"'[1]87-0-14'!G4265*(1+$E$13)","v":23209.808499999999}]
[{"$f":"'[1]87-0-14'!B4266","v":"TBM"},{"$f":"'[1]87-0-14'!D4266","v":"TIZA BLANCA Caja X144un"},{"$f":"'[1]87-0-14'!E4266","v":"MARCAFACIL"},{"$f":"'[1]87-0-14'!F4266","v":"TIZA"},{"$f":"'[1]87-0-14'!G4266*(1+$E$13)","v":8505.9195}]
[{"$f":"'[1]87-0-14'!B4267","v":"TCAS"},{"$f":"'[1]87-0-14'!D4267","v":"TIZA P/CHOCLA 250 #AZUL#"},{"$f":"'[1]87-0-14'!E4267","v":"SOLA"},{"$f":"'[1]87-0-14'!F4267","v":"CHOCLA"},{"$f":"'[1]87-0-14'!G4267*(1+$E$13)","v":21705.424999999999}]
[{"$f":"'[1]87-0-14'!B4268","v":"TCRS"},{"$f":"'[1]87-0-14'!D4268","v":"TIZA P/CHOCLA 250 #ROJA#"},{"$f":"'[1]87-0-14'!E4268","v":"SOLA"},{"$f":"'[1]87-0-14'!F4268","v":"CHOCLA"},{"$f":"'[1]87-0-14'!G4268*(1+$E$13)","v":21705.424999999999}]
[{"$f":"'[1]87-0-14'!B4269","v":"TSM"},{"$f":"'[1]87-0-14'!D4269","v":"TIZA SURTIDA Caja X144un"},{"$f":"'[1]87-0-14'!E4269","v":"MARCAFACIL"},{"$f":"'[1]87-0-14'!F4269","v":"TIZA"},{"$f":"'[1]87-0-14'!G4269*(1+$E$13)","v":13556.2845}]
[{"$f":"'[1]87-0-14'!B4270","v":"TDPF61R"},{"$f":"'[1]87-0-14'!D4270","v":"TO DRYWAL #P/FINO# 6x1\""},{"$f":"'[1]87-0-14'!E4270","v":"RAPTOR"},{"$f":"'[1]87-0-14'!F4270","v":"TORNILLO DRYWALL"},{"$f":"'[1]87-0-14'!G4270*(1+$E$13)","v":3457.0735}]
[{"$f":"'[1]87-0-14'!B4271","v":"TDPF62R"},{"$f":"'[1]87-0-14'!D4271","v":"TO DRYWAL #P/FINO# 6x2\""},{"$f":"'[1]87-0-14'!E4271","v":"RAPTOR"},{"$f":"'[1]87-0-14'!F4271","v":"TORNILLO DRYWALL"},{"$f":"'[1]87-0-14'!G4271*(1+$E$13)","v":6138.3719999999994}]
[{"$f":"'[1]87-0-14'!B4272","v":"TDPG8112"},{"$f":"'[1]87-0-14'!D4272","v":"TO DRYWAL P/GRUES 8x1 1/2"},{"$f":"'[1]87-0-14'!E4272","v":"RAPTOR"},{"$f":"'[1]87-0-14'!F4272","v":"TORNILLO DRYWALL"},{"$f":"'[1]87-0-14'!G4272*(1+$E$13)","v":6070.5905000000002}]
[{"$f":"'[1]87-0-14'!B4273","v":"TDPG8114"},{"$f":"'[1]87-0-14'!D4273","v":"TO DRYWAL P/GRUES 8x1 1/4"},{"$f":"'[1]87-0-14'!E4273","v":"RAPTOR"},{"$f":"'[1]87-0-14'!F4273","v":"TORNILLO DRYWALL"},{"$f":"'[1]87-0-14'!G4273*(1+$E$13)","v":5046.2730000000001}]
[{"$f":"'[1]87-0-14'!B4274","v":"TDPG61R"},{"$f":"'[1]87-0-14'!D4274","v":"TO DRYWAL P/GRUESO 6X1\""},{"$f":"'[1]87-0-14'!E4274","v":"RAPTOR"},{"$f":"'[1]87-0-14'!F4274","v":"TORNILLO DRYWALL"},{"$f":"'[1]87-0-14'!G4274*(1+$E$13)","v":3445.7585000000004}]
[{"$f":"'[1]87-0-14'!B4275","v":"TDPG6112"},{"$f":"'[1]87-0-14'!D4275","v":"TO DRYWAL P/GRUESO 6x11/2"},{"$f":"'[1]87-0-14'!E4275","v":"RAPTOR"},{"$f":"'[1]87-0-14'!F4275","v":"TORNILLO DRYWALL"},{"$f":"'[1]87-0-14'!G4275*(1+$E$13)","v":4775.1315000000004}]
[{"$f":"'[1]87-0-14'!B4276","v":"TDPG6114"},{"$f":"'[1]87-0-14'!D4276","v":"TO DRYWAL P/GRUESO 6x11/4"},{"$f":"'[1]87-0-14'!E4276","v":"RAPTOR"},{"$f":"'[1]87-0-14'!F4276","v":"TORNILLO DRYWALL"},{"$f":"'[1]87-0-14'!G4276*(1+$E$13)","v":4127.402}]
[{"$f":"'[1]87-0-14'!B4277","v":"TDPG62R"},{"$f":"'[1]87-0-14'!D4277","v":"TO DRYWAL P/GRUESO 6x2\""},{"$f":"'[1]87-0-14'!E4277","v":"RAPTOR"},{"$f":"'[1]87-0-14'!F4277","v":"TORNILLO DRYWALL"},{"$f":"'[1]87-0-14'!G4277*(1+$E$13)","v":6157.2044999999998}]
[{"$f":"'[1]87-0-14'!B4278","v":"TDPG634R"},{"$f":"'[1]87-0-14'!D4278","v":"TO DRYWAL P/GRUESO 6x3/4"},{"$f":"'[1]87-0-14'!E4278","v":"RAPTOR"},{"$f":"'[1]87-0-14'!F4278","v":"TORNILLO DRYWALL"},{"$f":"'[1]87-0-14'!G4278*(1+$E$13)","v":2767.9124999999999}]
[{"$f":"'[1]87-0-14'!B4279","v":"TDPG658R"},{"$f":"'[1]87-0-14'!D4279","v":"TO DRYWAL P/GRUESO 6x5/8"},{"$f":"'[1]87-0-14'!E4279","v":"RAPTOR"},{"$f":"'[1]87-0-14'!F4279","v":"TORNILLO DRYWALL"},{"$f":"'[1]87-0-14'!G4279*(1+$E$13)","v":2523.1365000000001}]
[{"$f":"'[1]87-0-14'!B4280","v":"TDPG81R"},{"$f":"'[1]87-0-14'!D4280","v":"TO DRYWAL P/GRUESO 8X1"},{"$f":"'[1]87-0-14'!E4280","v":"RAPTOR"},{"$f":"'[1]87-0-14'!F4280","v":"TORNILLO DRYWALL"},{"$f":"'[1]87-0-14'!G4280*(1+$E$13)","v":4232.8330000000005}]
[{"$f":"'[1]87-0-14'!B4281","v":"TDPG82R"},{"$f":"'[1]87-0-14'!D4281","v":"TO DRYWAL P/GRUESO 8X2"},{"$f":"'[1]87-0-14'!E4281","v":"RAPTOR"},{"$f":"'[1]87-0-14'!F4281","v":"TORNILLO DRYWALL"},{"$f":"'[1]87-0-14'!G4281*(1+$E$13)","v":7603.2925000000005}]
[{"$f":"'[1]87-0-14'!B4282","v":"TDPG8212"},{"$f":"'[1]87-0-14'!D4282","v":"TO DRYWAL P/GRUESO 8X21/2"},{"$f":"'[1]87-0-14'!E4282","v":"RAPTOR"},{"$f":"'[1]87-0-14'!F4282","v":"TORNILLO DRYWALL"},{"$f":"'[1]87-0-14'!G4282*(1+$E$13)","v":9734.7749999999996}]
[{"$f":"'[1]87-0-14'!B4283","v":"TDPG83R"},{"$f":"'[1]87-0-14'!D4283","v":"TO DRYWAL P/GRUESO 8X3"},{"$f":"'[1]87-0-14'!E4283","v":"RAPTOR"},{"$f":"'[1]87-0-14'!F4283","v":"TORNILLO DRYWALL"},{"$f":"'[1]87-0-14'!G4283*(1+$E$13)","v":11357.8575}]
[{"$f":"'[1]87-0-14'!B4284","v":"THPM142R"},{"$f":"'[1]87-0-14'!D4284","v":"TO HEXA A/AR P/MECHA 14x2"},{"$f":"'[1]87-0-14'!E4284","v":"RAPTOR"},{"$f":"'[1]87-0-14'!F4284","v":"TORNILLO HEXAGON"},{"$f":"'[1]87-0-14'!G4284*(1+$E$13)","v":15327.097500000002}]
[{"$f":"'[1]87-0-14'!B4285","v":"THPM141R"},{"$f":"'[1]87-0-14'!D4285","v":"TO HEXA C/A  P/MECHA 14x1"},{"$f":"'[1]87-0-14'!E4285","v":"RAPTOR"},{"$f":"'[1]87-0-14'!F4285","v":"TORNILLO HEXAGON"},{"$f":"'[1]87-0-14'!G4285*(1+$E$13)","v":20241.558499999999}]
[{"$f":"'[1]87-0-14'!B4286","v":"THPM1411"},{"$f":"'[1]87-0-14'!D4286","v":"TO HEXA C/A P/MEC 14x11/2"},{"$f":"'[1]87-0-14'!E4286","v":"RAPTOR"},{"$f":"'[1]87-0-14'!F4286","v":"TORNILLO HEXAGON"},{"$f":"'[1]87-0-14'!G4286*(1+$E$13)","v":19177.685000000001}]
[{"$f":"'[1]87-0-14'!B4287","v":"THPM1421"},{"$f":"'[1]87-0-14'!D4287","v":"TO HEXA C/A P/MEC 14x21/2"},{"$f":"'[1]87-0-14'!E4287","v":"RAPTOR"},{"$f":"'[1]87-0-14'!F4287","v":"TORNILLO HEXAGON"},{"$f":"'[1]87-0-14'!G4287*(1+$E$13)","v":18433.933000000001}]
[{"$f":"'[1]87-0-14'!B4288","v":"TPPM7716"},{"$f":"'[1]87-0-14'!D4288","v":"TO PANFRAMI P/MECH 7x7/16"},{"$f":"'[1]87-0-14'!E4288","v":"RAPTOR"},{"$f":"'[1]87-0-14'!F4288","v":"TORNILLO PANFRAMI"},{"$f":"'[1]87-0-14'!G4288*(1+$E$13)","v":3517.3219999999997}]
[{"$f":"'[1]87-0-14'!B4289","v":"TST14112"},{"$f":"'[1]87-0-14'!D4289","v":"TO TAN S/TU 1/4x11/2"},{"$f":"'[1]87-0-14'!E4289","v":"PROLL"},{"$f":"'[1]87-0-14'!F4289","v":"TORNILLO TANQUE"},{"$f":"'[1]87-0-14'!G4289*(1+$E$13)","v":7055.6310000000012}]
[{"$f":"'[1]87-0-14'!B4290","v":"TST31612"},{"$f":"'[1]87-0-14'!D4290","v":"TO TAN S/TU 3/16x1/2"},{"$f":"'[1]87-0-14'!E4290","v":"PROLL"},{"$f":"'[1]87-0-14'!F4290","v":"TORNILLO TANQUE"},{"$f":"'[1]87-0-14'!G4290*(1+$E$13)","v":1870.3850000000002}]
[{"$f":"'[1]87-0-14'!B4291","v":"TST1412P"},{"$f":"'[1]87-0-14'!D4291","v":"TO TAN S/TUE 1/4x1/2"},{"$f":"'[1]87-0-14'!E4291","v":"PROLL"},{"$f":"'[1]87-0-14'!F4291","v":"TORNILLO TANQUE"},{"$f":"'[1]87-0-14'!G4291*(1+$E$13)","v":3386.13}]
[{"$f":"'[1]87-0-14'!B4292","v":"TTPA812R"},{"$f":"'[1]87-0-14'!D4292","v":"TO TANQ C/A P/AGUJ 8x1/2\""},{"$f":"'[1]87-0-14'!E4292","v":"RAPTOR"},{"$f":"'[1]87-0-14'!F4292","v":"TORNILLO TANQUE"},{"$f":"'[1]87-0-14'!G4292*(1+$E$13)","v":3935.3415}]
[{"$f":"'[1]87-0-14'!B4293","v":"TTPA8916"},{"$f":"'[1]87-0-14'!D4293","v":"TO TANQ C/A P/AGUJ 8x9/16"},{"$f":"'[1]87-0-14'!E4293","v":"RAPTOR"},{"$f":"'[1]87-0-14'!F4293","v":"TORNILLO TANQUE"},{"$f":"'[1]87-0-14'!G4293*(1+$E$13)","v":4345.8125}]
[{"$f":"'[1]87-0-14'!B4294","v":"TTPM81R"},{"$f":"'[1]87-0-14'!D4294","v":"TO TANQ C/A P/MECHA 8x1\""},{"$f":"'[1]87-0-14'!E4294","v":"RAPTOR"},{"$f":"'[1]87-0-14'!F4294","v":"TORNILLO TANQUE"},{"$f":"'[1]87-0-14'!G4294*(1+$E$13)","v":6353.0314999999991}]
[{"$f":"'[1]87-0-14'!B4295","v":"TTPM812R"},{"$f":"'[1]87-0-14'!D4295","v":"TO TANQ C/A P/MECHA 8x1/2"},{"$f":"'[1]87-0-14'!E4295","v":"RAPTOR"},{"$f":"'[1]87-0-14'!F4295","v":"TORNILLO TANQUE"},{"$f":"'[1]87-0-14'!G4295*(1+$E$13)","v":4262.9650000000001}]
[{"$f":"'[1]87-0-14'!B4296","v":"TTPM834R"},{"$f":"'[1]87-0-14'!D4296","v":"TO TANQ C/A P/MECHA 8x3/4"},{"$f":"'[1]87-0-14'!E4296","v":"RAPTOR"},{"$f":"'[1]87-0-14'!F4296","v":"TORNILLO TANQUE"},{"$f":"'[1]87-0-14'!G4296*(1+$E$13)","v":5298.5820000000003}]
[{"$f":"'[1]87-0-14'!B4297","v":"TTPA81R"},{"$f":"'[1]87-0-14'!D4297","v":"TO TANQ C/AR P/AGUJA 8x1\""},{"$f":"'[1]87-0-14'!E4297","v":"RAPTOR"},{"$f":"'[1]87-0-14'!F4297","v":"TORNILLO TANQUE"},{"$f":"'[1]87-0-14'!G4297*(1+$E$13)","v":6401.9805000000006}]
[{"$f":"'[1]87-0-14'!B4298","v":"TCM"},{"$f":"'[1]87-0-14'!D4298","v":"TOPE CORTINA METALIC"},{"$f":"'[1]87-0-14'!E4298","v":"SIRA"},{"$f":"'[1]87-0-14'!F4298","v":"TOPE CORTINA"},{"$f":"'[1]87-0-14'!G4298*(1+$E$13)","v":1036.3920000000001}]
[{"$f":"'[1]87-0-14'!B4299","v":"TCPF"},{"$f":"'[1]87-0-14'!D4299","v":"TOPE CORTINA PLAST."},{"$f":"'[1]87-0-14'!E4299","v":"SIRA"},{"$f":"'[1]87-0-14'!F4299","v":"TOPE CORTINA"},{"$f":"'[1]87-0-14'!G4299*(1+$E$13)","v":324.07400000000001}]
[{"$f":"'[1]87-0-14'!B4300","v":"TST3162P"},{"$f":"'[1]87-0-14'!D4300","v":"TOR TAN S/TUE 3/16x2"},{"$f":"'[1]87-0-14'!E4300","v":"PROLL"},{"$f":"'[1]87-0-14'!F4300","v":"TORNILLO TANQUE"},{"$f":"'[1]87-0-14'!G4300*(1+$E$13)","v":5264.1875}]
[{"$f":"'[1]87-0-14'!B4301","v":"TST3163P"},{"$f":"'[1]87-0-14'!D4301","v":"TOR TAN S/TUE 3/16x3"},{"$f":"'[1]87-0-14'!E4301","v":"PROLL"},{"$f":"'[1]87-0-14'!F4301","v":"TORNILLO TANQUE"},{"$f":"'[1]87-0-14'!G4301*(1+$E$13)","v":7315.6900000000005}]
[{"$f":"'[1]87-0-14'!B4302","v":"TST141P"},{"$f":"'[1]87-0-14'!D4302","v":"TORN TAN S/TUE 1/4x1"},{"$f":"'[1]87-0-14'!E4302","v":"PROLL"},{"$f":"'[1]87-0-14'!F4302","v":"TORNILLO TANQUE"},{"$f":"'[1]87-0-14'!G4302*(1+$E$13)","v":5153.7965000000004}]
[{"$f":"'[1]87-0-14'!B4303","v":"TST142P"},{"$f":"'[1]87-0-14'!D4303","v":"TORN TAN S/TUE 1/4x2"},{"$f":"'[1]87-0-14'!E4303","v":"PROLL"},{"$f":"'[1]87-0-14'!F4303","v":"TORNILLO TANQUE"},{"$f":"'[1]87-0-14'!G4303*(1+$E$13)","v":9021.3719999999994}]
[{"$f":"'[1]87-0-14'!B4304","v":"TST143P"},{"$f":"'[1]87-0-14'!D4304","v":"TORN TAN S/TUE 1/4x3"},{"$f":"'[1]87-0-14'!E4304","v":"PROLL"},{"$f":"'[1]87-0-14'!F4304","v":"TORNILLO TANQUE"},{"$f":"'[1]87-0-14'!G4304*(1+$E$13)","v":12975.236000000001}]
[{"$f":"'[1]87-0-14'!B4305","v":"TB1413V"},{"$f":"'[1]87-0-14'!D4305","v":"TORNIL. BCE 14-13"},{"$f":"'[1]87-0-14'!E4305","v":"VIALRO"},{"$f":"'[1]87-0-14'!F4305","v":"TORN. BRONCE"},{"$f":"'[1]87-0-14'!G4305*(1+$E$13)","v":32.689500000000002}]
[{"$f":"'[1]87-0-14'!B4306","v":"TB1510"},{"$f":"'[1]87-0-14'!D4306","v":"TORNIL. BCE 15-10"},{"$f":"'[1]87-0-14'!E4306","v":"VIALRO"},{"$f":"'[1]87-0-14'!F4306","v":"TORN. BRONCE"},{"$f":"'[1]87-0-14'!G4306*(1+$E$13)","v":32.689500000000002}]
[{"$f":"'[1]87-0-14'!B4307","v":"TB1515"},{"$f":"'[1]87-0-14'!D4307","v":"TORNIL. BCE 15-15"},{"$f":"'[1]87-0-14'!E4307","v":"VIALRO"},{"$f":"'[1]87-0-14'!F4307","v":"TORN. BRONCE"},{"$f":"'[1]87-0-14'!G4307*(1+$E$13)","v":32.689500000000002}]
[{"$f":"'[1]87-0-14'!B4308","v":"TB1610"},{"$f":"'[1]87-0-14'!D4308","v":"TORNIL. BCE 16-10"},{"$f":"'[1]87-0-14'!E4308","v":"VIALRO"},{"$f":"'[1]87-0-14'!F4308","v":"TORN. BRONCE"},{"$f":"'[1]87-0-14'!G4308*(1+$E$13)","v":32.689500000000002}]
[{"$f":"'[1]87-0-14'!B4309","v":"TB1613"},{"$f":"'[1]87-0-14'!D4309","v":"TORNIL. BCE 16-13"},{"$f":"'[1]87-0-14'!E4309","v":"VIALRO"},{"$f":"'[1]87-0-14'!F4309","v":"TORN. BRONCE"},{"$f":"'[1]87-0-14'!G4309*(1+$E$13)","v":32.689500000000002}]
[{"$f":"'[1]87-0-14'!B4310","v":"TB1615"},{"$f":"'[1]87-0-14'!D4310","v":"TORNIL. BCE 16-15"},{"$f":"'[1]87-0-14'!E4310","v":"VIALRO"},{"$f":"'[1]87-0-14'!F4310","v":"TORN. BRONCE"},{"$f":"'[1]87-0-14'!G4310*(1+$E$13)","v":32.689500000000002}]
[{"$f":"'[1]87-0-14'!B4311","v":"TB1715"},{"$f":"'[1]87-0-14'!D4311","v":"TORNIL. BCE 17-15"},{"$f":"'[1]87-0-14'!E4311","v":"VIALRO"},{"$f":"'[1]87-0-14'!F4311","v":"TORN. BRONCE"},{"$f":"'[1]87-0-14'!G4311*(1+$E$13)","v":46.0505}]
[{"$f":"'[1]87-0-14'!B4312","v":"TB1717"},{"$f":"'[1]87-0-14'!D4312","v":"TORNIL. BCE 17-17"},{"$f":"'[1]87-0-14'!E4312","v":"VIALRO"},{"$f":"'[1]87-0-14'!F4312","v":"TORN. BRONCE"},{"$f":"'[1]87-0-14'!G4312*(1+$E$13)","v":46.0505}]
[{"$f":"'[1]87-0-14'!B4313","v":"TB1720"},{"$f":"'[1]87-0-14'!D4313","v":"TORNIL. BCE 17-20"},{"$f":"'[1]87-0-14'!E4313","v":"VIALRO"},{"$f":"'[1]87-0-14'!F4313","v":"TORN. BRONCE"},{"$f":"'[1]87-0-14'!G4313*(1+$E$13)","v":52.157499999999999}]
[{"$f":"'[1]87-0-14'!B4314","v":"TB1815"},{"$f":"'[1]87-0-14'!D4314","v":"TORNIL. BCE 18-15"},{"$f":"'[1]87-0-14'!E4314","v":"VIALRO"},{"$f":"'[1]87-0-14'!F4314","v":"TORN. BRONCE"},{"$f":"'[1]87-0-14'!G4314*(1+$E$13)","v":52.157499999999999}]
[{"$f":"'[1]87-0-14'!B4315","v":"TB1820"},{"$f":"'[1]87-0-14'!D4315","v":"TORNIL. BCE 18-20"},{"$f":"'[1]87-0-14'!E4315","v":"VIALRO"},{"$f":"'[1]87-0-14'!F4315","v":"TORN. BRONCE"},{"$f":"'[1]87-0-14'!G4315*(1+$E$13)","v":58.171500000000002}]
[{"$f":"'[1]87-0-14'!B4316","v":"TB1825"},{"$f":"'[1]87-0-14'!D4316","v":"TORNIL. BCE 18-25"},{"$f":"'[1]87-0-14'!E4316","v":"VIALRO"},{"$f":"'[1]87-0-14'!F4316","v":"TORN. BRONCE"},{"$f":"'[1]87-0-14'!G4316*(1+$E$13)","v":70.509500000000003}]
[{"$f":"'[1]87-0-14'!B4317","v":"TB1830"},{"$f":"'[1]87-0-14'!D4317","v":"TORNIL. BCE 18-30"},{"$f":"'[1]87-0-14'!E4317","v":"VIALRO"},{"$f":"'[1]87-0-14'!F4317","v":"TORN. BRONCE"},{"$f":"'[1]87-0-14'!G4317*(1+$E$13)","v":76.507999999999996}]
[{"$f":"'[1]87-0-14'!B4318","v":"TB1835"},{"$f":"'[1]87-0-14'!D4318","v":"TORNIL. BCE 18-35"},{"$f":"'[1]87-0-14'!E4318","v":"VIALRO"},{"$f":"'[1]87-0-14'!F4318","v":"TORN. BRONCE"},{"$f":"'[1]87-0-14'!G4318*(1+$E$13)","v":88.830500000000001}]
[{"$f":"'[1]87-0-14'!B4319","v":"TB1840"},{"$f":"'[1]87-0-14'!D4319","v":"TORNIL. BCE 18-40"},{"$f":"'[1]87-0-14'!E4319","v":"VIALRO"},{"$f":"'[1]87-0-14'!F4319","v":"TORN. BRONCE"},{"$f":"'[1]87-0-14'!G4319*(1+$E$13)","v":123.58150000000001}]
[{"$f":"'[1]87-0-14'!B4320","v":"TB1915"},{"$f":"'[1]87-0-14'!D4320","v":"TORNIL. BCE 19-15"},{"$f":"'[1]87-0-14'!E4320","v":"VIALRO"},{"$f":"'[1]87-0-14'!F4320","v":"TORN. BRONCE"},{"$f":"'[1]87-0-14'!G4320*(1+$E$13)","v":64.247500000000002}]
[{"$f":"'[1]87-0-14'!B4321","v":"TB1917"},{"$f":"'[1]87-0-14'!D4321","v":"TORNIL. BCE 19-17"},{"$f":"'[1]87-0-14'!E4321","v":"VIALRO"},{"$f":"'[1]87-0-14'!F4321","v":"TORN. BRONCE"},{"$f":"'[1]87-0-14'!G4321*(1+$E$13)","v":64.247500000000002}]
[{"$f":"'[1]87-0-14'!B4322","v":"TB1920"},{"$f":"'[1]87-0-14'!D4322","v":"TORNIL. BCE 19-20"},{"$f":"'[1]87-0-14'!E4322","v":"VIALRO"},{"$f":"'[1]87-0-14'!F4322","v":"TORN. BRONCE"},{"$f":"'[1]87-0-14'!G4322*(1+$E$13)","v":73.656000000000006}]
[{"$f":"'[1]87-0-14'!B4323","v":"TB1925"},{"$f":"'[1]87-0-14'!D4323","v":"TORNIL. BCE 19-25"},{"$f":"'[1]87-0-14'!E4323","v":"VIALRO"},{"$f":"'[1]87-0-14'!F4323","v":"TORN. BRONCE"},{"$f":"'[1]87-0-14'!G4323*(1+$E$13)","v":91.868500000000012}]
[{"$f":"'[1]87-0-14'!B4324","v":"TB1930"},{"$f":"'[1]87-0-14'!D4324","v":"TORNIL. BCE 19-30"},{"$f":"'[1]87-0-14'!E4324","v":"VIALRO"},{"$f":"'[1]87-0-14'!F4324","v":"TORN. BRONCE"},{"$f":"'[1]87-0-14'!G4324*(1+$E$13)","v":101.246}]
[{"$f":"'[1]87-0-14'!B4325","v":"TB1935"},{"$f":"'[1]87-0-14'!D4325","v":"TORNIL. BCE 19-35"},{"$f":"'[1]87-0-14'!E4325","v":"VIALRO"},{"$f":"'[1]87-0-14'!F4325","v":"TORN. BRONCE"},{"$f":"'[1]87-0-14'!G4325*(1+$E$13)","v":113.3515}]
[{"$f":"'[1]87-0-14'!B4326","v":"TB1940"},{"$f":"'[1]87-0-14'!D4326","v":"TORNIL. BCE 19-40"},{"$f":"'[1]87-0-14'!E4326","v":"VIALRO"},{"$f":"'[1]87-0-14'!F4326","v":"TORN. BRONCE"},{"$f":"'[1]87-0-14'!G4326*(1+$E$13)","v":119.9855}]
[{"$f":"'[1]87-0-14'!B4327","v":"TB1945"},{"$f":"'[1]87-0-14'!D4327","v":"TORNIL. BCE 19-45"},{"$f":"'[1]87-0-14'!E4327","v":"VIALRO"},{"$f":"'[1]87-0-14'!F4327","v":"TORN. BRONCE"},{"$f":"'[1]87-0-14'!G4327*(1+$E$13)","v":126.0305}]
[{"$f":"'[1]87-0-14'!B4328","v":"TB2020"},{"$f":"'[1]87-0-14'!D4328","v":"TORNIL. BCE 20-20"},{"$f":"'[1]87-0-14'!E4328","v":"VIALRO"},{"$f":"'[1]87-0-14'!F4328","v":"TORN. BRONCE"},{"$f":"'[1]87-0-14'!G4328*(1+$E$13)","v":98.099500000000006}]
[{"$f":"'[1]87-0-14'!B4329","v":"TB2025"},{"$f":"'[1]87-0-14'!D4329","v":"TORNIL. BCE 20-25"},{"$f":"'[1]87-0-14'!E4329","v":"VIALRO"},{"$f":"'[1]87-0-14'!F4329","v":"TORN. BRONCE"},{"$f":"'[1]87-0-14'!G4329*(1+$E$13)","v":110.3135}]
[{"$f":"'[1]87-0-14'!B4330","v":"TB2030"},{"$f":"'[1]87-0-14'!D4330","v":"TORNIL. BCE 20-30"},{"$f":"'[1]87-0-14'!E4330","v":"VIALRO"},{"$f":"'[1]87-0-14'!F4330","v":"TORN. BRONCE"},{"$f":"'[1]87-0-14'!G4330*(1+$E$13)","v":122.574}]
[{"$f":"'[1]87-0-14'!B4331","v":"TB2035"},{"$f":"'[1]87-0-14'!D4331","v":"TORNIL. BCE 20-35"},{"$f":"'[1]87-0-14'!E4331","v":"VIALRO"},{"$f":"'[1]87-0-14'!F4331","v":"TORN. BRONCE"},{"$f":"'[1]87-0-14'!G4331*(1+$E$13)","v":134.85}]
[{"$f":"'[1]87-0-14'!B4332","v":"TB2040"},{"$f":"'[1]87-0-14'!D4332","v":"TORNIL. BCE 20-40"},{"$f":"'[1]87-0-14'!E4332","v":"VIALRO"},{"$f":"'[1]87-0-14'!F4332","v":"TORN. BRONCE"},{"$f":"'[1]87-0-14'!G4332*(1+$E$13)","v":147.06399999999999}]
[{"$f":"'[1]87-0-14'!B4333","v":"TB2120"},{"$f":"'[1]87-0-14'!D4333","v":"TORNIL. BCE 21-20"},{"$f":"'[1]87-0-14'!E4333","v":"VIALRO"},{"$f":"'[1]87-0-14'!F4333","v":"TORN. BRONCE"},{"$f":"'[1]87-0-14'!G4333*(1+$E$13)","v":129.00650000000002}]
[{"$f":"'[1]87-0-14'!B4334","v":"TB2125"},{"$f":"'[1]87-0-14'!D4334","v":"TORNIL. BCE 21-25"},{"$f":"'[1]87-0-14'!E4334","v":"VIALRO"},{"$f":"'[1]87-0-14'!F4334","v":"TORN. BRONCE"},{"$f":"'[1]87-0-14'!G4334*(1+$E$13)","v":146.2115}]
[{"$f":"'[1]87-0-14'!B4335","v":"TB2130"},{"$f":"'[1]87-0-14'!D4335","v":"TORNIL. BCE 21-30"},{"$f":"'[1]87-0-14'!E4335","v":"VIALRO"},{"$f":"'[1]87-0-14'!F4335","v":"TORN. BRONCE"},{"$f":"'[1]87-0-14'!G4335*(1+$E$13)","v":168.51599999999999}]
[{"$f":"'[1]87-0-14'!B4336","v":"TB2135"},{"$f":"'[1]87-0-14'!D4336","v":"TORNIL. BCE 21-35"},{"$f":"'[1]87-0-14'!E4336","v":"VIALRO"},{"$f":"'[1]87-0-14'!F4336","v":"TORN. BRONCE"},{"$f":"'[1]87-0-14'!G4336*(1+$E$13)","v":178.87}]
[{"$f":"'[1]87-0-14'!B4337","v":"TB2140"},{"$f":"'[1]87-0-14'!D4337","v":"TORNIL. BCE 21-40"},{"$f":"'[1]87-0-14'!E4337","v":"VIALRO"},{"$f":"'[1]87-0-14'!F4337","v":"TORN. BRONCE"},{"$f":"'[1]87-0-14'!G4337*(1+$E$13)","v":189.19300000000001}]
[{"$f":"'[1]87-0-14'!B4338","v":"TB2145"},{"$f":"'[1]87-0-14'!D4338","v":"TORNIL. BCE 21-45"},{"$f":"'[1]87-0-14'!E4338","v":"VIALRO"},{"$f":"'[1]87-0-14'!F4338","v":"TORN. BRONCE"},{"$f":"'[1]87-0-14'!G4338*(1+$E$13)","v":211.55950000000001}]
[{"$f":"'[1]87-0-14'!B4339","v":"TB2150"},{"$f":"'[1]87-0-14'!D4339","v":"TORNIL. BCE 21-50"},{"$f":"'[1]87-0-14'!E4339","v":"VIALRO"},{"$f":"'[1]87-0-14'!F4339","v":"TORN. BRONCE"},{"$f":"'[1]87-0-14'!G4339*(1+$E$13)","v":230.48499999999999}]
[{"$f":"'[1]87-0-14'!B4340","v":"TB2160V"},{"$f":"'[1]87-0-14'!D4340","v":"TORNIL. BCE 21-60"},{"$f":"'[1]87-0-14'!E4340","v":"VIALRO"},{"$f":"'[1]87-0-14'!F4340","v":"TORN. BRONCE"},{"$f":"'[1]87-0-14'!G4340*(1+$E$13)","v":255.78100000000003}]
[{"$f":"'[1]87-0-14'!B4341","v":"TB2230"},{"$f":"'[1]87-0-14'!D4341","v":"TORNIL. BCE 22-30"},{"$f":"'[1]87-0-14'!E4341","v":"VIALRO"},{"$f":"'[1]87-0-14'!F4341","v":"TORN. BRONCE"},{"$f":"'[1]87-0-14'!G4341*(1+$E$13)","v":194.16849999999999}]
[{"$f":"'[1]87-0-14'!B4342","v":"TB2240"},{"$f":"'[1]87-0-14'!D4342","v":"TORNIL. BCE 22-40"},{"$f":"'[1]87-0-14'!E4342","v":"VIALRO"},{"$f":"'[1]87-0-14'!F4342","v":"TORN. BRONCE"},{"$f":"'[1]87-0-14'!G4342*(1+$E$13)","v":227.02850000000001}]
[{"$f":"'[1]87-0-14'!B4343","v":"TB2245"},{"$f":"'[1]87-0-14'!D4343","v":"TORNIL. BCE 22-45"},{"$f":"'[1]87-0-14'!E4343","v":"VIALRO"},{"$f":"'[1]87-0-14'!F4343","v":"TORN. BRONCE"},{"$f":"'[1]87-0-14'!G4343*(1+$E$13)","v":250.49550000000002}]
[{"$f":"'[1]87-0-14'!B4344","v":"TB2250"},{"$f":"'[1]87-0-14'!D4344","v":"TORNIL. BCE 22-50"},{"$f":"'[1]87-0-14'!E4344","v":"VIALRO"},{"$f":"'[1]87-0-14'!F4344","v":"TORN. BRONCE"},{"$f":"'[1]87-0-14'!G4344*(1+$E$13)","v":266.69299999999998}]
[{"$f":"'[1]87-0-14'!B4345","v":"TB2260"},{"$f":"'[1]87-0-14'!D4345","v":"TORNIL. BCE 22-60"},{"$f":"'[1]87-0-14'!E4345","v":"VIALRO"},{"$f":"'[1]87-0-14'!F4345","v":"TORN. BRONCE"},{"$f":"'[1]87-0-14'!G4345*(1+$E$13)","v":313.72000000000003}]
[{"$f":"'[1]87-0-14'!B4346","v":"TTPG"},{"$f":"'[1]87-0-14'!D4346","v":"TORNILL TIJERA PODAR"},{"$f":"'[1]87-0-14'!E4346","v":"GHERARDI"},{"$f":"'[1]87-0-14'!F4346","v":"TORNILLO"},{"$f":"'[1]87-0-14'!G4346*(1+$E$13)","v":5254.0969999999998}]
[{"$f":"'[1]87-0-14'!B4347","v":"TF2515P"},{"$f":"'[1]87-0-14'!D4347","v":"TORNILLO FIX 2,5x15"},{"$f":"'[1]87-0-14'!E4347","v":"PROLL"},{"$f":"'[1]87-0-14'!F4347","v":"TORNILLO FIX"},{"$f":"'[1]87-0-14'!G4347*(1+$E$13)","v":926.51250000000005}]
[{"$f":"'[1]87-0-14'!B4348","v":"TF3516P"},{"$f":"'[1]87-0-14'!D4348","v":"TORNILLO FIX 3,5x16"},{"$f":"'[1]87-0-14'!E4348","v":"PROLL"},{"$f":"'[1]87-0-14'!F4348","v":"TORNILLO FIX"},{"$f":"'[1]87-0-14'!G4348*(1+$E$13)","v":1583.8210000000001}]
[{"$f":"'[1]87-0-14'!B4349","v":"TF3520P"},{"$f":"'[1]87-0-14'!D4349","v":"TORNILLO FIX 3,5x20"},{"$f":"'[1]87-0-14'!E4349","v":"PROLL"},{"$f":"'[1]87-0-14'!F4349","v":"TORNILLO FIX"},{"$f":"'[1]87-0-14'!G4349*(1+$E$13)","v":1954.7359999999999}]
[{"$f":"'[1]87-0-14'!B4350","v":"TF3525P"},{"$f":"'[1]87-0-14'!D4350","v":"TORNILLO FIX 3,5x25"},{"$f":"'[1]87-0-14'!E4350","v":"PROLL"},{"$f":"'[1]87-0-14'!F4350","v":"TORNILLO FIX"},{"$f":"'[1]87-0-14'!G4350*(1+$E$13)","v":2307.6864999999998}]
[{"$f":"'[1]87-0-14'!B4351","v":"TF3530P"},{"$f":"'[1]87-0-14'!D4351","v":"TORNILLO FIX 3,5x30"},{"$f":"'[1]87-0-14'!E4351","v":"PROLL"},{"$f":"'[1]87-0-14'!F4351","v":"TORNILLO FIX"},{"$f":"'[1]87-0-14'!G4351*(1+$E$13)","v":2620.2750000000001}]
[{"$f":"'[1]87-0-14'!B4352","v":"TF3535P"},{"$f":"'[1]87-0-14'!D4352","v":"TORNILLO FIX 3,5x35"},{"$f":"'[1]87-0-14'!E4352","v":"PROLL"},{"$f":"'[1]87-0-14'!F4352","v":"TORNILLO FIX"},{"$f":"'[1]87-0-14'!G4352*(1+$E$13)","v":3126.6910000000003}]
[{"$f":"'[1]87-0-14'!B4353","v":"TF3540P"},{"$f":"'[1]87-0-14'!D4353","v":"TORNILLO FIX 3,5x40"},{"$f":"'[1]87-0-14'!E4353","v":"PROLL"},{"$f":"'[1]87-0-14'!F4353","v":"TORNILLO FIX"},{"$f":"'[1]87-0-14'!G4353*(1+$E$13)","v":3462.7465000000002}]
[{"$f":"'[1]87-0-14'!B4354","v":"TF3545P"},{"$f":"'[1]87-0-14'!D4354","v":"TORNILLO FIX 3,5x45"},{"$f":"'[1]87-0-14'!E4354","v":"PROLL"},{"$f":"'[1]87-0-14'!F4354","v":"TORNILLO FIX"},{"$f":"'[1]87-0-14'!G4354*(1+$E$13)","v":3879.123}]
[{"$f":"'[1]87-0-14'!B4355","v":"TF3550P"},{"$f":"'[1]87-0-14'!D4355","v":"TORNILLO FIX 3,5x50"},{"$f":"'[1]87-0-14'!E4355","v":"PROLL"},{"$f":"'[1]87-0-14'!F4355","v":"TORNILLO FIX"},{"$f":"'[1]87-0-14'!G4355*(1+$E$13)","v":4344.9445000000005}]
[{"$f":"'[1]87-0-14'!B4356","v":"TF316P"},{"$f":"'[1]87-0-14'!D4356","v":"TORNILLO FIX 3x16"},{"$f":"'[1]87-0-14'!E4356","v":"PROLL"},{"$f":"'[1]87-0-14'!F4356","v":"TORNILLO FIX"},{"$f":"'[1]87-0-14'!G4356*(1+$E$13)","v":1140.1335000000001}]
[{"$f":"'[1]87-0-14'!B4357","v":"TF320P"},{"$f":"'[1]87-0-14'!D4357","v":"TORNILLO FIX 3x20"},{"$f":"'[1]87-0-14'!E4357","v":"PROLL"},{"$f":"'[1]87-0-14'!F4357","v":"TORNILLO FIX"},{"$f":"'[1]87-0-14'!G4357*(1+$E$13)","v":1461.9755}]
[{"$f":"'[1]87-0-14'!B4358","v":"TF325P"},{"$f":"'[1]87-0-14'!D4358","v":"TORNILLO FIX 3x25"},{"$f":"'[1]87-0-14'!E4358","v":"PROLL"},{"$f":"'[1]87-0-14'!F4358","v":"TORNILLO FIX"},{"$f":"'[1]87-0-14'!G4358*(1+$E$13)","v":1718.0665000000001}]
[{"$f":"'[1]87-0-14'!B4359","v":"TF330P"},{"$f":"'[1]87-0-14'!D4359","v":"TORNILLO FIX 3x30"},{"$f":"'[1]87-0-14'!E4359","v":"PROLL"},{"$f":"'[1]87-0-14'!F4359","v":"TORNILLO FIX"},{"$f":"'[1]87-0-14'!G4359*(1+$E$13)","v":1954.7359999999999}]
[{"$f":"'[1]87-0-14'!B4360","v":"TF335P"},{"$f":"'[1]87-0-14'!D4360","v":"TORNILLO FIX 3x35"},{"$f":"'[1]87-0-14'!E4360","v":"PROLL"},{"$f":"'[1]87-0-14'!F4360","v":"TORNILLO FIX"},{"$f":"'[1]87-0-14'!G4360*(1+$E$13)","v":1962.424}]
[{"$f":"'[1]87-0-14'!B4361","v":"TF4530P"},{"$f":"'[1]87-0-14'!D4361","v":"TORNILLO FIX 4,5x30"},{"$f":"'[1]87-0-14'!E4361","v":"PROLL"},{"$f":"'[1]87-0-14'!F4361","v":"TORNILLO FIX"},{"$f":"'[1]87-0-14'!G4361*(1+$E$13)","v":4808.5185000000001}]
[{"$f":"'[1]87-0-14'!B4362","v":"TF4535P"},{"$f":"'[1]87-0-14'!D4362","v":"TORNILLO FIX 4,5x35"},{"$f":"'[1]87-0-14'!E4362","v":"PROLL"},{"$f":"'[1]87-0-14'!F4362","v":"TORNILLO FIX"},{"$f":"'[1]87-0-14'!G4362*(1+$E$13)","v":5283.3765000000003}]
[{"$f":"'[1]87-0-14'!B4363","v":"TF4540P"},{"$f":"'[1]87-0-14'!D4363","v":"TORNILLO FIX 4,5x40"},{"$f":"'[1]87-0-14'!E4363","v":"PROLL"},{"$f":"'[1]87-0-14'!F4363","v":"TORNILLO FIX"},{"$f":"'[1]87-0-14'!G4363*(1+$E$13)","v":5834.8820000000005}]
[{"$f":"'[1]87-0-14'!B4364","v":"TF4545P"},{"$f":"'[1]87-0-14'!D4364","v":"TORNILLO FIX 4,5x45"},{"$f":"'[1]87-0-14'!E4364","v":"PROLL"},{"$f":"'[1]87-0-14'!F4364","v":"TORNILLO FIX"},{"$f":"'[1]87-0-14'!G4364*(1+$E$13)","v":6500.7619999999997}]
[{"$f":"'[1]87-0-14'!B4365","v":"TF4550P"},{"$f":"'[1]87-0-14'!D4365","v":"TORNILLO FIX 4,5x50"},{"$f":"'[1]87-0-14'!E4365","v":"PROLL"},{"$f":"'[1]87-0-14'!F4365","v":"TORNILLO FIX"},{"$f":"'[1]87-0-14'!G4365*(1+$E$13)","v":7084.7865000000002}]
[{"$f":"'[1]87-0-14'!B4366","v":"TF4560P"},{"$f":"'[1]87-0-14'!D4366","v":"TORNILLO FIX 4,5x60"},{"$f":"'[1]87-0-14'!E4366","v":"PROLL"},{"$f":"'[1]87-0-14'!F4366","v":"TORNILLO FIX"},{"$f":"'[1]87-0-14'!G4366*(1+$E$13)","v":8921.0095000000001}]
[{"$f":"'[1]87-0-14'!B4367","v":"TF420P"},{"$f":"'[1]87-0-14'!D4367","v":"TORNILLO FIX 4x20"},{"$f":"'[1]87-0-14'!E4367","v":"PROLL"},{"$f":"'[1]87-0-14'!F4367","v":"TORNILLO FIX"},{"$f":"'[1]87-0-14'!G4367*(1+$E$13)","v":2568.0245}]
[{"$f":"'[1]87-0-14'!B4368","v":"TF425P"},{"$f":"'[1]87-0-14'!D4368","v":"TORNILLO FIX 4x25"},{"$f":"'[1]87-0-14'!E4368","v":"PROLL"},{"$f":"'[1]87-0-14'!F4368","v":"TORNILLO FIX"},{"$f":"'[1]87-0-14'!G4368*(1+$E$13)","v":3053.779}]
[{"$f":"'[1]87-0-14'!B4369","v":"TF430P"},{"$f":"'[1]87-0-14'!D4369","v":"TORNILLO FIX 4x30"},{"$f":"'[1]87-0-14'!E4369","v":"PROLL"},{"$f":"'[1]87-0-14'!F4369","v":"TORNILLO FIX"},{"$f":"'[1]87-0-14'!G4369*(1+$E$13)","v":3622.1950000000002}]
[{"$f":"'[1]87-0-14'!B4370","v":"TF435P"},{"$f":"'[1]87-0-14'!D4370","v":"TORNILLO FIX 4x35"},{"$f":"'[1]87-0-14'!E4370","v":"PROLL"},{"$f":"'[1]87-0-14'!F4370","v":"TORNILLO FIX"},{"$f":"'[1]87-0-14'!G4370*(1+$E$13)","v":4098.6960000000008}]
[{"$f":"'[1]87-0-14'!B4371","v":"TF440P"},{"$f":"'[1]87-0-14'!D4371","v":"TORNILLO FIX 4x40"},{"$f":"'[1]87-0-14'!E4371","v":"PROLL"},{"$f":"'[1]87-0-14'!F4371","v":"TORNILLO FIX"},{"$f":"'[1]87-0-14'!G4371*(1+$E$13)","v":4555.0005000000001}]
[{"$f":"'[1]87-0-14'!B4372","v":"TF445P"},{"$f":"'[1]87-0-14'!D4372","v":"TORNILLO FIX 4x45"},{"$f":"'[1]87-0-14'!E4372","v":"PROLL"},{"$f":"'[1]87-0-14'!F4372","v":"TORNILLO FIX"},{"$f":"'[1]87-0-14'!G4372*(1+$E$13)","v":4996.5335000000005}]
[{"$f":"'[1]87-0-14'!B4373","v":"TF450P"},{"$f":"'[1]87-0-14'!D4373","v":"TORNILLO FIX 4x50"},{"$f":"'[1]87-0-14'!E4373","v":"PROLL"},{"$f":"'[1]87-0-14'!F4373","v":"TORNILLO FIX"},{"$f":"'[1]87-0-14'!G4373*(1+$E$13)","v":5525.8275000000003}]
[{"$f":"'[1]87-0-14'!B4374","v":"TF460P"},{"$f":"'[1]87-0-14'!D4374","v":"TORNILLO FIX 4x60"},{"$f":"'[1]87-0-14'!E4374","v":"PROLL"},{"$f":"'[1]87-0-14'!F4374","v":"TORNILLO FIX"},{"$f":"'[1]87-0-14'!G4374*(1+$E$13)","v":6728.1780000000008}]
[{"$f":"'[1]87-0-14'!B4375","v":"TF540P"},{"$f":"'[1]87-0-14'!D4375","v":"TORNILLO FIX 5x40"},{"$f":"'[1]87-0-14'!E4375","v":"PROLL"},{"$f":"'[1]87-0-14'!F4375","v":"TORNILLO FIX"},{"$f":"'[1]87-0-14'!G4375*(1+$E$13)","v":8244.3415000000005}]
[{"$f":"'[1]87-0-14'!B4376","v":"TF545P"},{"$f":"'[1]87-0-14'!D4376","v":"TORNILLO FIX 5x45"},{"$f":"'[1]87-0-14'!E4376","v":"PROLL"},{"$f":"'[1]87-0-14'!F4376","v":"TORNILLO FIX"},{"$f":"'[1]87-0-14'!G4376*(1+$E$13)","v":8866.1705000000002}]
[{"$f":"'[1]87-0-14'!B4377","v":"TF550P"},{"$f":"'[1]87-0-14'!D4377","v":"TORNILLO FIX 5x50"},{"$f":"'[1]87-0-14'!E4377","v":"PROLL"},{"$f":"'[1]87-0-14'!F4377","v":"TORNILLO FIX"},{"$f":"'[1]87-0-14'!G4377*(1+$E$13)","v":9635.9160000000011}]
[{"$f":"'[1]87-0-14'!B4378","v":"TF560P"},{"$f":"'[1]87-0-14'!D4378","v":"TORNILLO FIX 5x60"},{"$f":"'[1]87-0-14'!E4378","v":"PROLL"},{"$f":"'[1]87-0-14'!F4378","v":"TORNILLO FIX"},{"$f":"'[1]87-0-14'!G4378*(1+$E$13)","v":11316.953000000001}]
[{"$f":"'[1]87-0-14'!B4379","v":"TF570P"},{"$f":"'[1]87-0-14'!D4379","v":"TORNILLO FIX 5x70"},{"$f":"'[1]87-0-14'!E4379","v":"PROLL"},{"$f":"'[1]87-0-14'!F4379","v":"TORNILLO FIX"},{"$f":"'[1]87-0-14'!G4379*(1+$E$13)","v":13086.3555}]
[{"$f":"'[1]87-0-14'!B4380","v":"TF580P"},{"$f":"'[1]87-0-14'!D4380","v":"TORNILLO FIX 5x80"},{"$f":"'[1]87-0-14'!E4380","v":"PROLL"},{"$f":"'[1]87-0-14'!F4380","v":"TORNILLO FIX"},{"$f":"'[1]87-0-14'!G4380*(1+$E$13)","v":15135.486500000001}]
[{"$f":"'[1]87-0-14'!B4381","v":"TF650P"},{"$f":"'[1]87-0-14'!D4381","v":"TORNILLO FIX 6x50"},{"$f":"'[1]87-0-14'!E4381","v":"PROLL"},{"$f":"'[1]87-0-14'!F4381","v":"TORNILLO FIX"},{"$f":"'[1]87-0-14'!G4381*(1+$E$13)","v":14246.1585}]
[{"$f":"'[1]87-0-14'!B4382","v":"TF660P"},{"$f":"'[1]87-0-14'!D4382","v":"TORNILLO FIX 6x60"},{"$f":"'[1]87-0-14'!E4382","v":"PROLL"},{"$f":"'[1]87-0-14'!F4382","v":"TORNILLO FIX"},{"$f":"'[1]87-0-14'!G4382*(1+$E$13)","v":17621.6865}]
[{"$f":"'[1]87-0-14'!B4383","v":"TF670P"},{"$f":"'[1]87-0-14'!D4383","v":"TORNILLO FIX 6x70"},{"$f":"'[1]87-0-14'!E4383","v":"PROLL"},{"$f":"'[1]87-0-14'!F4383","v":"TORNILLO FIX"},{"$f":"'[1]87-0-14'!G4383*(1+$E$13)","v":19367.653000000002}]
[{"$f":"'[1]87-0-14'!B4384","v":"TF680P"},{"$f":"'[1]87-0-14'!D4384","v":"TORNILLO FIX 6x80"},{"$f":"'[1]87-0-14'!E4384","v":"PROLL"},{"$f":"'[1]87-0-14'!F4384","v":"TORNILLO FIX"},{"$f":"'[1]87-0-14'!G4384*(1+$E$13)","v":21819.799500000001}]
[{"$f":"'[1]87-0-14'!B4385","v":"T1410"},{"$f":"'[1]87-0-14'!D4385","v":"TORNILLO HO 14-10"},{"$f":"'[1]87-0-14'!E4385","v":"PROLL"},{"$f":"'[1]87-0-14'!F4385","v":"TORN. HIERRO"},{"$f":"'[1]87-0-14'!G4385*(1+$E$13)","v":1408.9345000000001}]
[{"$f":"'[1]87-0-14'!B4386","v":"T1413"},{"$f":"'[1]87-0-14'!D4386","v":"TORNILLO HO 14-13"},{"$f":"'[1]87-0-14'!E4386","v":"PROLL"},{"$f":"'[1]87-0-14'!F4386","v":"TORN. HIERRO"},{"$f":"'[1]87-0-14'!G4386*(1+$E$13)","v":1408.9345000000001}]
[{"$f":"'[1]87-0-14'!B4387","v":"T1415"},{"$f":"'[1]87-0-14'!D4387","v":"TORNILLO HO 14-15"},{"$f":"'[1]87-0-14'!E4387","v":"PROLL"},{"$f":"'[1]87-0-14'!F4387","v":"TORN. HIERRO"},{"$f":"'[1]87-0-14'!G4387*(1+$E$13)","v":1408.9345000000001}]
[{"$f":"'[1]87-0-14'!B4388","v":"T1417"},{"$f":"'[1]87-0-14'!D4388","v":"TORNILLO HO 14-17"},{"$f":"'[1]87-0-14'!E4388","v":"PROLL"},{"$f":"'[1]87-0-14'!F4388","v":"TORN. HIERRO"},{"$f":"'[1]87-0-14'!G4388*(1+$E$13)","v":1408.9345000000001}]
[{"$f":"'[1]87-0-14'!B4389","v":"T1420"},{"$f":"'[1]87-0-14'!D4389","v":"TORNILLO HO 14-20"},{"$f":"'[1]87-0-14'!E4389","v":"PROLL"},{"$f":"'[1]87-0-14'!F4389","v":"TORN. HIERRO"},{"$f":"'[1]87-0-14'!G4389*(1+$E$13)","v":1408.9345000000001}]
[{"$f":"'[1]87-0-14'!B4390","v":"T1610"},{"$f":"'[1]87-0-14'!D4390","v":"TORNILLO HO 16-10"},{"$f":"'[1]87-0-14'!E4390","v":"PROLL"},{"$f":"'[1]87-0-14'!F4390","v":"TORN. HIERRO"},{"$f":"'[1]87-0-14'!G4390*(1+$E$13)","v":1408.9345000000001}]
[{"$f":"'[1]87-0-14'!B4391","v":"T1613"},{"$f":"'[1]87-0-14'!D4391","v":"TORNILLO HO 16-13"},{"$f":"'[1]87-0-14'!E4391","v":"PROLL"},{"$f":"'[1]87-0-14'!F4391","v":"TORN. HIERRO"},{"$f":"'[1]87-0-14'!G4391*(1+$E$13)","v":1408.9345000000001}]
[{"$f":"'[1]87-0-14'!B4392","v":"T1615"},{"$f":"'[1]87-0-14'!D4392","v":"TORNILLO HO 16-15"},{"$f":"'[1]87-0-14'!E4392","v":"PROLL"},{"$f":"'[1]87-0-14'!F4392","v":"TORN. HIERRO"},{"$f":"'[1]87-0-14'!G4392*(1+$E$13)","v":1408.9345000000001}]
[{"$f":"'[1]87-0-14'!B4393","v":"T1617"},{"$f":"'[1]87-0-14'!D4393","v":"TORNILLO HO 16-17"},{"$f":"'[1]87-0-14'!E4393","v":"PROLL"},{"$f":"'[1]87-0-14'!F4393","v":"TORN. HIERRO"},{"$f":"'[1]87-0-14'!G4393*(1+$E$13)","v":1408.9345000000001}]
[{"$f":"'[1]87-0-14'!B4394","v":"T1620"},{"$f":"'[1]87-0-14'!D4394","v":"TORNILLO HO 16-20"},{"$f":"'[1]87-0-14'!E4394","v":"PROLL"},{"$f":"'[1]87-0-14'!F4394","v":"TORN. HIERRO"},{"$f":"'[1]87-0-14'!G4394*(1+$E$13)","v":1408.9345000000001}]
[{"$f":"'[1]87-0-14'!B4395","v":"T1625"},{"$f":"'[1]87-0-14'!D4395","v":"TORNILLO HO 16-25"},{"$f":"'[1]87-0-14'!E4395","v":"PROLL"},{"$f":"'[1]87-0-14'!F4395","v":"TORN. HIERRO"},{"$f":"'[1]87-0-14'!G4395*(1+$E$13)","v":1554.2625}]
[{"$f":"'[1]87-0-14'!B4396","v":"T1710"},{"$f":"'[1]87-0-14'!D4396","v":"TORNILLO HO 17-10"},{"$f":"'[1]87-0-14'!E4396","v":"PROLL"},{"$f":"'[1]87-0-14'!F4396","v":"TORN. HIERRO"},{"$f":"'[1]87-0-14'!G4396*(1+$E$13)","v":1340.8119999999999}]
[{"$f":"'[1]87-0-14'!B4397","v":"T1713"},{"$f":"'[1]87-0-14'!D4397","v":"TORNILLO HO 17-13"},{"$f":"'[1]87-0-14'!E4397","v":"PROLL"},{"$f":"'[1]87-0-14'!F4397","v":"TORN. HIERRO"},{"$f":"'[1]87-0-14'!G4397*(1+$E$13)","v":1340.8119999999999}]
[{"$f":"'[1]87-0-14'!B4398","v":"T1715"},{"$f":"'[1]87-0-14'!D4398","v":"TORNILLO HO 17-15"},{"$f":"'[1]87-0-14'!E4398","v":"PROLL"},{"$f":"'[1]87-0-14'!F4398","v":"TORN. HIERRO"},{"$f":"'[1]87-0-14'!G4398*(1+$E$13)","v":1354.9324999999999}]
[{"$f":"'[1]87-0-14'!B4399","v":"T1717"},{"$f":"'[1]87-0-14'!D4399","v":"TORNILLO HO 17-17"},{"$f":"'[1]87-0-14'!E4399","v":"PROLL"},{"$f":"'[1]87-0-14'!F4399","v":"TORN. HIERRO"},{"$f":"'[1]87-0-14'!G4399*(1+$E$13)","v":1199.3434999999999}]
[{"$f":"'[1]87-0-14'!B4400","v":"T1720"},{"$f":"'[1]87-0-14'!D4400","v":"TORNILLO HO 17-20"},{"$f":"'[1]87-0-14'!E4400","v":"PROLL"},{"$f":"'[1]87-0-14'!F4400","v":"TORN. HIERRO"},{"$f":"'[1]87-0-14'!G4400*(1+$E$13)","v":1531.3845000000001}]
[{"$f":"'[1]87-0-14'!B4401","v":"T1725"},{"$f":"'[1]87-0-14'!D4401","v":"TORNILLO HO 17-25"},{"$f":"'[1]87-0-14'!E4401","v":"PROLL"},{"$f":"'[1]87-0-14'!F4401","v":"TORN. HIERRO"},{"$f":"'[1]87-0-14'!G4401*(1+$E$13)","v":1660.1585}]
[{"$f":"'[1]87-0-14'!B4402","v":"T1730"},{"$f":"'[1]87-0-14'!D4402","v":"TORNILLO HO 17-30"},{"$f":"'[1]87-0-14'!E4402","v":"PROLL"},{"$f":"'[1]87-0-14'!F4402","v":"TORN. HIERRO"},{"$f":"'[1]87-0-14'!G4402*(1+$E$13)","v":1904.9190000000001}]
[{"$f":"'[1]87-0-14'!B4403","v":"T1810"},{"$f":"'[1]87-0-14'!D4403","v":"TORNILLO HO 18-10"},{"$f":"'[1]87-0-14'!E4403","v":"PROLL"},{"$f":"'[1]87-0-14'!F4403","v":"TORN. HIERRO"},{"$f":"'[1]87-0-14'!G4403*(1+$E$13)","v":1579.7600000000002}]
[{"$f":"'[1]87-0-14'!B4404","v":"T1813"},{"$f":"'[1]87-0-14'!D4404","v":"TORNILLO HO 18-13"},{"$f":"'[1]87-0-14'!E4404","v":"PROLL"},{"$f":"'[1]87-0-14'!F4404","v":"TORN. HIERRO"},{"$f":"'[1]87-0-14'!G4404*(1+$E$13)","v":1423.7835000000002}]
[{"$f":"'[1]87-0-14'!B4405","v":"T1815"},{"$f":"'[1]87-0-14'!D4405","v":"TORNILLO HO 18-15"},{"$f":"'[1]87-0-14'!E4405","v":"PROLL"},{"$f":"'[1]87-0-14'!F4405","v":"TORN. HIERRO"},{"$f":"'[1]87-0-14'!G4405*(1+$E$13)","v":1541.3354999999999}]
[{"$f":"'[1]87-0-14'!B4406","v":"T1817"},{"$f":"'[1]87-0-14'!D4406","v":"TORNILLO HO 18-17"},{"$f":"'[1]87-0-14'!E4406","v":"PROLL"},{"$f":"'[1]87-0-14'!F4406","v":"TORN. HIERRO"},{"$f":"'[1]87-0-14'!G4406*(1+$E$13)","v":1813.3450000000003}]
[{"$f":"'[1]87-0-14'!B4407","v":"T1820"},{"$f":"'[1]87-0-14'!D4407","v":"TORNILLO HO 18-20"},{"$f":"'[1]87-0-14'!E4407","v":"PROLL"},{"$f":"'[1]87-0-14'!F4407","v":"TORN. HIERRO"},{"$f":"'[1]87-0-14'!G4407*(1+$E$13)","v":1881.6225000000002}]
[{"$f":"'[1]87-0-14'!B4408","v":"T1825"},{"$f":"'[1]87-0-14'!D4408","v":"TORNILLO HO 18-25"},{"$f":"'[1]87-0-14'!E4408","v":"PROLL"},{"$f":"'[1]87-0-14'!F4408","v":"TORN. HIERRO"},{"$f":"'[1]87-0-14'!G4408*(1+$E$13)","v":1977.7225000000001}]
[{"$f":"'[1]87-0-14'!B4409","v":"T1830"},{"$f":"'[1]87-0-14'!D4409","v":"TORNILLO HO 18-30"},{"$f":"'[1]87-0-14'!E4409","v":"PROLL"},{"$f":"'[1]87-0-14'!F4409","v":"TORN. HIERRO"},{"$f":"'[1]87-0-14'!G4409*(1+$E$13)","v":2188.3674999999998}]
[{"$f":"'[1]87-0-14'!B4410","v":"T1835"},{"$f":"'[1]87-0-14'!D4410","v":"TORNILLO HO 18-35"},{"$f":"'[1]87-0-14'!E4410","v":"PROLL"},{"$f":"'[1]87-0-14'!F4410","v":"TORN. HIERRO"},{"$f":"'[1]87-0-14'!G4410*(1+$E$13)","v":2593.7545}]
[{"$f":"'[1]87-0-14'!B4411","v":"T1840"},{"$f":"'[1]87-0-14'!D4411","v":"TORNILLO HO 18-40"},{"$f":"'[1]87-0-14'!E4411","v":"PROLL"},{"$f":"'[1]87-0-14'!F4411","v":"TORN. HIERRO"},{"$f":"'[1]87-0-14'!G4411*(1+$E$13)","v":2644.982}]
[{"$f":"'[1]87-0-14'!B4412","v":"T1845"},{"$f":"'[1]87-0-14'!D4412","v":"TORNILLO HO 18-45"},{"$f":"'[1]87-0-14'!E4412","v":"PROLL"},{"$f":"'[1]87-0-14'!F4412","v":"TORN. HIERRO"},{"$f":"'[1]87-0-14'!G4412*(1+$E$13)","v":2510.7365}]
[{"$f":"'[1]87-0-14'!B4413","v":"T1913"},{"$f":"'[1]87-0-14'!D4413","v":"TORNILLO HO 19-13"},{"$f":"'[1]87-0-14'!E4413","v":"PROLL"},{"$f":"'[1]87-0-14'!F4413","v":"TORN. HIERRO"},{"$f":"'[1]87-0-14'!G4413*(1+$E$13)","v":1850.1730000000002}]
[{"$f":"'[1]87-0-14'!B4414","v":"T1915"},{"$f":"'[1]87-0-14'!D4414","v":"TORNILLO HO 19-15"},{"$f":"'[1]87-0-14'!E4414","v":"PROLL"},{"$f":"'[1]87-0-14'!F4414","v":"TORN. HIERRO"},{"$f":"'[1]87-0-14'!G4414*(1+$E$13)","v":1835.9750000000001}]
[{"$f":"'[1]87-0-14'!B4415","v":"T1917"},{"$f":"'[1]87-0-14'!D4415","v":"TORNILLO HO 19-17"},{"$f":"'[1]87-0-14'!E4415","v":"PROLL"},{"$f":"'[1]87-0-14'!F4415","v":"TORN. HIERRO"},{"$f":"'[1]87-0-14'!G4415*(1+$E$13)","v":1958.4404999999999}]
[{"$f":"'[1]87-0-14'!B4416","v":"T1920"},{"$f":"'[1]87-0-14'!D4416","v":"TORNILLO HO 19-20"},{"$f":"'[1]87-0-14'!E4416","v":"PROLL"},{"$f":"'[1]87-0-14'!F4416","v":"TORN. HIERRO"},{"$f":"'[1]87-0-14'!G4416*(1+$E$13)","v":2029.0895}]
[{"$f":"'[1]87-0-14'!B4417","v":"T1925"},{"$f":"'[1]87-0-14'!D4417","v":"TORNILLO HO 19-25"},{"$f":"'[1]87-0-14'!E4417","v":"PROLL"},{"$f":"'[1]87-0-14'!F4417","v":"TORN. HIERRO"},{"$f":"'[1]87-0-14'!G4417*(1+$E$13)","v":2302.0445}]
[{"$f":"'[1]87-0-14'!B4418","v":"T1930"},{"$f":"'[1]87-0-14'!D4418","v":"TORNILLO HO 19-30"},{"$f":"'[1]87-0-14'!E4418","v":"PROLL"},{"$f":"'[1]87-0-14'!F4418","v":"TORN. HIERRO"},{"$f":"'[1]87-0-14'!G4418*(1+$E$13)","v":2646.346}]
[{"$f":"'[1]87-0-14'!B4419","v":"T1935"},{"$f":"'[1]87-0-14'!D4419","v":"TORNILLO HO 19-35"},{"$f":"'[1]87-0-14'!E4419","v":"PROLL"},{"$f":"'[1]87-0-14'!F4419","v":"TORN. HIERRO"},{"$f":"'[1]87-0-14'!G4419*(1+$E$13)","v":2940.9855000000002}]
[{"$f":"'[1]87-0-14'!B4420","v":"T1940"},{"$f":"'[1]87-0-14'!D4420","v":"TORNILLO HO 19-40"},{"$f":"'[1]87-0-14'!E4420","v":"PROLL"},{"$f":"'[1]87-0-14'!F4420","v":"TORN. HIERRO"},{"$f":"'[1]87-0-14'!G4420*(1+$E$13)","v":3217.9085000000005}]
[{"$f":"'[1]87-0-14'!B4421","v":"T1945"},{"$f":"'[1]87-0-14'!D4421","v":"TORNILLO HO 19-45"},{"$f":"'[1]87-0-14'!E4421","v":"PROLL"},{"$f":"'[1]87-0-14'!F4421","v":"TORN. HIERRO"},{"$f":"'[1]87-0-14'!G4421*(1+$E$13)","v":3740.491}]
[{"$f":"'[1]87-0-14'!B4422","v":"T1950"},{"$f":"'[1]87-0-14'!D4422","v":"TORNILLO HO 19-50"},{"$f":"'[1]87-0-14'!E4422","v":"PROLL"},{"$f":"'[1]87-0-14'!F4422","v":"TORN. HIERRO"},{"$f":"'[1]87-0-14'!G4422*(1+$E$13)","v":4206.6534999999994}]
[{"$f":"'[1]87-0-14'!B4423","v":"T2015"},{"$f":"'[1]87-0-14'!D4423","v":"TORNILLO HO 20-15"},{"$f":"'[1]87-0-14'!E4423","v":"PROLL"},{"$f":"'[1]87-0-14'!F4423","v":"TORN. HIERRO"},{"$f":"'[1]87-0-14'!G4423*(1+$E$13)","v":2439.39}]
[{"$f":"'[1]87-0-14'!B4424","v":"T2017"},{"$f":"'[1]87-0-14'!D4424","v":"TORNILLO HO 20-17"},{"$f":"'[1]87-0-14'!E4424","v":"PROLL"},{"$f":"'[1]87-0-14'!F4424","v":"TORN. HIERRO"},{"$f":"'[1]87-0-14'!G4424*(1+$E$13)","v":2439.39}]
[{"$f":"'[1]87-0-14'!B4425","v":"T2020"},{"$f":"'[1]87-0-14'!D4425","v":"TORNILLO HO 20-20"},{"$f":"'[1]87-0-14'!E4425","v":"PROLL"},{"$f":"'[1]87-0-14'!F4425","v":"TORN. HIERRO"},{"$f":"'[1]87-0-14'!G4425*(1+$E$13)","v":2369.0510000000004}]
[{"$f":"'[1]87-0-14'!B4426","v":"T2025"},{"$f":"'[1]87-0-14'!D4426","v":"TORNILLO HO 20-25"},{"$f":"'[1]87-0-14'!E4426","v":"PROLL"},{"$f":"'[1]87-0-14'!F4426","v":"TORN. HIERRO"},{"$f":"'[1]87-0-14'!G4426*(1+$E$13)","v":2553.0360000000001}]
[{"$f":"'[1]87-0-14'!B4427","v":"T2030"},{"$f":"'[1]87-0-14'!D4427","v":"TORNILLO HO 20-30"},{"$f":"'[1]87-0-14'!E4427","v":"PROLL"},{"$f":"'[1]87-0-14'!F4427","v":"TORN. HIERRO"},{"$f":"'[1]87-0-14'!G4427*(1+$E$13)","v":3165.1}]
[{"$f":"'[1]87-0-14'!B4428","v":"T2035"},{"$f":"'[1]87-0-14'!D4428","v":"TORNILLO HO 20-35"},{"$f":"'[1]87-0-14'!E4428","v":"PROLL"},{"$f":"'[1]87-0-14'!F4428","v":"TORN. HIERRO"},{"$f":"'[1]87-0-14'!G4428*(1+$E$13)","v":3339.3820000000001}]
[{"$f":"'[1]87-0-14'!B4429","v":"T2040"},{"$f":"'[1]87-0-14'!D4429","v":"TORNILLO HO 20-40"},{"$f":"'[1]87-0-14'!E4429","v":"PROLL"},{"$f":"'[1]87-0-14'!F4429","v":"TORN. HIERRO"},{"$f":"'[1]87-0-14'!G4429*(1+$E$13)","v":3670.5239999999999}]
[{"$f":"'[1]87-0-14'!B4430","v":"T2045"},{"$f":"'[1]87-0-14'!D4430","v":"TORNILLO HO 20-45"},{"$f":"'[1]87-0-14'!E4430","v":"PROLL"},{"$f":"'[1]87-0-14'!F4430","v":"TORN. HIERRO"},{"$f":"'[1]87-0-14'!G4430*(1+$E$13)","v":4162.1530000000002}]
[{"$f":"'[1]87-0-14'!B4431","v":"T2050"},{"$f":"'[1]87-0-14'!D4431","v":"TORNILLO HO 20-50"},{"$f":"'[1]87-0-14'!E4431","v":"PROLL"},{"$f":"'[1]87-0-14'!F4431","v":"TORN. HIERRO"},{"$f":"'[1]87-0-14'!G4431*(1+$E$13)","v":4726.8025000000007}]
[{"$f":"'[1]87-0-14'!B4432","v":"T2055"},{"$f":"'[1]87-0-14'!D4432","v":"TORNILLO HO 20-55"},{"$f":"'[1]87-0-14'!E4432","v":"PROLL"},{"$f":"'[1]87-0-14'!F4432","v":"TORN. HIERRO"},{"$f":"'[1]87-0-14'!G4432*(1+$E$13)","v":6146.6490000000003}]
[{"$f":"'[1]87-0-14'!B4433","v":"T2060"},{"$f":"'[1]87-0-14'!D4433","v":"TORNILLO HO 20-60"},{"$f":"'[1]87-0-14'!E4433","v":"PROLL"},{"$f":"'[1]87-0-14'!F4433","v":"TORN. HIERRO"},{"$f":"'[1]87-0-14'!G4433*(1+$E$13)","v":6333.5789999999997}]
[{"$f":"'[1]87-0-14'!B4434","v":"T2065"},{"$f":"'[1]87-0-14'!D4434","v":"TORNILLO HO 20-65"},{"$f":"'[1]87-0-14'!E4434","v":"PROLL"},{"$f":"'[1]87-0-14'!F4434","v":"TORN. HIERRO"},{"$f":"'[1]87-0-14'!G4434*(1+$E$13)","v":6910.706000000001}]
[{"$f":"'[1]87-0-14'!B4435","v":"T2070"},{"$f":"'[1]87-0-14'!D4435","v":"TORNILLO HO 20-70"},{"$f":"'[1]87-0-14'!E4435","v":"PROLL"},{"$f":"'[1]87-0-14'!F4435","v":"TORN. HIERRO"},{"$f":"'[1]87-0-14'!G4435*(1+$E$13)","v":6888.4635000000007}]
[{"$f":"'[1]87-0-14'!B4436","v":"T2115"},{"$f":"'[1]87-0-14'!D4436","v":"TORNILLO HO 21-15"},{"$f":"'[1]87-0-14'!E4436","v":"PROLL"},{"$f":"'[1]87-0-14'!F4436","v":"TORN. HIERRO"},{"$f":"'[1]87-0-14'!G4436*(1+$E$13)","v":2550.4785000000002}]
[{"$f":"'[1]87-0-14'!B4437","v":"T2117"},{"$f":"'[1]87-0-14'!D4437","v":"TORNILLO HO 21-17"},{"$f":"'[1]87-0-14'!E4437","v":"PROLL"},{"$f":"'[1]87-0-14'!F4437","v":"TORN. HIERRO"},{"$f":"'[1]87-0-14'!G4437*(1+$E$13)","v":2550.4785000000002}]
[{"$f":"'[1]87-0-14'!B4438","v":"T2120"},{"$f":"'[1]87-0-14'!D4438","v":"TORNILLO HO 21-20"},{"$f":"'[1]87-0-14'!E4438","v":"PROLL"},{"$f":"'[1]87-0-14'!F4438","v":"TORN. HIERRO"},{"$f":"'[1]87-0-14'!G4438*(1+$E$13)","v":3258.5340000000006}]
[{"$f":"'[1]87-0-14'!B4439","v":"T2125"},{"$f":"'[1]87-0-14'!D4439","v":"TORNILLO HO 21-25"},{"$f":"'[1]87-0-14'!E4439","v":"PROLL"},{"$f":"'[1]87-0-14'!F4439","v":"TORN. HIERRO"},{"$f":"'[1]87-0-14'!G4439*(1+$E$13)","v":3573.1530000000002}]
[{"$f":"'[1]87-0-14'!B4440","v":"T2130"},{"$f":"'[1]87-0-14'!D4440","v":"TORNILLO HO 21-30"},{"$f":"'[1]87-0-14'!E4440","v":"PROLL"},{"$f":"'[1]87-0-14'!F4440","v":"TORN. HIERRO"},{"$f":"'[1]87-0-14'!G4440*(1+$E$13)","v":3959.3975}]
[{"$f":"'[1]87-0-14'!B4441","v":"T2135"},{"$f":"'[1]87-0-14'!D4441","v":"TORNILLO HO 21-35"},{"$f":"'[1]87-0-14'!E4441","v":"PROLL"},{"$f":"'[1]87-0-14'!F4441","v":"TORN. HIERRO"},{"$f":"'[1]87-0-14'!G4441*(1+$E$13)","v":4510.5309999999999}]
[{"$f":"'[1]87-0-14'!B4442","v":"T2140"},{"$f":"'[1]87-0-14'!D4442","v":"TORNILLO HO 21-40"},{"$f":"'[1]87-0-14'!E4442","v":"PROLL"},{"$f":"'[1]87-0-14'!F4442","v":"TORN. HIERRO"},{"$f":"'[1]87-0-14'!G4442*(1+$E$13)","v":4553.3109999999997}]
[{"$f":"'[1]87-0-14'!B4443","v":"T2145"},{"$f":"'[1]87-0-14'!D4443","v":"TORNILLO HO 21-45"},{"$f":"'[1]87-0-14'!E4443","v":"PROLL"},{"$f":"'[1]87-0-14'!F4443","v":"TORN. HIERRO"},{"$f":"'[1]87-0-14'!G4443*(1+$E$13)","v":5109.6215000000002}]
[{"$f":"'[1]87-0-14'!B4444","v":"T2150"},{"$f":"'[1]87-0-14'!D4444","v":"TORNILLO HO 21-50"},{"$f":"'[1]87-0-14'!E4444","v":"PROLL"},{"$f":"'[1]87-0-14'!F4444","v":"TORN. HIERRO"},{"$f":"'[1]87-0-14'!G4444*(1+$E$13)","v":5844.3215000000009}]
[{"$f":"'[1]87-0-14'!B4445","v":"T2155"},{"$f":"'[1]87-0-14'!D4445","v":"TORNILLO HO 21-55"},{"$f":"'[1]87-0-14'!E4445","v":"PROLL"},{"$f":"'[1]87-0-14'!F4445","v":"TORN. HIERRO"},{"$f":"'[1]87-0-14'!G4445*(1+$E$13)","v":6427.5865000000003}]
[{"$f":"'[1]87-0-14'!B4446","v":"T2160"},{"$f":"'[1]87-0-14'!D4446","v":"TORNILLO HO 21-60"},{"$f":"'[1]87-0-14'!E4446","v":"PROLL"},{"$f":"'[1]87-0-14'!F4446","v":"TORN. HIERRO"},{"$f":"'[1]87-0-14'!G4446*(1+$E$13)","v":7385.3625000000002}]
[{"$f":"'[1]87-0-14'!B4447","v":"T2165"},{"$f":"'[1]87-0-14'!D4447","v":"TORNILLO HO 21-65"},{"$f":"'[1]87-0-14'!E4447","v":"PROLL"},{"$f":"'[1]87-0-14'!F4447","v":"TORN. HIERRO"},{"$f":"'[1]87-0-14'!G4447*(1+$E$13)","v":7892.7395000000006}]
[{"$f":"'[1]87-0-14'!B4448","v":"T2170"},{"$f":"'[1]87-0-14'!D4448","v":"TORNILLO HO 21-70"},{"$f":"'[1]87-0-14'!E4448","v":"PROLL"},{"$f":"'[1]87-0-14'!F4448","v":"TORN. HIERRO"},{"$f":"'[1]87-0-14'!G4448*(1+$E$13)","v":7218.7995000000001}]
[{"$f":"'[1]87-0-14'!B4449","v":"T2175"},{"$f":"'[1]87-0-14'!D4449","v":"TORNILLO HO 21-75"},{"$f":"'[1]87-0-14'!E4449","v":"PROLL"},{"$f":"'[1]87-0-14'!F4449","v":"TORN. HIERRO"},{"$f":"'[1]87-0-14'!G4449*(1+$E$13)","v":8436.9444999999996}]
[{"$f":"'[1]87-0-14'!B4450","v":"T2180"},{"$f":"'[1]87-0-14'!D4450","v":"TORNILLO HO 21-80"},{"$f":"'[1]87-0-14'!E4450","v":"PROLL"},{"$f":"'[1]87-0-14'!F4450","v":"TORN. HIERRO"},{"$f":"'[1]87-0-14'!G4450*(1+$E$13)","v":9521.6189999999988}]
[{"$f":"'[1]87-0-14'!B4451","v":"T22100"},{"$f":"'[1]87-0-14'!D4451","v":"TORNILLO HO 22-100"},{"$f":"'[1]87-0-14'!E4451","v":"PROLL"},{"$f":"'[1]87-0-14'!F4451","v":"TORN. HIERRO"},{"$f":"'[1]87-0-14'!G4451*(1+$E$13)","v":29148.0445}]
[{"$f":"'[1]87-0-14'!B4452","v":"T2220"},{"$f":"'[1]87-0-14'!D4452","v":"TORNILLO HO 22-20"},{"$f":"'[1]87-0-14'!E4452","v":"PROLL"},{"$f":"'[1]87-0-14'!F4452","v":"TORN. HIERRO"},{"$f":"'[1]87-0-14'!G4452*(1+$E$13)","v":2957.8029999999999}]
[{"$f":"'[1]87-0-14'!B4453","v":"T2225"},{"$f":"'[1]87-0-14'!D4453","v":"TORNILLO HO 22-25"},{"$f":"'[1]87-0-14'!E4453","v":"PROLL"},{"$f":"'[1]87-0-14'!F4453","v":"TORN. HIERRO"},{"$f":"'[1]87-0-14'!G4453*(1+$E$13)","v":3498.2260000000001}]
[{"$f":"'[1]87-0-14'!B4454","v":"T2230"},{"$f":"'[1]87-0-14'!D4454","v":"TORNILLO HO 22-30"},{"$f":"'[1]87-0-14'!E4454","v":"PROLL"},{"$f":"'[1]87-0-14'!F4454","v":"TORN. HIERRO"},{"$f":"'[1]87-0-14'!G4454*(1+$E$13)","v":4159.6575000000003}]
[{"$f":"'[1]87-0-14'!B4455","v":"T2235"},{"$f":"'[1]87-0-14'!D4455","v":"TORNILLO HO 22-35"},{"$f":"'[1]87-0-14'!E4455","v":"PROLL"},{"$f":"'[1]87-0-14'!F4455","v":"TORN. HIERRO"},{"$f":"'[1]87-0-14'!G4455*(1+$E$13)","v":4589.5190000000002}]
[{"$f":"'[1]87-0-14'!B4456","v":"T2240"},{"$f":"'[1]87-0-14'!D4456","v":"TORNILLO HO 22-40"},{"$f":"'[1]87-0-14'!E4456","v":"PROLL"},{"$f":"'[1]87-0-14'!F4456","v":"TORN. HIERRO"},{"$f":"'[1]87-0-14'!G4456*(1+$E$13)","v":4656.4480000000003}]
[{"$f":"'[1]87-0-14'!B4457","v":"T2245"},{"$f":"'[1]87-0-14'!D4457","v":"TORNILLO HO 22-45"},{"$f":"'[1]87-0-14'!E4457","v":"PROLL"},{"$f":"'[1]87-0-14'!F4457","v":"TORN. HIERRO"},{"$f":"'[1]87-0-14'!G4457*(1+$E$13)","v":5242.6424999999999}]
[{"$f":"'[1]87-0-14'!B4458","v":"T2250"},{"$f":"'[1]87-0-14'!D4458","v":"TORNILLO HO 22-50"},{"$f":"'[1]87-0-14'!E4458","v":"PROLL"},{"$f":"'[1]87-0-14'!F4458","v":"TORN. HIERRO"},{"$f":"'[1]87-0-14'!G4458*(1+$E$13)","v":5442.5770000000002}]
[{"$f":"'[1]87-0-14'!B4459","v":"T2255"},{"$f":"'[1]87-0-14'!D4459","v":"TORNILLO HO 22-55"},{"$f":"'[1]87-0-14'!E4459","v":"PROLL"},{"$f":"'[1]87-0-14'!F4459","v":"TORN. HIERRO"},{"$f":"'[1]87-0-14'!G4459*(1+$E$13)","v":6422.0685000000012}]
[{"$f":"'[1]87-0-14'!B4460","v":"T2260"},{"$f":"'[1]87-0-14'!D4460","v":"TORNILLO HO 22-60"},{"$f":"'[1]87-0-14'!E4460","v":"PROLL"},{"$f":"'[1]87-0-14'!F4460","v":"TORN. HIERRO"},{"$f":"'[1]87-0-14'!G4460*(1+$E$13)","v":7037.5425000000005}]
[{"$f":"'[1]87-0-14'!B4461","v":"T2265"},{"$f":"'[1]87-0-14'!D4461","v":"TORNILLO HO 22-65"},{"$f":"'[1]87-0-14'!E4461","v":"PROLL"},{"$f":"'[1]87-0-14'!F4461","v":"TORN. HIERRO"},{"$f":"'[1]87-0-14'!G4461*(1+$E$13)","v":7521.6540000000005}]
[{"$f":"'[1]87-0-14'!B4462","v":"T2270"},{"$f":"'[1]87-0-14'!D4462","v":"TORNILLO HO 22-70"},{"$f":"'[1]87-0-14'!E4462","v":"PROLL"},{"$f":"'[1]87-0-14'!F4462","v":"TORN. HIERRO"},{"$f":"'[1]87-0-14'!G4462*(1+$E$13)","v":8741.2870000000003}]
[{"$f":"'[1]87-0-14'!B4463","v":"T2275"},{"$f":"'[1]87-0-14'!D4463","v":"TORNILLO HO 22-75"},{"$f":"'[1]87-0-14'!E4463","v":"PROLL"},{"$f":"'[1]87-0-14'!F4463","v":"TORN. HIERRO"},{"$f":"'[1]87-0-14'!G4463*(1+$E$13)","v":9421.0859999999993}]
[{"$f":"'[1]87-0-14'!B4464","v":"T2280"},{"$f":"'[1]87-0-14'!D4464","v":"TORNILLO HO 22-80"},{"$f":"'[1]87-0-14'!E4464","v":"PROLL"},{"$f":"'[1]87-0-14'!F4464","v":"TORN. HIERRO"},{"$f":"'[1]87-0-14'!G4464*(1+$E$13)","v":10963.3205}]
[{"$f":"'[1]87-0-14'!B4465","v":"T2285"},{"$f":"'[1]87-0-14'!D4465","v":"TORNILLO HO 22-85"},{"$f":"'[1]87-0-14'!E4465","v":"PROLL"},{"$f":"'[1]87-0-14'!F4465","v":"TORN. HIERRO"},{"$f":"'[1]87-0-14'!G4465*(1+$E$13)","v":14960.104000000001}]
[{"$f":"'[1]87-0-14'!B4466","v":"T2290"},{"$f":"'[1]87-0-14'!D4466","v":"TORNILLO HO 22-90"},{"$f":"'[1]87-0-14'!E4466","v":"PROLL"},{"$f":"'[1]87-0-14'!F4466","v":"TORN. HIERRO"},{"$f":"'[1]87-0-14'!G4466*(1+$E$13)","v":17418.125}]
[{"$f":"'[1]87-0-14'!B4467","v":"T23100"},{"$f":"'[1]87-0-14'!D4467","v":"TORNILLO HO 23-100"},{"$f":"'[1]87-0-14'!E4467","v":"PROLL"},{"$f":"'[1]87-0-14'!F4467","v":"TORN. HIERRO"},{"$f":"'[1]87-0-14'!G4467*(1+$E$13)","v":26524.5455}]
[{"$f":"'[1]87-0-14'!B4468","v":"T2325"},{"$f":"'[1]87-0-14'!D4468","v":"TORNILLO HO 23-25"},{"$f":"'[1]87-0-14'!E4468","v":"PROLL"},{"$f":"'[1]87-0-14'!F4468","v":"TORN. HIERRO"},{"$f":"'[1]87-0-14'!G4468*(1+$E$13)","v":4923.2030000000004}]
[{"$f":"'[1]87-0-14'!B4469","v":"T2330"},{"$f":"'[1]87-0-14'!D4469","v":"TORNILLO HO 23-30"},{"$f":"'[1]87-0-14'!E4469","v":"PROLL"},{"$f":"'[1]87-0-14'!F4469","v":"TORN. HIERRO"},{"$f":"'[1]87-0-14'!G4469*(1+$E$13)","v":6074.1710000000003}]
[{"$f":"'[1]87-0-14'!B4470","v":"T2335"},{"$f":"'[1]87-0-14'!D4470","v":"TORNILLO HO 23-35"},{"$f":"'[1]87-0-14'!E4470","v":"PROLL"},{"$f":"'[1]87-0-14'!F4470","v":"TORN. HIERRO"},{"$f":"'[1]87-0-14'!G4470*(1+$E$13)","v":6512.3715000000002}]
[{"$f":"'[1]87-0-14'!B4471","v":"T2340"},{"$f":"'[1]87-0-14'!D4471","v":"TORNILLO HO 23-40"},{"$f":"'[1]87-0-14'!E4471","v":"PROLL"},{"$f":"'[1]87-0-14'!F4471","v":"TORN. HIERRO"},{"$f":"'[1]87-0-14'!G4471*(1+$E$13)","v":6687.5214999999998}]
[{"$f":"'[1]87-0-14'!B4472","v":"T2345"},{"$f":"'[1]87-0-14'!D4472","v":"TORNILLO HO 23-45"},{"$f":"'[1]87-0-14'!E4472","v":"PROLL"},{"$f":"'[1]87-0-14'!F4472","v":"TORN. HIERRO"},{"$f":"'[1]87-0-14'!G4472*(1+$E$13)","v":7405.0010000000002}]
[{"$f":"'[1]87-0-14'!B4473","v":"T2350"},{"$f":"'[1]87-0-14'!D4473","v":"TORNILLO HO 23-50"},{"$f":"'[1]87-0-14'!E4473","v":"PROLL"},{"$f":"'[1]87-0-14'!F4473","v":"TORN. HIERRO"},{"$f":"'[1]87-0-14'!G4473*(1+$E$13)","v":8162.9045000000006}]
[{"$f":"'[1]87-0-14'!B4474","v":"T2355"},{"$f":"'[1]87-0-14'!D4474","v":"TORNILLO HO 23-55"},{"$f":"'[1]87-0-14'!E4474","v":"PROLL"},{"$f":"'[1]87-0-14'!F4474","v":"TORN. HIERRO"},{"$f":"'[1]87-0-14'!G4474*(1+$E$13)","v":7683.0400000000009}]
[{"$f":"'[1]87-0-14'!B4475","v":"T2360"},{"$f":"'[1]87-0-14'!D4475","v":"TORNILLO HO 23-60"},{"$f":"'[1]87-0-14'!E4475","v":"PROLL"},{"$f":"'[1]87-0-14'!F4475","v":"TORN. HIERRO"},{"$f":"'[1]87-0-14'!G4475*(1+$E$13)","v":9633.5755000000008}]
[{"$f":"'[1]87-0-14'!B4476","v":"T2365"},{"$f":"'[1]87-0-14'!D4476","v":"TORNILLO HO 23-65"},{"$f":"'[1]87-0-14'!E4476","v":"PROLL"},{"$f":"'[1]87-0-14'!F4476","v":"TORN. HIERRO"},{"$f":"'[1]87-0-14'!G4476*(1+$E$13)","v":8487.5365000000002}]
[{"$f":"'[1]87-0-14'!B4477","v":"T2370"},{"$f":"'[1]87-0-14'!D4477","v":"TORNILLO HO 23-70"},{"$f":"'[1]87-0-14'!E4477","v":"PROLL"},{"$f":"'[1]87-0-14'!F4477","v":"TORN. HIERRO"},{"$f":"'[1]87-0-14'!G4477*(1+$E$13)","v":10527.6155}]
[{"$f":"'[1]87-0-14'!B4478","v":"T2375"},{"$f":"'[1]87-0-14'!D4478","v":"TORNILLO HO 23-75"},{"$f":"'[1]87-0-14'!E4478","v":"PROLL"},{"$f":"'[1]87-0-14'!F4478","v":"TORN. HIERRO"},{"$f":"'[1]87-0-14'!G4478*(1+$E$13)","v":11945.3385}]
[{"$f":"'[1]87-0-14'!B4479","v":"T2380"},{"$f":"'[1]87-0-14'!D4479","v":"TORNILLO HO 23-80"},{"$f":"'[1]87-0-14'!E4479","v":"PROLL"},{"$f":"'[1]87-0-14'!F4479","v":"TORN. HIERRO"},{"$f":"'[1]87-0-14'!G4479*(1+$E$13)","v":13205.876}]
[{"$f":"'[1]87-0-14'!B4480","v":"T2385"},{"$f":"'[1]87-0-14'!D4480","v":"TORNILLO HO 23-85"},{"$f":"'[1]87-0-14'!E4480","v":"PROLL"},{"$f":"'[1]87-0-14'!F4480","v":"TORN. HIERRO"},{"$f":"'[1]87-0-14'!G4480*(1+$E$13)","v":16640.893}]
[{"$f":"'[1]87-0-14'!B4481","v":"T2390"},{"$f":"'[1]87-0-14'!D4481","v":"TORNILLO HO 23-90"},{"$f":"'[1]87-0-14'!E4481","v":"PROLL"},{"$f":"'[1]87-0-14'!F4481","v":"TORN. HIERRO"},{"$f":"'[1]87-0-14'!G4481*(1+$E$13)","v":20497.308499999999}]
[{"$f":"'[1]87-0-14'!B4482","v":"TPLG"},{"$f":"'[1]87-0-14'!D4482","v":"TORNILLO P/PICO LORO"},{"$f":"'[1]87-0-14'!E4482","v":"GHERARDI"},{"$f":"'[1]87-0-14'!F4482","v":"TORNILLO"},{"$f":"'[1]87-0-14'!G4482*(1+$E$13)","v":3405.0400000000004}]
[{"$f":"'[1]87-0-14'!B4483","v":"TM7R"},{"$f":"'[1]87-0-14'!D4483","v":"TUBO ESTRIADO MILIME  7mm"},{"$f":"'[1]87-0-14'!E4483","v":"RHEIN"},{"$f":"'[1]87-0-14'!F4483","v":"TUBO"},{"$f":"'[1]87-0-14'!G4483*(1+$E$13)","v":3167.8744999999999}]
[{"$f":"'[1]87-0-14'!B4484","v":"TM8R"},{"$f":"'[1]87-0-14'!D4484","v":"TUBO ESTRIADO MILIME  8mm"},{"$f":"'[1]87-0-14'!E4484","v":"RHEIN"},{"$f":"'[1]87-0-14'!F4484","v":"TUBO"},{"$f":"'[1]87-0-14'!G4484*(1+$E$13)","v":3167.8744999999999}]
[{"$f":"'[1]87-0-14'!B4485","v":"TM9R"},{"$f":"'[1]87-0-14'!D4485","v":"TUBO ESTRIADO MILIME  9mm"},{"$f":"'[1]87-0-14'!E4485","v":"RHEIN"},{"$f":"'[1]87-0-14'!F4485","v":"TUBO"},{"$f":"'[1]87-0-14'!G4485*(1+$E$13)","v":3167.8744999999999}]
[{"$f":"'[1]87-0-14'!B4486","v":"TM10R"},{"$f":"'[1]87-0-14'!D4486","v":"TUBO ESTRIADO MILIME 10mm"},{"$f":"'[1]87-0-14'!E4486","v":"RHEIN"},{"$f":"'[1]87-0-14'!F4486","v":"TUBO"},{"$f":"'[1]87-0-14'!G4486*(1+$E$13)","v":3167.8744999999999}]
[{"$f":"'[1]87-0-14'!B4487","v":"TM11R"},{"$f":"'[1]87-0-14'!D4487","v":"TUBO ESTRIADO MILIME 11mm"},{"$f":"'[1]87-0-14'!E4487","v":"RHEIN"},{"$f":"'[1]87-0-14'!F4487","v":"TUBO"},{"$f":"'[1]87-0-14'!G4487*(1+$E$13)","v":3167.8744999999999}]
[{"$f":"'[1]87-0-14'!B4488","v":"TM12R"},{"$f":"'[1]87-0-14'!D4488","v":"TUBO ESTRIADO MILIME 12mm"},{"$f":"'[1]87-0-14'!E4488","v":"RHEIN"},{"$f":"'[1]87-0-14'!F4488","v":"TUBO"},{"$f":"'[1]87-0-14'!G4488*(1+$E$13)","v":3167.8744999999999}]
[{"$f":"'[1]87-0-14'!B4489","v":"TM13R"},{"$f":"'[1]87-0-14'!D4489","v":"TUBO ESTRIADO MILIME 13mm"},{"$f":"'[1]87-0-14'!E4489","v":"RHEIN"},{"$f":"'[1]87-0-14'!F4489","v":"TUBO"},{"$f":"'[1]87-0-14'!G4489*(1+$E$13)","v":3324.8119999999999}]
[{"$f":"'[1]87-0-14'!B4490","v":"TM14R"},{"$f":"'[1]87-0-14'!D4490","v":"TUBO ESTRIADO MILIME 14mm"},{"$f":"'[1]87-0-14'!E4490","v":"RHEIN"},{"$f":"'[1]87-0-14'!F4490","v":"TUBO"},{"$f":"'[1]87-0-14'!G4490*(1+$E$13)","v":3324.8119999999999}]
[{"$f":"'[1]87-0-14'!B4491","v":"TM15R"},{"$f":"'[1]87-0-14'!D4491","v":"TUBO ESTRIADO MILIME 15mm"},{"$f":"'[1]87-0-14'!E4491","v":"RHEIN"},{"$f":"'[1]87-0-14'!F4491","v":"TUBO"},{"$f":"'[1]87-0-14'!G4491*(1+$E$13)","v":3324.8119999999999}]
[{"$f":"'[1]87-0-14'!B4492","v":"TM16R"},{"$f":"'[1]87-0-14'!D4492","v":"TUBO ESTRIADO MILIME 16mm"},{"$f":"'[1]87-0-14'!E4492","v":"RHEIN"},{"$f":"'[1]87-0-14'!F4492","v":"TUBO"},{"$f":"'[1]87-0-14'!G4492*(1+$E$13)","v":3324.8119999999999}]
[{"$f":"'[1]87-0-14'!B4493","v":"TM17R"},{"$f":"'[1]87-0-14'!D4493","v":"TUBO ESTRIADO MILIME 17mm"},{"$f":"'[1]87-0-14'!E4493","v":"RHEIN"},{"$f":"'[1]87-0-14'!F4493","v":"TUBO"},{"$f":"'[1]87-0-14'!G4493*(1+$E$13)","v":3547.9810000000002}]
[{"$f":"'[1]87-0-14'!B4494","v":"TM18R"},{"$f":"'[1]87-0-14'!D4494","v":"TUBO ESTRIADO MILIME 18mm"},{"$f":"'[1]87-0-14'!E4494","v":"RHEIN"},{"$f":"'[1]87-0-14'!F4494","v":"TUBO"},{"$f":"'[1]87-0-14'!G4494*(1+$E$13)","v":3714.9159999999997}]
[{"$f":"'[1]87-0-14'!B4495","v":"TM19R"},{"$f":"'[1]87-0-14'!D4495","v":"TUBO ESTRIADO MILIME 19mm"},{"$f":"'[1]87-0-14'!E4495","v":"RHEIN"},{"$f":"'[1]87-0-14'!F4495","v":"TUBO"},{"$f":"'[1]87-0-14'!G4495*(1+$E$13)","v":3714.9159999999997}]
[{"$f":"'[1]87-0-14'!B4496","v":"TM20R"},{"$f":"'[1]87-0-14'!D4496","v":"TUBO ESTRIADO MILIME 20mm"},{"$f":"'[1]87-0-14'!E4496","v":"RHEIN"},{"$f":"'[1]87-0-14'!F4496","v":"TUBO"},{"$f":"'[1]87-0-14'!G4496*(1+$E$13)","v":4494.9690000000001}]
[{"$f":"'[1]87-0-14'!B4497","v":"TM21R"},{"$f":"'[1]87-0-14'!D4497","v":"TUBO ESTRIADO MILIME 21mm"},{"$f":"'[1]87-0-14'!E4497","v":"RHEIN"},{"$f":"'[1]87-0-14'!F4497","v":"TUBO"},{"$f":"'[1]87-0-14'!G4497*(1+$E$13)","v":4494.9690000000001}]
[{"$f":"'[1]87-0-14'!B4498","v":"TM22R"},{"$f":"'[1]87-0-14'!D4498","v":"TUBO ESTRIADO MILIME 22mm"},{"$f":"'[1]87-0-14'!E4498","v":"RHEIN"},{"$f":"'[1]87-0-14'!F4498","v":"TUBO"},{"$f":"'[1]87-0-14'!G4498*(1+$E$13)","v":5094.0129999999999}]
[{"$f":"'[1]87-0-14'!B4499","v":"TM23R"},{"$f":"'[1]87-0-14'!D4499","v":"TUBO ESTRIADO MILIME 23mm"},{"$f":"'[1]87-0-14'!E4499","v":"RHEIN"},{"$f":"'[1]87-0-14'!F4499","v":"TUBO"},{"$f":"'[1]87-0-14'!G4499*(1+$E$13)","v":5454.7444999999998}]
[{"$f":"'[1]87-0-14'!B4500","v":"TM24R"},{"$f":"'[1]87-0-14'!D4500","v":"TUBO ESTRIADO MILIME 24mm"},{"$f":"'[1]87-0-14'!E4500","v":"RHEIN"},{"$f":"'[1]87-0-14'!F4500","v":"TUBO"},{"$f":"'[1]87-0-14'!G4500*(1+$E$13)","v":6293.6045000000004}]
[{"$f":"'[1]87-0-14'!B4501","v":"TM25R"},{"$f":"'[1]87-0-14'!D4501","v":"TUBO ESTRIADO MILIME 25mm"},{"$f":"'[1]87-0-14'!E4501","v":"RHEIN"},{"$f":"'[1]87-0-14'!F4501","v":"TUBO"},{"$f":"'[1]87-0-14'!G4501*(1+$E$13)","v":6432.4844999999996}]
[{"$f":"'[1]87-0-14'!B4502","v":"TP38R"},{"$f":"'[1]87-0-14'!D4502","v":"TUBO ESTRIADO PULGA   3/8"},{"$f":"'[1]87-0-14'!E4502","v":"RHEIN"},{"$f":"'[1]87-0-14'!F4502","v":"TUBO"},{"$f":"'[1]87-0-14'!G4502*(1+$E$13)","v":3102.8984999999998}]
[{"$f":"'[1]87-0-14'!B4503","v":"TP516R"},{"$f":"'[1]87-0-14'!D4503","v":"TUBO ESTRIADO PULGA  5/16"},{"$f":"'[1]87-0-14'!E4503","v":"RHEIN"},{"$f":"'[1]87-0-14'!F4503","v":"TUBO"},{"$f":"'[1]87-0-14'!G4503*(1+$E$13)","v":3102.8984999999998}]
[{"$f":"'[1]87-0-14'!B4504","v":"TP716R"},{"$f":"'[1]87-0-14'!D4504","v":"TUBO ESTRIADO PULGA  7/16"},{"$f":"'[1]87-0-14'!E4504","v":"RHEIN"},{"$f":"'[1]87-0-14'!F4504","v":"TUBO"},{"$f":"'[1]87-0-14'!G4504*(1+$E$13)","v":3102.8984999999998}]
[{"$f":"'[1]87-0-14'!B4505","v":"TP916R"},{"$f":"'[1]87-0-14'!D4505","v":"TUBO ESTRIADO PULGA  9/16"},{"$f":"'[1]87-0-14'!E4505","v":"RHEIN"},{"$f":"'[1]87-0-14'!F4505","v":"TUBO"},{"$f":"'[1]87-0-14'!G4505*(1+$E$13)","v":3165.6890000000003}]
[{"$f":"'[1]87-0-14'!B4506","v":"TP1116R"},{"$f":"'[1]87-0-14'!D4506","v":"TUBO ESTRIADO PULGA 11/16"},{"$f":"'[1]87-0-14'!E4506","v":"RHEIN"},{"$f":"'[1]87-0-14'!F4506","v":"TUBO"},{"$f":"'[1]87-0-14'!G4506*(1+$E$13)","v":3258.0535}]
[{"$f":"'[1]87-0-14'!B4507","v":"TP1316R"},{"$f":"'[1]87-0-14'!D4507","v":"TUBO ESTRIADO PULGA 13/16"},{"$f":"'[1]87-0-14'!E4507","v":"RHEIN"},{"$f":"'[1]87-0-14'!F4507","v":"TUBO"},{"$f":"'[1]87-0-14'!G4507*(1+$E$13)","v":4494.9690000000001}]
[{"$f":"'[1]87-0-14'!B4508","v":"TP1516R"},{"$f":"'[1]87-0-14'!D4508","v":"TUBO ESTRIADO PULGA 15/16"},{"$f":"'[1]87-0-14'!E4508","v":"RHEIN"},{"$f":"'[1]87-0-14'!F4508","v":"TUBO"},{"$f":"'[1]87-0-14'!G4508*(1+$E$13)","v":5536.1815000000006}]
[{"$f":"'[1]87-0-14'!B4509","v":"TP12R"},{"$f":"'[1]87-0-14'!D4509","v":"TUBO ESTRIADO PULGAD  1/2"},{"$f":"'[1]87-0-14'!E4509","v":"RHEIN"},{"$f":"'[1]87-0-14'!F4509","v":"TUBO"},{"$f":"'[1]87-0-14'!G4509*(1+$E$13)","v":3102.8984999999998}]
[{"$f":"'[1]87-0-14'!B4510","v":"TP58R"},{"$f":"'[1]87-0-14'!D4510","v":"TUBO ESTRIADO PULGAD  5/8"},{"$f":"'[1]87-0-14'!E4510","v":"RHEIN"},{"$f":"'[1]87-0-14'!F4510","v":"TUBO"},{"$f":"'[1]87-0-14'!G4510*(1+$E$13)","v":3357.0210000000002}]
[{"$f":"'[1]87-0-14'!B4511","v":"TP78R"},{"$f":"'[1]87-0-14'!D4511","v":"TUBO ESTRIADO PULGAD  7/8"},{"$f":"'[1]87-0-14'!E4511","v":"RHEIN"},{"$f":"'[1]87-0-14'!F4511","v":"TUBO"},{"$f":"'[1]87-0-14'!G4511*(1+$E$13)","v":5094.0129999999999}]
[{"$f":"'[1]87-0-14'!B4512","v":"TP1R"},{"$f":"'[1]87-0-14'!D4512","v":"TUBO ESTRIADO PULGADA  1\""},{"$f":"'[1]87-0-14'!E4512","v":"RHEIN"},{"$f":"'[1]87-0-14'!F4512","v":"TUBO"},{"$f":"'[1]87-0-14'!G4512*(1+$E$13)","v":6622.4680000000008}]
[{"$f":"'[1]87-0-14'!B4513","v":"TP34R"},{"$f":"'[1]87-0-14'!D4513","v":"TUBO ESTRIADO PULGADA 3/4"},{"$f":"'[1]87-0-14'!E4513","v":"RHEIN"},{"$f":"'[1]87-0-14'!F4513","v":"TUBO"},{"$f":"'[1]87-0-14'!G4513*(1+$E$13)","v":3613.6545000000001}]
[{"$f":"'[1]87-0-14'!B4514","v":"TMV14M"},{"$f":"'[1]87-0-14'!D4514","v":"TUBO MAGNETIC C/VAST  1/4"},{"$f":"'[1]87-0-14'!E4514","v":"METZ"},{"$f":"'[1]87-0-14'!F4514","v":"TUBO"},{"$f":"'[1]87-0-14'!G4514*(1+$E$13)","v":3741.3590000000004}]
[{"$f":"'[1]87-0-14'!B4515","v":"TMV38M"},{"$f":"'[1]87-0-14'!D4515","v":"TUBO MAGNETIC C/VAST  3/8"},{"$f":"'[1]87-0-14'!E4515","v":"METZ"},{"$f":"'[1]87-0-14'!F4515","v":"TUBO"},{"$f":"'[1]87-0-14'!G4515*(1+$E$13)","v":4139.9724999999999}]
[{"$f":"'[1]87-0-14'!B4516","v":"TMV516M"},{"$f":"'[1]87-0-14'!D4516","v":"TUBO MAGNETIC C/VAST 5/16"},{"$f":"'[1]87-0-14'!E4516","v":"METZ"},{"$f":"'[1]87-0-14'!F4516","v":"TUBO"},{"$f":"'[1]87-0-14'!G4516*(1+$E$13)","v":3998.6125000000002}]
[{"$f":"'[1]87-0-14'!B4517","v":"TMV716M"},{"$f":"'[1]87-0-14'!D4517","v":"TUBO MAGNETIC C/VAST 7/16"},{"$f":"'[1]87-0-14'!E4517","v":"METZ"},{"$f":"'[1]87-0-14'!F4517","v":"TUBO"},{"$f":"'[1]87-0-14'!G4517*(1+$E$13)","v":4967.192}]
[{"$f":"'[1]87-0-14'!B4518","v":"TC12A"},{"$f":"'[1]87-0-14'!D4518","v":"TUERCA CONEXION  1/2"},{"$f":"'[1]87-0-14'!E4518","v":"ALEX"},{"$f":"'[1]87-0-14'!F4518","v":"TUERCA CONEXION"},{"$f":"'[1]87-0-14'!G4518*(1+$E$13)","v":3127.3420000000001}]
[{"$f":"'[1]87-0-14'!B4519","v":"TC14A"},{"$f":"'[1]87-0-14'!D4519","v":"TUERCA CONEXION  1/4"},{"$f":"'[1]87-0-14'!E4519","v":"ALEX"},{"$f":"'[1]87-0-14'!F4519","v":"TUERCA CONEXION"},{"$f":"'[1]87-0-14'!G4519*(1+$E$13)","v":1306.9755}]
[{"$f":"'[1]87-0-14'!B4520","v":"TC38A"},{"$f":"'[1]87-0-14'!D4520","v":"TUERCA CONEXION  3/8"},{"$f":"'[1]87-0-14'!E4520","v":"ALEX"},{"$f":"'[1]87-0-14'!F4520","v":"TUERCA CONEXION"},{"$f":"'[1]87-0-14'!G4520*(1+$E$13)","v":1585.5105000000001}]
[{"$f":"'[1]87-0-14'!B4521","v":"TC516A"},{"$f":"'[1]87-0-14'!D4521","v":"TUERCA CONEXION 5/16"},{"$f":"'[1]87-0-14'!E4521","v":"ALEX"},{"$f":"'[1]87-0-14'!F4521","v":"TUERCA CONEXION"},{"$f":"'[1]87-0-14'!G4521*(1+$E$13)","v":3272.67}]
[{"$f":"'[1]87-0-14'!B4522","v":"TE1P"},{"$f":"'[1]87-0-14'!D4522","v":"TUERCA HEXAG. 1\""},{"$f":"'[1]87-0-14'!E4522","v":"PROLL"},{"$f":"'[1]87-0-14'!F4522","v":"TUERCA HEXAGONAL"},{"$f":"'[1]87-0-14'!G4522*(1+$E$13)","v":10307.267500000002}]
[{"$f":"'[1]87-0-14'!B4523","v":"TE12P"},{"$f":"'[1]87-0-14'!D4523","v":"TUERCA HEXAG. 1/2\""},{"$f":"'[1]87-0-14'!E4523","v":"PROLL"},{"$f":"'[1]87-0-14'!F4523","v":"TUERCA HEXAGONAL"},{"$f":"'[1]87-0-14'!G4523*(1+$E$13)","v":8368.2950000000001}]
[{"$f":"'[1]87-0-14'!B4524","v":"TE14P"},{"$f":"'[1]87-0-14'!D4524","v":"TUERCA HEXAG. 1/4\""},{"$f":"'[1]87-0-14'!E4524","v":"PROLL"},{"$f":"'[1]87-0-14'!F4524","v":"TUERCA HEXAGONAL"},{"$f":"'[1]87-0-14'!G4524*(1+$E$13)","v":9211.0300000000007}]
[{"$f":"'[1]87-0-14'!B4525","v":"TE18P"},{"$f":"'[1]87-0-14'!D4525","v":"TUERCA HEXAG. 1/8\""},{"$f":"'[1]87-0-14'!E4525","v":"PROLL"},{"$f":"'[1]87-0-14'!F4525","v":"TUERCA HEXAGONAL"},{"$f":"'[1]87-0-14'!G4525*(1+$E$13)","v":3314.5355}]
[{"$f":"'[1]87-0-14'!B4526","v":"TE316P"},{"$f":"'[1]87-0-14'!D4526","v":"TUERCA HEXAG. 3/16\""},{"$f":"'[1]87-0-14'!E4526","v":"PROLL"},{"$f":"'[1]87-0-14'!F4526","v":"TUERCA HEXAGONAL"},{"$f":"'[1]87-0-14'!G4526*(1+$E$13)","v":9340.5015000000003}]
[{"$f":"'[1]87-0-14'!B4527","v":"TE34P"},{"$f":"'[1]87-0-14'!D4527","v":"TUERCA HEXAG. 3/4\""},{"$f":"'[1]87-0-14'!E4527","v":"PROLL"},{"$f":"'[1]87-0-14'!F4527","v":"TUERCA HEXAGONAL"},{"$f":"'[1]87-0-14'!G4527*(1+$E$13)","v":8359.9094999999998}]
[{"$f":"'[1]87-0-14'!B4528","v":"TE38P"},{"$f":"'[1]87-0-14'!D4528","v":"TUERCA HEXAG. 3/8\""},{"$f":"'[1]87-0-14'!E4528","v":"PROLL"},{"$f":"'[1]87-0-14'!F4528","v":"TUERCA HEXAGONAL"},{"$f":"'[1]87-0-14'!G4528*(1+$E$13)","v":9817.1265000000003}]
[{"$f":"'[1]87-0-14'!B4529","v":"TE516P"},{"$f":"'[1]87-0-14'!D4529","v":"TUERCA HEXAG. 5/16\""},{"$f":"'[1]87-0-14'!E4529","v":"PROLL"},{"$f":"'[1]87-0-14'!F4529","v":"TUERCA HEXAGONAL"},{"$f":"'[1]87-0-14'!G4529*(1+$E$13)","v":8857.2270000000008}]
[{"$f":"'[1]87-0-14'!B4530","v":"TE532P"},{"$f":"'[1]87-0-14'!D4530","v":"TUERCA HEXAG. 5/32\""},{"$f":"'[1]87-0-14'!E4530","v":"PROLL"},{"$f":"'[1]87-0-14'!F4530","v":"TUERCA HEXAGONAL"},{"$f":"'[1]87-0-14'!G4530*(1+$E$13)","v":5392.5585000000001}]
[{"$f":"'[1]87-0-14'!B4531","v":"TE58P"},{"$f":"'[1]87-0-14'!D4531","v":"TUERCA HEXAG. 5/8\""},{"$f":"'[1]87-0-14'!E4531","v":"PROLL"},{"$f":"'[1]87-0-14'!F4531","v":"TUERCA HEXAGONAL"},{"$f":"'[1]87-0-14'!G4531*(1+$E$13)","v":10519.1525}]
[{"$f":"'[1]87-0-14'!B4532","v":"TE716P"},{"$f":"'[1]87-0-14'!D4532","v":"TUERCA HEXAG. 7/16\""},{"$f":"'[1]87-0-14'!E4532","v":"PROLL"},{"$f":"'[1]87-0-14'!F4532","v":"TUERCA HEXAGONAL"},{"$f":"'[1]87-0-14'!G4532*(1+$E$13)","v":9978.652}]
[{"$f":"'[1]87-0-14'!B4533","v":"TE78P"},{"$f":"'[1]87-0-14'!D4533","v":"TUERCA HEXAG. 7/8\""},{"$f":"'[1]87-0-14'!E4533","v":"PROLL"},{"$f":"'[1]87-0-14'!F4533","v":"TUERCA HEXAGONAL"},{"$f":"'[1]87-0-14'!G4533*(1+$E$13)","v":13965.468999999999}]
[{"$f":"'[1]87-0-14'!B4534","v":"TE916P"},{"$f":"'[1]87-0-14'!D4534","v":"TUERCA HEXAG. 9/16\""},{"$f":"'[1]87-0-14'!E4534","v":"PROLL"},{"$f":"'[1]87-0-14'!F4534","v":"TUERCA HEXAGONAL"},{"$f":"'[1]87-0-14'!G4534*(1+$E$13)","v":7979.3689999999997}]
[{"$f":"'[1]87-0-14'!B4535","v":"VPRC112D"},{"$f":"'[1]87-0-14'!D4535","v":"VA PL RETE CAN 1\"1/2"},{"$f":"'[1]87-0-14'!E4535","v":"DUKE"},{"$f":"'[1]87-0-14'!F4535","v":"VALVULA PLASTICA"},{"$f":"'[1]87-0-14'!G4535*(1+$E$13)","v":10988.012000000001}]
[{"$f":"'[1]87-0-14'!B4536","v":"VPRC114D"},{"$f":"'[1]87-0-14'!D4536","v":"VA PL RETE CAN 1\"1/4"},{"$f":"'[1]87-0-14'!E4536","v":"DUKE"},{"$f":"'[1]87-0-14'!F4536","v":"VALVULA PLASTICA"},{"$f":"'[1]87-0-14'!G4536*(1+$E$13)","v":17889.588500000002}]
[{"$f":"'[1]87-0-14'!B4537","v":"VPRC34D"},{"$f":"'[1]87-0-14'!D4537","v":"VA PL RETEN CANA 3/4"},{"$f":"'[1]87-0-14'!E4537","v":"DUKE"},{"$f":"'[1]87-0-14'!F4537","v":"VALVULA PLASTICA"},{"$f":"'[1]87-0-14'!G4537*(1+$E$13)","v":6252.5914999999995}]
[{"$f":"'[1]87-0-14'!B4538","v":"VPRC1D"},{"$f":"'[1]87-0-14'!D4538","v":"VA PL RETEN CANAS 1\""},{"$f":"'[1]87-0-14'!E4538","v":"DUKE"},{"$f":"'[1]87-0-14'!F4538","v":"VALVULA PLASTICA"},{"$f":"'[1]87-0-14'!G4538*(1+$E$13)","v":7737.0574999999999}]
[{"$f":"'[1]87-0-14'!B4539","v":"VPRC2D"},{"$f":"'[1]87-0-14'!D4539","v":"VA PL RETEN CANAS 2\""},{"$f":"'[1]87-0-14'!E4539","v":"DUKE"},{"$f":"'[1]87-0-14'!F4539","v":"VALVULA PLASTICA"},{"$f":"'[1]87-0-14'!G4539*(1+$E$13)","v":24853.258000000002}]
[{"$f":"'[1]87-0-14'!B4540","v":"VML112D"},{"$f":"'[1]87-0-14'!D4540","v":"VAL META M/LAR 1\"1/2"},{"$f":"'[1]87-0-14'!E4540","v":"DUKE."},{"$f":"'[1]87-0-14'!F4540","v":"VALVULA METAL"},{"$f":"'[1]87-0-14'!G4540*(1+$E$13)","v":73878.332000000009}]
[{"$f":"'[1]87-0-14'!B4541","v":"VML114D"},{"$f":"'[1]87-0-14'!D4541","v":"VAL META M/LAR 1\"1/4"},{"$f":"'[1]87-0-14'!E4541","v":"DUKE."},{"$f":"'[1]87-0-14'!F4541","v":"VALVULA METAL"},{"$f":"'[1]87-0-14'!G4541*(1+$E$13)","v":55446.863499999999}]
[{"$f":"'[1]87-0-14'!B4542","v":"VMR112D"},{"$f":"'[1]87-0-14'!D4542","v":"VAL META RETEN 1 1/2"},{"$f":"'[1]87-0-14'!E4542","v":"DUKE."},{"$f":"'[1]87-0-14'!F4542","v":"VALVULA METAL"},{"$f":"'[1]87-0-14'!G4542*(1+$E$13)","v":52052.053500000002}]
[{"$f":"'[1]87-0-14'!B4543","v":"VMR114D"},{"$f":"'[1]87-0-14'!D4543","v":"VAL META RETEN 1 1/4"},{"$f":"'[1]87-0-14'!E4543","v":"DUKE."},{"$f":"'[1]87-0-14'!F4543","v":"VALVULA METAL"},{"$f":"'[1]87-0-14'!G4543*(1+$E$13)","v":36892.557500000003}]
[{"$f":"'[1]87-0-14'!B4544","v":"VMR212D"},{"$f":"'[1]87-0-14'!D4544","v":"VAL META RETEN 2 1/2"},{"$f":"'[1]87-0-14'!E4544","v":"DUKE."},{"$f":"'[1]87-0-14'!F4544","v":"VALVULA METAL"},{"$f":"'[1]87-0-14'!G4544*(1+$E$13)","v":191217.1605}]
[{"$f":"'[1]87-0-14'!B4545","v":"VML1D"},{"$f":"'[1]87-0-14'!D4545","v":"VAL METAL M/LARGA 1\""},{"$f":"'[1]87-0-14'!E4545","v":"DUKE."},{"$f":"'[1]87-0-14'!F4545","v":"VALVULA METAL"},{"$f":"'[1]87-0-14'!G4545*(1+$E$13)","v":31123.906999999999}]
[{"$f":"'[1]87-0-14'!B4546","v":"VML2D"},{"$f":"'[1]87-0-14'!D4546","v":"VAL METAL M/LARGA 2\""},{"$f":"'[1]87-0-14'!E4546","v":"DUKE."},{"$f":"'[1]87-0-14'!F4546","v":"VALVULA METAL"},{"$f":"'[1]87-0-14'!G4546*(1+$E$13)","v":118828.177}]
[{"$f":"'[1]87-0-14'!B4547","v":"VMR34D"},{"$f":"'[1]87-0-14'!D4547","v":"VAL METAL RETENC 3/4"},{"$f":"'[1]87-0-14'!E4547","v":"DUKE."},{"$f":"'[1]87-0-14'!F4547","v":"VALVULA METAL"},{"$f":"'[1]87-0-14'!G4547*(1+$E$13)","v":18379.202499999999}]
[{"$f":"'[1]87-0-14'!B4548","v":"VMR1D"},{"$f":"'[1]87-0-14'!D4548","v":"VAL METAL RETENCI 1\""},{"$f":"'[1]87-0-14'!E4548","v":"DUKE."},{"$f":"'[1]87-0-14'!F4548","v":"VALVULA METAL"},{"$f":"'[1]87-0-14'!G4548*(1+$E$13)","v":26160.1715}]
[{"$f":"'[1]87-0-14'!B4549","v":"VMR2D"},{"$f":"'[1]87-0-14'!D4549","v":"VAL METAL RETENCI 2\""},{"$f":"'[1]87-0-14'!E4549","v":"DUKE."},{"$f":"'[1]87-0-14'!F4549","v":"VALVULA METAL"},{"$f":"'[1]87-0-14'!G4549*(1+$E$13)","v":82371.03}]
[{"$f":"'[1]87-0-14'!B4550","v":"VB12L"},{"$f":"'[1]87-0-14'!D4550","v":"VALVULA BRONCE M/LARG 1/2"},{"$f":"'[1]87-0-14'!E4550","v":"LATYN"},{"$f":"'[1]87-0-14'!F4550","v":"VALVULA BRONCE"},{"$f":"'[1]87-0-14'!G4550*(1+$E$13)","v":9018.0704999999998}]
[{"$f":"'[1]87-0-14'!B4551","v":"VB34L"},{"$f":"'[1]87-0-14'!D4551","v":"VALVULA BRONCE M/LARG 3/4"},{"$f":"'[1]87-0-14'!E4551","v":"LATYN"},{"$f":"'[1]87-0-14'!F4551","v":"VALVULA BRONCE"},{"$f":"'[1]87-0-14'!G4551*(1+$E$13)","v":13063.167500000001}]
[{"$f":"'[1]87-0-14'!B4552","v":"VM12L"},{"$f":"'[1]87-0-14'!D4552","v":"VALVULA METAL M/LARGA 1/2"},{"$f":"'[1]87-0-14'!E4552","v":"LATYN"},{"$f":"'[1]87-0-14'!F4552","v":"VALVULA METAL"},{"$f":"'[1]87-0-14'!G4552*(1+$E$13)","v":5495.5095000000001}]
[{"$f":"'[1]87-0-14'!B4553","v":"VM34L"},{"$f":"'[1]87-0-14'!D4553","v":"VALVULA METAL M/LARGA 3/4"},{"$f":"'[1]87-0-14'!E4553","v":"LATYN"},{"$f":"'[1]87-0-14'!F4553","v":"VALVULA METAL"},{"$f":"'[1]87-0-14'!G4553*(1+$E$13)","v":7544.4234999999999}]
[{"$f":"'[1]87-0-14'!B4554","v":"VPR1D"},{"$f":"'[1]87-0-14'!D4554","v":"VALVULA PLAS RETENCION 1\""},{"$f":"'[1]87-0-14'!E4554","v":"DUKE"},{"$f":"'[1]87-0-14'!F4554","v":"VALVULA PLASTICA"},{"$f":"'[1]87-0-14'!G4554*(1+$E$13)","v":6824.8515000000007}]
[{"$f":"'[1]87-0-14'!B4555","v":"VP112D"},{"$f":"'[1]87-0-14'!D4555","v":"VALVULA PLASTI 1 1/2"},{"$f":"'[1]87-0-14'!E4555","v":"DUKE"},{"$f":"'[1]87-0-14'!F4555","v":"VALVULA PLASTICA"},{"$f":"'[1]87-0-14'!G4555*(1+$E$13)","v":20687.7415}]
[{"$f":"'[1]87-0-14'!B4556","v":"VP114D"},{"$f":"'[1]87-0-14'!D4556","v":"VALVULA PLASTI 1 1/4"},{"$f":"'[1]87-0-14'!E4556","v":"DUKE"},{"$f":"'[1]87-0-14'!F4556","v":"VALVULA PLASTICA"},{"$f":"'[1]87-0-14'!G4556*(1+$E$13)","v":16279.370999999999}]
[{"$f":"'[1]87-0-14'!B4557","v":"VP1D"},{"$f":"'[1]87-0-14'!D4557","v":"VALVULA PLASTICA  1\""},{"$f":"'[1]87-0-14'!E4557","v":"DUKE"},{"$f":"'[1]87-0-14'!F4557","v":"VALVULA PLASTICA"},{"$f":"'[1]87-0-14'!G4557*(1+$E$13)","v":6952.1685000000007}]
[{"$f":"'[1]87-0-14'!B4558","v":"VP2D"},{"$f":"'[1]87-0-14'!D4558","v":"VALVULA PLASTICA  2\""},{"$f":"'[1]87-0-14'!E4558","v":"DUKE"},{"$f":"'[1]87-0-14'!F4558","v":"VALVULA PLASTICA"},{"$f":"'[1]87-0-14'!G4558*(1+$E$13)","v":26242.445500000002}]
[{"$f":"'[1]87-0-14'!B4559","v":"VP12D"},{"$f":"'[1]87-0-14'!D4559","v":"VALVULA PLASTICA 1/2"},{"$f":"'[1]87-0-14'!E4559","v":"DUKE"},{"$f":"'[1]87-0-14'!F4559","v":"VALVULA PLASTICA"},{"$f":"'[1]87-0-14'!G4559*(1+$E$13)","v":3664.944}]
[{"$f":"'[1]87-0-14'!B4560","v":"VP34D"},{"$f":"'[1]87-0-14'!D4560","v":"VALVULA PLASTICA 3/4"},{"$f":"'[1]87-0-14'!E4560","v":"DUKE"},{"$f":"'[1]87-0-14'!F4560","v":"VALVULA PLASTICA"},{"$f":"'[1]87-0-14'!G4560*(1+$E$13)","v":4607.2820000000002}]
[{"$f":"'[1]87-0-14'!B4561","v":"VRZ1F"},{"$f":"'[1]87-0-14'!D4561","v":"VARI ROS ZINCAD 1\""},{"$f":"'[1]87-0-14'!E4561","v":"FATAN"},{"$f":"'[1]87-0-14'!F4561","v":"VARILLA ROSCADA"},{"$f":"'[1]87-0-14'!G4561*(1+$E$13)","v":23175.692999999999}]
[{"$f":"'[1]87-0-14'!B4562","v":"VRZ12F"},{"$f":"'[1]87-0-14'!D4562","v":"VARI ROS ZINCAD 1/2"},{"$f":"'[1]87-0-14'!E4562","v":"FATAN"},{"$f":"'[1]87-0-14'!F4562","v":"VARILLA ROSCADA"},{"$f":"'[1]87-0-14'!G4562*(1+$E$13)","v":4443.0129999999999}]
[{"$f":"'[1]87-0-14'!B4563","v":"VRZ14F"},{"$f":"'[1]87-0-14'!D4563","v":"VARI ROS ZINCAD 1/4"},{"$f":"'[1]87-0-14'!E4563","v":"FATAN"},{"$f":"'[1]87-0-14'!F4563","v":"VARILLA ROSCADA"},{"$f":"'[1]87-0-14'!G4563*(1+$E$13)","v":1105.367}]
[{"$f":"'[1]87-0-14'!B4564","v":"VRZ18F"},{"$f":"'[1]87-0-14'!D4564","v":"VARI ROS ZINCAD 1/8"},{"$f":"'[1]87-0-14'!E4564","v":"FATAN"},{"$f":"'[1]87-0-14'!F4564","v":"VARILLA ROSCADA"},{"$f":"'[1]87-0-14'!G4564*(1+$E$13)","v":827.09550000000002}]
[{"$f":"'[1]87-0-14'!B4565","v":"VRZ316F"},{"$f":"'[1]87-0-14'!D4565","v":"VARI ROS ZINCAD 3/16"},{"$f":"'[1]87-0-14'!E4565","v":"FATAN"},{"$f":"'[1]87-0-14'!F4565","v":"VARILLA ROSCADA"},{"$f":"'[1]87-0-14'!G4565*(1+$E$13)","v":1034.7335}]
[{"$f":"'[1]87-0-14'!B4566","v":"VRZ34F"},{"$f":"'[1]87-0-14'!D4566","v":"VARI ROS ZINCAD 3/4"},{"$f":"'[1]87-0-14'!E4566","v":"FATAN"},{"$f":"'[1]87-0-14'!F4566","v":"VARILLA ROSCADA"},{"$f":"'[1]87-0-14'!G4566*(1+$E$13)","v":10442.846}]
[{"$f":"'[1]87-0-14'!B4567","v":"VRZ38F"},{"$f":"'[1]87-0-14'!D4567","v":"VARI ROS ZINCAD 3/8"},{"$f":"'[1]87-0-14'!E4567","v":"FATAN"},{"$f":"'[1]87-0-14'!F4567","v":"VARILLA ROSCADA"},{"$f":"'[1]87-0-14'!G4567*(1+$E$13)","v":2459.7260000000001}]
[{"$f":"'[1]87-0-14'!B4568","v":"VRZ516F"},{"$f":"'[1]87-0-14'!D4568","v":"VARI ROS ZINCAD 5/16"},{"$f":"'[1]87-0-14'!E4568","v":"FATAN"},{"$f":"'[1]87-0-14'!F4568","v":"VARILLA ROSCADA"},{"$f":"'[1]87-0-14'!G4568*(1+$E$13)","v":1742.0605000000003}]
[{"$f":"'[1]87-0-14'!B4569","v":"VRZ532F"},{"$f":"'[1]87-0-14'!D4569","v":"VARI ROS ZINCAD 5/32"},{"$f":"'[1]87-0-14'!E4569","v":"FATAN"},{"$f":"'[1]87-0-14'!F4569","v":"VARILLA ROSCADA"},{"$f":"'[1]87-0-14'!G4569*(1+$E$13)","v":940.8035000000001}]
[{"$f":"'[1]87-0-14'!B4570","v":"VRZ58F"},{"$f":"'[1]87-0-14'!D4570","v":"VARI ROS ZINCAD 5/8"},{"$f":"'[1]87-0-14'!E4570","v":"FATAN"},{"$f":"'[1]87-0-14'!F4570","v":"VARILLA ROSCADA"},{"$f":"'[1]87-0-14'!G4570*(1+$E$13)","v":7156.8925000000008}]
[{"$f":"'[1]87-0-14'!B4571","v":"VRZ716F"},{"$f":"'[1]87-0-14'!D4571","v":"VARI ROS ZINCAD 7/16"},{"$f":"'[1]87-0-14'!E4571","v":"FATAN"},{"$f":"'[1]87-0-14'!F4571","v":"VARILLA ROSCADA"},{"$f":"'[1]87-0-14'!G4571*(1+$E$13)","v":3500.4735000000001}]
[{"$f":"'[1]87-0-14'!B4572","v":"VRZ78F"},{"$f":"'[1]87-0-14'!D4572","v":"VARI ROS ZINCAD 7/8"},{"$f":"'[1]87-0-14'!E4572","v":"FATAN"},{"$f":"'[1]87-0-14'!F4572","v":"VARILLA ROSCADA"},{"$f":"'[1]87-0-14'!G4572*(1+$E$13)","v":17511.001}]
[{"$f":"'[1]87-0-14'!B4573","v":"VRZ916F"},{"$f":"'[1]87-0-14'!D4573","v":"VARI ROS ZINCAD 9/16"},{"$f":"'[1]87-0-14'!E4573","v":"FATAN"},{"$f":"'[1]87-0-14'!F4573","v":"VARILLA ROSCADA"},{"$f":"'[1]87-0-14'!G4573*(1+$E$13)","v":5685.3690000000006}]
[{"$f":"'[1]87-0-14'!B4574","v":"VCT"},{"$f":"'[1]87-0-14'!D4574","v":"VARILLA CHATA PLASTIFICAD"},{"$f":"'[1]87-0-14'!E4574","v":"TENSIL"},{"$f":"'[1]87-0-14'!F4574","v":"VARILLA CHATA"},{"$f":"'[1]87-0-14'!G4574*(1+$E$13)","v":784.84250000000009}]
[{"$f":"'[1]87-0-14'!B4575","v":"VR1F"},{"$f":"'[1]87-0-14'!D4575","v":"VARILLA ROSCADA 1\""},{"$f":"'[1]87-0-14'!E4575","v":"FATAN"},{"$f":"'[1]87-0-14'!F4575","v":"VARILLA ROSCADA"},{"$f":"'[1]87-0-14'!G4575*(1+$E$13)","v":19987.963}]
[{"$f":"'[1]87-0-14'!B4576","v":"VR12F"},{"$f":"'[1]87-0-14'!D4576","v":"VARILLA ROSCADA 1/2"},{"$f":"'[1]87-0-14'!E4576","v":"FATAN"},{"$f":"'[1]87-0-14'!F4576","v":"VARILLA ROSCADA"},{"$f":"'[1]87-0-14'!G4576*(1+$E$13)","v":3745.1565000000001}]
[{"$f":"'[1]87-0-14'!B4577","v":"VR14F"},{"$f":"'[1]87-0-14'!D4577","v":"VARILLA ROSCADA 1/4"},{"$f":"'[1]87-0-14'!E4577","v":"FATAN"},{"$f":"'[1]87-0-14'!F4577","v":"VARILLA ROSCADA"},{"$f":"'[1]87-0-14'!G4577*(1+$E$13)","v":933.92150000000004}]
[{"$f":"'[1]87-0-14'!B4578","v":"VR18F"},{"$f":"'[1]87-0-14'!D4578","v":"VARILLA ROSCADA 1/8"},{"$f":"'[1]87-0-14'!E4578","v":"FATAN"},{"$f":"'[1]87-0-14'!F4578","v":"VARILLA ROSCADA"},{"$f":"'[1]87-0-14'!G4578*(1+$E$13)","v":680.63600000000008}]
[{"$f":"'[1]87-0-14'!B4579","v":"VR316F"},{"$f":"'[1]87-0-14'!D4579","v":"VARILLA ROSCADA 3/16"},{"$f":"'[1]87-0-14'!E4579","v":"FATAN"},{"$f":"'[1]87-0-14'!F4579","v":"VARILLA ROSCADA"},{"$f":"'[1]87-0-14'!G4579*(1+$E$13)","v":806.41849999999999}]
[{"$f":"'[1]87-0-14'!B4580","v":"VR34F"},{"$f":"'[1]87-0-14'!D4580","v":"VARILLA ROSCADA 3/4"},{"$f":"'[1]87-0-14'!E4580","v":"FATAN"},{"$f":"'[1]87-0-14'!F4580","v":"VARILLA ROSCADA"},{"$f":"'[1]87-0-14'!G4580*(1+$E$13)","v":8804.1859999999997}]
[{"$f":"'[1]87-0-14'!B4581","v":"VR38F"},{"$f":"'[1]87-0-14'!D4581","v":"VARILLA ROSCADA 3/8"},{"$f":"'[1]87-0-14'!E4581","v":"FATAN"},{"$f":"'[1]87-0-14'!F4581","v":"VARILLA ROSCADA"},{"$f":"'[1]87-0-14'!G4581*(1+$E$13)","v":2072.8924999999999}]
[{"$f":"'[1]87-0-14'!B4582","v":"VR516F"},{"$f":"'[1]87-0-14'!D4582","v":"VARILLA ROSCADA 5/16"},{"$f":"'[1]87-0-14'!E4582","v":"FATAN"},{"$f":"'[1]87-0-14'!F4582","v":"VARILLA ROSCADA"},{"$f":"'[1]87-0-14'!G4582*(1+$E$13)","v":1473.2595000000001}]
[{"$f":"'[1]87-0-14'!B4583","v":"VR532F"},{"$f":"'[1]87-0-14'!D4583","v":"VARILLA ROSCADA 5/32"},{"$f":"'[1]87-0-14'!E4583","v":"FATAN"},{"$f":"'[1]87-0-14'!F4583","v":"VARILLA ROSCADA"},{"$f":"'[1]87-0-14'!G4583*(1+$E$13)","v":716.81299999999999}]
[{"$f":"'[1]87-0-14'!B4584","v":"VR58F"},{"$f":"'[1]87-0-14'!D4584","v":"VARILLA ROSCADA 5/8"},{"$f":"'[1]87-0-14'!E4584","v":"FATAN"},{"$f":"'[1]87-0-14'!F4584","v":"VARILLA ROSCADA"},{"$f":"'[1]87-0-14'!G4584*(1+$E$13)","v":6035.1575000000003}]
[{"$f":"'[1]87-0-14'!B4585","v":"VR716F"},{"$f":"'[1]87-0-14'!D4585","v":"VARILLA ROSCADA 7/16"},{"$f":"'[1]87-0-14'!E4585","v":"FATAN"},{"$f":"'[1]87-0-14'!F4585","v":"VARILLA ROSCADA"},{"$f":"'[1]87-0-14'!G4585*(1+$E$13)","v":2967.1804999999999}]
[{"$f":"'[1]87-0-14'!B4586","v":"VR78F"},{"$f":"'[1]87-0-14'!D4586","v":"VARILLA ROSCADA 7/8"},{"$f":"'[1]87-0-14'!E4586","v":"FATAN"},{"$f":"'[1]87-0-14'!F4586","v":"VARILLA ROSCADA"},{"$f":"'[1]87-0-14'!G4586*(1+$E$13)","v":15094.365}]
[{"$f":"'[1]87-0-14'!B4587","v":"VR916F"},{"$f":"'[1]87-0-14'!D4587","v":"VARILLA ROSCADA 9/16"},{"$f":"'[1]87-0-14'!E4587","v":"FATAN"},{"$f":"'[1]87-0-14'!F4587","v":"VARILLA ROSCADA"},{"$f":"'[1]87-0-14'!G4587*(1+$E$13)","v":4816.9349999999995}]
[{"$f":"'[1]87-0-14'!B4588","v":"VA1R"},{"$f":"'[1]87-0-14'!D4588","v":"VAST P/MECH BIMET  3/8 A1"},{"$f":"'[1]87-0-14'!E4588","v":"RHEIN"},{"$f":"'[1]87-0-14'!F4588","v":"MECHA COPA"},{"$f":"'[1]87-0-14'!G4588*(1+$E$13)","v":13461.099}]
[{"$f":"'[1]87-0-14'!B4589","v":"VA2R"},{"$f":"'[1]87-0-14'!D4589","v":"VAST P/MECH BIMET 7/16 A2"},{"$f":"'[1]87-0-14'!E4589","v":"RHEIN"},{"$f":"'[1]87-0-14'!F4589","v":"MECHA COPA"},{"$f":"'[1]87-0-14'!G4589*(1+$E$13)","v":20399.286500000002}]
[{"$f":"'[1]87-0-14'!B4590","v":"VA3R"},{"$f":"'[1]87-0-14'!D4590","v":"VAST P/MECH BIMET 7/16 A3"},{"$f":"'[1]87-0-14'!E4590","v":"RHEIN"},{"$f":"'[1]87-0-14'!F4590","v":"MECHA COPA"},{"$f":"'[1]87-0-14'!G4590*(1+$E$13)","v":19578.329000000002}]
[{"$f":"'[1]87-0-14'!B4591","v":"V10V"},{"$f":"'[1]87-0-14'!D4591","v":"VENDA ELAST 10cmX25m"},{"$f":"'[1]87-0-14'!E4591","v":"VENIER"},{"$f":"'[1]87-0-14'!F4591","v":"VENDA ELASTICA"},{"$f":"'[1]87-0-14'!G4591*(1+$E$13)","v":26125.637500000001}]
[{"$f":"'[1]87-0-14'!B4592","v":"V20V"},{"$f":"'[1]87-0-14'!D4592","v":"VENDA ELAST 20cmX25m"},{"$f":"'[1]87-0-14'!E4592","v":"VENIER"},{"$f":"'[1]87-0-14'!F4592","v":"VENDA ELASTICA"},{"$f":"'[1]87-0-14'!G4592*(1+$E$13)","v":46003.674500000001}]
[{"$f":"'[1]87-0-14'!B4593","v":"VS125P"},{"$f":"'[1]87-0-14'!D4593","v":"VENDA SINTET 1,00mtx25mts"},{"$f":"'[1]87-0-14'!E4593","v":"PAINTROLER"},{"$f":"'[1]87-0-14'!F4593","v":"VENDA"},{"$f":"'[1]87-0-14'!G4593*(1+$E$13)","v":8912.7479999999996}]
[{"$f":"'[1]87-0-14'!B4594","v":"VS10P"},{"$f":"'[1]87-0-14'!D4594","v":"VENDA SINTETICA 10cmx25mt"},{"$f":"'[1]87-0-14'!E4594","v":"PAINTROLER"},{"$f":"'[1]87-0-14'!F4594","v":"VENDA"},{"$f":"'[1]87-0-14'!G4594*(1+$E$13)","v":1096.4080000000001}]
[{"$f":"'[1]87-0-14'!B4595","v":"VS20P"},{"$f":"'[1]87-0-14'!D4595","v":"VENDA SINTETICA 20cmx25mt"},{"$f":"'[1]87-0-14'!E4595","v":"PAINTROLER"},{"$f":"'[1]87-0-14'!F4595","v":"VENDA"},{"$f":"'[1]87-0-14'!G4595*(1+$E$13)","v":1920.481}]
[{"$f":"'[1]87-0-14'!B4596","v":"VF250B"},{"$f":"'[1]87-0-14'!D4596","v":"VIRUTA FINA 250 grs"},{"$f":"'[1]87-0-14'!E4596","v":"BERAZOL"},{"$f":"'[1]87-0-14'!F4596","v":"VIRUTA"},{"$f":"'[1]87-0-14'!G4596*(1+$E$13)","v":4372.4105}]
[{"$f":"'[1]87-0-14'!B4597","v":"VG250B"},{"$f":"'[1]87-0-14'!D4597","v":"VIRUTA GRUESA 250 grs"},{"$f":"'[1]87-0-14'!E4597","v":"BERAZOL"},{"$f":"'[1]87-0-14'!F4597","v":"VIRUTA"},{"$f":"'[1]87-0-14'!G4597*(1+$E$13)","v":4372.4105}]
[{"$f":"'[1]87-0-14'!B4598","v":"VM250B"},{"$f":"'[1]87-0-14'!D4598","v":"VIRUTA MEDIANA 250 grs"},{"$f":"'[1]87-0-14'!E4598","v":"BERAZOL"},{"$f":"'[1]87-0-14'!F4598","v":"VIRUTA"},{"$f":"'[1]87-0-14'!G4598*(1+$E$13)","v":4372.4105}]
[{"$f":"'[1]87-0-14'!B4599","v":"Z150V"},{"$f":"'[1]87-0-14'!D4599","v":"ZAPATILLA C/TECLA 1,50mts"},{"$f":"'[1]87-0-14'!E4599","v":"VITAL GAS"},{"$f":"'[1]87-0-14'!F4599","v":"ZAPATILLA"},{"$f":"'[1]87-0-14'!G4599*(1+$E$13)","v":5051.5739999999996}]
[{"$f":"'[1]87-0-14'!B4600","v":"Z300V"},{"$f":"'[1]87-0-14'!D4600","v":"ZAPATILLA C/TECLA 3,00mts"},{"$f":"'[1]87-0-14'!E4600","v":"VITAL GAS"},{"$f":"'[1]87-0-14'!F4600","v":"ZAPATILLA"},{"$f":"'[1]87-0-14'!G4600*(1+$E$13)","v":6246.5619999999999}]
[{"$f":"'[1]87-0-14'!B4601","v":"Z500V"},{"$f":"'[1]87-0-14'!D4601","v":"ZAPATILLA C/TECLA 5,00mts"},{"$f":"'[1]87-0-14'!E4601","v":"VITAL GAS"},{"$f":"'[1]87-0-14'!F4601","v":"ZAPATILLA"},{"$f":"'[1]87-0-14'!G4601*(1+$E$13)","v":7441.5655000000006}]
[{"$f":"'[1]87-0-14'!B4602","v":"ZEA"},{"$f":"'[1]87-0-14'!D4602","v":"ZARAND ECONOMIC BAJA"},{"$f":"'[1]87-0-14'!E4602","v":"ANEMI"},{"$f":"'[1]87-0-14'!F4602","v":"ZARANDA"},{"$f":"'[1]87-0-14'!G4602*(1+$E$13)","v":14514.370500000001}]
[{"$f":"'[1]87-0-14'!B4603","v":"ZCA"},{"$f":"'[1]87-0-14'!D4603","v":"ZARANDA COMUN ALTA"},{"$f":"'[1]87-0-14'!E4603","v":"ANEMI"},{"$f":"'[1]87-0-14'!F4603","v":"ZARANDA"},{"$f":"'[1]87-0-14'!G4603*(1+$E$13)","v":16676.263999999999}]
[{"$f":"'[1]87-0-14'!B4604","v":"ZTZA"},{"$f":"'[1]87-0-14'!D4604","v":"ZARANDA ESP T/ZARAND"},{"$f":"'[1]87-0-14'!E4604","v":"ANEMI"},{"$f":"'[1]87-0-14'!F4604","v":"ZARANDA"},{"$f":"'[1]87-0-14'!G4604*(1+$E$13)","v":32582.829000000002}]
[{"$f":"'[1]87-0-14'!B4605","v":"ZL"},{"$f":"'[1]87-0-14'!D4605","v":"ZARANDA PINO 35 x 50 x 7"},{"$f":"'[1]87-0-14'!E4605","v":"LAVASOLA."},{"$f":"'[1]87-0-14'!F4605","v":"ZARANDA"},{"$f":"'[1]87-0-14'!G4605*(1+$E$13)","v":12215.054}]
[{"$f":"'[1]87-0-14'!B4606","v":"Z100A"},{"$f":"'[1]87-0-14'!D4606","v":"ZOCALO ALUMIN 100 Cm"},{"$f":"'[1]87-0-14'!E4606","v":"ALEX"},{"$f":"'[1]87-0-14'!F4606","v":"ZOCALO"},{"$f":"'[1]87-0-14'!G4606*(1+$E$13)","v":5806.7030000000004}]
[{"$f":"'[1]87-0-14'!B4607","v":"Z60A"},{"$f":"'[1]87-0-14'!D4607","v":"ZOCALO ALUMIN. 60 Cm"},{"$f":"'[1]87-0-14'!E4607","v":"ALEX"},{"$f":"'[1]87-0-14'!F4607","v":"ZOCALO"},{"$f":"'[1]87-0-14'!G4607*(1+$E$13)","v":3701.1830000000004}]
[{"$f":"'[1]87-0-14'!B4608","v":"Z70A"},{"$f":"'[1]87-0-14'!D4608","v":"ZOCALO ALUMIN. 70 Cm"},{"$f":"'[1]87-0-14'!E4608","v":"ALEX"},{"$f":"'[1]87-0-14'!F4608","v":"ZOCALO"},{"$f":"'[1]87-0-14'!G4608*(1+$E$13)","v":4149.7375000000002}]
[{"$f":"'[1]87-0-14'!B4609","v":"Z80A"},{"$f":"'[1]87-0-14'!D4609","v":"ZOCALO ALUMIN. 80 Cm"},{"$f":"'[1]87-0-14'!E4609","v":"ALEX"},{"$f":"'[1]87-0-14'!F4609","v":"ZOCALO"},{"$f":"'[1]87-0-14'!G4609*(1+$E$13)","v":4617.8995000000004}]
[{"$f":"'[1]87-0-14'!B4610","v":"Z90A"},{"$f":"'[1]87-0-14'!D4610","v":"ZOCALO ALUMIN. 90 Cm"},{"$f":"'[1]87-0-14'!E4610","v":"ALEX"},{"$f":"'[1]87-0-14'!F4610","v":"ZOCALO"},{"$f":"'[1]87-0-14'!G4610*(1+$E$13)","v":5287.0655000000006}]
[{"$f":"'[1]87-0-14'!B4611","v":0},{"$f":"'[1]87-0-14'!D4611","v":0},{"$f":"'[1]87-0-14'!E4611","v":0},{"$f":"'[1]87-0-14'!F4611","v":0},{"$f":"'[1]87-0-14'!G4611*(1+$E$13)","v":0}]
[{"$f":"'[1]87-0-14'!B4612","v":0},{"$f":"'[1]87-0-14'!D4612","v":0},{"$f":"'[1]87-0-14'!E4612","v":0},{"$f":"'[1]87-0-14'!F4612","v":0},{"$f":"'[1]87-0-14'!G4612*(1+$E$13)","v":0}]
[{"$f":"'[1]87-0-14'!B4613","v":0},{"$f":"'[1]87-0-14'!D4613","v":0},{"$f":"'[1]87-0-14'!E4613","v":0},{"$f":"'[1]87-0-14'!F4613","v":0},{"$f":"'[1]87-0-14'!G4613*(1+$E$13)","v":0}]
[{"$f":"'[1]87-0-14'!B4614","v":0},{"$f":"'[1]87-0-14'!D4614","v":0},{"$f":"'[1]87-0-14'!E4614","v":0},{"$f":"'[1]87-0-14'!F4614","v":0},{"$f":"'[1]87-0-14'!G4614*(1+$E$13)","v":0}]
[{"$f":"'[1]87-0-14'!B4615","v":0},{"$f":"'[1]87-0-14'!D4615","v":0},{"$f":"'[1]87-0-14'!E4615","v":0},{"$f":"'[1]87-0-14'!F4615","v":0},{"$f":"'[1]87-0-14'!G4615*(1+$E$13)","v":0}]
[{"$f":"'[1]87-0-14'!B4616","v":0},{"$f":"'[1]87-0-14'!D4616","v":0},{"$f":"'[1]87-0-14'!E4616","v":0},{"$f":"'[1]87-0-14'!F4616","v":0},{"$f":"'[1]87-0-14'!G4616*(1+$E$13)","v":0}]
[{"$f":"'[1]87-0-14'!B4617","v":0},{"$f":"'[1]87-0-14'!D4617","v":0},{"$f":"'[1]87-0-14'!E4617","v":0},{"$f":"'[1]87-0-14'!F4617","v":0},{"$f":"'[1]87-0-14'!G4617*(1+$E$13)","v":0}]
[{"$f":"'[1]87-0-14'!B4618","v":0},{"$f":"'[1]87-0-14'!D4618","v":0},{"$f":"'[1]87-0-14'!E4618","v":0},{"$f":"'[1]87-0-14'!F4618","v":0},{"$f":"'[1]87-0-14'!G4618*(1+$E$13)","v":0}]
[{"$f":"'[1]87-0-14'!B4619","v":0},{"$f":"'[1]87-0-14'!D4619","v":0},{"$f":"'[1]87-0-14'!E4619","v":0},{"$f":"'[1]87-0-14'!F4619","v":0},{"$f":"'[1]87-0-14'!G4619*(1+$E$13)","v":0}]
[{"$f":"'[1]87-0-14'!B4620","v":0},{"$f":"'[1]87-0-14'!D4620","v":0},{"$f":"'[1]87-0-14'!E4620","v":0},{"$f":"'[1]87-0-14'!F4620","v":0},{"$f":"'[1]87-0-14'!G4620*(1+$E$13)","v":0}]
[{"$f":"'[1]87-0-14'!B4621","v":0},{"$f":"'[1]87-0-14'!D4621","v":0},{"$f":"'[1]87-0-14'!E4621","v":0},{"$f":"'[1]87-0-14'!F4621","v":0},{"$f":"'[1]87-0-14'!G4621*(1+$E$13)","v":0}]
[{"$f":"'[1]87-0-14'!B4622","v":0},{"$f":"'[1]87-0-14'!D4622","v":0},{"$f":"'[1]87-0-14'!E4622","v":0},{"$f":"'[1]87-0-14'!F4622","v":0},{"$f":"'[1]87-0-14'!G4622*(1+$E$13)","v":0}]
[{"$f":"'[1]87-0-14'!B4623","v":0},{"$f":"'[1]87-0-14'!D4623","v":0},{"$f":"'[1]87-0-14'!E4623","v":0},{"$f":"'[1]87-0-14'!F4623","v":0},{"$f":"'[1]87-0-14'!G4623*(1+$E$13)","v":0}]
[{"$f":"'[1]87-0-14'!B4624","v":0},{"$f":"'[1]87-0-14'!D4624","v":0},{"$f":"'[1]87-0-14'!E4624","v":0},{"$f":"'[1]87-0-14'!F4624","v":0},{"$f":"'[1]87-0-14'!G4624*(1+$E$13)","v":0}]
[{"$f":"'[1]87-0-14'!B4625","v":0},{"$f":"'[1]87-0-14'!D4625","v":0},{"$f":"'[1]87-0-14'!E4625","v":0},{"$f":"'[1]87-0-14'!F4625","v":0},{"$f":"'[1]87-0-14'!G4625*(1+$E$13)","v":0}]
[{"$f":"'[1]87-0-14'!B4626","v":0},{"$f":"'[1]87-0-14'!D4626","v":0},{"$f":"'[1]87-0-14'!E4626","v":0},{"$f":"'[1]87-0-14'!F4626","v":0},{"$f":"'[1]87-0-14'!G4626*(1+$E$13)","v":0}]
[{"$f":"'[1]87-0-14'!B4627","v":0},{"$f":"'[1]87-0-14'!D4627","v":0},{"$f":"'[1]87-0-14'!E4627","v":0},{"$f":"'[1]87-0-14'!F4627","v":0},{"$f":"'[1]87-0-14'!G4627*(1+$E$13)","v":0}]
[{"$f":"'[1]87-0-14'!B4628","v":0},{"$f":"'[1]87-0-14'!D4628","v":0},{"$f":"'[1]87-0-14'!E4628","v":0},{"$f":"'[1]87-0-14'!F4628","v":0},{"$f":"'[1]87-0-14'!G4628*(1+$E$13)","v":0}]
[{"$f":"'[1]87-0-14'!B4629","v":0},{"$f":"'[1]87-0-14'!D4629","v":0},{"$f":"'[1]87-0-14'!E4629","v":0},{"$f":"'[1]87-0-14'!F4629","v":0},{"$f":"'[1]87-0-14'!G4629*(1+$E$13)","v":0}]
[{"$f":"'[1]87-0-14'!B4630","v":0},{"$f":"'[1]87-0-14'!D4630","v":0},{"$f":"'[1]87-0-14'!E4630","v":0},{"$f":"'[1]87-0-14'!F4630","v":0},{"$f":"'[1]87-0-14'!G4630*(1+$E$13)","v":0}]
[{"$f":"'[1]87-0-14'!B4631","v":0},{"$f":"'[1]87-0-14'!D4631","v":0},{"$f":"'[1]87-0-14'!E4631","v":0},{"$f":"'[1]87-0-14'!F4631","v":0},{"$f":"'[1]87-0-14'!G4631*(1+$E$13)","v":0}]
[{"$f":"'[1]87-0-14'!B4632","v":0},{"$f":"'[1]87-0-14'!D4632","v":0},{"$f":"'[1]87-0-14'!E4632","v":0},{"$f":"'[1]87-0-14'!F4632","v":0},{"$f":"'[1]87-0-14'!G4632*(1+$E$13)","v":0}]
[{"$f":"'[1]87-0-14'!B4633","v":0},{"$f":"'[1]87-0-14'!D4633","v":0},{"$f":"'[1]87-0-14'!E4633","v":0},{"$f":"'[1]87-0-14'!F4633","v":0},{"$f":"'[1]87-0-14'!G4633*(1+$E$13)","v":0}]
[{"$f":"'[1]87-0-14'!B4634","v":0},{"$f":"'[1]87-0-14'!D4634","v":0},{"$f":"'[1]87-0-14'!E4634","v":0},{"$f":"'[1]87-0-14'!F4634","v":0},{"$f":"'[1]87-0-14'!G4634*(1+$E$13)","v":0}]
[{"$f":"'[1]87-0-14'!B4635","v":0},{"$f":"'[1]87-0-14'!D4635","v":0},{"$f":"'[1]87-0-14'!E4635","v":0},{"$f":"'[1]87-0-14'!F4635","v":0},{"$f":"'[1]87-0-14'!G4635*(1+$E$13)","v":0}]
[{"$f":"'[1]87-0-14'!B4636","v":0},{"$f":"'[1]87-0-14'!D4636","v":0},{"$f":"'[1]87-0-14'!E4636","v":0},{"$f":"'[1]87-0-14'!F4636","v":0},{"$f":"'[1]87-0-14'!G4636*(1+$E$13)","v":0}]
[{"$f":"'[1]87-0-14'!B4637","v":0},{"$f":"'[1]87-0-14'!D4637","v":0},{"$f":"'[1]87-0-14'!E4637","v":0},{"$f":"'[1]87-0-14'!F4637","v":0},{"$f":"'[1]87-0-14'!G4637*(1+$E$13)","v":0}]
[{"$f":"'[1]87-0-14'!B4638","v":0},{"$f":"'[1]87-0-14'!D4638","v":0},{"$f":"'[1]87-0-14'!E4638","v":0},{"$f":"'[1]87-0-14'!F4638","v":0},{"$f":"'[1]87-0-14'!G4638*(1+$E$13)","v":0}]
[{"$f":"'[1]87-0-14'!B4639","v":0},{"$f":"'[1]87-0-14'!D4639","v":0},{"$f":"'[1]87-0-14'!E4639","v":0},{"$f":"'[1]87-0-14'!F4639","v":0},{"$f":"'[1]87-0-14'!G4639*(1+$E$13)","v":0}]
[{"$f":"'[1]87-0-14'!B4640","v":0},{"$f":"'[1]87-0-14'!D4640","v":0},{"$f":"'[1]87-0-14'!E4640","v":0},{"$f":"'[1]87-0-14'!F4640","v":0},{"$f":"'[1]87-0-14'!G4640*(1+$E$13)","v":0}]
[{"$f":"'[1]87-0-14'!B4641","v":0},{"$f":"'[1]87-0-14'!D4641","v":0},{"$f":"'[1]87-0-14'!E4641","v":0},{"$f":"'[1]87-0-14'!F4641","v":0},{"$f":"'[1]87-0-14'!G4641*(1+$E$13)","v":0}]
[{"$f":"'[1]87-0-14'!B4642","v":0},{"$f":"'[1]87-0-14'!D4642","v":0},{"$f":"'[1]87-0-14'!E4642","v":0},{"$f":"'[1]87-0-14'!F4642","v":0},{"$f":"'[1]87-0-14'!G4642*(1+$E$13)","v":0}]
[{"$f":"'[1]87-0-14'!B4643","v":0},{"$f":"'[1]87-0-14'!D4643","v":0},{"$f":"'[1]87-0-14'!E4643","v":0},{"$f":"'[1]87-0-14'!F4643","v":0},{"$f":"'[1]87-0-14'!G4643*(1+$E$13)","v":0}]
[{"$f":"'[1]87-0-14'!B4644","v":0},{"$f":"'[1]87-0-14'!D4644","v":0},{"$f":"'[1]87-0-14'!E4644","v":0},{"$f":"'[1]87-0-14'!F4644","v":0},{"$f":"'[1]87-0-14'!G4644*(1+$E$13)","v":0}]
[{"$f":"'[1]87-0-14'!B4645","v":0},{"$f":"'[1]87-0-14'!D4645","v":0},{"$f":"'[1]87-0-14'!E4645","v":0},{"$f":"'[1]87-0-14'!F4645","v":0},{"$f":"'[1]87-0-14'!G4645*(1+$E$13)","v":0}]
[{"$f":"'[1]87-0-14'!B4646","v":0},{"$f":"'[1]87-0-14'!D4646","v":0},{"$f":"'[1]87-0-14'!E4646","v":0},{"$f":"'[1]87-0-14'!F4646","v":0},{"$f":"'[1]87-0-14'!G4646*(1+$E$13)","v":0}]
[{"$f":"'[1]87-0-14'!B4647","v":0},{"$f":"'[1]87-0-14'!D4647","v":0},{"$f":"'[1]87-0-14'!E4647","v":0},{"$f":"'[1]87-0-14'!F4647","v":0},{"$f":"'[1]87-0-14'!G4647*(1+$E$13)","v":0}]
[{"$f":"'[1]87-0-14'!B4648","v":0},{"$f":"'[1]87-0-14'!D4648","v":0},{"$f":"'[1]87-0-14'!E4648","v":0},{"$f":"'[1]87-0-14'!F4648","v":0},{"$f":"'[1]87-0-14'!G4648*(1+$E$13)","v":0}]
[{"$f":"'[1]87-0-14'!B4649","v":0},{"$f":"'[1]87-0-14'!D4649","v":0},{"$f":"'[1]87-0-14'!E4649","v":0},{"$f":"'[1]87-0-14'!F4649","v":0},{"$f":"'[1]87-0-14'!G4649*(1+$E$13)","v":0}]
[{"$f":"'[1]87-0-14'!B4650","v":0},{"$f":"'[1]87-0-14'!D4650","v":0},{"$f":"'[1]87-0-14'!E4650","v":0},{"$f":"'[1]87-0-14'!F4650","v":0},{"$f":"'[1]87-0-14'!G4650*(1+$E$13)","v":0}]
[{"$f":"'[1]87-0-14'!B4651","v":0},{"$f":"'[1]87-0-14'!D4651","v":0},{"$f":"'[1]87-0-14'!E4651","v":0},{"$f":"'[1]87-0-14'!F4651","v":0},{"$f":"'[1]87-0-14'!G4651*(1+$E$13)","v":0}]
[{"$f":"'[1]87-0-14'!B4652","v":0},{"$f":"'[1]87-0-14'!D4652","v":0},{"$f":"'[1]87-0-14'!E4652","v":0},{"$f":"'[1]87-0-14'!F4652","v":0},{"$f":"'[1]87-0-14'!G4652*(1+$E$13)","v":0}]
[{"$f":"'[1]87-0-14'!B4653","v":0},{"$f":"'[1]87-0-14'!D4653","v":0},{"$f":"'[1]87-0-14'!E4653","v":0},{"$f":"'[1]87-0-14'!F4653","v":0},{"$f":"'[1]87-0-14'!G4653*(1+$E$13)","v":0}]
[{"$f":"'[1]87-0-14'!B4654","v":0},{"$f":"'[1]87-0-14'!D4654","v":0},{"$f":"'[1]87-0-14'!E4654","v":0},{"$f":"'[1]87-0-14'!F4654","v":0},{"$f":"'[1]87-0-14'!G4654*(1+$E$13)","v":0}]
[{"$f":"'[1]87-0-14'!B4655","v":0},{"$f":"'[1]87-0-14'!D4655","v":0},{"$f":"'[1]87-0-14'!E4655","v":0},{"$f":"'[1]87-0-14'!F4655","v":0},{"$f":"'[1]87-0-14'!G4655*(1+$E$13)","v":0}]
[{"$f":"'[1]87-0-14'!B4656","v":0},{"$f":"'[1]87-0-14'!D4656","v":0},{"$f":"'[1]87-0-14'!E4656","v":0},{"$f":"'[1]87-0-14'!F4656","v":0},{"$f":"'[1]87-0-14'!G4656*(1+$E$13)","v":0}]
[{"$f":"'[1]87-0-14'!B4657","v":0},{"$f":"'[1]87-0-14'!D4657","v":0},{"$f":"'[1]87-0-14'!E4657","v":0},{"$f":"'[1]87-0-14'!F4657","v":0},{"$f":"'[1]87-0-14'!G4657*(1+$E$13)","v":0}]
[{"$f":"'[1]87-0-14'!B4658","v":0},{"$f":"'[1]87-0-14'!D4658","v":0},{"$f":"'[1]87-0-14'!E4658","v":0},{"$f":"'[1]87-0-14'!F4658","v":0},{"$f":"'[1]87-0-14'!G4658*(1+$E$13)","v":0}]
[{"$f":"'[1]87-0-14'!B4659","v":0},{"$f":"'[1]87-0-14'!D4659","v":0},{"$f":"'[1]87-0-14'!E4659","v":0},{"$f":"'[1]87-0-14'!F4659","v":0},{"$f":"'[1]87-0-14'!G4659*(1+$E$13)","v":0}]
[{"$f":"'[1]87-0-14'!B4660","v":0},{"$f":"'[1]87-0-14'!D4660","v":0},{"$f":"'[1]87-0-14'!E4660","v":0},{"$f":"'[1]87-0-14'!F4660","v":0},{"$f":"'[1]87-0-14'!G4660*(1+$E$13)","v":0}]
[{"$f":"'[1]87-0-14'!B4661","v":0},{"$f":"'[1]87-0-14'!D4661","v":0},{"$f":"'[1]87-0-14'!E4661","v":0},{"$f":"'[1]87-0-14'!F4661","v":0},{"$f":"'[1]87-0-14'!G4661*(1+$E$13)","v":0}]
[{"$f":"'[1]87-0-14'!B4662","v":0},{"$f":"'[1]87-0-14'!D4662","v":0},{"$f":"'[1]87-0-14'!E4662","v":0},{"$f":"'[1]87-0-14'!F4662","v":0},{"$f":"'[1]87-0-14'!G4662*(1+$E$13)","v":0}]
[{"$f":"'[1]87-0-14'!B4663","v":0},{"$f":"'[1]87-0-14'!D4663","v":0},{"$f":"'[1]87-0-14'!E4663","v":0},{"$f":"'[1]87-0-14'!F4663","v":0},{"$f":"'[1]87-0-14'!G4663*(1+$E$13)","v":0}]
[{"$f":"'[1]87-0-14'!B4664","v":0},{"$f":"'[1]87-0-14'!D4664","v":0},{"$f":"'[1]87-0-14'!E4664","v":0},{"$f":"'[1]87-0-14'!F4664","v":0},{"$f":"'[1]87-0-14'!G4664*(1+$E$13)","v":0}]
[{"$f":"'[1]87-0-14'!B4665","v":0},{"$f":"'[1]87-0-14'!D4665","v":0},{"$f":"'[1]87-0-14'!E4665","v":0},{"$f":"'[1]87-0-14'!F4665","v":0},{"$f":"'[1]87-0-14'!G4665*(1+$E$13)","v":0}]
[{"$f":"'[1]87-0-14'!B4666","v":0},{"$f":"'[1]87-0-14'!D4666","v":0},{"$f":"'[1]87-0-14'!E4666","v":0},{"$f":"'[1]87-0-14'!F4666","v":0},{"$f":"'[1]87-0-14'!G4666*(1+$E$13)","v":0}]
[{"$f":"'[1]87-0-14'!B4667","v":0},{"$f":"'[1]87-0-14'!D4667","v":0},{"$f":"'[1]87-0-14'!E4667","v":0},{"$f":"'[1]87-0-14'!F4667","v":0},{"$f":"'[1]87-0-14'!G4667*(1+$E$13)","v":0}]
[{"$f":"'[1]87-0-14'!B4668","v":0},{"$f":"'[1]87-0-14'!D4668","v":0},{"$f":"'[1]87-0-14'!E4668","v":0},{"$f":"'[1]87-0-14'!F4668","v":0},{"$f":"'[1]87-0-14'!G4668*(1+$E$13)","v":0}]
[{"$f":"'[1]87-0-14'!B4669","v":0},{"$f":"'[1]87-0-14'!D4669","v":0},{"$f":"'[1]87-0-14'!E4669","v":0},{"$f":"'[1]87-0-14'!F4669","v":0},{"$f":"'[1]87-0-14'!G4669*(1+$E$13)","v":0}]
[{"$f":"'[1]87-0-14'!B4670","v":0},{"$f":"'[1]87-0-14'!D4670","v":0},{"$f":"'[1]87-0-14'!E4670","v":0},{"$f":"'[1]87-0-14'!F4670","v":0},{"$f":"'[1]87-0-14'!G4670*(1+$E$13)","v":0}]
[{"$f":"'[1]87-0-14'!B4671","v":0},{"$f":"'[1]87-0-14'!D4671","v":0},{"$f":"'[1]87-0-14'!E4671","v":0},{"$f":"'[1]87-0-14'!F4671","v":0},{"$f":"'[1]87-0-14'!G4671*(1+$E$13)","v":0}]
[{"$f":"'[1]87-0-14'!B4672","v":0},{"$f":"'[1]87-0-14'!D4672","v":0},{"$f":"'[1]87-0-14'!E4672","v":0},{"$f":"'[1]87-0-14'!F4672","v":0},{"$f":"'[1]87-0-14'!G4672*(1+$E$13)","v":0}]
[{"$f":"'[1]87-0-14'!B4673","v":0},{"$f":"'[1]87-0-14'!D4673","v":0},{"$f":"'[1]87-0-14'!E4673","v":0},{"$f":"'[1]87-0-14'!F4673","v":0},{"$f":"'[1]87-0-14'!G4673*(1+$E$13)","v":0}]
[{"$f":"'[1]87-0-14'!B4674","v":0},{"$f":"'[1]87-0-14'!D4674","v":0},{"$f":"'[1]87-0-14'!E4674","v":0},{"$f":"'[1]87-0-14'!F4674","v":0},{"$f":"'[1]87-0-14'!G4674*(1+$E$13)","v":0}]
[{"$f":"'[1]87-0-14'!B4675","v":0},{"$f":"'[1]87-0-14'!D4675","v":0},{"$f":"'[1]87-0-14'!E4675","v":0},{"$f":"'[1]87-0-14'!F4675","v":0},{"$f":"'[1]87-0-14'!G4675*(1+$E$13)","v":0}]
[{"$f":"'[1]87-0-14'!B4676","v":0},{"$f":"'[1]87-0-14'!D4676","v":0},{"$f":"'[1]87-0-14'!E4676","v":0},{"$f":"'[1]87-0-14'!F4676","v":0},{"$f":"'[1]87-0-14'!G4676*(1+$E$13)","v":0}]
[{"$f":"'[1]87-0-14'!B4677","v":0},{"$f":"'[1]87-0-14'!D4677","v":0},{"$f":"'[1]87-0-14'!E4677","v":0},{"$f":"'[1]87-0-14'!F4677","v":0},{"$f":"'[1]87-0-14'!G4677*(1+$E$13)","v":0}]
[{"$f":"'[1]87-0-14'!B4678","v":0},{"$f":"'[1]87-0-14'!D4678","v":0},{"$f":"'[1]87-0-14'!E4678","v":0},{"$f":"'[1]87-0-14'!F4678","v":0},{"$f":"'[1]87-0-14'!G4678*(1+$E$13)","v":0}]
[{"$f":"'[1]87-0-14'!B4679","v":0},{"$f":"'[1]87-0-14'!D4679","v":0},{"$f":"'[1]87-0-14'!E4679","v":0},{"$f":"'[1]87-0-14'!F4679","v":0},{"$f":"'[1]87-0-14'!G4679*(1+$E$13)","v":0}]
[{"$f":"'[1]87-0-14'!B4680","v":0},{"$f":"'[1]87-0-14'!D4680","v":0},{"$f":"'[1]87-0-14'!E4680","v":0},{"$f":"'[1]87-0-14'!F4680","v":0},{"$f":"'[1]87-0-14'!G4680*(1+$E$13)","v":0}]
[{"$f":"'[1]87-0-14'!B4681","v":0},{"$f":"'[1]87-0-14'!D4681","v":0},{"$f":"'[1]87-0-14'!E4681","v":0},{"$f":"'[1]87-0-14'!F4681","v":0},{"$f":"'[1]87-0-14'!G4681*(1+$E$13)","v":0}]
[{"$f":"'[1]87-0-14'!B4682","v":0},{"$f":"'[1]87-0-14'!D4682","v":0},{"$f":"'[1]87-0-14'!E4682","v":0},{"$f":"'[1]87-0-14'!F4682","v":0},{"$f":"'[1]87-0-14'!G4682*(1+$E$13)","v":0}]
[{"$f":"'[1]87-0-14'!B4683","v":0},{"$f":"'[1]87-0-14'!D4683","v":0},{"$f":"'[1]87-0-14'!E4683","v":0},{"$f":"'[1]87-0-14'!F4683","v":0},{"$f":"'[1]87-0-14'!G4683*(1+$E$13)","v":0}]
[{"$f":"'[1]87-0-14'!B4684","v":0},{"$f":"'[1]87-0-14'!D4684","v":0},{"$f":"'[1]87-0-14'!E4684","v":0},{"$f":"'[1]87-0-14'!F4684","v":0},{"$f":"'[1]87-0-14'!G4684*(1+$E$13)","v":0}]
[{"$f":"'[1]87-0-14'!B4685","v":0},{"$f":"'[1]87-0-14'!D4685","v":0},{"$f":"'[1]87-0-14'!E4685","v":0},{"$f":"'[1]87-0-14'!F4685","v":0},{"$f":"'[1]87-0-14'!G4685*(1+$E$13)","v":0}]
[{"$f":"'[1]87-0-14'!B4686","v":0},{"$f":"'[1]87-0-14'!D4686","v":0},{"$f":"'[1]87-0-14'!E4686","v":0},{"$f":"'[1]87-0-14'!F4686","v":0},{"$f":"'[1]87-0-14'!G4686*(1+$E$13)","v":0}]
[{"$f":"'[1]87-0-14'!B4687","v":0},{"$f":"'[1]87-0-14'!D4687","v":0},{"$f":"'[1]87-0-14'!E4687","v":0},{"$f":"'[1]87-0-14'!F4687","v":0},{"$f":"'[1]87-0-14'!G4687*(1+$E$13)","v":0}]
[{"$f":"'[1]87-0-14'!B4688","v":0},{"$f":"'[1]87-0-14'!D4688","v":0},{"$f":"'[1]87-0-14'!E4688","v":0},{"$f":"'[1]87-0-14'!F4688","v":0},{"$f":"'[1]87-0-14'!G4688*(1+$E$13)","v":0}]
[{"$f":"'[1]87-0-14'!B4689","v":0},{"$f":"'[1]87-0-14'!D4689","v":0},{"$f":"'[1]87-0-14'!E4689","v":0},{"$f":"'[1]87-0-14'!F4689","v":0},{"$f":"'[1]87-0-14'!G4689*(1+$E$13)","v":0}]
[{"$f":"'[1]87-0-14'!B4690","v":0},{"$f":"'[1]87-0-14'!D4690","v":0},{"$f":"'[1]87-0-14'!E4690","v":0},{"$f":"'[1]87-0-14'!F4690","v":0},{"$f":"'[1]87-0-14'!G4690*(1+$E$13)","v":0}]
[{"$f":"'[1]87-0-14'!B4691","v":0},{"$f":"'[1]87-0-14'!D4691","v":0},{"$f":"'[1]87-0-14'!E4691","v":0},{"$f":"'[1]87-0-14'!F4691","v":0},{"$f":"'[1]87-0-14'!G4691*(1+$E$13)","v":0}]
[{"$f":"'[1]87-0-14'!B4692","v":0},{"$f":"'[1]87-0-14'!D4692","v":0},{"$f":"'[1]87-0-14'!E4692","v":0},{"$f":"'[1]87-0-14'!F4692","v":0},{"$f":"'[1]87-0-14'!G4692*(1+$E$13)","v":0}]
[{"$f":"'[1]87-0-14'!B4693","v":0},{"$f":"'[1]87-0-14'!D4693","v":0},{"$f":"'[1]87-0-14'!E4693","v":0},{"$f":"'[1]87-0-14'!F4693","v":0},{"$f":"'[1]87-0-14'!G4693*(1+$E$13)","v":0}]
[{"$f":"'[1]87-0-14'!B4694","v":0},{"$f":"'[1]87-0-14'!D4694","v":0},{"$f":"'[1]87-0-14'!E4694","v":0},{"$f":"'[1]87-0-14'!F4694","v":0},{"$f":"'[1]87-0-14'!G4694*(1+$E$13)","v":0}]
[{"$f":"'[1]87-0-14'!B4695","v":0},{"$f":"'[1]87-0-14'!D4695","v":0},{"$f":"'[1]87-0-14'!E4695","v":0},{"$f":"'[1]87-0-14'!F4695","v":0},{"$f":"'[1]87-0-14'!G4695*(1+$E$13)","v":0}]
[{"$f":"'[1]87-0-14'!B4696","v":0},{"$f":"'[1]87-0-14'!D4696","v":0},{"$f":"'[1]87-0-14'!E4696","v":0},{"$f":"'[1]87-0-14'!F4696","v":0},{"$f":"'[1]87-0-14'!G4696*(1+$E$13)","v":0}]
[{"$f":"'[1]87-0-14'!B4697","v":0},{"$f":"'[1]87-0-14'!D4697","v":0},{"$f":"'[1]87-0-14'!E4697","v":0},{"$f":"'[1]87-0-14'!F4697","v":0},{"$f":"'[1]87-0-14'!G4697*(1+$E$13)","v":0}]
[{"$f":"'[1]87-0-14'!B4698","v":0},{"$f":"'[1]87-0-14'!D4698","v":0},{"$f":"'[1]87-0-14'!E4698","v":0},{"$f":"'[1]87-0-14'!F4698","v":0},{"$f":"'[1]87-0-14'!G4698*(1+$E$13)","v":0}]
[{"$f":"'[1]87-0-14'!B4699","v":0},{"$f":"'[1]87-0-14'!D4699","v":0},{"$f":"'[1]87-0-14'!E4699","v":0},{"$f":"'[1]87-0-14'!F4699","v":0},{"$f":"'[1]87-0-14'!G4699*(1+$E$13)","v":0}]
[{"$f":"'[1]87-0-14'!B4700","v":0},{"$f":"'[1]87-0-14'!D4700","v":0},{"$f":"'[1]87-0-14'!E4700","v":0},{"$f":"'[1]87-0-14'!F4700","v":0},{"$f":"'[1]87-0-14'!G4700*(1+$E$13)","v":0}]
[{"$f":"'[1]87-0-14'!B4701","v":0},{"$f":"'[1]87-0-14'!D4701","v":0},{"$f":"'[1]87-0-14'!E4701","v":0},{"$f":"'[1]87-0-14'!F4701","v":0},{"$f":"'[1]87-0-14'!G4701*(1+$E$13)","v":0}]
[{"$f":"'[1]87-0-14'!B4702","v":0},{"$f":"'[1]87-0-14'!D4702","v":0},{"$f":"'[1]87-0-14'!E4702","v":0},{"$f":"'[1]87-0-14'!F4702","v":0},{"$f":"'[1]87-0-14'!G4702*(1+$E$13)","v":0}]
[{"$f":"'[1]87-0-14'!B4703","v":0},{"$f":"'[1]87-0-14'!D4703","v":0},{"$f":"'[1]87-0-14'!E4703","v":0},{"$f":"'[1]87-0-14'!F4703","v":0},{"$f":"'[1]87-0-14'!G4703*(1+$E$13)","v":0}]
[{"$f":"'[1]87-0-14'!B4704","v":0},{"$f":"'[1]87-0-14'!D4704","v":0},{"$f":"'[1]87-0-14'!E4704","v":0},{"$f":"'[1]87-0-14'!F4704","v":0},{"$f":"'[1]87-0-14'!G4704*(1+$E$13)","v":0}]
[{"$f":"'[1]87-0-14'!B4705","v":0},{"$f":"'[1]87-0-14'!D4705","v":0},{"$f":"'[1]87-0-14'!E4705","v":0},{"$f":"'[1]87-0-14'!F4705","v":0},{"$f":"'[1]87-0-14'!G4705*(1+$E$13)","v":0}]
[{"$f":"'[1]87-0-14'!B4706","v":0},{"$f":"'[1]87-0-14'!D4706","v":0},{"$f":"'[1]87-0-14'!E4706","v":0},{"$f":"'[1]87-0-14'!F4706","v":0},{"$f":"'[1]87-0-14'!G4706*(1+$E$13)","v":0}]
[{"$f":"'[1]87-0-14'!B4707","v":0},{"$f":"'[1]87-0-14'!D4707","v":0},{"$f":"'[1]87-0-14'!E4707","v":0},{"$f":"'[1]87-0-14'!F4707","v":0},{"$f":"'[1]87-0-14'!G4707*(1+$E$13)","v":0}]
[{"$f":"'[1]87-0-14'!B4708","v":0},{"$f":"'[1]87-0-14'!D4708","v":0},{"$f":"'[1]87-0-14'!E4708","v":0},{"$f":"'[1]87-0-14'!F4708","v":0},{"$f":"'[1]87-0-14'!G4708*(1+$E$13)","v":0}]
[{"$f":"'[1]87-0-14'!B4709","v":0},{"$f":"'[1]87-0-14'!D4709","v":0},{"$f":"'[1]87-0-14'!E4709","v":0},{"$f":"'[1]87-0-14'!F4709","v":0},{"$f":"'[1]87-0-14'!G4709*(1+$E$13)","v":0}]
[{"$f":"'[1]87-0-14'!B4710","v":0},{"$f":"'[1]87-0-14'!D4710","v":0},{"$f":"'[1]87-0-14'!E4710","v":0},{"$f":"'[1]87-0-14'!F4710","v":0},{"$f":"'[1]87-0-14'!G4710*(1+$E$13)","v":0}]
[{"$f":"'[1]87-0-14'!B4711","v":0},{"$f":"'[1]87-0-14'!D4711","v":0},{"$f":"'[1]87-0-14'!E4711","v":0},{"$f":"'[1]87-0-14'!F4711","v":0},{"$f":"'[1]87-0-14'!G4711*(1+$E$13)","v":0}]
[{"$f":"'[1]87-0-14'!B4712","v":0},{"$f":"'[1]87-0-14'!D4712","v":0},{"$f":"'[1]87-0-14'!E4712","v":0},{"$f":"'[1]87-0-14'!F4712","v":0},{"$f":"'[1]87-0-14'!G4712*(1+$E$13)","v":0}]
[{"$f":"'[1]87-0-14'!B4713","v":0},{"$f":"'[1]87-0-14'!D4713","v":0},{"$f":"'[1]87-0-14'!E4713","v":0},{"$f":"'[1]87-0-14'!F4713","v":0},{"$f":"'[1]87-0-14'!G4713*(1+$E$13)","v":0}]